{"text_format":"1","workbook":"xlsx","n_sheets":3,"sheets":["Configurator","DKC_Price","Data_base"],"not_rendered":{"charts":0,"images":5,"macros":1,"external_links":0,"defined_names":73,"comments":0,"pivot_tables":0},"unopened":[],"bounds":{"document_bytes":16777216,"sheet_cells":100000,"rows_first":2000,"rows_last":500,"rows_between":2000,"halvings":0,"cell_chars":16384,"cell_head_chars":4096},"cells_cut":0,"cells_raw":0,"read":"whole","date_system":"1900"}

{"sheet":"Configurator","index":0,"n_rows":3000,"n_cols":7,"rows_kept":3000,"cut":false,"hidden":false,"merged":[]}
[]
[null,"Артикул","Наименование","Кол-во",null,"Кол-во","Ед. изм."]
[]
[null,null,"Спецификация автоматических выключателей YON (DKC)"]
[null,null,{"$f":"IFERROR(VLOOKUP(B5,DKC_Price!A:H,2,FALSE),\"\")","v":""},null,null,null,{"$f":"IFERROR(VLOOKUP(B5,DKC_Price!A:H,3,FALSE),\"\")","v":""}]
[null,null,{"$f":"IFERROR(VLOOKUP(B6,DKC_Price!A:H,2,FALSE),\"\")","v":""},null,null,null,{"$f":"IFERROR(VLOOKUP(B6,DKC_Price!A:H,3,FALSE),\"\")","v":""}]
[null,null,{"$f":"IFERROR(VLOOKUP(B7,DKC_Price!A:H,2,FALSE),\"\")","v":""},null,null,null,{"$f":"IFERROR(VLOOKUP(B7,DKC_Price!A:H,3,FALSE),\"\")","v":""}]
[null,null,{"$f":"IFERROR(VLOOKUP(B8,DKC_Price!A:H,2,FALSE),\"\")","v":""},null,null,null,{"$f":"IFERROR(VLOOKUP(B8,DKC_Price!A:H,3,FALSE),\"\")","v":""}]
[null,null,{"$f":"IFERROR(VLOOKUP(B9,DKC_Price!A:H,2,FALSE),\"\")","v":""},null,null,null,{"$f":"IFERROR(VLOOKUP(B9,DKC_Price!A:H,3,FALSE),\"\")","v":""}]
[null,null,{"$f":"IFERROR(VLOOKUP(B10,DKC_Price!A:H,2,FALSE),\"\")","v":""},null,null,null,{"$f":"IFERROR(VLOOKUP(B10,DKC_Price!A:H,3,FALSE),\"\")","v":""}]
[null,null,{"$f":"IFERROR(VLOOKUP(B11,DKC_Price!A:H,2,FALSE),\"\")","v":""},null,null,null,{"$f":"IFERROR(VLOOKUP(B11,DKC_Price!A:H,3,FALSE),\"\")","v":""}]
[null,null,{"$f":"IFERROR(VLOOKUP(B12,DKC_Price!A:H,2,FALSE),\"\")","v":""},null,null,null,{"$f":"IFERROR(VLOOKUP(B12,DKC_Price!A:H,3,FALSE),\"\")","v":""}]
[null,null,{"$f":"IFERROR(VLOOKUP(B13,DKC_Price!A:H,2,FALSE),\"\")","v":""},null,null,null,{"$f":"IFERROR(VLOOKUP(B13,DKC_Price!A:H,3,FALSE),\"\")","v":""}]
[null,null,{"$f":"IFERROR(VLOOKUP(B14,DKC_Price!A:H,2,FALSE),\"\")","v":""},null,null,null,{"$f":"IFERROR(VLOOKUP(B14,DKC_Price!A:H,3,FALSE),\"\")","v":""}]
[null,null,{"$f":"IFERROR(VLOOKUP(B15,DKC_Price!A:H,2,FALSE),\"\")","v":""},null,null,null,{"$f":"IFERROR(VLOOKUP(B15,DKC_Price!A:H,3,FALSE),\"\")","v":""}]
[null,null,{"$f":"IFERROR(VLOOKUP(B16,DKC_Price!A:H,2,FALSE),\"\")","v":""},null,null,null,{"$f":"IFERROR(VLOOKUP(B16,DKC_Price!A:H,3,FALSE),\"\")","v":""}]
[null,null,{"$f":"IFERROR(VLOOKUP(B17,DKC_Price!A:H,2,FALSE),\"\")","v":""},null,null,null,{"$f":"IFERROR(VLOOKUP(B17,DKC_Price!A:H,3,FALSE),\"\")","v":""}]
[null,null,{"$f":"IFERROR(VLOOKUP(B18,DKC_Price!A:H,2,FALSE),\"\")","v":""},null,null,null,{"$f":"IFERROR(VLOOKUP(B18,DKC_Price!A:H,3,FALSE),\"\")","v":""}]
[null,null,{"$f":"IFERROR(VLOOKUP(B19,DKC_Price!A:H,2,FALSE),\"\")","v":""},null,null,null,{"$f":"IFERROR(VLOOKUP(B19,DKC_Price!A:H,3,FALSE),\"\")","v":""}]
[null,null,{"$f":"IFERROR(VLOOKUP(B20,DKC_Price!A:H,2,FALSE),\"\")","v":""},null,null,null,{"$f":"IFERROR(VLOOKUP(B20,DKC_Price!A:H,3,FALSE),\"\")","v":""}]
[null,null,{"$f":"IFERROR(VLOOKUP(B21,DKC_Price!A:H,2,FALSE),\"\")","v":""},null,null,null,{"$f":"IFERROR(VLOOKUP(B21,DKC_Price!A:H,3,FALSE),\"\")","v":""}]
[null,null,{"$f":"IFERROR(VLOOKUP(B22,DKC_Price!A:H,2,FALSE),\"\")","v":""},null,null,null,{"$f":"IFERROR(VLOOKUP(B22,DKC_Price!A:H,3,FALSE),\"\")","v":""}]
[null,null,{"$f":"IFERROR(VLOOKUP(B23,DKC_Price!A:H,2,FALSE),\"\")","v":""},null,null,null,{"$f":"IFERROR(VLOOKUP(B23,DKC_Price!A:H,3,FALSE),\"\")","v":""}]
[null,null,{"$f":"IFERROR(VLOOKUP(B24,DKC_Price!A:H,2,FALSE),\"\")","v":""},null,null,null,{"$f":"IFERROR(VLOOKUP(B24,DKC_Price!A:H,3,FALSE),\"\")","v":""}]
[null,null,{"$f":"IFERROR(VLOOKUP(B25,DKC_Price!A:H,2,FALSE),\"\")","v":""},null,null,null,{"$f":"IFERROR(VLOOKUP(B25,DKC_Price!A:H,3,FALSE),\"\")","v":""}]
[null,null,{"$f":"IFERROR(VLOOKUP(B26,DKC_Price!A:H,2,FALSE),\"\")","v":""},null,null,null,{"$f":"IFERROR(VLOOKUP(B26,DKC_Price!A:H,3,FALSE),\"\")","v":""}]
[null,null,{"$f":"IFERROR(VLOOKUP(B27,DKC_Price!A:H,2,FALSE),\"\")","v":""},null,null,null,{"$f":"IFERROR(VLOOKUP(B27,DKC_Price!A:H,3,FALSE),\"\")","v":""}]
[null,null,{"$f":"IFERROR(VLOOKUP(B28,DKC_Price!A:H,2,FALSE),\"\")","v":""},null,null,null,{"$f":"IFERROR(VLOOKUP(B28,DKC_Price!A:H,3,FALSE),\"\")","v":""}]
[null,null,{"$f":"IFERROR(VLOOKUP(B29,DKC_Price!A:H,2,FALSE),\"\")","v":""},null,null,null,{"$f":"IFERROR(VLOOKUP(B29,DKC_Price!A:H,3,FALSE),\"\")","v":""}]
[null,null,{"$f":"IFERROR(VLOOKUP(B30,DKC_Price!A:H,2,FALSE),\"\")","v":""},null,null,null,{"$f":"IFERROR(VLOOKUP(B30,DKC_Price!A:H,3,FALSE),\"\")","v":""}]
[null,null,{"$f":"IFERROR(VLOOKUP(B31,DKC_Price!A:H,2,FALSE),\"\")","v":""},null,null,null,{"$f":"IFERROR(VLOOKUP(B31,DKC_Price!A:H,3,FALSE),\"\")","v":""}]
[null,null,{"$f":"IFERROR(VLOOKUP(B32,DKC_Price!A:H,2,FALSE),\"\")","v":""},null,null,null,{"$f":"IFERROR(VLOOKUP(B32,DKC_Price!A:H,3,FALSE),\"\")","v":""}]
[null,null,{"$f":"IFERROR(VLOOKUP(B33,DKC_Price!A:H,2,FALSE),\"\")","v":""},null,null,null,{"$f":"IFERROR(VLOOKUP(B33,DKC_Price!A:H,3,FALSE),\"\")","v":""}]
[null,null,{"$f":"IFERROR(VLOOKUP(B34,DKC_Price!A:H,2,FALSE),\"\")","v":""},null,null,null,{"$f":"IFERROR(VLOOKUP(B34,DKC_Price!A:H,3,FALSE),\"\")","v":""}]
[null,null,{"$f":"IFERROR(VLOOKUP(B35,DKC_Price!A:H,2,FALSE),\"\")","v":""},null,null,null,{"$f":"IFERROR(VLOOKUP(B35,DKC_Price!A:H,3,FALSE),\"\")","v":""}]
[null,null,{"$f":"IFERROR(VLOOKUP(B36,DKC_Price!A:H,2,FALSE),\"\")","v":""},null,null,null,{"$f":"IFERROR(VLOOKUP(B36,DKC_Price!A:H,3,FALSE),\"\")","v":""}]
[null,null,{"$f":"IFERROR(VLOOKUP(B37,DKC_Price!A:H,2,FALSE),\"\")","v":""},null,null,null,{"$f":"IFERROR(VLOOKUP(B37,DKC_Price!A:H,3,FALSE),\"\")","v":""}]
[null,null,{"$f":"IFERROR(VLOOKUP(B38,DKC_Price!A:H,2,FALSE),\"\")","v":""},null,null,null,{"$f":"IFERROR(VLOOKUP(B38,DKC_Price!A:H,3,FALSE),\"\")","v":""}]
[null,null,{"$f":"IFERROR(VLOOKUP(B39,DKC_Price!A:H,2,FALSE),\"\")","v":""},null,null,null,{"$f":"IFERROR(VLOOKUP(B39,DKC_Price!A:H,3,FALSE),\"\")","v":""}]
[null,null,{"$f":"IFERROR(VLOOKUP(B40,DKC_Price!A:H,2,FALSE),\"\")","v":""},null,null,null,{"$f":"IFERROR(VLOOKUP(B40,DKC_Price!A:H,3,FALSE),\"\")","v":""}]
[null,null,{"$f":"IFERROR(VLOOKUP(B41,DKC_Price!A:H,2,FALSE),\"\")","v":""},null,null,null,{"$f":"IFERROR(VLOOKUP(B41,DKC_Price!A:H,3,FALSE),\"\")","v":""}]
[null,null,{"$f":"IFERROR(VLOOKUP(B42,DKC_Price!A:H,2,FALSE),\"\")","v":""},null,null,null,{"$f":"IFERROR(VLOOKUP(B42,DKC_Price!A:H,3,FALSE),\"\")","v":""}]
[null,null,{"$f":"IFERROR(VLOOKUP(B43,DKC_Price!A:H,2,FALSE),\"\")","v":""},null,null,null,{"$f":"IFERROR(VLOOKUP(B43,DKC_Price!A:H,3,FALSE),\"\")","v":""}]
[null,null,{"$f":"IFERROR(VLOOKUP(B44,DKC_Price!A:H,2,FALSE),\"\")","v":""},null,null,null,{"$f":"IFERROR(VLOOKUP(B44,DKC_Price!A:H,3,FALSE),\"\")","v":""}]
[null,null,{"$f":"IFERROR(VLOOKUP(B45,DKC_Price!A:H,2,FALSE),\"\")","v":""},null,null,null,{"$f":"IFERROR(VLOOKUP(B45,DKC_Price!A:H,3,FALSE),\"\")","v":""}]
[null,null,{"$f":"IFERROR(VLOOKUP(B46,DKC_Price!A:H,2,FALSE),\"\")","v":""},null,null,null,{"$f":"IFERROR(VLOOKUP(B46,DKC_Price!A:H,3,FALSE),\"\")","v":""}]
[null,null,{"$f":"IFERROR(VLOOKUP(B47,DKC_Price!A:H,2,FALSE),\"\")","v":""},null,null,null,{"$f":"IFERROR(VLOOKUP(B47,DKC_Price!A:H,3,FALSE),\"\")","v":""}]
[null,null,{"$f":"IFERROR(VLOOKUP(B48,DKC_Price!A:H,2,FALSE),\"\")","v":""},null,null,null,{"$f":"IFERROR(VLOOKUP(B48,DKC_Price!A:H,3,FALSE),\"\")","v":""}]
[null,null,{"$f":"IFERROR(VLOOKUP(B49,DKC_Price!A:H,2,FALSE),\"\")","v":""},null,null,null,{"$f":"IFERROR(VLOOKUP(B49,DKC_Price!A:H,3,FALSE),\"\")","v":""}]
[null,null,{"$f":"IFERROR(VLOOKUP(B50,DKC_Price!A:H,2,FALSE),\"\")","v":""},null,null,null,{"$f":"IFERROR(VLOOKUP(B50,DKC_Price!A:H,3,FALSE),\"\")","v":""}]
[null,null,{"$f":"IFERROR(VLOOKUP(B51,DKC_Price!A:H,2,FALSE),\"\")","v":""},null,null,null,{"$f":"IFERROR(VLOOKUP(B51,DKC_Price!A:H,3,FALSE),\"\")","v":""}]
[null,null,{"$f":"IFERROR(VLOOKUP(B52,DKC_Price!A:H,2,FALSE),\"\")","v":""},null,null,null,{"$f":"IFERROR(VLOOKUP(B52,DKC_Price!A:H,3,FALSE),\"\")","v":""}]
[null,null,{"$f":"IFERROR(VLOOKUP(B53,DKC_Price!A:H,2,FALSE),\"\")","v":""},null,null,null,{"$f":"IFERROR(VLOOKUP(B53,DKC_Price!A:H,3,FALSE),\"\")","v":""}]
[null,null,{"$f":"IFERROR(VLOOKUP(B54,DKC_Price!A:H,2,FALSE),\"\")","v":""},null,null,null,{"$f":"IFERROR(VLOOKUP(B54,DKC_Price!A:H,3,FALSE),\"\")","v":""}]
[null,null,{"$f":"IFERROR(VLOOKUP(B55,DKC_Price!A:H,2,FALSE),\"\")","v":""},null,null,null,{"$f":"IFERROR(VLOOKUP(B55,DKC_Price!A:H,3,FALSE),\"\")","v":""}]
[null,null,{"$f":"IFERROR(VLOOKUP(B56,DKC_Price!A:H,2,FALSE),\"\")","v":""},null,null,null,{"$f":"IFERROR(VLOOKUP(B56,DKC_Price!A:H,3,FALSE),\"\")","v":""}]
[null,null,{"$f":"IFERROR(VLOOKUP(B57,DKC_Price!A:H,2,FALSE),\"\")","v":""},null,null,null,{"$f":"IFERROR(VLOOKUP(B57,DKC_Price!A:H,3,FALSE),\"\")","v":""}]
[null,null,{"$f":"IFERROR(VLOOKUP(B58,DKC_Price!A:H,2,FALSE),\"\")","v":""},null,null,null,{"$f":"IFERROR(VLOOKUP(B58,DKC_Price!A:H,3,FALSE),\"\")","v":""}]
[null,null,{"$f":"IFERROR(VLOOKUP(B59,DKC_Price!A:H,2,FALSE),\"\")","v":""},null,null,null,{"$f":"IFERROR(VLOOKUP(B59,DKC_Price!A:H,3,FALSE),\"\")","v":""}]
[null,null,{"$f":"IFERROR(VLOOKUP(B60,DKC_Price!A:H,2,FALSE),\"\")","v":""},null,null,null,{"$f":"IFERROR(VLOOKUP(B60,DKC_Price!A:H,3,FALSE),\"\")","v":""}]
[null,null,{"$f":"IFERROR(VLOOKUP(B61,DKC_Price!A:H,2,FALSE),\"\")","v":""},null,null,null,{"$f":"IFERROR(VLOOKUP(B61,DKC_Price!A:H,3,FALSE),\"\")","v":""}]
[null,null,{"$f":"IFERROR(VLOOKUP(B62,DKC_Price!A:H,2,FALSE),\"\")","v":""},null,null,null,{"$f":"IFERROR(VLOOKUP(B62,DKC_Price!A:H,3,FALSE),\"\")","v":""}]
[null,null,{"$f":"IFERROR(VLOOKUP(B63,DKC_Price!A:H,2,FALSE),\"\")","v":""},null,null,null,{"$f":"IFERROR(VLOOKUP(B63,DKC_Price!A:H,3,FALSE),\"\")","v":""}]
[null,null,{"$f":"IFERROR(VLOOKUP(B64,DKC_Price!A:H,2,FALSE),\"\")","v":""},null,null,null,{"$f":"IFERROR(VLOOKUP(B64,DKC_Price!A:H,3,FALSE),\"\")","v":""}]
[null,null,{"$f":"IFERROR(VLOOKUP(B65,DKC_Price!A:H,2,FALSE),\"\")","v":""},null,null,null,{"$f":"IFERROR(VLOOKUP(B65,DKC_Price!A:H,3,FALSE),\"\")","v":""}]
[null,null,{"$f":"IFERROR(VLOOKUP(B66,DKC_Price!A:H,2,FALSE),\"\")","v":""},null,null,null,{"$f":"IFERROR(VLOOKUP(B66,DKC_Price!A:H,3,FALSE),\"\")","v":""}]
[null,null,{"$f":"IFERROR(VLOOKUP(B67,DKC_Price!A:H,2,FALSE),\"\")","v":""},null,null,null,{"$f":"IFERROR(VLOOKUP(B67,DKC_Price!A:H,3,FALSE),\"\")","v":""}]
[null,null,{"$f":"IFERROR(VLOOKUP(B68,DKC_Price!A:H,2,FALSE),\"\")","v":""},null,null,null,{"$f":"IFERROR(VLOOKUP(B68,DKC_Price!A:H,3,FALSE),\"\")","v":""}]
[null,null,{"$f":"IFERROR(VLOOKUP(B69,DKC_Price!A:H,2,FALSE),\"\")","v":""},null,null,null,{"$f":"IFERROR(VLOOKUP(B69,DKC_Price!A:H,3,FALSE),\"\")","v":""}]
[null,null,{"$f":"IFERROR(VLOOKUP(B70,DKC_Price!A:H,2,FALSE),\"\")","v":""},null,null,null,{"$f":"IFERROR(VLOOKUP(B70,DKC_Price!A:H,3,FALSE),\"\")","v":""}]
[null,null,{"$f":"IFERROR(VLOOKUP(B71,DKC_Price!A:H,2,FALSE),\"\")","v":""},null,null,null,{"$f":"IFERROR(VLOOKUP(B71,DKC_Price!A:H,3,FALSE),\"\")","v":""}]
[null,null,{"$f":"IFERROR(VLOOKUP(B72,DKC_Price!A:H,2,FALSE),\"\")","v":""},null,null,null,{"$f":"IFERROR(VLOOKUP(B72,DKC_Price!A:H,3,FALSE),\"\")","v":""}]
[null,null,{"$f":"IFERROR(VLOOKUP(B73,DKC_Price!A:H,2,FALSE),\"\")","v":""},null,null,null,{"$f":"IFERROR(VLOOKUP(B73,DKC_Price!A:H,3,FALSE),\"\")","v":""}]
[null,null,{"$f":"IFERROR(VLOOKUP(B74,DKC_Price!A:H,2,FALSE),\"\")","v":""},null,null,null,{"$f":"IFERROR(VLOOKUP(B74,DKC_Price!A:H,3,FALSE),\"\")","v":""}]
[null,null,{"$f":"IFERROR(VLOOKUP(B75,DKC_Price!A:H,2,FALSE),\"\")","v":""},null,null,null,{"$f":"IFERROR(VLOOKUP(B75,DKC_Price!A:H,3,FALSE),\"\")","v":""}]
[null,null,{"$f":"IFERROR(VLOOKUP(B76,DKC_Price!A:H,2,FALSE),\"\")","v":""},null,null,null,{"$f":"IFERROR(VLOOKUP(B76,DKC_Price!A:H,3,FALSE),\"\")","v":""}]
[null,null,{"$f":"IFERROR(VLOOKUP(B77,DKC_Price!A:H,2,FALSE),\"\")","v":""},null,null,null,{"$f":"IFERROR(VLOOKUP(B77,DKC_Price!A:H,3,FALSE),\"\")","v":""}]
[null,null,{"$f":"IFERROR(VLOOKUP(B78,DKC_Price!A:H,2,FALSE),\"\")","v":""},null,null,null,{"$f":"IFERROR(VLOOKUP(B78,DKC_Price!A:H,3,FALSE),\"\")","v":""}]
[null,null,{"$f":"IFERROR(VLOOKUP(B79,DKC_Price!A:H,2,FALSE),\"\")","v":""},null,null,null,{"$f":"IFERROR(VLOOKUP(B79,DKC_Price!A:H,3,FALSE),\"\")","v":""}]
[null,null,{"$f":"IFERROR(VLOOKUP(B80,DKC_Price!A:H,2,FALSE),\"\")","v":""},null,null,null,{"$f":"IFERROR(VLOOKUP(B80,DKC_Price!A:H,3,FALSE),\"\")","v":""}]
[null,null,{"$f":"IFERROR(VLOOKUP(B81,DKC_Price!A:H,2,FALSE),\"\")","v":""},null,null,null,{"$f":"IFERROR(VLOOKUP(B81,DKC_Price!A:H,3,FALSE),\"\")","v":""}]
[null,null,{"$f":"IFERROR(VLOOKUP(B82,DKC_Price!A:H,2,FALSE),\"\")","v":""},null,null,null,{"$f":"IFERROR(VLOOKUP(B82,DKC_Price!A:H,3,FALSE),\"\")","v":""}]
[null,null,{"$f":"IFERROR(VLOOKUP(B83,DKC_Price!A:H,2,FALSE),\"\")","v":""},null,null,null,{"$f":"IFERROR(VLOOKUP(B83,DKC_Price!A:H,3,FALSE),\"\")","v":""}]
[null,null,{"$f":"IFERROR(VLOOKUP(B84,DKC_Price!A:H,2,FALSE),\"\")","v":""},null,null,null,{"$f":"IFERROR(VLOOKUP(B84,DKC_Price!A:H,3,FALSE),\"\")","v":""}]
[null,null,{"$f":"IFERROR(VLOOKUP(B85,DKC_Price!A:H,2,FALSE),\"\")","v":""},null,null,null,{"$f":"IFERROR(VLOOKUP(B85,DKC_Price!A:H,3,FALSE),\"\")","v":""}]
[null,null,{"$f":"IFERROR(VLOOKUP(B86,DKC_Price!A:H,2,FALSE),\"\")","v":""},null,null,null,{"$f":"IFERROR(VLOOKUP(B86,DKC_Price!A:H,3,FALSE),\"\")","v":""}]
[null,null,{"$f":"IFERROR(VLOOKUP(B87,DKC_Price!A:H,2,FALSE),\"\")","v":""},null,null,null,{"$f":"IFERROR(VLOOKUP(B87,DKC_Price!A:H,3,FALSE),\"\")","v":""}]
[null,null,{"$f":"IFERROR(VLOOKUP(B88,DKC_Price!A:H,2,FALSE),\"\")","v":""},null,null,null,{"$f":"IFERROR(VLOOKUP(B88,DKC_Price!A:H,3,FALSE),\"\")","v":""}]
[null,null,{"$f":"IFERROR(VLOOKUP(B89,DKC_Price!A:H,2,FALSE),\"\")","v":""},null,null,null,{"$f":"IFERROR(VLOOKUP(B89,DKC_Price!A:H,3,FALSE),\"\")","v":""}]
[null,null,{"$f":"IFERROR(VLOOKUP(B90,DKC_Price!A:H,2,FALSE),\"\")","v":""},null,null,null,{"$f":"IFERROR(VLOOKUP(B90,DKC_Price!A:H,3,FALSE),\"\")","v":""}]
[null,null,{"$f":"IFERROR(VLOOKUP(B91,DKC_Price!A:H,2,FALSE),\"\")","v":""},null,null,null,{"$f":"IFERROR(VLOOKUP(B91,DKC_Price!A:H,3,FALSE),\"\")","v":""}]
[null,null,{"$f":"IFERROR(VLOOKUP(B92,DKC_Price!A:H,2,FALSE),\"\")","v":""},null,null,null,{"$f":"IFERROR(VLOOKUP(B92,DKC_Price!A:H,3,FALSE),\"\")","v":""}]
[null,null,{"$f":"IFERROR(VLOOKUP(B93,DKC_Price!A:H,2,FALSE),\"\")","v":""},null,null,null,{"$f":"IFERROR(VLOOKUP(B93,DKC_Price!A:H,3,FALSE),\"\")","v":""}]
[null,null,{"$f":"IFERROR(VLOOKUP(B94,DKC_Price!A:H,2,FALSE),\"\")","v":""},null,null,null,{"$f":"IFERROR(VLOOKUP(B94,DKC_Price!A:H,3,FALSE),\"\")","v":""}]
[null,null,{"$f":"IFERROR(VLOOKUP(B95,DKC_Price!A:H,2,FALSE),\"\")","v":""},null,null,null,{"$f":"IFERROR(VLOOKUP(B95,DKC_Price!A:H,3,FALSE),\"\")","v":""}]
[null,null,{"$f":"IFERROR(VLOOKUP(B96,DKC_Price!A:H,2,FALSE),\"\")","v":""},null,null,null,{"$f":"IFERROR(VLOOKUP(B96,DKC_Price!A:H,3,FALSE),\"\")","v":""}]
[null,null,{"$f":"IFERROR(VLOOKUP(B97,DKC_Price!A:H,2,FALSE),\"\")","v":""},null,null,null,{"$f":"IFERROR(VLOOKUP(B97,DKC_Price!A:H,3,FALSE),\"\")","v":""}]
[null,null,{"$f":"IFERROR(VLOOKUP(B98,DKC_Price!A:H,2,FALSE),\"\")","v":""},null,null,null,{"$f":"IFERROR(VLOOKUP(B98,DKC_Price!A:H,3,FALSE),\"\")","v":""}]
[null,null,{"$f":"IFERROR(VLOOKUP(B99,DKC_Price!A:H,2,FALSE),\"\")","v":""},null,null,null,{"$f":"IFERROR(VLOOKUP(B99,DKC_Price!A:H,3,FALSE),\"\")","v":""}]
[null,null,{"$f":"IFERROR(VLOOKUP(B100,DKC_Price!A:H,2,FALSE),\"\")","v":""},null,null,null,{"$f":"IFERROR(VLOOKUP(B100,DKC_Price!A:H,3,FALSE),\"\")","v":""}]
[null,null,{"$f":"IFERROR(VLOOKUP(B101,DKC_Price!A:H,2,FALSE),\"\")","v":""},null,null,null,{"$f":"IFERROR(VLOOKUP(B101,DKC_Price!A:H,3,FALSE),\"\")","v":""}]
[null,null,{"$f":"IFERROR(VLOOKUP(B102,DKC_Price!A:H,2,FALSE),\"\")","v":""},null,null,null,{"$f":"IFERROR(VLOOKUP(B102,DKC_Price!A:H,3,FALSE),\"\")","v":""}]
[null,null,{"$f":"IFERROR(VLOOKUP(B103,DKC_Price!A:H,2,FALSE),\"\")","v":""},null,null,null,{"$f":"IFERROR(VLOOKUP(B103,DKC_Price!A:H,3,FALSE),\"\")","v":""}]
[null,null,{"$f":"IFERROR(VLOOKUP(B104,DKC_Price!A:H,2,FALSE),\"\")","v":""},null,null,null,{"$f":"IFERROR(VLOOKUP(B104,DKC_Price!A:H,3,FALSE),\"\")","v":""}]
[null,null,{"$f":"IFERROR(VLOOKUP(B105,DKC_Price!A:H,2,FALSE),\"\")","v":""},null,null,null,{"$f":"IFERROR(VLOOKUP(B105,DKC_Price!A:H,3,FALSE),\"\")","v":""}]
[null,null,{"$f":"IFERROR(VLOOKUP(B106,DKC_Price!A:H,2,FALSE),\"\")","v":""},null,null,null,{"$f":"IFERROR(VLOOKUP(B106,DKC_Price!A:H,3,FALSE),\"\")","v":""}]
[null,null,{"$f":"IFERROR(VLOOKUP(B107,DKC_Price!A:H,2,FALSE),\"\")","v":""},null,null,null,{"$f":"IFERROR(VLOOKUP(B107,DKC_Price!A:H,3,FALSE),\"\")","v":""}]
[null,null,{"$f":"IFERROR(VLOOKUP(B108,DKC_Price!A:H,2,FALSE),\"\")","v":""},null,null,null,{"$f":"IFERROR(VLOOKUP(B108,DKC_Price!A:H,3,FALSE),\"\")","v":""}]
[null,null,{"$f":"IFERROR(VLOOKUP(B109,DKC_Price!A:H,2,FALSE),\"\")","v":""},null,null,null,{"$f":"IFERROR(VLOOKUP(B109,DKC_Price!A:H,3,FALSE),\"\")","v":""}]
[null,null,{"$f":"IFERROR(VLOOKUP(B110,DKC_Price!A:H,2,FALSE),\"\")","v":""},null,null,null,{"$f":"IFERROR(VLOOKUP(B110,DKC_Price!A:H,3,FALSE),\"\")","v":""}]
[null,null,{"$f":"IFERROR(VLOOKUP(B111,DKC_Price!A:H,2,FALSE),\"\")","v":""},null,null,null,{"$f":"IFERROR(VLOOKUP(B111,DKC_Price!A:H,3,FALSE),\"\")","v":""}]
[null,null,{"$f":"IFERROR(VLOOKUP(B112,DKC_Price!A:H,2,FALSE),\"\")","v":""},null,null,null,{"$f":"IFERROR(VLOOKUP(B112,DKC_Price!A:H,3,FALSE),\"\")","v":""}]
[null,null,{"$f":"IFERROR(VLOOKUP(B113,DKC_Price!A:H,2,FALSE),\"\")","v":""},null,null,null,{"$f":"IFERROR(VLOOKUP(B113,DKC_Price!A:H,3,FALSE),\"\")","v":""}]
[null,null,{"$f":"IFERROR(VLOOKUP(B114,DKC_Price!A:H,2,FALSE),\"\")","v":""},null,null,null,{"$f":"IFERROR(VLOOKUP(B114,DKC_Price!A:H,3,FALSE),\"\")","v":""}]
[null,null,{"$f":"IFERROR(VLOOKUP(B115,DKC_Price!A:H,2,FALSE),\"\")","v":""},null,null,null,{"$f":"IFERROR(VLOOKUP(B115,DKC_Price!A:H,3,FALSE),\"\")","v":""}]
[null,null,{"$f":"IFERROR(VLOOKUP(B116,DKC_Price!A:H,2,FALSE),\"\")","v":""},null,null,null,{"$f":"IFERROR(VLOOKUP(B116,DKC_Price!A:H,3,FALSE),\"\")","v":""}]
[null,null,{"$f":"IFERROR(VLOOKUP(B117,DKC_Price!A:H,2,FALSE),\"\")","v":""},null,null,null,{"$f":"IFERROR(VLOOKUP(B117,DKC_Price!A:H,3,FALSE),\"\")","v":""}]
[null,null,{"$f":"IFERROR(VLOOKUP(B118,DKC_Price!A:H,2,FALSE),\"\")","v":""},null,null,null,{"$f":"IFERROR(VLOOKUP(B118,DKC_Price!A:H,3,FALSE),\"\")","v":""}]
[null,null,{"$f":"IFERROR(VLOOKUP(B119,DKC_Price!A:H,2,FALSE),\"\")","v":""},null,null,null,{"$f":"IFERROR(VLOOKUP(B119,DKC_Price!A:H,3,FALSE),\"\")","v":""}]
[null,null,{"$f":"IFERROR(VLOOKUP(B120,DKC_Price!A:H,2,FALSE),\"\")","v":""},null,null,null,{"$f":"IFERROR(VLOOKUP(B120,DKC_Price!A:H,3,FALSE),\"\")","v":""}]
[null,null,{"$f":"IFERROR(VLOOKUP(B121,DKC_Price!A:H,2,FALSE),\"\")","v":""},null,null,null,{"$f":"IFERROR(VLOOKUP(B121,DKC_Price!A:H,3,FALSE),\"\")","v":""}]
[null,null,{"$f":"IFERROR(VLOOKUP(B122,DKC_Price!A:H,2,FALSE),\"\")","v":""},null,null,null,{"$f":"IFERROR(VLOOKUP(B122,DKC_Price!A:H,3,FALSE),\"\")","v":""}]
[null,null,{"$f":"IFERROR(VLOOKUP(B123,DKC_Price!A:H,2,FALSE),\"\")","v":""},null,null,null,{"$f":"IFERROR(VLOOKUP(B123,DKC_Price!A:H,3,FALSE),\"\")","v":""}]
[null,null,{"$f":"IFERROR(VLOOKUP(B124,DKC_Price!A:H,2,FALSE),\"\")","v":""},null,null,null,{"$f":"IFERROR(VLOOKUP(B124,DKC_Price!A:H,3,FALSE),\"\")","v":""}]
[null,null,{"$f":"IFERROR(VLOOKUP(B125,DKC_Price!A:H,2,FALSE),\"\")","v":""},null,null,null,{"$f":"IFERROR(VLOOKUP(B125,DKC_Price!A:H,3,FALSE),\"\")","v":""}]
[null,null,{"$f":"IFERROR(VLOOKUP(B126,DKC_Price!A:H,2,FALSE),\"\")","v":""},null,null,null,{"$f":"IFERROR(VLOOKUP(B126,DKC_Price!A:H,3,FALSE),\"\")","v":""}]
[null,null,{"$f":"IFERROR(VLOOKUP(B127,DKC_Price!A:H,2,FALSE),\"\")","v":""},null,null,null,{"$f":"IFERROR(VLOOKUP(B127,DKC_Price!A:H,3,FALSE),\"\")","v":""}]
[null,null,{"$f":"IFERROR(VLOOKUP(B128,DKC_Price!A:H,2,FALSE),\"\")","v":""},null,null,null,{"$f":"IFERROR(VLOOKUP(B128,DKC_Price!A:H,3,FALSE),\"\")","v":""}]
[null,null,{"$f":"IFERROR(VLOOKUP(B129,DKC_Price!A:H,2,FALSE),\"\")","v":""},null,null,null,{"$f":"IFERROR(VLOOKUP(B129,DKC_Price!A:H,3,FALSE),\"\")","v":""}]
[null,null,{"$f":"IFERROR(VLOOKUP(B130,DKC_Price!A:H,2,FALSE),\"\")","v":""},null,null,null,{"$f":"IFERROR(VLOOKUP(B130,DKC_Price!A:H,3,FALSE),\"\")","v":""}]
[null,null,{"$f":"IFERROR(VLOOKUP(B131,DKC_Price!A:H,2,FALSE),\"\")","v":""},null,null,null,{"$f":"IFERROR(VLOOKUP(B131,DKC_Price!A:H,3,FALSE),\"\")","v":""}]
[null,null,{"$f":"IFERROR(VLOOKUP(B132,DKC_Price!A:H,2,FALSE),\"\")","v":""},null,null,null,{"$f":"IFERROR(VLOOKUP(B132,DKC_Price!A:H,3,FALSE),\"\")","v":""}]
[null,null,{"$f":"IFERROR(VLOOKUP(B133,DKC_Price!A:H,2,FALSE),\"\")","v":""},null,null,null,{"$f":"IFERROR(VLOOKUP(B133,DKC_Price!A:H,3,FALSE),\"\")","v":""}]
[null,null,{"$f":"IFERROR(VLOOKUP(B134,DKC_Price!A:H,2,FALSE),\"\")","v":""},null,null,null,{"$f":"IFERROR(VLOOKUP(B134,DKC_Price!A:H,3,FALSE),\"\")","v":""}]
[null,null,{"$f":"IFERROR(VLOOKUP(B135,DKC_Price!A:H,2,FALSE),\"\")","v":""},null,null,null,{"$f":"IFERROR(VLOOKUP(B135,DKC_Price!A:H,3,FALSE),\"\")","v":""}]
[null,null,{"$f":"IFERROR(VLOOKUP(B136,DKC_Price!A:H,2,FALSE),\"\")","v":""},null,null,null,{"$f":"IFERROR(VLOOKUP(B136,DKC_Price!A:H,3,FALSE),\"\")","v":""}]
[null,null,{"$f":"IFERROR(VLOOKUP(B137,DKC_Price!A:H,2,FALSE),\"\")","v":""},null,null,null,{"$f":"IFERROR(VLOOKUP(B137,DKC_Price!A:H,3,FALSE),\"\")","v":""}]
[null,null,{"$f":"IFERROR(VLOOKUP(B138,DKC_Price!A:H,2,FALSE),\"\")","v":""},null,null,null,{"$f":"IFERROR(VLOOKUP(B138,DKC_Price!A:H,3,FALSE),\"\")","v":""}]
[null,null,{"$f":"IFERROR(VLOOKUP(B139,DKC_Price!A:H,2,FALSE),\"\")","v":""},null,null,null,{"$f":"IFERROR(VLOOKUP(B139,DKC_Price!A:H,3,FALSE),\"\")","v":""}]
[null,null,{"$f":"IFERROR(VLOOKUP(B140,DKC_Price!A:H,2,FALSE),\"\")","v":""},null,null,null,{"$f":"IFERROR(VLOOKUP(B140,DKC_Price!A:H,3,FALSE),\"\")","v":""}]
[null,null,{"$f":"IFERROR(VLOOKUP(B141,DKC_Price!A:H,2,FALSE),\"\")","v":""},null,null,null,{"$f":"IFERROR(VLOOKUP(B141,DKC_Price!A:H,3,FALSE),\"\")","v":""}]
[null,null,{"$f":"IFERROR(VLOOKUP(B142,DKC_Price!A:H,2,FALSE),\"\")","v":""},null,null,null,{"$f":"IFERROR(VLOOKUP(B142,DKC_Price!A:H,3,FALSE),\"\")","v":""}]
[null,null,{"$f":"IFERROR(VLOOKUP(B143,DKC_Price!A:H,2,FALSE),\"\")","v":""},null,null,null,{"$f":"IFERROR(VLOOKUP(B143,DKC_Price!A:H,3,FALSE),\"\")","v":""}]
[null,null,{"$f":"IFERROR(VLOOKUP(B144,DKC_Price!A:H,2,FALSE),\"\")","v":""},null,null,null,{"$f":"IFERROR(VLOOKUP(B144,DKC_Price!A:H,3,FALSE),\"\")","v":""}]
[null,null,{"$f":"IFERROR(VLOOKUP(B145,DKC_Price!A:H,2,FALSE),\"\")","v":""},null,null,null,{"$f":"IFERROR(VLOOKUP(B145,DKC_Price!A:H,3,FALSE),\"\")","v":""}]
[null,null,{"$f":"IFERROR(VLOOKUP(B146,DKC_Price!A:H,2,FALSE),\"\")","v":""},null,null,null,{"$f":"IFERROR(VLOOKUP(B146,DKC_Price!A:H,3,FALSE),\"\")","v":""}]
[null,null,{"$f":"IFERROR(VLOOKUP(B147,DKC_Price!A:H,2,FALSE),\"\")","v":""},null,null,null,{"$f":"IFERROR(VLOOKUP(B147,DKC_Price!A:H,3,FALSE),\"\")","v":""}]
[null,null,{"$f":"IFERROR(VLOOKUP(B148,DKC_Price!A:H,2,FALSE),\"\")","v":""},null,null,null,{"$f":"IFERROR(VLOOKUP(B148,DKC_Price!A:H,3,FALSE),\"\")","v":""}]
[null,null,{"$f":"IFERROR(VLOOKUP(B149,DKC_Price!A:H,2,FALSE),\"\")","v":""},null,null,null,{"$f":"IFERROR(VLOOKUP(B149,DKC_Price!A:H,3,FALSE),\"\")","v":""}]
[null,null,{"$f":"IFERROR(VLOOKUP(B150,DKC_Price!A:H,2,FALSE),\"\")","v":""},null,null,null,{"$f":"IFERROR(VLOOKUP(B150,DKC_Price!A:H,3,FALSE),\"\")","v":""}]
[null,null,{"$f":"IFERROR(VLOOKUP(B151,DKC_Price!A:H,2,FALSE),\"\")","v":""},null,null,null,{"$f":"IFERROR(VLOOKUP(B151,DKC_Price!A:H,3,FALSE),\"\")","v":""}]
[null,null,{"$f":"IFERROR(VLOOKUP(B152,DKC_Price!A:H,2,FALSE),\"\")","v":""},null,null,null,{"$f":"IFERROR(VLOOKUP(B152,DKC_Price!A:H,3,FALSE),\"\")","v":""}]
[null,null,{"$f":"IFERROR(VLOOKUP(B153,DKC_Price!A:H,2,FALSE),\"\")","v":""},null,null,null,{"$f":"IFERROR(VLOOKUP(B153,DKC_Price!A:H,3,FALSE),\"\")","v":""}]
[null,null,{"$f":"IFERROR(VLOOKUP(B154,DKC_Price!A:H,2,FALSE),\"\")","v":""},null,null,null,{"$f":"IFERROR(VLOOKUP(B154,DKC_Price!A:H,3,FALSE),\"\")","v":""}]
[null,null,{"$f":"IFERROR(VLOOKUP(B155,DKC_Price!A:H,2,FALSE),\"\")","v":""},null,null,null,{"$f":"IFERROR(VLOOKUP(B155,DKC_Price!A:H,3,FALSE),\"\")","v":""}]
[null,null,{"$f":"IFERROR(VLOOKUP(B156,DKC_Price!A:H,2,FALSE),\"\")","v":""},null,null,null,{"$f":"IFERROR(VLOOKUP(B156,DKC_Price!A:H,3,FALSE),\"\")","v":""}]
[null,null,{"$f":"IFERROR(VLOOKUP(B157,DKC_Price!A:H,2,FALSE),\"\")","v":""},null,null,null,{"$f":"IFERROR(VLOOKUP(B157,DKC_Price!A:H,3,FALSE),\"\")","v":""}]
[null,null,{"$f":"IFERROR(VLOOKUP(B158,DKC_Price!A:H,2,FALSE),\"\")","v":""},null,null,null,{"$f":"IFERROR(VLOOKUP(B158,DKC_Price!A:H,3,FALSE),\"\")","v":""}]
[null,null,{"$f":"IFERROR(VLOOKUP(B159,DKC_Price!A:H,2,FALSE),\"\")","v":""},null,null,null,{"$f":"IFERROR(VLOOKUP(B159,DKC_Price!A:H,3,FALSE),\"\")","v":""}]
[null,null,{"$f":"IFERROR(VLOOKUP(B160,DKC_Price!A:H,2,FALSE),\"\")","v":""},null,null,null,{"$f":"IFERROR(VLOOKUP(B160,DKC_Price!A:H,3,FALSE),\"\")","v":""}]
[null,null,{"$f":"IFERROR(VLOOKUP(B161,DKC_Price!A:H,2,FALSE),\"\")","v":""},null,null,null,{"$f":"IFERROR(VLOOKUP(B161,DKC_Price!A:H,3,FALSE),\"\")","v":""}]
[null,null,{"$f":"IFERROR(VLOOKUP(B162,DKC_Price!A:H,2,FALSE),\"\")","v":""},null,null,null,{"$f":"IFERROR(VLOOKUP(B162,DKC_Price!A:H,3,FALSE),\"\")","v":""}]
[null,null,{"$f":"IFERROR(VLOOKUP(B163,DKC_Price!A:H,2,FALSE),\"\")","v":""},null,null,null,{"$f":"IFERROR(VLOOKUP(B163,DKC_Price!A:H,3,FALSE),\"\")","v":""}]
[null,null,{"$f":"IFERROR(VLOOKUP(B164,DKC_Price!A:H,2,FALSE),\"\")","v":""},null,null,null,{"$f":"IFERROR(VLOOKUP(B164,DKC_Price!A:H,3,FALSE),\"\")","v":""}]
[null,null,{"$f":"IFERROR(VLOOKUP(B165,DKC_Price!A:H,2,FALSE),\"\")","v":""},null,null,null,{"$f":"IFERROR(VLOOKUP(B165,DKC_Price!A:H,3,FALSE),\"\")","v":""}]
[null,null,{"$f":"IFERROR(VLOOKUP(B166,DKC_Price!A:H,2,FALSE),\"\")","v":""},null,null,null,{"$f":"IFERROR(VLOOKUP(B166,DKC_Price!A:H,3,FALSE),\"\")","v":""}]
[null,null,{"$f":"IFERROR(VLOOKUP(B167,DKC_Price!A:H,2,FALSE),\"\")","v":""},null,null,null,{"$f":"IFERROR(VLOOKUP(B167,DKC_Price!A:H,3,FALSE),\"\")","v":""}]
[null,null,{"$f":"IFERROR(VLOOKUP(B168,DKC_Price!A:H,2,FALSE),\"\")","v":""},null,null,null,{"$f":"IFERROR(VLOOKUP(B168,DKC_Price!A:H,3,FALSE),\"\")","v":""}]
[null,null,{"$f":"IFERROR(VLOOKUP(B169,DKC_Price!A:H,2,FALSE),\"\")","v":""},null,null,null,{"$f":"IFERROR(VLOOKUP(B169,DKC_Price!A:H,3,FALSE),\"\")","v":""}]
[null,null,{"$f":"IFERROR(VLOOKUP(B170,DKC_Price!A:H,2,FALSE),\"\")","v":""},null,null,null,{"$f":"IFERROR(VLOOKUP(B170,DKC_Price!A:H,3,FALSE),\"\")","v":""}]
[null,null,{"$f":"IFERROR(VLOOKUP(B171,DKC_Price!A:H,2,FALSE),\"\")","v":""},null,null,null,{"$f":"IFERROR(VLOOKUP(B171,DKC_Price!A:H,3,FALSE),\"\")","v":""}]
[null,null,{"$f":"IFERROR(VLOOKUP(B172,DKC_Price!A:H,2,FALSE),\"\")","v":""},null,null,null,{"$f":"IFERROR(VLOOKUP(B172,DKC_Price!A:H,3,FALSE),\"\")","v":""}]
[null,null,{"$f":"IFERROR(VLOOKUP(B173,DKC_Price!A:H,2,FALSE),\"\")","v":""},null,null,null,{"$f":"IFERROR(VLOOKUP(B173,DKC_Price!A:H,3,FALSE),\"\")","v":""}]
[null,null,{"$f":"IFERROR(VLOOKUP(B174,DKC_Price!A:H,2,FALSE),\"\")","v":""},null,null,null,{"$f":"IFERROR(VLOOKUP(B174,DKC_Price!A:H,3,FALSE),\"\")","v":""}]
[null,null,{"$f":"IFERROR(VLOOKUP(B175,DKC_Price!A:H,2,FALSE),\"\")","v":""},null,null,null,{"$f":"IFERROR(VLOOKUP(B175,DKC_Price!A:H,3,FALSE),\"\")","v":""}]
[null,null,{"$f":"IFERROR(VLOOKUP(B176,DKC_Price!A:H,2,FALSE),\"\")","v":""},null,null,null,{"$f":"IFERROR(VLOOKUP(B176,DKC_Price!A:H,3,FALSE),\"\")","v":""}]
[null,null,{"$f":"IFERROR(VLOOKUP(B177,DKC_Price!A:H,2,FALSE),\"\")","v":""},null,null,null,{"$f":"IFERROR(VLOOKUP(B177,DKC_Price!A:H,3,FALSE),\"\")","v":""}]
[null,null,{"$f":"IFERROR(VLOOKUP(B178,DKC_Price!A:H,2,FALSE),\"\")","v":""},null,null,null,{"$f":"IFERROR(VLOOKUP(B178,DKC_Price!A:H,3,FALSE),\"\")","v":""}]
[null,null,{"$f":"IFERROR(VLOOKUP(B179,DKC_Price!A:H,2,FALSE),\"\")","v":""},null,null,null,{"$f":"IFERROR(VLOOKUP(B179,DKC_Price!A:H,3,FALSE),\"\")","v":""}]
[null,null,{"$f":"IFERROR(VLOOKUP(B180,DKC_Price!A:H,2,FALSE),\"\")","v":""},null,null,null,{"$f":"IFERROR(VLOOKUP(B180,DKC_Price!A:H,3,FALSE),\"\")","v":""}]
[null,null,{"$f":"IFERROR(VLOOKUP(B181,DKC_Price!A:H,2,FALSE),\"\")","v":""},null,null,null,{"$f":"IFERROR(VLOOKUP(B181,DKC_Price!A:H,3,FALSE),\"\")","v":""}]
[null,null,{"$f":"IFERROR(VLOOKUP(B182,DKC_Price!A:H,2,FALSE),\"\")","v":""},null,null,null,{"$f":"IFERROR(VLOOKUP(B182,DKC_Price!A:H,3,FALSE),\"\")","v":""}]
[null,null,{"$f":"IFERROR(VLOOKUP(B183,DKC_Price!A:H,2,FALSE),\"\")","v":""},null,null,null,{"$f":"IFERROR(VLOOKUP(B183,DKC_Price!A:H,3,FALSE),\"\")","v":""}]
[null,null,{"$f":"IFERROR(VLOOKUP(B184,DKC_Price!A:H,2,FALSE),\"\")","v":""},null,null,null,{"$f":"IFERROR(VLOOKUP(B184,DKC_Price!A:H,3,FALSE),\"\")","v":""}]
[null,null,{"$f":"IFERROR(VLOOKUP(B185,DKC_Price!A:H,2,FALSE),\"\")","v":""},null,null,null,{"$f":"IFERROR(VLOOKUP(B185,DKC_Price!A:H,3,FALSE),\"\")","v":""}]
[null,null,{"$f":"IFERROR(VLOOKUP(B186,DKC_Price!A:H,2,FALSE),\"\")","v":""},null,null,null,{"$f":"IFERROR(VLOOKUP(B186,DKC_Price!A:H,3,FALSE),\"\")","v":""}]
[null,null,{"$f":"IFERROR(VLOOKUP(B187,DKC_Price!A:H,2,FALSE),\"\")","v":""},null,null,null,{"$f":"IFERROR(VLOOKUP(B187,DKC_Price!A:H,3,FALSE),\"\")","v":""}]
[null,null,{"$f":"IFERROR(VLOOKUP(B188,DKC_Price!A:H,2,FALSE),\"\")","v":""},null,null,null,{"$f":"IFERROR(VLOOKUP(B188,DKC_Price!A:H,3,FALSE),\"\")","v":""}]
[null,null,{"$f":"IFERROR(VLOOKUP(B189,DKC_Price!A:H,2,FALSE),\"\")","v":""},null,null,null,{"$f":"IFERROR(VLOOKUP(B189,DKC_Price!A:H,3,FALSE),\"\")","v":""}]
[null,null,{"$f":"IFERROR(VLOOKUP(B190,DKC_Price!A:H,2,FALSE),\"\")","v":""},null,null,null,{"$f":"IFERROR(VLOOKUP(B190,DKC_Price!A:H,3,FALSE),\"\")","v":""}]
[null,null,{"$f":"IFERROR(VLOOKUP(B191,DKC_Price!A:H,2,FALSE),\"\")","v":""},null,null,null,{"$f":"IFERROR(VLOOKUP(B191,DKC_Price!A:H,3,FALSE),\"\")","v":""}]
[null,null,{"$f":"IFERROR(VLOOKUP(B192,DKC_Price!A:H,2,FALSE),\"\")","v":""},null,null,null,{"$f":"IFERROR(VLOOKUP(B192,DKC_Price!A:H,3,FALSE),\"\")","v":""}]
[null,null,{"$f":"IFERROR(VLOOKUP(B193,DKC_Price!A:H,2,FALSE),\"\")","v":""},null,null,null,{"$f":"IFERROR(VLOOKUP(B193,DKC_Price!A:H,3,FALSE),\"\")","v":""}]
[null,null,{"$f":"IFERROR(VLOOKUP(B194,DKC_Price!A:H,2,FALSE),\"\")","v":""},null,null,null,{"$f":"IFERROR(VLOOKUP(B194,DKC_Price!A:H,3,FALSE),\"\")","v":""}]
[null,null,{"$f":"IFERROR(VLOOKUP(B195,DKC_Price!A:H,2,FALSE),\"\")","v":""},null,null,null,{"$f":"IFERROR(VLOOKUP(B195,DKC_Price!A:H,3,FALSE),\"\")","v":""}]
[null,null,{"$f":"IFERROR(VLOOKUP(B196,DKC_Price!A:H,2,FALSE),\"\")","v":""},null,null,null,{"$f":"IFERROR(VLOOKUP(B196,DKC_Price!A:H,3,FALSE),\"\")","v":""}]
[null,null,{"$f":"IFERROR(VLOOKUP(B197,DKC_Price!A:H,2,FALSE),\"\")","v":""},null,null,null,{"$f":"IFERROR(VLOOKUP(B197,DKC_Price!A:H,3,FALSE),\"\")","v":""}]
[null,null,{"$f":"IFERROR(VLOOKUP(B198,DKC_Price!A:H,2,FALSE),\"\")","v":""},null,null,null,{"$f":"IFERROR(VLOOKUP(B198,DKC_Price!A:H,3,FALSE),\"\")","v":""}]
[null,null,{"$f":"IFERROR(VLOOKUP(B199,DKC_Price!A:H,2,FALSE),\"\")","v":""},null,null,null,{"$f":"IFERROR(VLOOKUP(B199,DKC_Price!A:H,3,FALSE),\"\")","v":""}]
[null,null,{"$f":"IFERROR(VLOOKUP(B200,DKC_Price!A:H,2,FALSE),\"\")","v":""},null,null,null,{"$f":"IFERROR(VLOOKUP(B200,DKC_Price!A:H,3,FALSE),\"\")","v":""}]
[null,null,{"$f":"IFERROR(VLOOKUP(B201,DKC_Price!A:H,2,FALSE),\"\")","v":""},null,null,null,{"$f":"IFERROR(VLOOKUP(B201,DKC_Price!A:H,3,FALSE),\"\")","v":""}]
[null,null,{"$f":"IFERROR(VLOOKUP(B202,DKC_Price!A:H,2,FALSE),\"\")","v":""},null,null,null,{"$f":"IFERROR(VLOOKUP(B202,DKC_Price!A:H,3,FALSE),\"\")","v":""}]
[null,null,{"$f":"IFERROR(VLOOKUP(B203,DKC_Price!A:H,2,FALSE),\"\")","v":""},null,null,null,{"$f":"IFERROR(VLOOKUP(B203,DKC_Price!A:H,3,FALSE),\"\")","v":""}]
[null,null,{"$f":"IFERROR(VLOOKUP(B204,DKC_Price!A:H,2,FALSE),\"\")","v":""},null,null,null,{"$f":"IFERROR(VLOOKUP(B204,DKC_Price!A:H,3,FALSE),\"\")","v":""}]
[null,null,{"$f":"IFERROR(VLOOKUP(B205,DKC_Price!A:H,2,FALSE),\"\")","v":""},null,null,null,{"$f":"IFERROR(VLOOKUP(B205,DKC_Price!A:H,3,FALSE),\"\")","v":""}]
[null,null,{"$f":"IFERROR(VLOOKUP(B206,DKC_Price!A:H,2,FALSE),\"\")","v":""},null,null,null,{"$f":"IFERROR(VLOOKUP(B206,DKC_Price!A:H,3,FALSE),\"\")","v":""}]
[null,null,{"$f":"IFERROR(VLOOKUP(B207,DKC_Price!A:H,2,FALSE),\"\")","v":""},null,null,null,{"$f":"IFERROR(VLOOKUP(B207,DKC_Price!A:H,3,FALSE),\"\")","v":""}]
[null,null,{"$f":"IFERROR(VLOOKUP(B208,DKC_Price!A:H,2,FALSE),\"\")","v":""},null,null,null,{"$f":"IFERROR(VLOOKUP(B208,DKC_Price!A:H,3,FALSE),\"\")","v":""}]
[null,null,{"$f":"IFERROR(VLOOKUP(B209,DKC_Price!A:H,2,FALSE),\"\")","v":""},null,null,null,{"$f":"IFERROR(VLOOKUP(B209,DKC_Price!A:H,3,FALSE),\"\")","v":""}]
[null,null,{"$f":"IFERROR(VLOOKUP(B210,DKC_Price!A:H,2,FALSE),\"\")","v":""},null,null,null,{"$f":"IFERROR(VLOOKUP(B210,DKC_Price!A:H,3,FALSE),\"\")","v":""}]
[null,null,{"$f":"IFERROR(VLOOKUP(B211,DKC_Price!A:H,2,FALSE),\"\")","v":""},null,null,null,{"$f":"IFERROR(VLOOKUP(B211,DKC_Price!A:H,3,FALSE),\"\")","v":""}]
[null,null,{"$f":"IFERROR(VLOOKUP(B212,DKC_Price!A:H,2,FALSE),\"\")","v":""},null,null,null,{"$f":"IFERROR(VLOOKUP(B212,DKC_Price!A:H,3,FALSE),\"\")","v":""}]
[null,null,{"$f":"IFERROR(VLOOKUP(B213,DKC_Price!A:H,2,FALSE),\"\")","v":""},null,null,null,{"$f":"IFERROR(VLOOKUP(B213,DKC_Price!A:H,3,FALSE),\"\")","v":""}]
[null,null,{"$f":"IFERROR(VLOOKUP(B214,DKC_Price!A:H,2,FALSE),\"\")","v":""},null,null,null,{"$f":"IFERROR(VLOOKUP(B214,DKC_Price!A:H,3,FALSE),\"\")","v":""}]
[null,null,{"$f":"IFERROR(VLOOKUP(B215,DKC_Price!A:H,2,FALSE),\"\")","v":""},null,null,null,{"$f":"IFERROR(VLOOKUP(B215,DKC_Price!A:H,3,FALSE),\"\")","v":""}]
[null,null,{"$f":"IFERROR(VLOOKUP(B216,DKC_Price!A:H,2,FALSE),\"\")","v":""},null,null,null,{"$f":"IFERROR(VLOOKUP(B216,DKC_Price!A:H,3,FALSE),\"\")","v":""}]
[null,null,{"$f":"IFERROR(VLOOKUP(B217,DKC_Price!A:H,2,FALSE),\"\")","v":""},null,null,null,{"$f":"IFERROR(VLOOKUP(B217,DKC_Price!A:H,3,FALSE),\"\")","v":""}]
[null,null,{"$f":"IFERROR(VLOOKUP(B218,DKC_Price!A:H,2,FALSE),\"\")","v":""},null,null,null,{"$f":"IFERROR(VLOOKUP(B218,DKC_Price!A:H,3,FALSE),\"\")","v":""}]
[null,null,{"$f":"IFERROR(VLOOKUP(B219,DKC_Price!A:H,2,FALSE),\"\")","v":""},null,null,null,{"$f":"IFERROR(VLOOKUP(B219,DKC_Price!A:H,3,FALSE),\"\")","v":""}]
[null,null,{"$f":"IFERROR(VLOOKUP(B220,DKC_Price!A:H,2,FALSE),\"\")","v":""},null,null,null,{"$f":"IFERROR(VLOOKUP(B220,DKC_Price!A:H,3,FALSE),\"\")","v":""}]
[null,null,{"$f":"IFERROR(VLOOKUP(B221,DKC_Price!A:H,2,FALSE),\"\")","v":""},null,null,null,{"$f":"IFERROR(VLOOKUP(B221,DKC_Price!A:H,3,FALSE),\"\")","v":""}]
[null,null,{"$f":"IFERROR(VLOOKUP(B222,DKC_Price!A:H,2,FALSE),\"\")","v":""},null,null,null,{"$f":"IFERROR(VLOOKUP(B222,DKC_Price!A:H,3,FALSE),\"\")","v":""}]
[null,null,{"$f":"IFERROR(VLOOKUP(B223,DKC_Price!A:H,2,FALSE),\"\")","v":""},null,null,null,{"$f":"IFERROR(VLOOKUP(B223,DKC_Price!A:H,3,FALSE),\"\")","v":""}]
[null,null,{"$f":"IFERROR(VLOOKUP(B224,DKC_Price!A:H,2,FALSE),\"\")","v":""},null,null,null,{"$f":"IFERROR(VLOOKUP(B224,DKC_Price!A:H,3,FALSE),\"\")","v":""}]
[null,null,{"$f":"IFERROR(VLOOKUP(B225,DKC_Price!A:H,2,FALSE),\"\")","v":""},null,null,null,{"$f":"IFERROR(VLOOKUP(B225,DKC_Price!A:H,3,FALSE),\"\")","v":""}]
[null,null,{"$f":"IFERROR(VLOOKUP(B226,DKC_Price!A:H,2,FALSE),\"\")","v":""},null,null,null,{"$f":"IFERROR(VLOOKUP(B226,DKC_Price!A:H,3,FALSE),\"\")","v":""}]
[null,null,{"$f":"IFERROR(VLOOKUP(B227,DKC_Price!A:H,2,FALSE),\"\")","v":""},null,null,null,{"$f":"IFERROR(VLOOKUP(B227,DKC_Price!A:H,3,FALSE),\"\")","v":""}]
[null,null,{"$f":"IFERROR(VLOOKUP(B228,DKC_Price!A:H,2,FALSE),\"\")","v":""},null,null,null,{"$f":"IFERROR(VLOOKUP(B228,DKC_Price!A:H,3,FALSE),\"\")","v":""}]
[null,null,{"$f":"IFERROR(VLOOKUP(B229,DKC_Price!A:H,2,FALSE),\"\")","v":""},null,null,null,{"$f":"IFERROR(VLOOKUP(B229,DKC_Price!A:H,3,FALSE),\"\")","v":""}]
[null,null,{"$f":"IFERROR(VLOOKUP(B230,DKC_Price!A:H,2,FALSE),\"\")","v":""},null,null,null,{"$f":"IFERROR(VLOOKUP(B230,DKC_Price!A:H,3,FALSE),\"\")","v":""}]
[null,null,{"$f":"IFERROR(VLOOKUP(B231,DKC_Price!A:H,2,FALSE),\"\")","v":""},null,null,null,{"$f":"IFERROR(VLOOKUP(B231,DKC_Price!A:H,3,FALSE),\"\")","v":""}]
[null,null,{"$f":"IFERROR(VLOOKUP(B232,DKC_Price!A:H,2,FALSE),\"\")","v":""},null,null,null,{"$f":"IFERROR(VLOOKUP(B232,DKC_Price!A:H,3,FALSE),\"\")","v":""}]
[null,null,{"$f":"IFERROR(VLOOKUP(B233,DKC_Price!A:H,2,FALSE),\"\")","v":""},null,null,null,{"$f":"IFERROR(VLOOKUP(B233,DKC_Price!A:H,3,FALSE),\"\")","v":""}]
[null,null,{"$f":"IFERROR(VLOOKUP(B234,DKC_Price!A:H,2,FALSE),\"\")","v":""},null,null,null,{"$f":"IFERROR(VLOOKUP(B234,DKC_Price!A:H,3,FALSE),\"\")","v":""}]
[null,null,{"$f":"IFERROR(VLOOKUP(B235,DKC_Price!A:H,2,FALSE),\"\")","v":""},null,null,null,{"$f":"IFERROR(VLOOKUP(B235,DKC_Price!A:H,3,FALSE),\"\")","v":""}]
[null,null,{"$f":"IFERROR(VLOOKUP(B236,DKC_Price!A:H,2,FALSE),\"\")","v":""},null,null,null,{"$f":"IFERROR(VLOOKUP(B236,DKC_Price!A:H,3,FALSE),\"\")","v":""}]
[null,null,{"$f":"IFERROR(VLOOKUP(B237,DKC_Price!A:H,2,FALSE),\"\")","v":""},null,null,null,{"$f":"IFERROR(VLOOKUP(B237,DKC_Price!A:H,3,FALSE),\"\")","v":""}]
[null,null,{"$f":"IFERROR(VLOOKUP(B238,DKC_Price!A:H,2,FALSE),\"\")","v":""},null,null,null,{"$f":"IFERROR(VLOOKUP(B238,DKC_Price!A:H,3,FALSE),\"\")","v":""}]
[null,null,{"$f":"IFERROR(VLOOKUP(B239,DKC_Price!A:H,2,FALSE),\"\")","v":""},null,null,null,{"$f":"IFERROR(VLOOKUP(B239,DKC_Price!A:H,3,FALSE),\"\")","v":""}]
[null,null,{"$f":"IFERROR(VLOOKUP(B240,DKC_Price!A:H,2,FALSE),\"\")","v":""},null,null,null,{"$f":"IFERROR(VLOOKUP(B240,DKC_Price!A:H,3,FALSE),\"\")","v":""}]
[null,null,{"$f":"IFERROR(VLOOKUP(B241,DKC_Price!A:H,2,FALSE),\"\")","v":""},null,null,null,{"$f":"IFERROR(VLOOKUP(B241,DKC_Price!A:H,3,FALSE),\"\")","v":""}]
[null,null,{"$f":"IFERROR(VLOOKUP(B242,DKC_Price!A:H,2,FALSE),\"\")","v":""},null,null,null,{"$f":"IFERROR(VLOOKUP(B242,DKC_Price!A:H,3,FALSE),\"\")","v":""}]
[null,null,{"$f":"IFERROR(VLOOKUP(B243,DKC_Price!A:H,2,FALSE),\"\")","v":""},null,null,null,{"$f":"IFERROR(VLOOKUP(B243,DKC_Price!A:H,3,FALSE),\"\")","v":""}]
[null,null,{"$f":"IFERROR(VLOOKUP(B244,DKC_Price!A:H,2,FALSE),\"\")","v":""},null,null,null,{"$f":"IFERROR(VLOOKUP(B244,DKC_Price!A:H,3,FALSE),\"\")","v":""}]
[null,null,{"$f":"IFERROR(VLOOKUP(B245,DKC_Price!A:H,2,FALSE),\"\")","v":""},null,null,null,{"$f":"IFERROR(VLOOKUP(B245,DKC_Price!A:H,3,FALSE),\"\")","v":""}]
[null,null,{"$f":"IFERROR(VLOOKUP(B246,DKC_Price!A:H,2,FALSE),\"\")","v":""},null,null,null,{"$f":"IFERROR(VLOOKUP(B246,DKC_Price!A:H,3,FALSE),\"\")","v":""}]
[null,null,{"$f":"IFERROR(VLOOKUP(B247,DKC_Price!A:H,2,FALSE),\"\")","v":""},null,null,null,{"$f":"IFERROR(VLOOKUP(B247,DKC_Price!A:H,3,FALSE),\"\")","v":""}]
[null,null,{"$f":"IFERROR(VLOOKUP(B248,DKC_Price!A:H,2,FALSE),\"\")","v":""},null,null,null,{"$f":"IFERROR(VLOOKUP(B248,DKC_Price!A:H,3,FALSE),\"\")","v":""}]
[null,null,{"$f":"IFERROR(VLOOKUP(B249,DKC_Price!A:H,2,FALSE),\"\")","v":""},null,null,null,{"$f":"IFERROR(VLOOKUP(B249,DKC_Price!A:H,3,FALSE),\"\")","v":""}]
[null,null,{"$f":"IFERROR(VLOOKUP(B250,DKC_Price!A:H,2,FALSE),\"\")","v":""},null,null,null,{"$f":"IFERROR(VLOOKUP(B250,DKC_Price!A:H,3,FALSE),\"\")","v":""}]
[null,null,{"$f":"IFERROR(VLOOKUP(B251,DKC_Price!A:H,2,FALSE),\"\")","v":""},null,null,null,{"$f":"IFERROR(VLOOKUP(B251,DKC_Price!A:H,3,FALSE),\"\")","v":""}]
[null,null,{"$f":"IFERROR(VLOOKUP(B252,DKC_Price!A:H,2,FALSE),\"\")","v":""},null,null,null,{"$f":"IFERROR(VLOOKUP(B252,DKC_Price!A:H,3,FALSE),\"\")","v":""}]
[null,null,{"$f":"IFERROR(VLOOKUP(B253,DKC_Price!A:H,2,FALSE),\"\")","v":""},null,null,null,{"$f":"IFERROR(VLOOKUP(B253,DKC_Price!A:H,3,FALSE),\"\")","v":""}]
[null,null,{"$f":"IFERROR(VLOOKUP(B254,DKC_Price!A:H,2,FALSE),\"\")","v":""},null,null,null,{"$f":"IFERROR(VLOOKUP(B254,DKC_Price!A:H,3,FALSE),\"\")","v":""}]
[null,null,{"$f":"IFERROR(VLOOKUP(B255,DKC_Price!A:H,2,FALSE),\"\")","v":""},null,null,null,{"$f":"IFERROR(VLOOKUP(B255,DKC_Price!A:H,3,FALSE),\"\")","v":""}]
[null,null,{"$f":"IFERROR(VLOOKUP(B256,DKC_Price!A:H,2,FALSE),\"\")","v":""},null,null,null,{"$f":"IFERROR(VLOOKUP(B256,DKC_Price!A:H,3,FALSE),\"\")","v":""}]
[null,null,{"$f":"IFERROR(VLOOKUP(B257,DKC_Price!A:H,2,FALSE),\"\")","v":""},null,null,null,{"$f":"IFERROR(VLOOKUP(B257,DKC_Price!A:H,3,FALSE),\"\")","v":""}]
[null,null,{"$f":"IFERROR(VLOOKUP(B258,DKC_Price!A:H,2,FALSE),\"\")","v":""},null,null,null,{"$f":"IFERROR(VLOOKUP(B258,DKC_Price!A:H,3,FALSE),\"\")","v":""}]
[null,null,{"$f":"IFERROR(VLOOKUP(B259,DKC_Price!A:H,2,FALSE),\"\")","v":""},null,null,null,{"$f":"IFERROR(VLOOKUP(B259,DKC_Price!A:H,3,FALSE),\"\")","v":""}]
[null,null,{"$f":"IFERROR(VLOOKUP(B260,DKC_Price!A:H,2,FALSE),\"\")","v":""},null,null,null,{"$f":"IFERROR(VLOOKUP(B260,DKC_Price!A:H,3,FALSE),\"\")","v":""}]
[null,null,{"$f":"IFERROR(VLOOKUP(B261,DKC_Price!A:H,2,FALSE),\"\")","v":""},null,null,null,{"$f":"IFERROR(VLOOKUP(B261,DKC_Price!A:H,3,FALSE),\"\")","v":""}]
[null,null,{"$f":"IFERROR(VLOOKUP(B262,DKC_Price!A:H,2,FALSE),\"\")","v":""},null,null,null,{"$f":"IFERROR(VLOOKUP(B262,DKC_Price!A:H,3,FALSE),\"\")","v":""}]
[null,null,{"$f":"IFERROR(VLOOKUP(B263,DKC_Price!A:H,2,FALSE),\"\")","v":""},null,null,null,{"$f":"IFERROR(VLOOKUP(B263,DKC_Price!A:H,3,FALSE),\"\")","v":""}]
[null,null,{"$f":"IFERROR(VLOOKUP(B264,DKC_Price!A:H,2,FALSE),\"\")","v":""},null,null,null,{"$f":"IFERROR(VLOOKUP(B264,DKC_Price!A:H,3,FALSE),\"\")","v":""}]
[null,null,{"$f":"IFERROR(VLOOKUP(B265,DKC_Price!A:H,2,FALSE),\"\")","v":""},null,null,null,{"$f":"IFERROR(VLOOKUP(B265,DKC_Price!A:H,3,FALSE),\"\")","v":""}]
[null,null,{"$f":"IFERROR(VLOOKUP(B266,DKC_Price!A:H,2,FALSE),\"\")","v":""},null,null,null,{"$f":"IFERROR(VLOOKUP(B266,DKC_Price!A:H,3,FALSE),\"\")","v":""}]
[null,null,{"$f":"IFERROR(VLOOKUP(B267,DKC_Price!A:H,2,FALSE),\"\")","v":""},null,null,null,{"$f":"IFERROR(VLOOKUP(B267,DKC_Price!A:H,3,FALSE),\"\")","v":""}]
[null,null,{"$f":"IFERROR(VLOOKUP(B268,DKC_Price!A:H,2,FALSE),\"\")","v":""},null,null,null,{"$f":"IFERROR(VLOOKUP(B268,DKC_Price!A:H,3,FALSE),\"\")","v":""}]
[null,null,{"$f":"IFERROR(VLOOKUP(B269,DKC_Price!A:H,2,FALSE),\"\")","v":""},null,null,null,{"$f":"IFERROR(VLOOKUP(B269,DKC_Price!A:H,3,FALSE),\"\")","v":""}]
[null,null,{"$f":"IFERROR(VLOOKUP(B270,DKC_Price!A:H,2,FALSE),\"\")","v":""},null,null,null,{"$f":"IFERROR(VLOOKUP(B270,DKC_Price!A:H,3,FALSE),\"\")","v":""}]
[null,null,{"$f":"IFERROR(VLOOKUP(B271,DKC_Price!A:H,2,FALSE),\"\")","v":""},null,null,null,{"$f":"IFERROR(VLOOKUP(B271,DKC_Price!A:H,3,FALSE),\"\")","v":""}]
[null,null,{"$f":"IFERROR(VLOOKUP(B272,DKC_Price!A:H,2,FALSE),\"\")","v":""},null,null,null,{"$f":"IFERROR(VLOOKUP(B272,DKC_Price!A:H,3,FALSE),\"\")","v":""}]
[null,null,{"$f":"IFERROR(VLOOKUP(B273,DKC_Price!A:H,2,FALSE),\"\")","v":""},null,null,null,{"$f":"IFERROR(VLOOKUP(B273,DKC_Price!A:H,3,FALSE),\"\")","v":""}]
[null,null,{"$f":"IFERROR(VLOOKUP(B274,DKC_Price!A:H,2,FALSE),\"\")","v":""},null,null,null,{"$f":"IFERROR(VLOOKUP(B274,DKC_Price!A:H,3,FALSE),\"\")","v":""}]
[null,null,{"$f":"IFERROR(VLOOKUP(B275,DKC_Price!A:H,2,FALSE),\"\")","v":""},null,null,null,{"$f":"IFERROR(VLOOKUP(B275,DKC_Price!A:H,3,FALSE),\"\")","v":""}]
[null,null,{"$f":"IFERROR(VLOOKUP(B276,DKC_Price!A:H,2,FALSE),\"\")","v":""},null,null,null,{"$f":"IFERROR(VLOOKUP(B276,DKC_Price!A:H,3,FALSE),\"\")","v":""}]
[null,null,{"$f":"IFERROR(VLOOKUP(B277,DKC_Price!A:H,2,FALSE),\"\")","v":""},null,null,null,{"$f":"IFERROR(VLOOKUP(B277,DKC_Price!A:H,3,FALSE),\"\")","v":""}]
[null,null,{"$f":"IFERROR(VLOOKUP(B278,DKC_Price!A:H,2,FALSE),\"\")","v":""},null,null,null,{"$f":"IFERROR(VLOOKUP(B278,DKC_Price!A:H,3,FALSE),\"\")","v":""}]
[null,null,{"$f":"IFERROR(VLOOKUP(B279,DKC_Price!A:H,2,FALSE),\"\")","v":""},null,null,null,{"$f":"IFERROR(VLOOKUP(B279,DKC_Price!A:H,3,FALSE),\"\")","v":""}]
[null,null,{"$f":"IFERROR(VLOOKUP(B280,DKC_Price!A:H,2,FALSE),\"\")","v":""},null,null,null,{"$f":"IFERROR(VLOOKUP(B280,DKC_Price!A:H,3,FALSE),\"\")","v":""}]
[null,null,{"$f":"IFERROR(VLOOKUP(B281,DKC_Price!A:H,2,FALSE),\"\")","v":""},null,null,null,{"$f":"IFERROR(VLOOKUP(B281,DKC_Price!A:H,3,FALSE),\"\")","v":""}]
[null,null,{"$f":"IFERROR(VLOOKUP(B282,DKC_Price!A:H,2,FALSE),\"\")","v":""},null,null,null,{"$f":"IFERROR(VLOOKUP(B282,DKC_Price!A:H,3,FALSE),\"\")","v":""}]
[null,null,{"$f":"IFERROR(VLOOKUP(B283,DKC_Price!A:H,2,FALSE),\"\")","v":""},null,null,null,{"$f":"IFERROR(VLOOKUP(B283,DKC_Price!A:H,3,FALSE),\"\")","v":""}]
[null,null,{"$f":"IFERROR(VLOOKUP(B284,DKC_Price!A:H,2,FALSE),\"\")","v":""},null,null,null,{"$f":"IFERROR(VLOOKUP(B284,DKC_Price!A:H,3,FALSE),\"\")","v":""}]
[null,null,{"$f":"IFERROR(VLOOKUP(B285,DKC_Price!A:H,2,FALSE),\"\")","v":""},null,null,null,{"$f":"IFERROR(VLOOKUP(B285,DKC_Price!A:H,3,FALSE),\"\")","v":""}]
[null,null,{"$f":"IFERROR(VLOOKUP(B286,DKC_Price!A:H,2,FALSE),\"\")","v":""},null,null,null,{"$f":"IFERROR(VLOOKUP(B286,DKC_Price!A:H,3,FALSE),\"\")","v":""}]
[null,null,{"$f":"IFERROR(VLOOKUP(B287,DKC_Price!A:H,2,FALSE),\"\")","v":""},null,null,null,{"$f":"IFERROR(VLOOKUP(B287,DKC_Price!A:H,3,FALSE),\"\")","v":""}]
[null,null,{"$f":"IFERROR(VLOOKUP(B288,DKC_Price!A:H,2,FALSE),\"\")","v":""},null,null,null,{"$f":"IFERROR(VLOOKUP(B288,DKC_Price!A:H,3,FALSE),\"\")","v":""}]
[null,null,{"$f":"IFERROR(VLOOKUP(B289,DKC_Price!A:H,2,FALSE),\"\")","v":""},null,null,null,{"$f":"IFERROR(VLOOKUP(B289,DKC_Price!A:H,3,FALSE),\"\")","v":""}]
[null,null,{"$f":"IFERROR(VLOOKUP(B290,DKC_Price!A:H,2,FALSE),\"\")","v":""},null,null,null,{"$f":"IFERROR(VLOOKUP(B290,DKC_Price!A:H,3,FALSE),\"\")","v":""}]
[null,null,{"$f":"IFERROR(VLOOKUP(B291,DKC_Price!A:H,2,FALSE),\"\")","v":""},null,null,null,{"$f":"IFERROR(VLOOKUP(B291,DKC_Price!A:H,3,FALSE),\"\")","v":""}]
[null,null,{"$f":"IFERROR(VLOOKUP(B292,DKC_Price!A:H,2,FALSE),\"\")","v":""},null,null,null,{"$f":"IFERROR(VLOOKUP(B292,DKC_Price!A:H,3,FALSE),\"\")","v":""}]
[null,null,{"$f":"IFERROR(VLOOKUP(B293,DKC_Price!A:H,2,FALSE),\"\")","v":""},null,null,null,{"$f":"IFERROR(VLOOKUP(B293,DKC_Price!A:H,3,FALSE),\"\")","v":""}]
[null,null,{"$f":"IFERROR(VLOOKUP(B294,DKC_Price!A:H,2,FALSE),\"\")","v":""},null,null,null,{"$f":"IFERROR(VLOOKUP(B294,DKC_Price!A:H,3,FALSE),\"\")","v":""}]
[null,null,{"$f":"IFERROR(VLOOKUP(B295,DKC_Price!A:H,2,FALSE),\"\")","v":""},null,null,null,{"$f":"IFERROR(VLOOKUP(B295,DKC_Price!A:H,3,FALSE),\"\")","v":""}]
[null,null,{"$f":"IFERROR(VLOOKUP(B296,DKC_Price!A:H,2,FALSE),\"\")","v":""},null,null,null,{"$f":"IFERROR(VLOOKUP(B296,DKC_Price!A:H,3,FALSE),\"\")","v":""}]
[null,null,{"$f":"IFERROR(VLOOKUP(B297,DKC_Price!A:H,2,FALSE),\"\")","v":""},null,null,null,{"$f":"IFERROR(VLOOKUP(B297,DKC_Price!A:H,3,FALSE),\"\")","v":""}]
[null,null,{"$f":"IFERROR(VLOOKUP(B298,DKC_Price!A:H,2,FALSE),\"\")","v":""},null,null,null,{"$f":"IFERROR(VLOOKUP(B298,DKC_Price!A:H,3,FALSE),\"\")","v":""}]
[null,null,{"$f":"IFERROR(VLOOKUP(B299,DKC_Price!A:H,2,FALSE),\"\")","v":""},null,null,null,{"$f":"IFERROR(VLOOKUP(B299,DKC_Price!A:H,3,FALSE),\"\")","v":""}]
[null,null,{"$f":"IFERROR(VLOOKUP(B300,DKC_Price!A:H,2,FALSE),\"\")","v":""},null,null,null,{"$f":"IFERROR(VLOOKUP(B300,DKC_Price!A:H,3,FALSE),\"\")","v":""}]
[null,null,{"$f":"IFERROR(VLOOKUP(B301,DKC_Price!A:H,2,FALSE),\"\")","v":""},null,null,null,{"$f":"IFERROR(VLOOKUP(B301,DKC_Price!A:H,3,FALSE),\"\")","v":""}]
[null,null,{"$f":"IFERROR(VLOOKUP(B302,DKC_Price!A:H,2,FALSE),\"\")","v":""},null,null,null,{"$f":"IFERROR(VLOOKUP(B302,DKC_Price!A:H,3,FALSE),\"\")","v":""}]
[null,null,{"$f":"IFERROR(VLOOKUP(B303,DKC_Price!A:H,2,FALSE),\"\")","v":""},null,null,null,{"$f":"IFERROR(VLOOKUP(B303,DKC_Price!A:H,3,FALSE),\"\")","v":""}]
[null,null,{"$f":"IFERROR(VLOOKUP(B304,DKC_Price!A:H,2,FALSE),\"\")","v":""},null,null,null,{"$f":"IFERROR(VLOOKUP(B304,DKC_Price!A:H,3,FALSE),\"\")","v":""}]
[null,null,{"$f":"IFERROR(VLOOKUP(B305,DKC_Price!A:H,2,FALSE),\"\")","v":""},null,null,null,{"$f":"IFERROR(VLOOKUP(B305,DKC_Price!A:H,3,FALSE),\"\")","v":""}]
[null,null,{"$f":"IFERROR(VLOOKUP(B306,DKC_Price!A:H,2,FALSE),\"\")","v":""},null,null,null,{"$f":"IFERROR(VLOOKUP(B306,DKC_Price!A:H,3,FALSE),\"\")","v":""}]
[null,null,{"$f":"IFERROR(VLOOKUP(B307,DKC_Price!A:H,2,FALSE),\"\")","v":""},null,null,null,{"$f":"IFERROR(VLOOKUP(B307,DKC_Price!A:H,3,FALSE),\"\")","v":""}]
[null,null,{"$f":"IFERROR(VLOOKUP(B308,DKC_Price!A:H,2,FALSE),\"\")","v":""},null,null,null,{"$f":"IFERROR(VLOOKUP(B308,DKC_Price!A:H,3,FALSE),\"\")","v":""}]
[null,null,{"$f":"IFERROR(VLOOKUP(B309,DKC_Price!A:H,2,FALSE),\"\")","v":""},null,null,null,{"$f":"IFERROR(VLOOKUP(B309,DKC_Price!A:H,3,FALSE),\"\")","v":""}]
[null,null,{"$f":"IFERROR(VLOOKUP(B310,DKC_Price!A:H,2,FALSE),\"\")","v":""},null,null,null,{"$f":"IFERROR(VLOOKUP(B310,DKC_Price!A:H,3,FALSE),\"\")","v":""}]
[null,null,{"$f":"IFERROR(VLOOKUP(B311,DKC_Price!A:H,2,FALSE),\"\")","v":""},null,null,null,{"$f":"IFERROR(VLOOKUP(B311,DKC_Price!A:H,3,FALSE),\"\")","v":""}]
[null,null,{"$f":"IFERROR(VLOOKUP(B312,DKC_Price!A:H,2,FALSE),\"\")","v":""},null,null,null,{"$f":"IFERROR(VLOOKUP(B312,DKC_Price!A:H,3,FALSE),\"\")","v":""}]
[null,null,{"$f":"IFERROR(VLOOKUP(B313,DKC_Price!A:H,2,FALSE),\"\")","v":""},null,null,null,{"$f":"IFERROR(VLOOKUP(B313,DKC_Price!A:H,3,FALSE),\"\")","v":""}]
[null,null,{"$f":"IFERROR(VLOOKUP(B314,DKC_Price!A:H,2,FALSE),\"\")","v":""},null,null,null,{"$f":"IFERROR(VLOOKUP(B314,DKC_Price!A:H,3,FALSE),\"\")","v":""}]
[null,null,{"$f":"IFERROR(VLOOKUP(B315,DKC_Price!A:H,2,FALSE),\"\")","v":""},null,null,null,{"$f":"IFERROR(VLOOKUP(B315,DKC_Price!A:H,3,FALSE),\"\")","v":""}]
[null,null,{"$f":"IFERROR(VLOOKUP(B316,DKC_Price!A:H,2,FALSE),\"\")","v":""},null,null,null,{"$f":"IFERROR(VLOOKUP(B316,DKC_Price!A:H,3,FALSE),\"\")","v":""}]
[null,null,{"$f":"IFERROR(VLOOKUP(B317,DKC_Price!A:H,2,FALSE),\"\")","v":""},null,null,null,{"$f":"IFERROR(VLOOKUP(B317,DKC_Price!A:H,3,FALSE),\"\")","v":""}]
[null,null,{"$f":"IFERROR(VLOOKUP(B318,DKC_Price!A:H,2,FALSE),\"\")","v":""},null,null,null,{"$f":"IFERROR(VLOOKUP(B318,DKC_Price!A:H,3,FALSE),\"\")","v":""}]
[null,null,{"$f":"IFERROR(VLOOKUP(B319,DKC_Price!A:H,2,FALSE),\"\")","v":""},null,null,null,{"$f":"IFERROR(VLOOKUP(B319,DKC_Price!A:H,3,FALSE),\"\")","v":""}]
[null,null,{"$f":"IFERROR(VLOOKUP(B320,DKC_Price!A:H,2,FALSE),\"\")","v":""},null,null,null,{"$f":"IFERROR(VLOOKUP(B320,DKC_Price!A:H,3,FALSE),\"\")","v":""}]
[null,null,{"$f":"IFERROR(VLOOKUP(B321,DKC_Price!A:H,2,FALSE),\"\")","v":""},null,null,null,{"$f":"IFERROR(VLOOKUP(B321,DKC_Price!A:H,3,FALSE),\"\")","v":""}]
[null,null,{"$f":"IFERROR(VLOOKUP(B322,DKC_Price!A:H,2,FALSE),\"\")","v":""},null,null,null,{"$f":"IFERROR(VLOOKUP(B322,DKC_Price!A:H,3,FALSE),\"\")","v":""}]
[null,null,{"$f":"IFERROR(VLOOKUP(B323,DKC_Price!A:H,2,FALSE),\"\")","v":""},null,null,null,{"$f":"IFERROR(VLOOKUP(B323,DKC_Price!A:H,3,FALSE),\"\")","v":""}]
[null,null,{"$f":"IFERROR(VLOOKUP(B324,DKC_Price!A:H,2,FALSE),\"\")","v":""},null,null,null,{"$f":"IFERROR(VLOOKUP(B324,DKC_Price!A:H,3,FALSE),\"\")","v":""}]
[null,null,{"$f":"IFERROR(VLOOKUP(B325,DKC_Price!A:H,2,FALSE),\"\")","v":""},null,null,null,{"$f":"IFERROR(VLOOKUP(B325,DKC_Price!A:H,3,FALSE),\"\")","v":""}]
[null,null,{"$f":"IFERROR(VLOOKUP(B326,DKC_Price!A:H,2,FALSE),\"\")","v":""},null,null,null,{"$f":"IFERROR(VLOOKUP(B326,DKC_Price!A:H,3,FALSE),\"\")","v":""}]
[null,null,{"$f":"IFERROR(VLOOKUP(B327,DKC_Price!A:H,2,FALSE),\"\")","v":""},null,null,null,{"$f":"IFERROR(VLOOKUP(B327,DKC_Price!A:H,3,FALSE),\"\")","v":""}]
[null,null,{"$f":"IFERROR(VLOOKUP(B328,DKC_Price!A:H,2,FALSE),\"\")","v":""},null,null,null,{"$f":"IFERROR(VLOOKUP(B328,DKC_Price!A:H,3,FALSE),\"\")","v":""}]
[null,null,{"$f":"IFERROR(VLOOKUP(B329,DKC_Price!A:H,2,FALSE),\"\")","v":""},null,null,null,{"$f":"IFERROR(VLOOKUP(B329,DKC_Price!A:H,3,FALSE),\"\")","v":""}]
[null,null,{"$f":"IFERROR(VLOOKUP(B330,DKC_Price!A:H,2,FALSE),\"\")","v":""},null,null,null,{"$f":"IFERROR(VLOOKUP(B330,DKC_Price!A:H,3,FALSE),\"\")","v":""}]
[null,null,{"$f":"IFERROR(VLOOKUP(B331,DKC_Price!A:H,2,FALSE),\"\")","v":""},null,null,null,{"$f":"IFERROR(VLOOKUP(B331,DKC_Price!A:H,3,FALSE),\"\")","v":""}]
[null,null,{"$f":"IFERROR(VLOOKUP(B332,DKC_Price!A:H,2,FALSE),\"\")","v":""},null,null,null,{"$f":"IFERROR(VLOOKUP(B332,DKC_Price!A:H,3,FALSE),\"\")","v":""}]
[null,null,{"$f":"IFERROR(VLOOKUP(B333,DKC_Price!A:H,2,FALSE),\"\")","v":""},null,null,null,{"$f":"IFERROR(VLOOKUP(B333,DKC_Price!A:H,3,FALSE),\"\")","v":""}]
[null,null,{"$f":"IFERROR(VLOOKUP(B334,DKC_Price!A:H,2,FALSE),\"\")","v":""},null,null,null,{"$f":"IFERROR(VLOOKUP(B334,DKC_Price!A:H,3,FALSE),\"\")","v":""}]
[null,null,{"$f":"IFERROR(VLOOKUP(B335,DKC_Price!A:H,2,FALSE),\"\")","v":""},null,null,null,{"$f":"IFERROR(VLOOKUP(B335,DKC_Price!A:H,3,FALSE),\"\")","v":""}]
[null,null,{"$f":"IFERROR(VLOOKUP(B336,DKC_Price!A:H,2,FALSE),\"\")","v":""},null,null,null,{"$f":"IFERROR(VLOOKUP(B336,DKC_Price!A:H,3,FALSE),\"\")","v":""}]
[null,null,{"$f":"IFERROR(VLOOKUP(B337,DKC_Price!A:H,2,FALSE),\"\")","v":""},null,null,null,{"$f":"IFERROR(VLOOKUP(B337,DKC_Price!A:H,3,FALSE),\"\")","v":""}]
[null,null,{"$f":"IFERROR(VLOOKUP(B338,DKC_Price!A:H,2,FALSE),\"\")","v":""},null,null,null,{"$f":"IFERROR(VLOOKUP(B338,DKC_Price!A:H,3,FALSE),\"\")","v":""}]
[null,null,{"$f":"IFERROR(VLOOKUP(B339,DKC_Price!A:H,2,FALSE),\"\")","v":""},null,null,null,{"$f":"IFERROR(VLOOKUP(B339,DKC_Price!A:H,3,FALSE),\"\")","v":""}]
[null,null,{"$f":"IFERROR(VLOOKUP(B340,DKC_Price!A:H,2,FALSE),\"\")","v":""},null,null,null,{"$f":"IFERROR(VLOOKUP(B340,DKC_Price!A:H,3,FALSE),\"\")","v":""}]
[null,null,{"$f":"IFERROR(VLOOKUP(B341,DKC_Price!A:H,2,FALSE),\"\")","v":""},null,null,null,{"$f":"IFERROR(VLOOKUP(B341,DKC_Price!A:H,3,FALSE),\"\")","v":""}]
[null,null,{"$f":"IFERROR(VLOOKUP(B342,DKC_Price!A:H,2,FALSE),\"\")","v":""},null,null,null,{"$f":"IFERROR(VLOOKUP(B342,DKC_Price!A:H,3,FALSE),\"\")","v":""}]
[null,null,{"$f":"IFERROR(VLOOKUP(B343,DKC_Price!A:H,2,FALSE),\"\")","v":""},null,null,null,{"$f":"IFERROR(VLOOKUP(B343,DKC_Price!A:H,3,FALSE),\"\")","v":""}]
[null,null,{"$f":"IFERROR(VLOOKUP(B344,DKC_Price!A:H,2,FALSE),\"\")","v":""},null,null,null,{"$f":"IFERROR(VLOOKUP(B344,DKC_Price!A:H,3,FALSE),\"\")","v":""}]
[null,null,{"$f":"IFERROR(VLOOKUP(B345,DKC_Price!A:H,2,FALSE),\"\")","v":""},null,null,null,{"$f":"IFERROR(VLOOKUP(B345,DKC_Price!A:H,3,FALSE),\"\")","v":""}]
[null,null,{"$f":"IFERROR(VLOOKUP(B346,DKC_Price!A:H,2,FALSE),\"\")","v":""},null,null,null,{"$f":"IFERROR(VLOOKUP(B346,DKC_Price!A:H,3,FALSE),\"\")","v":""}]
[null,null,{"$f":"IFERROR(VLOOKUP(B347,DKC_Price!A:H,2,FALSE),\"\")","v":""},null,null,null,{"$f":"IFERROR(VLOOKUP(B347,DKC_Price!A:H,3,FALSE),\"\")","v":""}]
[null,null,{"$f":"IFERROR(VLOOKUP(B348,DKC_Price!A:H,2,FALSE),\"\")","v":""},null,null,null,{"$f":"IFERROR(VLOOKUP(B348,DKC_Price!A:H,3,FALSE),\"\")","v":""}]
[null,null,{"$f":"IFERROR(VLOOKUP(B349,DKC_Price!A:H,2,FALSE),\"\")","v":""},null,null,null,{"$f":"IFERROR(VLOOKUP(B349,DKC_Price!A:H,3,FALSE),\"\")","v":""}]
[null,null,{"$f":"IFERROR(VLOOKUP(B350,DKC_Price!A:H,2,FALSE),\"\")","v":""},null,null,null,{"$f":"IFERROR(VLOOKUP(B350,DKC_Price!A:H,3,FALSE),\"\")","v":""}]
[null,null,{"$f":"IFERROR(VLOOKUP(B351,DKC_Price!A:H,2,FALSE),\"\")","v":""},null,null,null,{"$f":"IFERROR(VLOOKUP(B351,DKC_Price!A:H,3,FALSE),\"\")","v":""}]
[null,null,{"$f":"IFERROR(VLOOKUP(B352,DKC_Price!A:H,2,FALSE),\"\")","v":""},null,null,null,{"$f":"IFERROR(VLOOKUP(B352,DKC_Price!A:H,3,FALSE),\"\")","v":""}]
[null,null,{"$f":"IFERROR(VLOOKUP(B353,DKC_Price!A:H,2,FALSE),\"\")","v":""},null,null,null,{"$f":"IFERROR(VLOOKUP(B353,DKC_Price!A:H,3,FALSE),\"\")","v":""}]
[null,null,{"$f":"IFERROR(VLOOKUP(B354,DKC_Price!A:H,2,FALSE),\"\")","v":""},null,null,null,{"$f":"IFERROR(VLOOKUP(B354,DKC_Price!A:H,3,FALSE),\"\")","v":""}]
[null,null,{"$f":"IFERROR(VLOOKUP(B355,DKC_Price!A:H,2,FALSE),\"\")","v":""},null,null,null,{"$f":"IFERROR(VLOOKUP(B355,DKC_Price!A:H,3,FALSE),\"\")","v":""}]
[null,null,{"$f":"IFERROR(VLOOKUP(B356,DKC_Price!A:H,2,FALSE),\"\")","v":""},null,null,null,{"$f":"IFERROR(VLOOKUP(B356,DKC_Price!A:H,3,FALSE),\"\")","v":""}]
[null,null,{"$f":"IFERROR(VLOOKUP(B357,DKC_Price!A:H,2,FALSE),\"\")","v":""},null,null,null,{"$f":"IFERROR(VLOOKUP(B357,DKC_Price!A:H,3,FALSE),\"\")","v":""}]
[null,null,{"$f":"IFERROR(VLOOKUP(B358,DKC_Price!A:H,2,FALSE),\"\")","v":""},null,null,null,{"$f":"IFERROR(VLOOKUP(B358,DKC_Price!A:H,3,FALSE),\"\")","v":""}]
[null,null,{"$f":"IFERROR(VLOOKUP(B359,DKC_Price!A:H,2,FALSE),\"\")","v":""},null,null,null,{"$f":"IFERROR(VLOOKUP(B359,DKC_Price!A:H,3,FALSE),\"\")","v":""}]
[null,null,{"$f":"IFERROR(VLOOKUP(B360,DKC_Price!A:H,2,FALSE),\"\")","v":""},null,null,null,{"$f":"IFERROR(VLOOKUP(B360,DKC_Price!A:H,3,FALSE),\"\")","v":""}]
[null,null,{"$f":"IFERROR(VLOOKUP(B361,DKC_Price!A:H,2,FALSE),\"\")","v":""},null,null,null,{"$f":"IFERROR(VLOOKUP(B361,DKC_Price!A:H,3,FALSE),\"\")","v":""}]
[null,null,{"$f":"IFERROR(VLOOKUP(B362,DKC_Price!A:H,2,FALSE),\"\")","v":""},null,null,null,{"$f":"IFERROR(VLOOKUP(B362,DKC_Price!A:H,3,FALSE),\"\")","v":""}]
[null,null,{"$f":"IFERROR(VLOOKUP(B363,DKC_Price!A:H,2,FALSE),\"\")","v":""},null,null,null,{"$f":"IFERROR(VLOOKUP(B363,DKC_Price!A:H,3,FALSE),\"\")","v":""}]
[null,null,{"$f":"IFERROR(VLOOKUP(B364,DKC_Price!A:H,2,FALSE),\"\")","v":""},null,null,null,{"$f":"IFERROR(VLOOKUP(B364,DKC_Price!A:H,3,FALSE),\"\")","v":""}]
[null,null,{"$f":"IFERROR(VLOOKUP(B365,DKC_Price!A:H,2,FALSE),\"\")","v":""},null,null,null,{"$f":"IFERROR(VLOOKUP(B365,DKC_Price!A:H,3,FALSE),\"\")","v":""}]
[null,null,{"$f":"IFERROR(VLOOKUP(B366,DKC_Price!A:H,2,FALSE),\"\")","v":""},null,null,null,{"$f":"IFERROR(VLOOKUP(B366,DKC_Price!A:H,3,FALSE),\"\")","v":""}]
[null,null,{"$f":"IFERROR(VLOOKUP(B367,DKC_Price!A:H,2,FALSE),\"\")","v":""},null,null,null,{"$f":"IFERROR(VLOOKUP(B367,DKC_Price!A:H,3,FALSE),\"\")","v":""}]
[null,null,{"$f":"IFERROR(VLOOKUP(B368,DKC_Price!A:H,2,FALSE),\"\")","v":""},null,null,null,{"$f":"IFERROR(VLOOKUP(B368,DKC_Price!A:H,3,FALSE),\"\")","v":""}]
[null,null,{"$f":"IFERROR(VLOOKUP(B369,DKC_Price!A:H,2,FALSE),\"\")","v":""},null,null,null,{"$f":"IFERROR(VLOOKUP(B369,DKC_Price!A:H,3,FALSE),\"\")","v":""}]
[null,null,{"$f":"IFERROR(VLOOKUP(B370,DKC_Price!A:H,2,FALSE),\"\")","v":""},null,null,null,{"$f":"IFERROR(VLOOKUP(B370,DKC_Price!A:H,3,FALSE),\"\")","v":""}]
[null,null,{"$f":"IFERROR(VLOOKUP(B371,DKC_Price!A:H,2,FALSE),\"\")","v":""},null,null,null,{"$f":"IFERROR(VLOOKUP(B371,DKC_Price!A:H,3,FALSE),\"\")","v":""}]
[null,null,{"$f":"IFERROR(VLOOKUP(B372,DKC_Price!A:H,2,FALSE),\"\")","v":""},null,null,null,{"$f":"IFERROR(VLOOKUP(B372,DKC_Price!A:H,3,FALSE),\"\")","v":""}]
[null,null,{"$f":"IFERROR(VLOOKUP(B373,DKC_Price!A:H,2,FALSE),\"\")","v":""},null,null,null,{"$f":"IFERROR(VLOOKUP(B373,DKC_Price!A:H,3,FALSE),\"\")","v":""}]
[null,null,{"$f":"IFERROR(VLOOKUP(B374,DKC_Price!A:H,2,FALSE),\"\")","v":""},null,null,null,{"$f":"IFERROR(VLOOKUP(B374,DKC_Price!A:H,3,FALSE),\"\")","v":""}]
[null,null,{"$f":"IFERROR(VLOOKUP(B375,DKC_Price!A:H,2,FALSE),\"\")","v":""},null,null,null,{"$f":"IFERROR(VLOOKUP(B375,DKC_Price!A:H,3,FALSE),\"\")","v":""}]
[null,null,{"$f":"IFERROR(VLOOKUP(B376,DKC_Price!A:H,2,FALSE),\"\")","v":""},null,null,null,{"$f":"IFERROR(VLOOKUP(B376,DKC_Price!A:H,3,FALSE),\"\")","v":""}]
[null,null,{"$f":"IFERROR(VLOOKUP(B377,DKC_Price!A:H,2,FALSE),\"\")","v":""},null,null,null,{"$f":"IFERROR(VLOOKUP(B377,DKC_Price!A:H,3,FALSE),\"\")","v":""}]
[null,null,{"$f":"IFERROR(VLOOKUP(B378,DKC_Price!A:H,2,FALSE),\"\")","v":""},null,null,null,{"$f":"IFERROR(VLOOKUP(B378,DKC_Price!A:H,3,FALSE),\"\")","v":""}]
[null,null,{"$f":"IFERROR(VLOOKUP(B379,DKC_Price!A:H,2,FALSE),\"\")","v":""},null,null,null,{"$f":"IFERROR(VLOOKUP(B379,DKC_Price!A:H,3,FALSE),\"\")","v":""}]
[null,null,{"$f":"IFERROR(VLOOKUP(B380,DKC_Price!A:H,2,FALSE),\"\")","v":""},null,null,null,{"$f":"IFERROR(VLOOKUP(B380,DKC_Price!A:H,3,FALSE),\"\")","v":""}]
[null,null,{"$f":"IFERROR(VLOOKUP(B381,DKC_Price!A:H,2,FALSE),\"\")","v":""},null,null,null,{"$f":"IFERROR(VLOOKUP(B381,DKC_Price!A:H,3,FALSE),\"\")","v":""}]
[null,null,{"$f":"IFERROR(VLOOKUP(B382,DKC_Price!A:H,2,FALSE),\"\")","v":""},null,null,null,{"$f":"IFERROR(VLOOKUP(B382,DKC_Price!A:H,3,FALSE),\"\")","v":""}]
[null,null,{"$f":"IFERROR(VLOOKUP(B383,DKC_Price!A:H,2,FALSE),\"\")","v":""},null,null,null,{"$f":"IFERROR(VLOOKUP(B383,DKC_Price!A:H,3,FALSE),\"\")","v":""}]
[null,null,{"$f":"IFERROR(VLOOKUP(B384,DKC_Price!A:H,2,FALSE),\"\")","v":""},null,null,null,{"$f":"IFERROR(VLOOKUP(B384,DKC_Price!A:H,3,FALSE),\"\")","v":""}]
[null,null,{"$f":"IFERROR(VLOOKUP(B385,DKC_Price!A:H,2,FALSE),\"\")","v":""},null,null,null,{"$f":"IFERROR(VLOOKUP(B385,DKC_Price!A:H,3,FALSE),\"\")","v":""}]
[null,null,{"$f":"IFERROR(VLOOKUP(B386,DKC_Price!A:H,2,FALSE),\"\")","v":""},null,null,null,{"$f":"IFERROR(VLOOKUP(B386,DKC_Price!A:H,3,FALSE),\"\")","v":""}]
[null,null,{"$f":"IFERROR(VLOOKUP(B387,DKC_Price!A:H,2,FALSE),\"\")","v":""},null,null,null,{"$f":"IFERROR(VLOOKUP(B387,DKC_Price!A:H,3,FALSE),\"\")","v":""}]
[null,null,{"$f":"IFERROR(VLOOKUP(B388,DKC_Price!A:H,2,FALSE),\"\")","v":""},null,null,null,{"$f":"IFERROR(VLOOKUP(B388,DKC_Price!A:H,3,FALSE),\"\")","v":""}]
[null,null,{"$f":"IFERROR(VLOOKUP(B389,DKC_Price!A:H,2,FALSE),\"\")","v":""},null,null,null,{"$f":"IFERROR(VLOOKUP(B389,DKC_Price!A:H,3,FALSE),\"\")","v":""}]
[null,null,{"$f":"IFERROR(VLOOKUP(B390,DKC_Price!A:H,2,FALSE),\"\")","v":""},null,null,null,{"$f":"IFERROR(VLOOKUP(B390,DKC_Price!A:H,3,FALSE),\"\")","v":""}]
[null,null,{"$f":"IFERROR(VLOOKUP(B391,DKC_Price!A:H,2,FALSE),\"\")","v":""},null,null,null,{"$f":"IFERROR(VLOOKUP(B391,DKC_Price!A:H,3,FALSE),\"\")","v":""}]
[null,null,{"$f":"IFERROR(VLOOKUP(B392,DKC_Price!A:H,2,FALSE),\"\")","v":""},null,null,null,{"$f":"IFERROR(VLOOKUP(B392,DKC_Price!A:H,3,FALSE),\"\")","v":""}]
[null,null,{"$f":"IFERROR(VLOOKUP(B393,DKC_Price!A:H,2,FALSE),\"\")","v":""},null,null,null,{"$f":"IFERROR(VLOOKUP(B393,DKC_Price!A:H,3,FALSE),\"\")","v":""}]
[null,null,{"$f":"IFERROR(VLOOKUP(B394,DKC_Price!A:H,2,FALSE),\"\")","v":""},null,null,null,{"$f":"IFERROR(VLOOKUP(B394,DKC_Price!A:H,3,FALSE),\"\")","v":""}]
[null,null,{"$f":"IFERROR(VLOOKUP(B395,DKC_Price!A:H,2,FALSE),\"\")","v":""},null,null,null,{"$f":"IFERROR(VLOOKUP(B395,DKC_Price!A:H,3,FALSE),\"\")","v":""}]
[null,null,{"$f":"IFERROR(VLOOKUP(B396,DKC_Price!A:H,2,FALSE),\"\")","v":""},null,null,null,{"$f":"IFERROR(VLOOKUP(B396,DKC_Price!A:H,3,FALSE),\"\")","v":""}]
[null,null,{"$f":"IFERROR(VLOOKUP(B397,DKC_Price!A:H,2,FALSE),\"\")","v":""},null,null,null,{"$f":"IFERROR(VLOOKUP(B397,DKC_Price!A:H,3,FALSE),\"\")","v":""}]
[null,null,{"$f":"IFERROR(VLOOKUP(B398,DKC_Price!A:H,2,FALSE),\"\")","v":""},null,null,null,{"$f":"IFERROR(VLOOKUP(B398,DKC_Price!A:H,3,FALSE),\"\")","v":""}]
[null,null,{"$f":"IFERROR(VLOOKUP(B399,DKC_Price!A:H,2,FALSE),\"\")","v":""},null,null,null,{"$f":"IFERROR(VLOOKUP(B399,DKC_Price!A:H,3,FALSE),\"\")","v":""}]
[null,null,{"$f":"IFERROR(VLOOKUP(B400,DKC_Price!A:H,2,FALSE),\"\")","v":""},null,null,null,{"$f":"IFERROR(VLOOKUP(B400,DKC_Price!A:H,3,FALSE),\"\")","v":""}]
[null,null,{"$f":"IFERROR(VLOOKUP(B401,DKC_Price!A:H,2,FALSE),\"\")","v":""},null,null,null,{"$f":"IFERROR(VLOOKUP(B401,DKC_Price!A:H,3,FALSE),\"\")","v":""}]
[null,null,{"$f":"IFERROR(VLOOKUP(B402,DKC_Price!A:H,2,FALSE),\"\")","v":""},null,null,null,{"$f":"IFERROR(VLOOKUP(B402,DKC_Price!A:H,3,FALSE),\"\")","v":""}]
[null,null,{"$f":"IFERROR(VLOOKUP(B403,DKC_Price!A:H,2,FALSE),\"\")","v":""},null,null,null,{"$f":"IFERROR(VLOOKUP(B403,DKC_Price!A:H,3,FALSE),\"\")","v":""}]
[null,null,{"$f":"IFERROR(VLOOKUP(B404,DKC_Price!A:H,2,FALSE),\"\")","v":""},null,null,null,{"$f":"IFERROR(VLOOKUP(B404,DKC_Price!A:H,3,FALSE),\"\")","v":""}]
[null,null,{"$f":"IFERROR(VLOOKUP(B405,DKC_Price!A:H,2,FALSE),\"\")","v":""},null,null,null,{"$f":"IFERROR(VLOOKUP(B405,DKC_Price!A:H,3,FALSE),\"\")","v":""}]
[null,null,{"$f":"IFERROR(VLOOKUP(B406,DKC_Price!A:H,2,FALSE),\"\")","v":""},null,null,null,{"$f":"IFERROR(VLOOKUP(B406,DKC_Price!A:H,3,FALSE),\"\")","v":""}]
[null,null,{"$f":"IFERROR(VLOOKUP(B407,DKC_Price!A:H,2,FALSE),\"\")","v":""},null,null,null,{"$f":"IFERROR(VLOOKUP(B407,DKC_Price!A:H,3,FALSE),\"\")","v":""}]
[null,null,{"$f":"IFERROR(VLOOKUP(B408,DKC_Price!A:H,2,FALSE),\"\")","v":""},null,null,null,{"$f":"IFERROR(VLOOKUP(B408,DKC_Price!A:H,3,FALSE),\"\")","v":""}]
[null,null,{"$f":"IFERROR(VLOOKUP(B409,DKC_Price!A:H,2,FALSE),\"\")","v":""},null,null,null,{"$f":"IFERROR(VLOOKUP(B409,DKC_Price!A:H,3,FALSE),\"\")","v":""}]
[null,null,{"$f":"IFERROR(VLOOKUP(B410,DKC_Price!A:H,2,FALSE),\"\")","v":""},null,null,null,{"$f":"IFERROR(VLOOKUP(B410,DKC_Price!A:H,3,FALSE),\"\")","v":""}]
[null,null,{"$f":"IFERROR(VLOOKUP(B411,DKC_Price!A:H,2,FALSE),\"\")","v":""},null,null,null,{"$f":"IFERROR(VLOOKUP(B411,DKC_Price!A:H,3,FALSE),\"\")","v":""}]
[null,null,{"$f":"IFERROR(VLOOKUP(B412,DKC_Price!A:H,2,FALSE),\"\")","v":""},null,null,null,{"$f":"IFERROR(VLOOKUP(B412,DKC_Price!A:H,3,FALSE),\"\")","v":""}]
[null,null,{"$f":"IFERROR(VLOOKUP(B413,DKC_Price!A:H,2,FALSE),\"\")","v":""},null,null,null,{"$f":"IFERROR(VLOOKUP(B413,DKC_Price!A:H,3,FALSE),\"\")","v":""}]
[null,null,{"$f":"IFERROR(VLOOKUP(B414,DKC_Price!A:H,2,FALSE),\"\")","v":""},null,null,null,{"$f":"IFERROR(VLOOKUP(B414,DKC_Price!A:H,3,FALSE),\"\")","v":""}]
[null,null,{"$f":"IFERROR(VLOOKUP(B415,DKC_Price!A:H,2,FALSE),\"\")","v":""},null,null,null,{"$f":"IFERROR(VLOOKUP(B415,DKC_Price!A:H,3,FALSE),\"\")","v":""}]
[null,null,{"$f":"IFERROR(VLOOKUP(B416,DKC_Price!A:H,2,FALSE),\"\")","v":""},null,null,null,{"$f":"IFERROR(VLOOKUP(B416,DKC_Price!A:H,3,FALSE),\"\")","v":""}]
[null,null,{"$f":"IFERROR(VLOOKUP(B417,DKC_Price!A:H,2,FALSE),\"\")","v":""},null,null,null,{"$f":"IFERROR(VLOOKUP(B417,DKC_Price!A:H,3,FALSE),\"\")","v":""}]
[null,null,{"$f":"IFERROR(VLOOKUP(B418,DKC_Price!A:H,2,FALSE),\"\")","v":""},null,null,null,{"$f":"IFERROR(VLOOKUP(B418,DKC_Price!A:H,3,FALSE),\"\")","v":""}]
[null,null,{"$f":"IFERROR(VLOOKUP(B419,DKC_Price!A:H,2,FALSE),\"\")","v":""},null,null,null,{"$f":"IFERROR(VLOOKUP(B419,DKC_Price!A:H,3,FALSE),\"\")","v":""}]
[null,null,{"$f":"IFERROR(VLOOKUP(B420,DKC_Price!A:H,2,FALSE),\"\")","v":""},null,null,null,{"$f":"IFERROR(VLOOKUP(B420,DKC_Price!A:H,3,FALSE),\"\")","v":""}]
[null,null,{"$f":"IFERROR(VLOOKUP(B421,DKC_Price!A:H,2,FALSE),\"\")","v":""},null,null,null,{"$f":"IFERROR(VLOOKUP(B421,DKC_Price!A:H,3,FALSE),\"\")","v":""}]
[null,null,{"$f":"IFERROR(VLOOKUP(B422,DKC_Price!A:H,2,FALSE),\"\")","v":""},null,null,null,{"$f":"IFERROR(VLOOKUP(B422,DKC_Price!A:H,3,FALSE),\"\")","v":""}]
[null,null,{"$f":"IFERROR(VLOOKUP(B423,DKC_Price!A:H,2,FALSE),\"\")","v":""},null,null,null,{"$f":"IFERROR(VLOOKUP(B423,DKC_Price!A:H,3,FALSE),\"\")","v":""}]
[null,null,{"$f":"IFERROR(VLOOKUP(B424,DKC_Price!A:H,2,FALSE),\"\")","v":""},null,null,null,{"$f":"IFERROR(VLOOKUP(B424,DKC_Price!A:H,3,FALSE),\"\")","v":""}]
[null,null,{"$f":"IFERROR(VLOOKUP(B425,DKC_Price!A:H,2,FALSE),\"\")","v":""},null,null,null,{"$f":"IFERROR(VLOOKUP(B425,DKC_Price!A:H,3,FALSE),\"\")","v":""}]
[null,null,{"$f":"IFERROR(VLOOKUP(B426,DKC_Price!A:H,2,FALSE),\"\")","v":""},null,null,null,{"$f":"IFERROR(VLOOKUP(B426,DKC_Price!A:H,3,FALSE),\"\")","v":""}]
[null,null,{"$f":"IFERROR(VLOOKUP(B427,DKC_Price!A:H,2,FALSE),\"\")","v":""},null,null,null,{"$f":"IFERROR(VLOOKUP(B427,DKC_Price!A:H,3,FALSE),\"\")","v":""}]
[null,null,{"$f":"IFERROR(VLOOKUP(B428,DKC_Price!A:H,2,FALSE),\"\")","v":""},null,null,null,{"$f":"IFERROR(VLOOKUP(B428,DKC_Price!A:H,3,FALSE),\"\")","v":""}]
[null,null,{"$f":"IFERROR(VLOOKUP(B429,DKC_Price!A:H,2,FALSE),\"\")","v":""},null,null,null,{"$f":"IFERROR(VLOOKUP(B429,DKC_Price!A:H,3,FALSE),\"\")","v":""}]
[null,null,{"$f":"IFERROR(VLOOKUP(B430,DKC_Price!A:H,2,FALSE),\"\")","v":""},null,null,null,{"$f":"IFERROR(VLOOKUP(B430,DKC_Price!A:H,3,FALSE),\"\")","v":""}]
[null,null,{"$f":"IFERROR(VLOOKUP(B431,DKC_Price!A:H,2,FALSE),\"\")","v":""},null,null,null,{"$f":"IFERROR(VLOOKUP(B431,DKC_Price!A:H,3,FALSE),\"\")","v":""}]
[null,null,{"$f":"IFERROR(VLOOKUP(B432,DKC_Price!A:H,2,FALSE),\"\")","v":""},null,null,null,{"$f":"IFERROR(VLOOKUP(B432,DKC_Price!A:H,3,FALSE),\"\")","v":""}]
[null,null,{"$f":"IFERROR(VLOOKUP(B433,DKC_Price!A:H,2,FALSE),\"\")","v":""},null,null,null,{"$f":"IFERROR(VLOOKUP(B433,DKC_Price!A:H,3,FALSE),\"\")","v":""}]
[null,null,{"$f":"IFERROR(VLOOKUP(B434,DKC_Price!A:H,2,FALSE),\"\")","v":""},null,null,null,{"$f":"IFERROR(VLOOKUP(B434,DKC_Price!A:H,3,FALSE),\"\")","v":""}]
[null,null,{"$f":"IFERROR(VLOOKUP(B435,DKC_Price!A:H,2,FALSE),\"\")","v":""},null,null,null,{"$f":"IFERROR(VLOOKUP(B435,DKC_Price!A:H,3,FALSE),\"\")","v":""}]
[null,null,{"$f":"IFERROR(VLOOKUP(B436,DKC_Price!A:H,2,FALSE),\"\")","v":""},null,null,null,{"$f":"IFERROR(VLOOKUP(B436,DKC_Price!A:H,3,FALSE),\"\")","v":""}]
[null,null,{"$f":"IFERROR(VLOOKUP(B437,DKC_Price!A:H,2,FALSE),\"\")","v":""},null,null,null,{"$f":"IFERROR(VLOOKUP(B437,DKC_Price!A:H,3,FALSE),\"\")","v":""}]
[null,null,{"$f":"IFERROR(VLOOKUP(B438,DKC_Price!A:H,2,FALSE),\"\")","v":""},null,null,null,{"$f":"IFERROR(VLOOKUP(B438,DKC_Price!A:H,3,FALSE),\"\")","v":""}]
[null,null,{"$f":"IFERROR(VLOOKUP(B439,DKC_Price!A:H,2,FALSE),\"\")","v":""},null,null,null,{"$f":"IFERROR(VLOOKUP(B439,DKC_Price!A:H,3,FALSE),\"\")","v":""}]
[null,null,{"$f":"IFERROR(VLOOKUP(B440,DKC_Price!A:H,2,FALSE),\"\")","v":""},null,null,null,{"$f":"IFERROR(VLOOKUP(B440,DKC_Price!A:H,3,FALSE),\"\")","v":""}]
[null,null,{"$f":"IFERROR(VLOOKUP(B441,DKC_Price!A:H,2,FALSE),\"\")","v":""},null,null,null,{"$f":"IFERROR(VLOOKUP(B441,DKC_Price!A:H,3,FALSE),\"\")","v":""}]
[null,null,{"$f":"IFERROR(VLOOKUP(B442,DKC_Price!A:H,2,FALSE),\"\")","v":""},null,null,null,{"$f":"IFERROR(VLOOKUP(B442,DKC_Price!A:H,3,FALSE),\"\")","v":""}]
[null,null,{"$f":"IFERROR(VLOOKUP(B443,DKC_Price!A:H,2,FALSE),\"\")","v":""},null,null,null,{"$f":"IFERROR(VLOOKUP(B443,DKC_Price!A:H,3,FALSE),\"\")","v":""}]
[null,null,{"$f":"IFERROR(VLOOKUP(B444,DKC_Price!A:H,2,FALSE),\"\")","v":""},null,null,null,{"$f":"IFERROR(VLOOKUP(B444,DKC_Price!A:H,3,FALSE),\"\")","v":""}]
[null,null,{"$f":"IFERROR(VLOOKUP(B445,DKC_Price!A:H,2,FALSE),\"\")","v":""},null,null,null,{"$f":"IFERROR(VLOOKUP(B445,DKC_Price!A:H,3,FALSE),\"\")","v":""}]
[null,null,{"$f":"IFERROR(VLOOKUP(B446,DKC_Price!A:H,2,FALSE),\"\")","v":""},null,null,null,{"$f":"IFERROR(VLOOKUP(B446,DKC_Price!A:H,3,FALSE),\"\")","v":""}]
[null,null,{"$f":"IFERROR(VLOOKUP(B447,DKC_Price!A:H,2,FALSE),\"\")","v":""},null,null,null,{"$f":"IFERROR(VLOOKUP(B447,DKC_Price!A:H,3,FALSE),\"\")","v":""}]
[null,null,{"$f":"IFERROR(VLOOKUP(B448,DKC_Price!A:H,2,FALSE),\"\")","v":""},null,null,null,{"$f":"IFERROR(VLOOKUP(B448,DKC_Price!A:H,3,FALSE),\"\")","v":""}]
[null,null,{"$f":"IFERROR(VLOOKUP(B449,DKC_Price!A:H,2,FALSE),\"\")","v":""},null,null,null,{"$f":"IFERROR(VLOOKUP(B449,DKC_Price!A:H,3,FALSE),\"\")","v":""}]
[null,null,{"$f":"IFERROR(VLOOKUP(B450,DKC_Price!A:H,2,FALSE),\"\")","v":""},null,null,null,{"$f":"IFERROR(VLOOKUP(B450,DKC_Price!A:H,3,FALSE),\"\")","v":""}]
[null,null,{"$f":"IFERROR(VLOOKUP(B451,DKC_Price!A:H,2,FALSE),\"\")","v":""},null,null,null,{"$f":"IFERROR(VLOOKUP(B451,DKC_Price!A:H,3,FALSE),\"\")","v":""}]
[null,null,{"$f":"IFERROR(VLOOKUP(B452,DKC_Price!A:H,2,FALSE),\"\")","v":""},null,null,null,{"$f":"IFERROR(VLOOKUP(B452,DKC_Price!A:H,3,FALSE),\"\")","v":""}]
[null,null,{"$f":"IFERROR(VLOOKUP(B453,DKC_Price!A:H,2,FALSE),\"\")","v":""},null,null,null,{"$f":"IFERROR(VLOOKUP(B453,DKC_Price!A:H,3,FALSE),\"\")","v":""}]
[null,null,{"$f":"IFERROR(VLOOKUP(B454,DKC_Price!A:H,2,FALSE),\"\")","v":""},null,null,null,{"$f":"IFERROR(VLOOKUP(B454,DKC_Price!A:H,3,FALSE),\"\")","v":""}]
[null,null,{"$f":"IFERROR(VLOOKUP(B455,DKC_Price!A:H,2,FALSE),\"\")","v":""},null,null,null,{"$f":"IFERROR(VLOOKUP(B455,DKC_Price!A:H,3,FALSE),\"\")","v":""}]
[null,null,{"$f":"IFERROR(VLOOKUP(B456,DKC_Price!A:H,2,FALSE),\"\")","v":""},null,null,null,{"$f":"IFERROR(VLOOKUP(B456,DKC_Price!A:H,3,FALSE),\"\")","v":""}]
[null,null,{"$f":"IFERROR(VLOOKUP(B457,DKC_Price!A:H,2,FALSE),\"\")","v":""},null,null,null,{"$f":"IFERROR(VLOOKUP(B457,DKC_Price!A:H,3,FALSE),\"\")","v":""}]
[null,null,{"$f":"IFERROR(VLOOKUP(B458,DKC_Price!A:H,2,FALSE),\"\")","v":""},null,null,null,{"$f":"IFERROR(VLOOKUP(B458,DKC_Price!A:H,3,FALSE),\"\")","v":""}]
[null,null,{"$f":"IFERROR(VLOOKUP(B459,DKC_Price!A:H,2,FALSE),\"\")","v":""},null,null,null,{"$f":"IFERROR(VLOOKUP(B459,DKC_Price!A:H,3,FALSE),\"\")","v":""}]
[null,null,{"$f":"IFERROR(VLOOKUP(B460,DKC_Price!A:H,2,FALSE),\"\")","v":""},null,null,null,{"$f":"IFERROR(VLOOKUP(B460,DKC_Price!A:H,3,FALSE),\"\")","v":""}]
[null,null,{"$f":"IFERROR(VLOOKUP(B461,DKC_Price!A:H,2,FALSE),\"\")","v":""},null,null,null,{"$f":"IFERROR(VLOOKUP(B461,DKC_Price!A:H,3,FALSE),\"\")","v":""}]
[null,null,{"$f":"IFERROR(VLOOKUP(B462,DKC_Price!A:H,2,FALSE),\"\")","v":""},null,null,null,{"$f":"IFERROR(VLOOKUP(B462,DKC_Price!A:H,3,FALSE),\"\")","v":""}]
[null,null,{"$f":"IFERROR(VLOOKUP(B463,DKC_Price!A:H,2,FALSE),\"\")","v":""},null,null,null,{"$f":"IFERROR(VLOOKUP(B463,DKC_Price!A:H,3,FALSE),\"\")","v":""}]
[null,null,{"$f":"IFERROR(VLOOKUP(B464,DKC_Price!A:H,2,FALSE),\"\")","v":""},null,null,null,{"$f":"IFERROR(VLOOKUP(B464,DKC_Price!A:H,3,FALSE),\"\")","v":""}]
[null,null,{"$f":"IFERROR(VLOOKUP(B465,DKC_Price!A:H,2,FALSE),\"\")","v":""},null,null,null,{"$f":"IFERROR(VLOOKUP(B465,DKC_Price!A:H,3,FALSE),\"\")","v":""}]
[null,null,{"$f":"IFERROR(VLOOKUP(B466,DKC_Price!A:H,2,FALSE),\"\")","v":""},null,null,null,{"$f":"IFERROR(VLOOKUP(B466,DKC_Price!A:H,3,FALSE),\"\")","v":""}]
[null,null,{"$f":"IFERROR(VLOOKUP(B467,DKC_Price!A:H,2,FALSE),\"\")","v":""},null,null,null,{"$f":"IFERROR(VLOOKUP(B467,DKC_Price!A:H,3,FALSE),\"\")","v":""}]
[null,null,{"$f":"IFERROR(VLOOKUP(B468,DKC_Price!A:H,2,FALSE),\"\")","v":""},null,null,null,{"$f":"IFERROR(VLOOKUP(B468,DKC_Price!A:H,3,FALSE),\"\")","v":""}]
[null,null,{"$f":"IFERROR(VLOOKUP(B469,DKC_Price!A:H,2,FALSE),\"\")","v":""},null,null,null,{"$f":"IFERROR(VLOOKUP(B469,DKC_Price!A:H,3,FALSE),\"\")","v":""}]
[null,null,{"$f":"IFERROR(VLOOKUP(B470,DKC_Price!A:H,2,FALSE),\"\")","v":""},null,null,null,{"$f":"IFERROR(VLOOKUP(B470,DKC_Price!A:H,3,FALSE),\"\")","v":""}]
[null,null,{"$f":"IFERROR(VLOOKUP(B471,DKC_Price!A:H,2,FALSE),\"\")","v":""},null,null,null,{"$f":"IFERROR(VLOOKUP(B471,DKC_Price!A:H,3,FALSE),\"\")","v":""}]
[null,null,{"$f":"IFERROR(VLOOKUP(B472,DKC_Price!A:H,2,FALSE),\"\")","v":""},null,null,null,{"$f":"IFERROR(VLOOKUP(B472,DKC_Price!A:H,3,FALSE),\"\")","v":""}]
[null,null,{"$f":"IFERROR(VLOOKUP(B473,DKC_Price!A:H,2,FALSE),\"\")","v":""},null,null,null,{"$f":"IFERROR(VLOOKUP(B473,DKC_Price!A:H,3,FALSE),\"\")","v":""}]
[null,null,{"$f":"IFERROR(VLOOKUP(B474,DKC_Price!A:H,2,FALSE),\"\")","v":""},null,null,null,{"$f":"IFERROR(VLOOKUP(B474,DKC_Price!A:H,3,FALSE),\"\")","v":""}]
[null,null,{"$f":"IFERROR(VLOOKUP(B475,DKC_Price!A:H,2,FALSE),\"\")","v":""},null,null,null,{"$f":"IFERROR(VLOOKUP(B475,DKC_Price!A:H,3,FALSE),\"\")","v":""}]
[null,null,{"$f":"IFERROR(VLOOKUP(B476,DKC_Price!A:H,2,FALSE),\"\")","v":""},null,null,null,{"$f":"IFERROR(VLOOKUP(B476,DKC_Price!A:H,3,FALSE),\"\")","v":""}]
[null,null,{"$f":"IFERROR(VLOOKUP(B477,DKC_Price!A:H,2,FALSE),\"\")","v":""},null,null,null,{"$f":"IFERROR(VLOOKUP(B477,DKC_Price!A:H,3,FALSE),\"\")","v":""}]
[null,null,{"$f":"IFERROR(VLOOKUP(B478,DKC_Price!A:H,2,FALSE),\"\")","v":""},null,null,null,{"$f":"IFERROR(VLOOKUP(B478,DKC_Price!A:H,3,FALSE),\"\")","v":""}]
[null,null,{"$f":"IFERROR(VLOOKUP(B479,DKC_Price!A:H,2,FALSE),\"\")","v":""},null,null,null,{"$f":"IFERROR(VLOOKUP(B479,DKC_Price!A:H,3,FALSE),\"\")","v":""}]
[null,null,{"$f":"IFERROR(VLOOKUP(B480,DKC_Price!A:H,2,FALSE),\"\")","v":""},null,null,null,{"$f":"IFERROR(VLOOKUP(B480,DKC_Price!A:H,3,FALSE),\"\")","v":""}]
[null,null,{"$f":"IFERROR(VLOOKUP(B481,DKC_Price!A:H,2,FALSE),\"\")","v":""},null,null,null,{"$f":"IFERROR(VLOOKUP(B481,DKC_Price!A:H,3,FALSE),\"\")","v":""}]
[null,null,{"$f":"IFERROR(VLOOKUP(B482,DKC_Price!A:H,2,FALSE),\"\")","v":""},null,null,null,{"$f":"IFERROR(VLOOKUP(B482,DKC_Price!A:H,3,FALSE),\"\")","v":""}]
[null,null,{"$f":"IFERROR(VLOOKUP(B483,DKC_Price!A:H,2,FALSE),\"\")","v":""},null,null,null,{"$f":"IFERROR(VLOOKUP(B483,DKC_Price!A:H,3,FALSE),\"\")","v":""}]
[null,null,{"$f":"IFERROR(VLOOKUP(B484,DKC_Price!A:H,2,FALSE),\"\")","v":""},null,null,null,{"$f":"IFERROR(VLOOKUP(B484,DKC_Price!A:H,3,FALSE),\"\")","v":""}]
[null,null,{"$f":"IFERROR(VLOOKUP(B485,DKC_Price!A:H,2,FALSE),\"\")","v":""},null,null,null,{"$f":"IFERROR(VLOOKUP(B485,DKC_Price!A:H,3,FALSE),\"\")","v":""}]
[null,null,{"$f":"IFERROR(VLOOKUP(B486,DKC_Price!A:H,2,FALSE),\"\")","v":""},null,null,null,{"$f":"IFERROR(VLOOKUP(B486,DKC_Price!A:H,3,FALSE),\"\")","v":""}]
[null,null,{"$f":"IFERROR(VLOOKUP(B487,DKC_Price!A:H,2,FALSE),\"\")","v":""},null,null,null,{"$f":"IFERROR(VLOOKUP(B487,DKC_Price!A:H,3,FALSE),\"\")","v":""}]
[null,null,{"$f":"IFERROR(VLOOKUP(B488,DKC_Price!A:H,2,FALSE),\"\")","v":""},null,null,null,{"$f":"IFERROR(VLOOKUP(B488,DKC_Price!A:H,3,FALSE),\"\")","v":""}]
[null,null,{"$f":"IFERROR(VLOOKUP(B489,DKC_Price!A:H,2,FALSE),\"\")","v":""},null,null,null,{"$f":"IFERROR(VLOOKUP(B489,DKC_Price!A:H,3,FALSE),\"\")","v":""}]
[null,null,{"$f":"IFERROR(VLOOKUP(B490,DKC_Price!A:H,2,FALSE),\"\")","v":""},null,null,null,{"$f":"IFERROR(VLOOKUP(B490,DKC_Price!A:H,3,FALSE),\"\")","v":""}]
[null,null,{"$f":"IFERROR(VLOOKUP(B491,DKC_Price!A:H,2,FALSE),\"\")","v":""},null,null,null,{"$f":"IFERROR(VLOOKUP(B491,DKC_Price!A:H,3,FALSE),\"\")","v":""}]
[null,null,{"$f":"IFERROR(VLOOKUP(B492,DKC_Price!A:H,2,FALSE),\"\")","v":""},null,null,null,{"$f":"IFERROR(VLOOKUP(B492,DKC_Price!A:H,3,FALSE),\"\")","v":""}]
[null,null,{"$f":"IFERROR(VLOOKUP(B493,DKC_Price!A:H,2,FALSE),\"\")","v":""},null,null,null,{"$f":"IFERROR(VLOOKUP(B493,DKC_Price!A:H,3,FALSE),\"\")","v":""}]
[null,null,{"$f":"IFERROR(VLOOKUP(B494,DKC_Price!A:H,2,FALSE),\"\")","v":""},null,null,null,{"$f":"IFERROR(VLOOKUP(B494,DKC_Price!A:H,3,FALSE),\"\")","v":""}]
[null,null,{"$f":"IFERROR(VLOOKUP(B495,DKC_Price!A:H,2,FALSE),\"\")","v":""},null,null,null,{"$f":"IFERROR(VLOOKUP(B495,DKC_Price!A:H,3,FALSE),\"\")","v":""}]
[null,null,{"$f":"IFERROR(VLOOKUP(B496,DKC_Price!A:H,2,FALSE),\"\")","v":""},null,null,null,{"$f":"IFERROR(VLOOKUP(B496,DKC_Price!A:H,3,FALSE),\"\")","v":""}]
[null,null,{"$f":"IFERROR(VLOOKUP(B497,DKC_Price!A:H,2,FALSE),\"\")","v":""},null,null,null,{"$f":"IFERROR(VLOOKUP(B497,DKC_Price!A:H,3,FALSE),\"\")","v":""}]
[null,null,{"$f":"IFERROR(VLOOKUP(B498,DKC_Price!A:H,2,FALSE),\"\")","v":""},null,null,null,{"$f":"IFERROR(VLOOKUP(B498,DKC_Price!A:H,3,FALSE),\"\")","v":""}]
[null,null,{"$f":"IFERROR(VLOOKUP(B499,DKC_Price!A:H,2,FALSE),\"\")","v":""},null,null,null,{"$f":"IFERROR(VLOOKUP(B499,DKC_Price!A:H,3,FALSE),\"\")","v":""}]
[null,null,{"$f":"IFERROR(VLOOKUP(B500,DKC_Price!A:H,2,FALSE),\"\")","v":""},null,null,null,{"$f":"IFERROR(VLOOKUP(B500,DKC_Price!A:H,3,FALSE),\"\")","v":""}]
[null,null,{"$f":"IFERROR(VLOOKUP(B501,DKC_Price!A:H,2,FALSE),\"\")","v":""},null,null,null,{"$f":"IFERROR(VLOOKUP(B501,DKC_Price!A:H,3,FALSE),\"\")","v":""}]
[null,null,{"$f":"IFERROR(VLOOKUP(B502,DKC_Price!A:H,2,FALSE),\"\")","v":""},null,null,null,{"$f":"IFERROR(VLOOKUP(B502,DKC_Price!A:H,3,FALSE),\"\")","v":""}]
[null,null,{"$f":"IFERROR(VLOOKUP(B503,DKC_Price!A:H,2,FALSE),\"\")","v":""},null,null,null,{"$f":"IFERROR(VLOOKUP(B503,DKC_Price!A:H,3,FALSE),\"\")","v":""}]
[null,null,{"$f":"IFERROR(VLOOKUP(B504,DKC_Price!A:H,2,FALSE),\"\")","v":""},null,null,null,{"$f":"IFERROR(VLOOKUP(B504,DKC_Price!A:H,3,FALSE),\"\")","v":""}]
[null,null,{"$f":"IFERROR(VLOOKUP(B505,DKC_Price!A:H,2,FALSE),\"\")","v":""},null,null,null,{"$f":"IFERROR(VLOOKUP(B505,DKC_Price!A:H,3,FALSE),\"\")","v":""}]
[null,null,{"$f":"IFERROR(VLOOKUP(B506,DKC_Price!A:H,2,FALSE),\"\")","v":""},null,null,null,{"$f":"IFERROR(VLOOKUP(B506,DKC_Price!A:H,3,FALSE),\"\")","v":""}]
[null,null,{"$f":"IFERROR(VLOOKUP(B507,DKC_Price!A:H,2,FALSE),\"\")","v":""},null,null,null,{"$f":"IFERROR(VLOOKUP(B507,DKC_Price!A:H,3,FALSE),\"\")","v":""}]
[null,null,{"$f":"IFERROR(VLOOKUP(B508,DKC_Price!A:H,2,FALSE),\"\")","v":""},null,null,null,{"$f":"IFERROR(VLOOKUP(B508,DKC_Price!A:H,3,FALSE),\"\")","v":""}]
[null,null,{"$f":"IFERROR(VLOOKUP(B509,DKC_Price!A:H,2,FALSE),\"\")","v":""},null,null,null,{"$f":"IFERROR(VLOOKUP(B509,DKC_Price!A:H,3,FALSE),\"\")","v":""}]
[null,null,{"$f":"IFERROR(VLOOKUP(B510,DKC_Price!A:H,2,FALSE),\"\")","v":""},null,null,null,{"$f":"IFERROR(VLOOKUP(B510,DKC_Price!A:H,3,FALSE),\"\")","v":""}]
[null,null,{"$f":"IFERROR(VLOOKUP(B511,DKC_Price!A:H,2,FALSE),\"\")","v":""},null,null,null,{"$f":"IFERROR(VLOOKUP(B511,DKC_Price!A:H,3,FALSE),\"\")","v":""}]
[null,null,{"$f":"IFERROR(VLOOKUP(B512,DKC_Price!A:H,2,FALSE),\"\")","v":""},null,null,null,{"$f":"IFERROR(VLOOKUP(B512,DKC_Price!A:H,3,FALSE),\"\")","v":""}]
[null,null,{"$f":"IFERROR(VLOOKUP(B513,DKC_Price!A:H,2,FALSE),\"\")","v":""},null,null,null,{"$f":"IFERROR(VLOOKUP(B513,DKC_Price!A:H,3,FALSE),\"\")","v":""}]
[null,null,{"$f":"IFERROR(VLOOKUP(B514,DKC_Price!A:H,2,FALSE),\"\")","v":""},null,null,null,{"$f":"IFERROR(VLOOKUP(B514,DKC_Price!A:H,3,FALSE),\"\")","v":""}]
[null,null,{"$f":"IFERROR(VLOOKUP(B515,DKC_Price!A:H,2,FALSE),\"\")","v":""},null,null,null,{"$f":"IFERROR(VLOOKUP(B515,DKC_Price!A:H,3,FALSE),\"\")","v":""}]
[null,null,{"$f":"IFERROR(VLOOKUP(B516,DKC_Price!A:H,2,FALSE),\"\")","v":""},null,null,null,{"$f":"IFERROR(VLOOKUP(B516,DKC_Price!A:H,3,FALSE),\"\")","v":""}]
[null,null,{"$f":"IFERROR(VLOOKUP(B517,DKC_Price!A:H,2,FALSE),\"\")","v":""},null,null,null,{"$f":"IFERROR(VLOOKUP(B517,DKC_Price!A:H,3,FALSE),\"\")","v":""}]
[null,null,{"$f":"IFERROR(VLOOKUP(B518,DKC_Price!A:H,2,FALSE),\"\")","v":""},null,null,null,{"$f":"IFERROR(VLOOKUP(B518,DKC_Price!A:H,3,FALSE),\"\")","v":""}]
[null,null,{"$f":"IFERROR(VLOOKUP(B519,DKC_Price!A:H,2,FALSE),\"\")","v":""},null,null,null,{"$f":"IFERROR(VLOOKUP(B519,DKC_Price!A:H,3,FALSE),\"\")","v":""}]
[null,null,{"$f":"IFERROR(VLOOKUP(B520,DKC_Price!A:H,2,FALSE),\"\")","v":""},null,null,null,{"$f":"IFERROR(VLOOKUP(B520,DKC_Price!A:H,3,FALSE),\"\")","v":""}]
[null,null,{"$f":"IFERROR(VLOOKUP(B521,DKC_Price!A:H,2,FALSE),\"\")","v":""},null,null,null,{"$f":"IFERROR(VLOOKUP(B521,DKC_Price!A:H,3,FALSE),\"\")","v":""}]
[null,null,{"$f":"IFERROR(VLOOKUP(B522,DKC_Price!A:H,2,FALSE),\"\")","v":""},null,null,null,{"$f":"IFERROR(VLOOKUP(B522,DKC_Price!A:H,3,FALSE),\"\")","v":""}]
[null,null,{"$f":"IFERROR(VLOOKUP(B523,DKC_Price!A:H,2,FALSE),\"\")","v":""},null,null,null,{"$f":"IFERROR(VLOOKUP(B523,DKC_Price!A:H,3,FALSE),\"\")","v":""}]
[null,null,{"$f":"IFERROR(VLOOKUP(B524,DKC_Price!A:H,2,FALSE),\"\")","v":""},null,null,null,{"$f":"IFERROR(VLOOKUP(B524,DKC_Price!A:H,3,FALSE),\"\")","v":""}]
[null,null,{"$f":"IFERROR(VLOOKUP(B525,DKC_Price!A:H,2,FALSE),\"\")","v":""},null,null,null,{"$f":"IFERROR(VLOOKUP(B525,DKC_Price!A:H,3,FALSE),\"\")","v":""}]
[null,null,{"$f":"IFERROR(VLOOKUP(B526,DKC_Price!A:H,2,FALSE),\"\")","v":""},null,null,null,{"$f":"IFERROR(VLOOKUP(B526,DKC_Price!A:H,3,FALSE),\"\")","v":""}]
[null,null,{"$f":"IFERROR(VLOOKUP(B527,DKC_Price!A:H,2,FALSE),\"\")","v":""},null,null,null,{"$f":"IFERROR(VLOOKUP(B527,DKC_Price!A:H,3,FALSE),\"\")","v":""}]
[null,null,{"$f":"IFERROR(VLOOKUP(B528,DKC_Price!A:H,2,FALSE),\"\")","v":""},null,null,null,{"$f":"IFERROR(VLOOKUP(B528,DKC_Price!A:H,3,FALSE),\"\")","v":""}]
[null,null,{"$f":"IFERROR(VLOOKUP(B529,DKC_Price!A:H,2,FALSE),\"\")","v":""},null,null,null,{"$f":"IFERROR(VLOOKUP(B529,DKC_Price!A:H,3,FALSE),\"\")","v":""}]
[null,null,{"$f":"IFERROR(VLOOKUP(B530,DKC_Price!A:H,2,FALSE),\"\")","v":""},null,null,null,{"$f":"IFERROR(VLOOKUP(B530,DKC_Price!A:H,3,FALSE),\"\")","v":""}]
[null,null,{"$f":"IFERROR(VLOOKUP(B531,DKC_Price!A:H,2,FALSE),\"\")","v":""},null,null,null,{"$f":"IFERROR(VLOOKUP(B531,DKC_Price!A:H,3,FALSE),\"\")","v":""}]
[null,null,{"$f":"IFERROR(VLOOKUP(B532,DKC_Price!A:H,2,FALSE),\"\")","v":""},null,null,null,{"$f":"IFERROR(VLOOKUP(B532,DKC_Price!A:H,3,FALSE),\"\")","v":""}]
[null,null,{"$f":"IFERROR(VLOOKUP(B533,DKC_Price!A:H,2,FALSE),\"\")","v":""},null,null,null,{"$f":"IFERROR(VLOOKUP(B533,DKC_Price!A:H,3,FALSE),\"\")","v":""}]
[null,null,{"$f":"IFERROR(VLOOKUP(B534,DKC_Price!A:H,2,FALSE),\"\")","v":""},null,null,null,{"$f":"IFERROR(VLOOKUP(B534,DKC_Price!A:H,3,FALSE),\"\")","v":""}]
[null,null,{"$f":"IFERROR(VLOOKUP(B535,DKC_Price!A:H,2,FALSE),\"\")","v":""},null,null,null,{"$f":"IFERROR(VLOOKUP(B535,DKC_Price!A:H,3,FALSE),\"\")","v":""}]
[null,null,{"$f":"IFERROR(VLOOKUP(B536,DKC_Price!A:H,2,FALSE),\"\")","v":""},null,null,null,{"$f":"IFERROR(VLOOKUP(B536,DKC_Price!A:H,3,FALSE),\"\")","v":""}]
[null,null,{"$f":"IFERROR(VLOOKUP(B537,DKC_Price!A:H,2,FALSE),\"\")","v":""},null,null,null,{"$f":"IFERROR(VLOOKUP(B537,DKC_Price!A:H,3,FALSE),\"\")","v":""}]
[null,null,{"$f":"IFERROR(VLOOKUP(B538,DKC_Price!A:H,2,FALSE),\"\")","v":""},null,null,null,{"$f":"IFERROR(VLOOKUP(B538,DKC_Price!A:H,3,FALSE),\"\")","v":""}]
[null,null,{"$f":"IFERROR(VLOOKUP(B539,DKC_Price!A:H,2,FALSE),\"\")","v":""},null,null,null,{"$f":"IFERROR(VLOOKUP(B539,DKC_Price!A:H,3,FALSE),\"\")","v":""}]
[null,null,{"$f":"IFERROR(VLOOKUP(B540,DKC_Price!A:H,2,FALSE),\"\")","v":""},null,null,null,{"$f":"IFERROR(VLOOKUP(B540,DKC_Price!A:H,3,FALSE),\"\")","v":""}]
[null,null,{"$f":"IFERROR(VLOOKUP(B541,DKC_Price!A:H,2,FALSE),\"\")","v":""},null,null,null,{"$f":"IFERROR(VLOOKUP(B541,DKC_Price!A:H,3,FALSE),\"\")","v":""}]
[null,null,{"$f":"IFERROR(VLOOKUP(B542,DKC_Price!A:H,2,FALSE),\"\")","v":""},null,null,null,{"$f":"IFERROR(VLOOKUP(B542,DKC_Price!A:H,3,FALSE),\"\")","v":""}]
[null,null,{"$f":"IFERROR(VLOOKUP(B543,DKC_Price!A:H,2,FALSE),\"\")","v":""},null,null,null,{"$f":"IFERROR(VLOOKUP(B543,DKC_Price!A:H,3,FALSE),\"\")","v":""}]
[null,null,{"$f":"IFERROR(VLOOKUP(B544,DKC_Price!A:H,2,FALSE),\"\")","v":""},null,null,null,{"$f":"IFERROR(VLOOKUP(B544,DKC_Price!A:H,3,FALSE),\"\")","v":""}]
[null,null,{"$f":"IFERROR(VLOOKUP(B545,DKC_Price!A:H,2,FALSE),\"\")","v":""},null,null,null,{"$f":"IFERROR(VLOOKUP(B545,DKC_Price!A:H,3,FALSE),\"\")","v":""}]
[null,null,{"$f":"IFERROR(VLOOKUP(B546,DKC_Price!A:H,2,FALSE),\"\")","v":""},null,null,null,{"$f":"IFERROR(VLOOKUP(B546,DKC_Price!A:H,3,FALSE),\"\")","v":""}]
[null,null,{"$f":"IFERROR(VLOOKUP(B547,DKC_Price!A:H,2,FALSE),\"\")","v":""},null,null,null,{"$f":"IFERROR(VLOOKUP(B547,DKC_Price!A:H,3,FALSE),\"\")","v":""}]
[null,null,{"$f":"IFERROR(VLOOKUP(B548,DKC_Price!A:H,2,FALSE),\"\")","v":""},null,null,null,{"$f":"IFERROR(VLOOKUP(B548,DKC_Price!A:H,3,FALSE),\"\")","v":""}]
[null,null,{"$f":"IFERROR(VLOOKUP(B549,DKC_Price!A:H,2,FALSE),\"\")","v":""},null,null,null,{"$f":"IFERROR(VLOOKUP(B549,DKC_Price!A:H,3,FALSE),\"\")","v":""}]
[null,null,{"$f":"IFERROR(VLOOKUP(B550,DKC_Price!A:H,2,FALSE),\"\")","v":""},null,null,null,{"$f":"IFERROR(VLOOKUP(B550,DKC_Price!A:H,3,FALSE),\"\")","v":""}]
[null,null,{"$f":"IFERROR(VLOOKUP(B551,DKC_Price!A:H,2,FALSE),\"\")","v":""},null,null,null,{"$f":"IFERROR(VLOOKUP(B551,DKC_Price!A:H,3,FALSE),\"\")","v":""}]
[null,null,{"$f":"IFERROR(VLOOKUP(B552,DKC_Price!A:H,2,FALSE),\"\")","v":""},null,null,null,{"$f":"IFERROR(VLOOKUP(B552,DKC_Price!A:H,3,FALSE),\"\")","v":""}]
[null,null,{"$f":"IFERROR(VLOOKUP(B553,DKC_Price!A:H,2,FALSE),\"\")","v":""},null,null,null,{"$f":"IFERROR(VLOOKUP(B553,DKC_Price!A:H,3,FALSE),\"\")","v":""}]
[null,null,{"$f":"IFERROR(VLOOKUP(B554,DKC_Price!A:H,2,FALSE),\"\")","v":""},null,null,null,{"$f":"IFERROR(VLOOKUP(B554,DKC_Price!A:H,3,FALSE),\"\")","v":""}]
[null,null,{"$f":"IFERROR(VLOOKUP(B555,DKC_Price!A:H,2,FALSE),\"\")","v":""},null,null,null,{"$f":"IFERROR(VLOOKUP(B555,DKC_Price!A:H,3,FALSE),\"\")","v":""}]
[null,null,{"$f":"IFERROR(VLOOKUP(B556,DKC_Price!A:H,2,FALSE),\"\")","v":""},null,null,null,{"$f":"IFERROR(VLOOKUP(B556,DKC_Price!A:H,3,FALSE),\"\")","v":""}]
[null,null,{"$f":"IFERROR(VLOOKUP(B557,DKC_Price!A:H,2,FALSE),\"\")","v":""},null,null,null,{"$f":"IFERROR(VLOOKUP(B557,DKC_Price!A:H,3,FALSE),\"\")","v":""}]
[null,null,{"$f":"IFERROR(VLOOKUP(B558,DKC_Price!A:H,2,FALSE),\"\")","v":""},null,null,null,{"$f":"IFERROR(VLOOKUP(B558,DKC_Price!A:H,3,FALSE),\"\")","v":""}]
[null,null,{"$f":"IFERROR(VLOOKUP(B559,DKC_Price!A:H,2,FALSE),\"\")","v":""},null,null,null,{"$f":"IFERROR(VLOOKUP(B559,DKC_Price!A:H,3,FALSE),\"\")","v":""}]
[null,null,{"$f":"IFERROR(VLOOKUP(B560,DKC_Price!A:H,2,FALSE),\"\")","v":""},null,null,null,{"$f":"IFERROR(VLOOKUP(B560,DKC_Price!A:H,3,FALSE),\"\")","v":""}]
[null,null,{"$f":"IFERROR(VLOOKUP(B561,DKC_Price!A:H,2,FALSE),\"\")","v":""},null,null,null,{"$f":"IFERROR(VLOOKUP(B561,DKC_Price!A:H,3,FALSE),\"\")","v":""}]
[null,null,{"$f":"IFERROR(VLOOKUP(B562,DKC_Price!A:H,2,FALSE),\"\")","v":""},null,null,null,{"$f":"IFERROR(VLOOKUP(B562,DKC_Price!A:H,3,FALSE),\"\")","v":""}]
[null,null,{"$f":"IFERROR(VLOOKUP(B563,DKC_Price!A:H,2,FALSE),\"\")","v":""},null,null,null,{"$f":"IFERROR(VLOOKUP(B563,DKC_Price!A:H,3,FALSE),\"\")","v":""}]
[null,null,{"$f":"IFERROR(VLOOKUP(B564,DKC_Price!A:H,2,FALSE),\"\")","v":""},null,null,null,{"$f":"IFERROR(VLOOKUP(B564,DKC_Price!A:H,3,FALSE),\"\")","v":""}]
[null,null,{"$f":"IFERROR(VLOOKUP(B565,DKC_Price!A:H,2,FALSE),\"\")","v":""},null,null,null,{"$f":"IFERROR(VLOOKUP(B565,DKC_Price!A:H,3,FALSE),\"\")","v":""}]
[null,null,{"$f":"IFERROR(VLOOKUP(B566,DKC_Price!A:H,2,FALSE),\"\")","v":""},null,null,null,{"$f":"IFERROR(VLOOKUP(B566,DKC_Price!A:H,3,FALSE),\"\")","v":""}]
[null,null,{"$f":"IFERROR(VLOOKUP(B567,DKC_Price!A:H,2,FALSE),\"\")","v":""},null,null,null,{"$f":"IFERROR(VLOOKUP(B567,DKC_Price!A:H,3,FALSE),\"\")","v":""}]
[null,null,{"$f":"IFERROR(VLOOKUP(B568,DKC_Price!A:H,2,FALSE),\"\")","v":""},null,null,null,{"$f":"IFERROR(VLOOKUP(B568,DKC_Price!A:H,3,FALSE),\"\")","v":""}]
[null,null,{"$f":"IFERROR(VLOOKUP(B569,DKC_Price!A:H,2,FALSE),\"\")","v":""},null,null,null,{"$f":"IFERROR(VLOOKUP(B569,DKC_Price!A:H,3,FALSE),\"\")","v":""}]
[null,null,{"$f":"IFERROR(VLOOKUP(B570,DKC_Price!A:H,2,FALSE),\"\")","v":""},null,null,null,{"$f":"IFERROR(VLOOKUP(B570,DKC_Price!A:H,3,FALSE),\"\")","v":""}]
[null,null,{"$f":"IFERROR(VLOOKUP(B571,DKC_Price!A:H,2,FALSE),\"\")","v":""},null,null,null,{"$f":"IFERROR(VLOOKUP(B571,DKC_Price!A:H,3,FALSE),\"\")","v":""}]
[null,null,{"$f":"IFERROR(VLOOKUP(B572,DKC_Price!A:H,2,FALSE),\"\")","v":""},null,null,null,{"$f":"IFERROR(VLOOKUP(B572,DKC_Price!A:H,3,FALSE),\"\")","v":""}]
[null,null,{"$f":"IFERROR(VLOOKUP(B573,DKC_Price!A:H,2,FALSE),\"\")","v":""},null,null,null,{"$f":"IFERROR(VLOOKUP(B573,DKC_Price!A:H,3,FALSE),\"\")","v":""}]
[null,null,{"$f":"IFERROR(VLOOKUP(B574,DKC_Price!A:H,2,FALSE),\"\")","v":""},null,null,null,{"$f":"IFERROR(VLOOKUP(B574,DKC_Price!A:H,3,FALSE),\"\")","v":""}]
[null,null,{"$f":"IFERROR(VLOOKUP(B575,DKC_Price!A:H,2,FALSE),\"\")","v":""},null,null,null,{"$f":"IFERROR(VLOOKUP(B575,DKC_Price!A:H,3,FALSE),\"\")","v":""}]
[null,null,{"$f":"IFERROR(VLOOKUP(B576,DKC_Price!A:H,2,FALSE),\"\")","v":""},null,null,null,{"$f":"IFERROR(VLOOKUP(B576,DKC_Price!A:H,3,FALSE),\"\")","v":""}]
[null,null,{"$f":"IFERROR(VLOOKUP(B577,DKC_Price!A:H,2,FALSE),\"\")","v":""},null,null,null,{"$f":"IFERROR(VLOOKUP(B577,DKC_Price!A:H,3,FALSE),\"\")","v":""}]
[null,null,{"$f":"IFERROR(VLOOKUP(B578,DKC_Price!A:H,2,FALSE),\"\")","v":""},null,null,null,{"$f":"IFERROR(VLOOKUP(B578,DKC_Price!A:H,3,FALSE),\"\")","v":""}]
[null,null,{"$f":"IFERROR(VLOOKUP(B579,DKC_Price!A:H,2,FALSE),\"\")","v":""},null,null,null,{"$f":"IFERROR(VLOOKUP(B579,DKC_Price!A:H,3,FALSE),\"\")","v":""}]
[null,null,{"$f":"IFERROR(VLOOKUP(B580,DKC_Price!A:H,2,FALSE),\"\")","v":""},null,null,null,{"$f":"IFERROR(VLOOKUP(B580,DKC_Price!A:H,3,FALSE),\"\")","v":""}]
[null,null,{"$f":"IFERROR(VLOOKUP(B581,DKC_Price!A:H,2,FALSE),\"\")","v":""},null,null,null,{"$f":"IFERROR(VLOOKUP(B581,DKC_Price!A:H,3,FALSE),\"\")","v":""}]
[null,null,{"$f":"IFERROR(VLOOKUP(B582,DKC_Price!A:H,2,FALSE),\"\")","v":""},null,null,null,{"$f":"IFERROR(VLOOKUP(B582,DKC_Price!A:H,3,FALSE),\"\")","v":""}]
[null,null,{"$f":"IFERROR(VLOOKUP(B583,DKC_Price!A:H,2,FALSE),\"\")","v":""},null,null,null,{"$f":"IFERROR(VLOOKUP(B583,DKC_Price!A:H,3,FALSE),\"\")","v":""}]
[null,null,{"$f":"IFERROR(VLOOKUP(B584,DKC_Price!A:H,2,FALSE),\"\")","v":""},null,null,null,{"$f":"IFERROR(VLOOKUP(B584,DKC_Price!A:H,3,FALSE),\"\")","v":""}]
[null,null,{"$f":"IFERROR(VLOOKUP(B585,DKC_Price!A:H,2,FALSE),\"\")","v":""},null,null,null,{"$f":"IFERROR(VLOOKUP(B585,DKC_Price!A:H,3,FALSE),\"\")","v":""}]
[null,null,{"$f":"IFERROR(VLOOKUP(B586,DKC_Price!A:H,2,FALSE),\"\")","v":""},null,null,null,{"$f":"IFERROR(VLOOKUP(B586,DKC_Price!A:H,3,FALSE),\"\")","v":""}]
[null,null,{"$f":"IFERROR(VLOOKUP(B587,DKC_Price!A:H,2,FALSE),\"\")","v":""},null,null,null,{"$f":"IFERROR(VLOOKUP(B587,DKC_Price!A:H,3,FALSE),\"\")","v":""}]
[null,null,{"$f":"IFERROR(VLOOKUP(B588,DKC_Price!A:H,2,FALSE),\"\")","v":""},null,null,null,{"$f":"IFERROR(VLOOKUP(B588,DKC_Price!A:H,3,FALSE),\"\")","v":""}]
[null,null,{"$f":"IFERROR(VLOOKUP(B589,DKC_Price!A:H,2,FALSE),\"\")","v":""},null,null,null,{"$f":"IFERROR(VLOOKUP(B589,DKC_Price!A:H,3,FALSE),\"\")","v":""}]
[null,null,{"$f":"IFERROR(VLOOKUP(B590,DKC_Price!A:H,2,FALSE),\"\")","v":""},null,null,null,{"$f":"IFERROR(VLOOKUP(B590,DKC_Price!A:H,3,FALSE),\"\")","v":""}]
[null,null,{"$f":"IFERROR(VLOOKUP(B591,DKC_Price!A:H,2,FALSE),\"\")","v":""},null,null,null,{"$f":"IFERROR(VLOOKUP(B591,DKC_Price!A:H,3,FALSE),\"\")","v":""}]
[null,null,{"$f":"IFERROR(VLOOKUP(B592,DKC_Price!A:H,2,FALSE),\"\")","v":""},null,null,null,{"$f":"IFERROR(VLOOKUP(B592,DKC_Price!A:H,3,FALSE),\"\")","v":""}]
[null,null,{"$f":"IFERROR(VLOOKUP(B593,DKC_Price!A:H,2,FALSE),\"\")","v":""},null,null,null,{"$f":"IFERROR(VLOOKUP(B593,DKC_Price!A:H,3,FALSE),\"\")","v":""}]
[null,null,{"$f":"IFERROR(VLOOKUP(B594,DKC_Price!A:H,2,FALSE),\"\")","v":""},null,null,null,{"$f":"IFERROR(VLOOKUP(B594,DKC_Price!A:H,3,FALSE),\"\")","v":""}]
[null,null,{"$f":"IFERROR(VLOOKUP(B595,DKC_Price!A:H,2,FALSE),\"\")","v":""},null,null,null,{"$f":"IFERROR(VLOOKUP(B595,DKC_Price!A:H,3,FALSE),\"\")","v":""}]
[null,null,{"$f":"IFERROR(VLOOKUP(B596,DKC_Price!A:H,2,FALSE),\"\")","v":""},null,null,null,{"$f":"IFERROR(VLOOKUP(B596,DKC_Price!A:H,3,FALSE),\"\")","v":""}]
[null,null,{"$f":"IFERROR(VLOOKUP(B597,DKC_Price!A:H,2,FALSE),\"\")","v":""},null,null,null,{"$f":"IFERROR(VLOOKUP(B597,DKC_Price!A:H,3,FALSE),\"\")","v":""}]
[null,null,{"$f":"IFERROR(VLOOKUP(B598,DKC_Price!A:H,2,FALSE),\"\")","v":""},null,null,null,{"$f":"IFERROR(VLOOKUP(B598,DKC_Price!A:H,3,FALSE),\"\")","v":""}]
[null,null,{"$f":"IFERROR(VLOOKUP(B599,DKC_Price!A:H,2,FALSE),\"\")","v":""},null,null,null,{"$f":"IFERROR(VLOOKUP(B599,DKC_Price!A:H,3,FALSE),\"\")","v":""}]
[null,null,{"$f":"IFERROR(VLOOKUP(B600,DKC_Price!A:H,2,FALSE),\"\")","v":""},null,null,null,{"$f":"IFERROR(VLOOKUP(B600,DKC_Price!A:H,3,FALSE),\"\")","v":""}]
[null,null,{"$f":"IFERROR(VLOOKUP(B601,DKC_Price!A:H,2,FALSE),\"\")","v":""},null,null,null,{"$f":"IFERROR(VLOOKUP(B601,DKC_Price!A:H,3,FALSE),\"\")","v":""}]
[null,null,{"$f":"IFERROR(VLOOKUP(B602,DKC_Price!A:H,2,FALSE),\"\")","v":""},null,null,null,{"$f":"IFERROR(VLOOKUP(B602,DKC_Price!A:H,3,FALSE),\"\")","v":""}]
[null,null,{"$f":"IFERROR(VLOOKUP(B603,DKC_Price!A:H,2,FALSE),\"\")","v":""},null,null,null,{"$f":"IFERROR(VLOOKUP(B603,DKC_Price!A:H,3,FALSE),\"\")","v":""}]
[null,null,{"$f":"IFERROR(VLOOKUP(B604,DKC_Price!A:H,2,FALSE),\"\")","v":""},null,null,null,{"$f":"IFERROR(VLOOKUP(B604,DKC_Price!A:H,3,FALSE),\"\")","v":""}]
[null,null,{"$f":"IFERROR(VLOOKUP(B605,DKC_Price!A:H,2,FALSE),\"\")","v":""},null,null,null,{"$f":"IFERROR(VLOOKUP(B605,DKC_Price!A:H,3,FALSE),\"\")","v":""}]
[null,null,{"$f":"IFERROR(VLOOKUP(B606,DKC_Price!A:H,2,FALSE),\"\")","v":""},null,null,null,{"$f":"IFERROR(VLOOKUP(B606,DKC_Price!A:H,3,FALSE),\"\")","v":""}]
[null,null,{"$f":"IFERROR(VLOOKUP(B607,DKC_Price!A:H,2,FALSE),\"\")","v":""},null,null,null,{"$f":"IFERROR(VLOOKUP(B607,DKC_Price!A:H,3,FALSE),\"\")","v":""}]
[null,null,{"$f":"IFERROR(VLOOKUP(B608,DKC_Price!A:H,2,FALSE),\"\")","v":""},null,null,null,{"$f":"IFERROR(VLOOKUP(B608,DKC_Price!A:H,3,FALSE),\"\")","v":""}]
[null,null,{"$f":"IFERROR(VLOOKUP(B609,DKC_Price!A:H,2,FALSE),\"\")","v":""},null,null,null,{"$f":"IFERROR(VLOOKUP(B609,DKC_Price!A:H,3,FALSE),\"\")","v":""}]
[null,null,{"$f":"IFERROR(VLOOKUP(B610,DKC_Price!A:H,2,FALSE),\"\")","v":""},null,null,null,{"$f":"IFERROR(VLOOKUP(B610,DKC_Price!A:H,3,FALSE),\"\")","v":""}]
[null,null,{"$f":"IFERROR(VLOOKUP(B611,DKC_Price!A:H,2,FALSE),\"\")","v":""},null,null,null,{"$f":"IFERROR(VLOOKUP(B611,DKC_Price!A:H,3,FALSE),\"\")","v":""}]
[null,null,{"$f":"IFERROR(VLOOKUP(B612,DKC_Price!A:H,2,FALSE),\"\")","v":""},null,null,null,{"$f":"IFERROR(VLOOKUP(B612,DKC_Price!A:H,3,FALSE),\"\")","v":""}]
[null,null,{"$f":"IFERROR(VLOOKUP(B613,DKC_Price!A:H,2,FALSE),\"\")","v":""},null,null,null,{"$f":"IFERROR(VLOOKUP(B613,DKC_Price!A:H,3,FALSE),\"\")","v":""}]
[null,null,{"$f":"IFERROR(VLOOKUP(B614,DKC_Price!A:H,2,FALSE),\"\")","v":""},null,null,null,{"$f":"IFERROR(VLOOKUP(B614,DKC_Price!A:H,3,FALSE),\"\")","v":""}]
[null,null,{"$f":"IFERROR(VLOOKUP(B615,DKC_Price!A:H,2,FALSE),\"\")","v":""},null,null,null,{"$f":"IFERROR(VLOOKUP(B615,DKC_Price!A:H,3,FALSE),\"\")","v":""}]
[null,null,{"$f":"IFERROR(VLOOKUP(B616,DKC_Price!A:H,2,FALSE),\"\")","v":""},null,null,null,{"$f":"IFERROR(VLOOKUP(B616,DKC_Price!A:H,3,FALSE),\"\")","v":""}]
[null,null,{"$f":"IFERROR(VLOOKUP(B617,DKC_Price!A:H,2,FALSE),\"\")","v":""},null,null,null,{"$f":"IFERROR(VLOOKUP(B617,DKC_Price!A:H,3,FALSE),\"\")","v":""}]
[null,null,{"$f":"IFERROR(VLOOKUP(B618,DKC_Price!A:H,2,FALSE),\"\")","v":""},null,null,null,{"$f":"IFERROR(VLOOKUP(B618,DKC_Price!A:H,3,FALSE),\"\")","v":""}]
[null,null,{"$f":"IFERROR(VLOOKUP(B619,DKC_Price!A:H,2,FALSE),\"\")","v":""},null,null,null,{"$f":"IFERROR(VLOOKUP(B619,DKC_Price!A:H,3,FALSE),\"\")","v":""}]
[null,null,{"$f":"IFERROR(VLOOKUP(B620,DKC_Price!A:H,2,FALSE),\"\")","v":""},null,null,null,{"$f":"IFERROR(VLOOKUP(B620,DKC_Price!A:H,3,FALSE),\"\")","v":""}]
[null,null,{"$f":"IFERROR(VLOOKUP(B621,DKC_Price!A:H,2,FALSE),\"\")","v":""},null,null,null,{"$f":"IFERROR(VLOOKUP(B621,DKC_Price!A:H,3,FALSE),\"\")","v":""}]
[null,null,{"$f":"IFERROR(VLOOKUP(B622,DKC_Price!A:H,2,FALSE),\"\")","v":""},null,null,null,{"$f":"IFERROR(VLOOKUP(B622,DKC_Price!A:H,3,FALSE),\"\")","v":""}]
[null,null,{"$f":"IFERROR(VLOOKUP(B623,DKC_Price!A:H,2,FALSE),\"\")","v":""},null,null,null,{"$f":"IFERROR(VLOOKUP(B623,DKC_Price!A:H,3,FALSE),\"\")","v":""}]
[null,null,{"$f":"IFERROR(VLOOKUP(B624,DKC_Price!A:H,2,FALSE),\"\")","v":""},null,null,null,{"$f":"IFERROR(VLOOKUP(B624,DKC_Price!A:H,3,FALSE),\"\")","v":""}]
[null,null,{"$f":"IFERROR(VLOOKUP(B625,DKC_Price!A:H,2,FALSE),\"\")","v":""},null,null,null,{"$f":"IFERROR(VLOOKUP(B625,DKC_Price!A:H,3,FALSE),\"\")","v":""}]
[null,null,{"$f":"IFERROR(VLOOKUP(B626,DKC_Price!A:H,2,FALSE),\"\")","v":""},null,null,null,{"$f":"IFERROR(VLOOKUP(B626,DKC_Price!A:H,3,FALSE),\"\")","v":""}]
[null,null,{"$f":"IFERROR(VLOOKUP(B627,DKC_Price!A:H,2,FALSE),\"\")","v":""},null,null,null,{"$f":"IFERROR(VLOOKUP(B627,DKC_Price!A:H,3,FALSE),\"\")","v":""}]
[null,null,{"$f":"IFERROR(VLOOKUP(B628,DKC_Price!A:H,2,FALSE),\"\")","v":""},null,null,null,{"$f":"IFERROR(VLOOKUP(B628,DKC_Price!A:H,3,FALSE),\"\")","v":""}]
[null,null,{"$f":"IFERROR(VLOOKUP(B629,DKC_Price!A:H,2,FALSE),\"\")","v":""},null,null,null,{"$f":"IFERROR(VLOOKUP(B629,DKC_Price!A:H,3,FALSE),\"\")","v":""}]
[null,null,{"$f":"IFERROR(VLOOKUP(B630,DKC_Price!A:H,2,FALSE),\"\")","v":""},null,null,null,{"$f":"IFERROR(VLOOKUP(B630,DKC_Price!A:H,3,FALSE),\"\")","v":""}]
[null,null,{"$f":"IFERROR(VLOOKUP(B631,DKC_Price!A:H,2,FALSE),\"\")","v":""},null,null,null,{"$f":"IFERROR(VLOOKUP(B631,DKC_Price!A:H,3,FALSE),\"\")","v":""}]
[null,null,{"$f":"IFERROR(VLOOKUP(B632,DKC_Price!A:H,2,FALSE),\"\")","v":""},null,null,null,{"$f":"IFERROR(VLOOKUP(B632,DKC_Price!A:H,3,FALSE),\"\")","v":""}]
[null,null,{"$f":"IFERROR(VLOOKUP(B633,DKC_Price!A:H,2,FALSE),\"\")","v":""},null,null,null,{"$f":"IFERROR(VLOOKUP(B633,DKC_Price!A:H,3,FALSE),\"\")","v":""}]
[null,null,{"$f":"IFERROR(VLOOKUP(B634,DKC_Price!A:H,2,FALSE),\"\")","v":""},null,null,null,{"$f":"IFERROR(VLOOKUP(B634,DKC_Price!A:H,3,FALSE),\"\")","v":""}]
[null,null,{"$f":"IFERROR(VLOOKUP(B635,DKC_Price!A:H,2,FALSE),\"\")","v":""},null,null,null,{"$f":"IFERROR(VLOOKUP(B635,DKC_Price!A:H,3,FALSE),\"\")","v":""}]
[null,null,{"$f":"IFERROR(VLOOKUP(B636,DKC_Price!A:H,2,FALSE),\"\")","v":""},null,null,null,{"$f":"IFERROR(VLOOKUP(B636,DKC_Price!A:H,3,FALSE),\"\")","v":""}]
[null,null,{"$f":"IFERROR(VLOOKUP(B637,DKC_Price!A:H,2,FALSE),\"\")","v":""},null,null,null,{"$f":"IFERROR(VLOOKUP(B637,DKC_Price!A:H,3,FALSE),\"\")","v":""}]
[null,null,{"$f":"IFERROR(VLOOKUP(B638,DKC_Price!A:H,2,FALSE),\"\")","v":""},null,null,null,{"$f":"IFERROR(VLOOKUP(B638,DKC_Price!A:H,3,FALSE),\"\")","v":""}]
[null,null,{"$f":"IFERROR(VLOOKUP(B639,DKC_Price!A:H,2,FALSE),\"\")","v":""},null,null,null,{"$f":"IFERROR(VLOOKUP(B639,DKC_Price!A:H,3,FALSE),\"\")","v":""}]
[null,null,{"$f":"IFERROR(VLOOKUP(B640,DKC_Price!A:H,2,FALSE),\"\")","v":""},null,null,null,{"$f":"IFERROR(VLOOKUP(B640,DKC_Price!A:H,3,FALSE),\"\")","v":""}]
[null,null,{"$f":"IFERROR(VLOOKUP(B641,DKC_Price!A:H,2,FALSE),\"\")","v":""},null,null,null,{"$f":"IFERROR(VLOOKUP(B641,DKC_Price!A:H,3,FALSE),\"\")","v":""}]
[null,null,{"$f":"IFERROR(VLOOKUP(B642,DKC_Price!A:H,2,FALSE),\"\")","v":""},null,null,null,{"$f":"IFERROR(VLOOKUP(B642,DKC_Price!A:H,3,FALSE),\"\")","v":""}]
[null,null,{"$f":"IFERROR(VLOOKUP(B643,DKC_Price!A:H,2,FALSE),\"\")","v":""},null,null,null,{"$f":"IFERROR(VLOOKUP(B643,DKC_Price!A:H,3,FALSE),\"\")","v":""}]
[null,null,{"$f":"IFERROR(VLOOKUP(B644,DKC_Price!A:H,2,FALSE),\"\")","v":""},null,null,null,{"$f":"IFERROR(VLOOKUP(B644,DKC_Price!A:H,3,FALSE),\"\")","v":""}]
[null,null,{"$f":"IFERROR(VLOOKUP(B645,DKC_Price!A:H,2,FALSE),\"\")","v":""},null,null,null,{"$f":"IFERROR(VLOOKUP(B645,DKC_Price!A:H,3,FALSE),\"\")","v":""}]
[null,null,{"$f":"IFERROR(VLOOKUP(B646,DKC_Price!A:H,2,FALSE),\"\")","v":""},null,null,null,{"$f":"IFERROR(VLOOKUP(B646,DKC_Price!A:H,3,FALSE),\"\")","v":""}]
[null,null,{"$f":"IFERROR(VLOOKUP(B647,DKC_Price!A:H,2,FALSE),\"\")","v":""},null,null,null,{"$f":"IFERROR(VLOOKUP(B647,DKC_Price!A:H,3,FALSE),\"\")","v":""}]
[null,null,{"$f":"IFERROR(VLOOKUP(B648,DKC_Price!A:H,2,FALSE),\"\")","v":""},null,null,null,{"$f":"IFERROR(VLOOKUP(B648,DKC_Price!A:H,3,FALSE),\"\")","v":""}]
[null,null,{"$f":"IFERROR(VLOOKUP(B649,DKC_Price!A:H,2,FALSE),\"\")","v":""},null,null,null,{"$f":"IFERROR(VLOOKUP(B649,DKC_Price!A:H,3,FALSE),\"\")","v":""}]
[null,null,{"$f":"IFERROR(VLOOKUP(B650,DKC_Price!A:H,2,FALSE),\"\")","v":""},null,null,null,{"$f":"IFERROR(VLOOKUP(B650,DKC_Price!A:H,3,FALSE),\"\")","v":""}]
[null,null,{"$f":"IFERROR(VLOOKUP(B651,DKC_Price!A:H,2,FALSE),\"\")","v":""},null,null,null,{"$f":"IFERROR(VLOOKUP(B651,DKC_Price!A:H,3,FALSE),\"\")","v":""}]
[null,null,{"$f":"IFERROR(VLOOKUP(B652,DKC_Price!A:H,2,FALSE),\"\")","v":""},null,null,null,{"$f":"IFERROR(VLOOKUP(B652,DKC_Price!A:H,3,FALSE),\"\")","v":""}]
[null,null,{"$f":"IFERROR(VLOOKUP(B653,DKC_Price!A:H,2,FALSE),\"\")","v":""},null,null,null,{"$f":"IFERROR(VLOOKUP(B653,DKC_Price!A:H,3,FALSE),\"\")","v":""}]
[null,null,{"$f":"IFERROR(VLOOKUP(B654,DKC_Price!A:H,2,FALSE),\"\")","v":""},null,null,null,{"$f":"IFERROR(VLOOKUP(B654,DKC_Price!A:H,3,FALSE),\"\")","v":""}]
[null,null,{"$f":"IFERROR(VLOOKUP(B655,DKC_Price!A:H,2,FALSE),\"\")","v":""},null,null,null,{"$f":"IFERROR(VLOOKUP(B655,DKC_Price!A:H,3,FALSE),\"\")","v":""}]
[null,null,{"$f":"IFERROR(VLOOKUP(B656,DKC_Price!A:H,2,FALSE),\"\")","v":""},null,null,null,{"$f":"IFERROR(VLOOKUP(B656,DKC_Price!A:H,3,FALSE),\"\")","v":""}]
[null,null,{"$f":"IFERROR(VLOOKUP(B657,DKC_Price!A:H,2,FALSE),\"\")","v":""},null,null,null,{"$f":"IFERROR(VLOOKUP(B657,DKC_Price!A:H,3,FALSE),\"\")","v":""}]
[null,null,{"$f":"IFERROR(VLOOKUP(B658,DKC_Price!A:H,2,FALSE),\"\")","v":""},null,null,null,{"$f":"IFERROR(VLOOKUP(B658,DKC_Price!A:H,3,FALSE),\"\")","v":""}]
[null,null,{"$f":"IFERROR(VLOOKUP(B659,DKC_Price!A:H,2,FALSE),\"\")","v":""},null,null,null,{"$f":"IFERROR(VLOOKUP(B659,DKC_Price!A:H,3,FALSE),\"\")","v":""}]
[null,null,{"$f":"IFERROR(VLOOKUP(B660,DKC_Price!A:H,2,FALSE),\"\")","v":""},null,null,null,{"$f":"IFERROR(VLOOKUP(B660,DKC_Price!A:H,3,FALSE),\"\")","v":""}]
[null,null,{"$f":"IFERROR(VLOOKUP(B661,DKC_Price!A:H,2,FALSE),\"\")","v":""},null,null,null,{"$f":"IFERROR(VLOOKUP(B661,DKC_Price!A:H,3,FALSE),\"\")","v":""}]
[null,null,{"$f":"IFERROR(VLOOKUP(B662,DKC_Price!A:H,2,FALSE),\"\")","v":""},null,null,null,{"$f":"IFERROR(VLOOKUP(B662,DKC_Price!A:H,3,FALSE),\"\")","v":""}]
[null,null,{"$f":"IFERROR(VLOOKUP(B663,DKC_Price!A:H,2,FALSE),\"\")","v":""},null,null,null,{"$f":"IFERROR(VLOOKUP(B663,DKC_Price!A:H,3,FALSE),\"\")","v":""}]
[null,null,{"$f":"IFERROR(VLOOKUP(B664,DKC_Price!A:H,2,FALSE),\"\")","v":""},null,null,null,{"$f":"IFERROR(VLOOKUP(B664,DKC_Price!A:H,3,FALSE),\"\")","v":""}]
[null,null,{"$f":"IFERROR(VLOOKUP(B665,DKC_Price!A:H,2,FALSE),\"\")","v":""},null,null,null,{"$f":"IFERROR(VLOOKUP(B665,DKC_Price!A:H,3,FALSE),\"\")","v":""}]
[null,null,{"$f":"IFERROR(VLOOKUP(B666,DKC_Price!A:H,2,FALSE),\"\")","v":""},null,null,null,{"$f":"IFERROR(VLOOKUP(B666,DKC_Price!A:H,3,FALSE),\"\")","v":""}]
[null,null,{"$f":"IFERROR(VLOOKUP(B667,DKC_Price!A:H,2,FALSE),\"\")","v":""},null,null,null,{"$f":"IFERROR(VLOOKUP(B667,DKC_Price!A:H,3,FALSE),\"\")","v":""}]
[null,null,{"$f":"IFERROR(VLOOKUP(B668,DKC_Price!A:H,2,FALSE),\"\")","v":""},null,null,null,{"$f":"IFERROR(VLOOKUP(B668,DKC_Price!A:H,3,FALSE),\"\")","v":""}]
[null,null,{"$f":"IFERROR(VLOOKUP(B669,DKC_Price!A:H,2,FALSE),\"\")","v":""},null,null,null,{"$f":"IFERROR(VLOOKUP(B669,DKC_Price!A:H,3,FALSE),\"\")","v":""}]
[null,null,{"$f":"IFERROR(VLOOKUP(B670,DKC_Price!A:H,2,FALSE),\"\")","v":""},null,null,null,{"$f":"IFERROR(VLOOKUP(B670,DKC_Price!A:H,3,FALSE),\"\")","v":""}]
[null,null,{"$f":"IFERROR(VLOOKUP(B671,DKC_Price!A:H,2,FALSE),\"\")","v":""},null,null,null,{"$f":"IFERROR(VLOOKUP(B671,DKC_Price!A:H,3,FALSE),\"\")","v":""}]
[null,null,{"$f":"IFERROR(VLOOKUP(B672,DKC_Price!A:H,2,FALSE),\"\")","v":""},null,null,null,{"$f":"IFERROR(VLOOKUP(B672,DKC_Price!A:H,3,FALSE),\"\")","v":""}]
[null,null,{"$f":"IFERROR(VLOOKUP(B673,DKC_Price!A:H,2,FALSE),\"\")","v":""},null,null,null,{"$f":"IFERROR(VLOOKUP(B673,DKC_Price!A:H,3,FALSE),\"\")","v":""}]
[null,null,{"$f":"IFERROR(VLOOKUP(B674,DKC_Price!A:H,2,FALSE),\"\")","v":""},null,null,null,{"$f":"IFERROR(VLOOKUP(B674,DKC_Price!A:H,3,FALSE),\"\")","v":""}]
[null,null,{"$f":"IFERROR(VLOOKUP(B675,DKC_Price!A:H,2,FALSE),\"\")","v":""},null,null,null,{"$f":"IFERROR(VLOOKUP(B675,DKC_Price!A:H,3,FALSE),\"\")","v":""}]
[null,null,{"$f":"IFERROR(VLOOKUP(B676,DKC_Price!A:H,2,FALSE),\"\")","v":""},null,null,null,{"$f":"IFERROR(VLOOKUP(B676,DKC_Price!A:H,3,FALSE),\"\")","v":""}]
[null,null,{"$f":"IFERROR(VLOOKUP(B677,DKC_Price!A:H,2,FALSE),\"\")","v":""},null,null,null,{"$f":"IFERROR(VLOOKUP(B677,DKC_Price!A:H,3,FALSE),\"\")","v":""}]
[null,null,{"$f":"IFERROR(VLOOKUP(B678,DKC_Price!A:H,2,FALSE),\"\")","v":""},null,null,null,{"$f":"IFERROR(VLOOKUP(B678,DKC_Price!A:H,3,FALSE),\"\")","v":""}]
[null,null,{"$f":"IFERROR(VLOOKUP(B679,DKC_Price!A:H,2,FALSE),\"\")","v":""},null,null,null,{"$f":"IFERROR(VLOOKUP(B679,DKC_Price!A:H,3,FALSE),\"\")","v":""}]
[null,null,{"$f":"IFERROR(VLOOKUP(B680,DKC_Price!A:H,2,FALSE),\"\")","v":""},null,null,null,{"$f":"IFERROR(VLOOKUP(B680,DKC_Price!A:H,3,FALSE),\"\")","v":""}]
[null,null,{"$f":"IFERROR(VLOOKUP(B681,DKC_Price!A:H,2,FALSE),\"\")","v":""},null,null,null,{"$f":"IFERROR(VLOOKUP(B681,DKC_Price!A:H,3,FALSE),\"\")","v":""}]
[null,null,{"$f":"IFERROR(VLOOKUP(B682,DKC_Price!A:H,2,FALSE),\"\")","v":""},null,null,null,{"$f":"IFERROR(VLOOKUP(B682,DKC_Price!A:H,3,FALSE),\"\")","v":""}]
[null,null,{"$f":"IFERROR(VLOOKUP(B683,DKC_Price!A:H,2,FALSE),\"\")","v":""},null,null,null,{"$f":"IFERROR(VLOOKUP(B683,DKC_Price!A:H,3,FALSE),\"\")","v":""}]
[null,null,{"$f":"IFERROR(VLOOKUP(B684,DKC_Price!A:H,2,FALSE),\"\")","v":""},null,null,null,{"$f":"IFERROR(VLOOKUP(B684,DKC_Price!A:H,3,FALSE),\"\")","v":""}]
[null,null,{"$f":"IFERROR(VLOOKUP(B685,DKC_Price!A:H,2,FALSE),\"\")","v":""},null,null,null,{"$f":"IFERROR(VLOOKUP(B685,DKC_Price!A:H,3,FALSE),\"\")","v":""}]
[null,null,{"$f":"IFERROR(VLOOKUP(B686,DKC_Price!A:H,2,FALSE),\"\")","v":""},null,null,null,{"$f":"IFERROR(VLOOKUP(B686,DKC_Price!A:H,3,FALSE),\"\")","v":""}]
[null,null,{"$f":"IFERROR(VLOOKUP(B687,DKC_Price!A:H,2,FALSE),\"\")","v":""},null,null,null,{"$f":"IFERROR(VLOOKUP(B687,DKC_Price!A:H,3,FALSE),\"\")","v":""}]
[null,null,{"$f":"IFERROR(VLOOKUP(B688,DKC_Price!A:H,2,FALSE),\"\")","v":""},null,null,null,{"$f":"IFERROR(VLOOKUP(B688,DKC_Price!A:H,3,FALSE),\"\")","v":""}]
[null,null,{"$f":"IFERROR(VLOOKUP(B689,DKC_Price!A:H,2,FALSE),\"\")","v":""},null,null,null,{"$f":"IFERROR(VLOOKUP(B689,DKC_Price!A:H,3,FALSE),\"\")","v":""}]
[null,null,{"$f":"IFERROR(VLOOKUP(B690,DKC_Price!A:H,2,FALSE),\"\")","v":""},null,null,null,{"$f":"IFERROR(VLOOKUP(B690,DKC_Price!A:H,3,FALSE),\"\")","v":""}]
[null,null,{"$f":"IFERROR(VLOOKUP(B691,DKC_Price!A:H,2,FALSE),\"\")","v":""},null,null,null,{"$f":"IFERROR(VLOOKUP(B691,DKC_Price!A:H,3,FALSE),\"\")","v":""}]
[null,null,{"$f":"IFERROR(VLOOKUP(B692,DKC_Price!A:H,2,FALSE),\"\")","v":""},null,null,null,{"$f":"IFERROR(VLOOKUP(B692,DKC_Price!A:H,3,FALSE),\"\")","v":""}]
[null,null,{"$f":"IFERROR(VLOOKUP(B693,DKC_Price!A:H,2,FALSE),\"\")","v":""},null,null,null,{"$f":"IFERROR(VLOOKUP(B693,DKC_Price!A:H,3,FALSE),\"\")","v":""}]
[null,null,{"$f":"IFERROR(VLOOKUP(B694,DKC_Price!A:H,2,FALSE),\"\")","v":""},null,null,null,{"$f":"IFERROR(VLOOKUP(B694,DKC_Price!A:H,3,FALSE),\"\")","v":""}]
[null,null,{"$f":"IFERROR(VLOOKUP(B695,DKC_Price!A:H,2,FALSE),\"\")","v":""},null,null,null,{"$f":"IFERROR(VLOOKUP(B695,DKC_Price!A:H,3,FALSE),\"\")","v":""}]
[null,null,{"$f":"IFERROR(VLOOKUP(B696,DKC_Price!A:H,2,FALSE),\"\")","v":""},null,null,null,{"$f":"IFERROR(VLOOKUP(B696,DKC_Price!A:H,3,FALSE),\"\")","v":""}]
[null,null,{"$f":"IFERROR(VLOOKUP(B697,DKC_Price!A:H,2,FALSE),\"\")","v":""},null,null,null,{"$f":"IFERROR(VLOOKUP(B697,DKC_Price!A:H,3,FALSE),\"\")","v":""}]
[null,null,{"$f":"IFERROR(VLOOKUP(B698,DKC_Price!A:H,2,FALSE),\"\")","v":""},null,null,null,{"$f":"IFERROR(VLOOKUP(B698,DKC_Price!A:H,3,FALSE),\"\")","v":""}]
[null,null,{"$f":"IFERROR(VLOOKUP(B699,DKC_Price!A:H,2,FALSE),\"\")","v":""},null,null,null,{"$f":"IFERROR(VLOOKUP(B699,DKC_Price!A:H,3,FALSE),\"\")","v":""}]
[null,null,{"$f":"IFERROR(VLOOKUP(B700,DKC_Price!A:H,2,FALSE),\"\")","v":""},null,null,null,{"$f":"IFERROR(VLOOKUP(B700,DKC_Price!A:H,3,FALSE),\"\")","v":""}]
[null,null,{"$f":"IFERROR(VLOOKUP(B701,DKC_Price!A:H,2,FALSE),\"\")","v":""},null,null,null,{"$f":"IFERROR(VLOOKUP(B701,DKC_Price!A:H,3,FALSE),\"\")","v":""}]
[null,null,{"$f":"IFERROR(VLOOKUP(B702,DKC_Price!A:H,2,FALSE),\"\")","v":""},null,null,null,{"$f":"IFERROR(VLOOKUP(B702,DKC_Price!A:H,3,FALSE),\"\")","v":""}]
[null,null,{"$f":"IFERROR(VLOOKUP(B703,DKC_Price!A:H,2,FALSE),\"\")","v":""},null,null,null,{"$f":"IFERROR(VLOOKUP(B703,DKC_Price!A:H,3,FALSE),\"\")","v":""}]
[null,null,{"$f":"IFERROR(VLOOKUP(B704,DKC_Price!A:H,2,FALSE),\"\")","v":""},null,null,null,{"$f":"IFERROR(VLOOKUP(B704,DKC_Price!A:H,3,FALSE),\"\")","v":""}]
[null,null,{"$f":"IFERROR(VLOOKUP(B705,DKC_Price!A:H,2,FALSE),\"\")","v":""},null,null,null,{"$f":"IFERROR(VLOOKUP(B705,DKC_Price!A:H,3,FALSE),\"\")","v":""}]
[null,null,{"$f":"IFERROR(VLOOKUP(B706,DKC_Price!A:H,2,FALSE),\"\")","v":""},null,null,null,{"$f":"IFERROR(VLOOKUP(B706,DKC_Price!A:H,3,FALSE),\"\")","v":""}]
[null,null,{"$f":"IFERROR(VLOOKUP(B707,DKC_Price!A:H,2,FALSE),\"\")","v":""},null,null,null,{"$f":"IFERROR(VLOOKUP(B707,DKC_Price!A:H,3,FALSE),\"\")","v":""}]
[null,null,{"$f":"IFERROR(VLOOKUP(B708,DKC_Price!A:H,2,FALSE),\"\")","v":""},null,null,null,{"$f":"IFERROR(VLOOKUP(B708,DKC_Price!A:H,3,FALSE),\"\")","v":""}]
[null,null,{"$f":"IFERROR(VLOOKUP(B709,DKC_Price!A:H,2,FALSE),\"\")","v":""},null,null,null,{"$f":"IFERROR(VLOOKUP(B709,DKC_Price!A:H,3,FALSE),\"\")","v":""}]
[null,null,{"$f":"IFERROR(VLOOKUP(B710,DKC_Price!A:H,2,FALSE),\"\")","v":""},null,null,null,{"$f":"IFERROR(VLOOKUP(B710,DKC_Price!A:H,3,FALSE),\"\")","v":""}]
[null,null,{"$f":"IFERROR(VLOOKUP(B711,DKC_Price!A:H,2,FALSE),\"\")","v":""},null,null,null,{"$f":"IFERROR(VLOOKUP(B711,DKC_Price!A:H,3,FALSE),\"\")","v":""}]
[null,null,{"$f":"IFERROR(VLOOKUP(B712,DKC_Price!A:H,2,FALSE),\"\")","v":""},null,null,null,{"$f":"IFERROR(VLOOKUP(B712,DKC_Price!A:H,3,FALSE),\"\")","v":""}]
[null,null,{"$f":"IFERROR(VLOOKUP(B713,DKC_Price!A:H,2,FALSE),\"\")","v":""},null,null,null,{"$f":"IFERROR(VLOOKUP(B713,DKC_Price!A:H,3,FALSE),\"\")","v":""}]
[null,null,{"$f":"IFERROR(VLOOKUP(B714,DKC_Price!A:H,2,FALSE),\"\")","v":""},null,null,null,{"$f":"IFERROR(VLOOKUP(B714,DKC_Price!A:H,3,FALSE),\"\")","v":""}]
[null,null,{"$f":"IFERROR(VLOOKUP(B715,DKC_Price!A:H,2,FALSE),\"\")","v":""},null,null,null,{"$f":"IFERROR(VLOOKUP(B715,DKC_Price!A:H,3,FALSE),\"\")","v":""}]
[null,null,{"$f":"IFERROR(VLOOKUP(B716,DKC_Price!A:H,2,FALSE),\"\")","v":""},null,null,null,{"$f":"IFERROR(VLOOKUP(B716,DKC_Price!A:H,3,FALSE),\"\")","v":""}]
[null,null,{"$f":"IFERROR(VLOOKUP(B717,DKC_Price!A:H,2,FALSE),\"\")","v":""},null,null,null,{"$f":"IFERROR(VLOOKUP(B717,DKC_Price!A:H,3,FALSE),\"\")","v":""}]
[null,null,{"$f":"IFERROR(VLOOKUP(B718,DKC_Price!A:H,2,FALSE),\"\")","v":""},null,null,null,{"$f":"IFERROR(VLOOKUP(B718,DKC_Price!A:H,3,FALSE),\"\")","v":""}]
[null,null,{"$f":"IFERROR(VLOOKUP(B719,DKC_Price!A:H,2,FALSE),\"\")","v":""},null,null,null,{"$f":"IFERROR(VLOOKUP(B719,DKC_Price!A:H,3,FALSE),\"\")","v":""}]
[null,null,{"$f":"IFERROR(VLOOKUP(B720,DKC_Price!A:H,2,FALSE),\"\")","v":""},null,null,null,{"$f":"IFERROR(VLOOKUP(B720,DKC_Price!A:H,3,FALSE),\"\")","v":""}]
[null,null,{"$f":"IFERROR(VLOOKUP(B721,DKC_Price!A:H,2,FALSE),\"\")","v":""},null,null,null,{"$f":"IFERROR(VLOOKUP(B721,DKC_Price!A:H,3,FALSE),\"\")","v":""}]
[null,null,{"$f":"IFERROR(VLOOKUP(B722,DKC_Price!A:H,2,FALSE),\"\")","v":""},null,null,null,{"$f":"IFERROR(VLOOKUP(B722,DKC_Price!A:H,3,FALSE),\"\")","v":""}]
[null,null,{"$f":"IFERROR(VLOOKUP(B723,DKC_Price!A:H,2,FALSE),\"\")","v":""},null,null,null,{"$f":"IFERROR(VLOOKUP(B723,DKC_Price!A:H,3,FALSE),\"\")","v":""}]
[null,null,{"$f":"IFERROR(VLOOKUP(B724,DKC_Price!A:H,2,FALSE),\"\")","v":""},null,null,null,{"$f":"IFERROR(VLOOKUP(B724,DKC_Price!A:H,3,FALSE),\"\")","v":""}]
[null,null,{"$f":"IFERROR(VLOOKUP(B725,DKC_Price!A:H,2,FALSE),\"\")","v":""},null,null,null,{"$f":"IFERROR(VLOOKUP(B725,DKC_Price!A:H,3,FALSE),\"\")","v":""}]
[null,null,{"$f":"IFERROR(VLOOKUP(B726,DKC_Price!A:H,2,FALSE),\"\")","v":""},null,null,null,{"$f":"IFERROR(VLOOKUP(B726,DKC_Price!A:H,3,FALSE),\"\")","v":""}]
[null,null,{"$f":"IFERROR(VLOOKUP(B727,DKC_Price!A:H,2,FALSE),\"\")","v":""},null,null,null,{"$f":"IFERROR(VLOOKUP(B727,DKC_Price!A:H,3,FALSE),\"\")","v":""}]
[null,null,{"$f":"IFERROR(VLOOKUP(B728,DKC_Price!A:H,2,FALSE),\"\")","v":""},null,null,null,{"$f":"IFERROR(VLOOKUP(B728,DKC_Price!A:H,3,FALSE),\"\")","v":""}]
[null,null,{"$f":"IFERROR(VLOOKUP(B729,DKC_Price!A:H,2,FALSE),\"\")","v":""},null,null,null,{"$f":"IFERROR(VLOOKUP(B729,DKC_Price!A:H,3,FALSE),\"\")","v":""}]
[null,null,{"$f":"IFERROR(VLOOKUP(B730,DKC_Price!A:H,2,FALSE),\"\")","v":""},null,null,null,{"$f":"IFERROR(VLOOKUP(B730,DKC_Price!A:H,3,FALSE),\"\")","v":""}]
[null,null,{"$f":"IFERROR(VLOOKUP(B731,DKC_Price!A:H,2,FALSE),\"\")","v":""},null,null,null,{"$f":"IFERROR(VLOOKUP(B731,DKC_Price!A:H,3,FALSE),\"\")","v":""}]
[null,null,{"$f":"IFERROR(VLOOKUP(B732,DKC_Price!A:H,2,FALSE),\"\")","v":""},null,null,null,{"$f":"IFERROR(VLOOKUP(B732,DKC_Price!A:H,3,FALSE),\"\")","v":""}]
[null,null,{"$f":"IFERROR(VLOOKUP(B733,DKC_Price!A:H,2,FALSE),\"\")","v":""},null,null,null,{"$f":"IFERROR(VLOOKUP(B733,DKC_Price!A:H,3,FALSE),\"\")","v":""}]
[null,null,{"$f":"IFERROR(VLOOKUP(B734,DKC_Price!A:H,2,FALSE),\"\")","v":""},null,null,null,{"$f":"IFERROR(VLOOKUP(B734,DKC_Price!A:H,3,FALSE),\"\")","v":""}]
[null,null,{"$f":"IFERROR(VLOOKUP(B735,DKC_Price!A:H,2,FALSE),\"\")","v":""},null,null,null,{"$f":"IFERROR(VLOOKUP(B735,DKC_Price!A:H,3,FALSE),\"\")","v":""}]
[null,null,{"$f":"IFERROR(VLOOKUP(B736,DKC_Price!A:H,2,FALSE),\"\")","v":""},null,null,null,{"$f":"IFERROR(VLOOKUP(B736,DKC_Price!A:H,3,FALSE),\"\")","v":""}]
[null,null,{"$f":"IFERROR(VLOOKUP(B737,DKC_Price!A:H,2,FALSE),\"\")","v":""},null,null,null,{"$f":"IFERROR(VLOOKUP(B737,DKC_Price!A:H,3,FALSE),\"\")","v":""}]
[null,null,{"$f":"IFERROR(VLOOKUP(B738,DKC_Price!A:H,2,FALSE),\"\")","v":""},null,null,null,{"$f":"IFERROR(VLOOKUP(B738,DKC_Price!A:H,3,FALSE),\"\")","v":""}]
[null,null,{"$f":"IFERROR(VLOOKUP(B739,DKC_Price!A:H,2,FALSE),\"\")","v":""},null,null,null,{"$f":"IFERROR(VLOOKUP(B739,DKC_Price!A:H,3,FALSE),\"\")","v":""}]
[null,null,{"$f":"IFERROR(VLOOKUP(B740,DKC_Price!A:H,2,FALSE),\"\")","v":""},null,null,null,{"$f":"IFERROR(VLOOKUP(B740,DKC_Price!A:H,3,FALSE),\"\")","v":""}]
[null,null,{"$f":"IFERROR(VLOOKUP(B741,DKC_Price!A:H,2,FALSE),\"\")","v":""},null,null,null,{"$f":"IFERROR(VLOOKUP(B741,DKC_Price!A:H,3,FALSE),\"\")","v":""}]
[null,null,{"$f":"IFERROR(VLOOKUP(B742,DKC_Price!A:H,2,FALSE),\"\")","v":""},null,null,null,{"$f":"IFERROR(VLOOKUP(B742,DKC_Price!A:H,3,FALSE),\"\")","v":""}]
[null,null,{"$f":"IFERROR(VLOOKUP(B743,DKC_Price!A:H,2,FALSE),\"\")","v":""},null,null,null,{"$f":"IFERROR(VLOOKUP(B743,DKC_Price!A:H,3,FALSE),\"\")","v":""}]
[null,null,{"$f":"IFERROR(VLOOKUP(B744,DKC_Price!A:H,2,FALSE),\"\")","v":""},null,null,null,{"$f":"IFERROR(VLOOKUP(B744,DKC_Price!A:H,3,FALSE),\"\")","v":""}]
[null,null,{"$f":"IFERROR(VLOOKUP(B745,DKC_Price!A:H,2,FALSE),\"\")","v":""},null,null,null,{"$f":"IFERROR(VLOOKUP(B745,DKC_Price!A:H,3,FALSE),\"\")","v":""}]
[null,null,{"$f":"IFERROR(VLOOKUP(B746,DKC_Price!A:H,2,FALSE),\"\")","v":""},null,null,null,{"$f":"IFERROR(VLOOKUP(B746,DKC_Price!A:H,3,FALSE),\"\")","v":""}]
[null,null,{"$f":"IFERROR(VLOOKUP(B747,DKC_Price!A:H,2,FALSE),\"\")","v":""},null,null,null,{"$f":"IFERROR(VLOOKUP(B747,DKC_Price!A:H,3,FALSE),\"\")","v":""}]
[null,null,{"$f":"IFERROR(VLOOKUP(B748,DKC_Price!A:H,2,FALSE),\"\")","v":""},null,null,null,{"$f":"IFERROR(VLOOKUP(B748,DKC_Price!A:H,3,FALSE),\"\")","v":""}]
[null,null,{"$f":"IFERROR(VLOOKUP(B749,DKC_Price!A:H,2,FALSE),\"\")","v":""},null,null,null,{"$f":"IFERROR(VLOOKUP(B749,DKC_Price!A:H,3,FALSE),\"\")","v":""}]
[null,null,{"$f":"IFERROR(VLOOKUP(B750,DKC_Price!A:H,2,FALSE),\"\")","v":""},null,null,null,{"$f":"IFERROR(VLOOKUP(B750,DKC_Price!A:H,3,FALSE),\"\")","v":""}]
[null,null,{"$f":"IFERROR(VLOOKUP(B751,DKC_Price!A:H,2,FALSE),\"\")","v":""},null,null,null,{"$f":"IFERROR(VLOOKUP(B751,DKC_Price!A:H,3,FALSE),\"\")","v":""}]
[null,null,{"$f":"IFERROR(VLOOKUP(B752,DKC_Price!A:H,2,FALSE),\"\")","v":""},null,null,null,{"$f":"IFERROR(VLOOKUP(B752,DKC_Price!A:H,3,FALSE),\"\")","v":""}]
[null,null,{"$f":"IFERROR(VLOOKUP(B753,DKC_Price!A:H,2,FALSE),\"\")","v":""},null,null,null,{"$f":"IFERROR(VLOOKUP(B753,DKC_Price!A:H,3,FALSE),\"\")","v":""}]
[null,null,{"$f":"IFERROR(VLOOKUP(B754,DKC_Price!A:H,2,FALSE),\"\")","v":""},null,null,null,{"$f":"IFERROR(VLOOKUP(B754,DKC_Price!A:H,3,FALSE),\"\")","v":""}]
[null,null,{"$f":"IFERROR(VLOOKUP(B755,DKC_Price!A:H,2,FALSE),\"\")","v":""},null,null,null,{"$f":"IFERROR(VLOOKUP(B755,DKC_Price!A:H,3,FALSE),\"\")","v":""}]
[null,null,{"$f":"IFERROR(VLOOKUP(B756,DKC_Price!A:H,2,FALSE),\"\")","v":""},null,null,null,{"$f":"IFERROR(VLOOKUP(B756,DKC_Price!A:H,3,FALSE),\"\")","v":""}]
[null,null,{"$f":"IFERROR(VLOOKUP(B757,DKC_Price!A:H,2,FALSE),\"\")","v":""},null,null,null,{"$f":"IFERROR(VLOOKUP(B757,DKC_Price!A:H,3,FALSE),\"\")","v":""}]
[null,null,{"$f":"IFERROR(VLOOKUP(B758,DKC_Price!A:H,2,FALSE),\"\")","v":""},null,null,null,{"$f":"IFERROR(VLOOKUP(B758,DKC_Price!A:H,3,FALSE),\"\")","v":""}]
[null,null,{"$f":"IFERROR(VLOOKUP(B759,DKC_Price!A:H,2,FALSE),\"\")","v":""},null,null,null,{"$f":"IFERROR(VLOOKUP(B759,DKC_Price!A:H,3,FALSE),\"\")","v":""}]
[null,null,{"$f":"IFERROR(VLOOKUP(B760,DKC_Price!A:H,2,FALSE),\"\")","v":""},null,null,null,{"$f":"IFERROR(VLOOKUP(B760,DKC_Price!A:H,3,FALSE),\"\")","v":""}]
[null,null,{"$f":"IFERROR(VLOOKUP(B761,DKC_Price!A:H,2,FALSE),\"\")","v":""},null,null,null,{"$f":"IFERROR(VLOOKUP(B761,DKC_Price!A:H,3,FALSE),\"\")","v":""}]
[null,null,{"$f":"IFERROR(VLOOKUP(B762,DKC_Price!A:H,2,FALSE),\"\")","v":""},null,null,null,{"$f":"IFERROR(VLOOKUP(B762,DKC_Price!A:H,3,FALSE),\"\")","v":""}]
[null,null,{"$f":"IFERROR(VLOOKUP(B763,DKC_Price!A:H,2,FALSE),\"\")","v":""},null,null,null,{"$f":"IFERROR(VLOOKUP(B763,DKC_Price!A:H,3,FALSE),\"\")","v":""}]
[null,null,{"$f":"IFERROR(VLOOKUP(B764,DKC_Price!A:H,2,FALSE),\"\")","v":""},null,null,null,{"$f":"IFERROR(VLOOKUP(B764,DKC_Price!A:H,3,FALSE),\"\")","v":""}]
[null,null,{"$f":"IFERROR(VLOOKUP(B765,DKC_Price!A:H,2,FALSE),\"\")","v":""},null,null,null,{"$f":"IFERROR(VLOOKUP(B765,DKC_Price!A:H,3,FALSE),\"\")","v":""}]
[null,null,{"$f":"IFERROR(VLOOKUP(B766,DKC_Price!A:H,2,FALSE),\"\")","v":""},null,null,null,{"$f":"IFERROR(VLOOKUP(B766,DKC_Price!A:H,3,FALSE),\"\")","v":""}]
[null,null,{"$f":"IFERROR(VLOOKUP(B767,DKC_Price!A:H,2,FALSE),\"\")","v":""},null,null,null,{"$f":"IFERROR(VLOOKUP(B767,DKC_Price!A:H,3,FALSE),\"\")","v":""}]
[null,null,{"$f":"IFERROR(VLOOKUP(B768,DKC_Price!A:H,2,FALSE),\"\")","v":""},null,null,null,{"$f":"IFERROR(VLOOKUP(B768,DKC_Price!A:H,3,FALSE),\"\")","v":""}]
[null,null,{"$f":"IFERROR(VLOOKUP(B769,DKC_Price!A:H,2,FALSE),\"\")","v":""},null,null,null,{"$f":"IFERROR(VLOOKUP(B769,DKC_Price!A:H,3,FALSE),\"\")","v":""}]
[null,null,{"$f":"IFERROR(VLOOKUP(B770,DKC_Price!A:H,2,FALSE),\"\")","v":""},null,null,null,{"$f":"IFERROR(VLOOKUP(B770,DKC_Price!A:H,3,FALSE),\"\")","v":""}]
[null,null,{"$f":"IFERROR(VLOOKUP(B771,DKC_Price!A:H,2,FALSE),\"\")","v":""},null,null,null,{"$f":"IFERROR(VLOOKUP(B771,DKC_Price!A:H,3,FALSE),\"\")","v":""}]
[null,null,{"$f":"IFERROR(VLOOKUP(B772,DKC_Price!A:H,2,FALSE),\"\")","v":""},null,null,null,{"$f":"IFERROR(VLOOKUP(B772,DKC_Price!A:H,3,FALSE),\"\")","v":""}]
[null,null,{"$f":"IFERROR(VLOOKUP(B773,DKC_Price!A:H,2,FALSE),\"\")","v":""},null,null,null,{"$f":"IFERROR(VLOOKUP(B773,DKC_Price!A:H,3,FALSE),\"\")","v":""}]
[null,null,{"$f":"IFERROR(VLOOKUP(B774,DKC_Price!A:H,2,FALSE),\"\")","v":""},null,null,null,{"$f":"IFERROR(VLOOKUP(B774,DKC_Price!A:H,3,FALSE),\"\")","v":""}]
[null,null,{"$f":"IFERROR(VLOOKUP(B775,DKC_Price!A:H,2,FALSE),\"\")","v":""},null,null,null,{"$f":"IFERROR(VLOOKUP(B775,DKC_Price!A:H,3,FALSE),\"\")","v":""}]
[null,null,{"$f":"IFERROR(VLOOKUP(B776,DKC_Price!A:H,2,FALSE),\"\")","v":""},null,null,null,{"$f":"IFERROR(VLOOKUP(B776,DKC_Price!A:H,3,FALSE),\"\")","v":""}]
[null,null,{"$f":"IFERROR(VLOOKUP(B777,DKC_Price!A:H,2,FALSE),\"\")","v":""},null,null,null,{"$f":"IFERROR(VLOOKUP(B777,DKC_Price!A:H,3,FALSE),\"\")","v":""}]
[null,null,{"$f":"IFERROR(VLOOKUP(B778,DKC_Price!A:H,2,FALSE),\"\")","v":""},null,null,null,{"$f":"IFERROR(VLOOKUP(B778,DKC_Price!A:H,3,FALSE),\"\")","v":""}]
[null,null,{"$f":"IFERROR(VLOOKUP(B779,DKC_Price!A:H,2,FALSE),\"\")","v":""},null,null,null,{"$f":"IFERROR(VLOOKUP(B779,DKC_Price!A:H,3,FALSE),\"\")","v":""}]
[null,null,{"$f":"IFERROR(VLOOKUP(B780,DKC_Price!A:H,2,FALSE),\"\")","v":""},null,null,null,{"$f":"IFERROR(VLOOKUP(B780,DKC_Price!A:H,3,FALSE),\"\")","v":""}]
[null,null,{"$f":"IFERROR(VLOOKUP(B781,DKC_Price!A:H,2,FALSE),\"\")","v":""},null,null,null,{"$f":"IFERROR(VLOOKUP(B781,DKC_Price!A:H,3,FALSE),\"\")","v":""}]
[null,null,{"$f":"IFERROR(VLOOKUP(B782,DKC_Price!A:H,2,FALSE),\"\")","v":""},null,null,null,{"$f":"IFERROR(VLOOKUP(B782,DKC_Price!A:H,3,FALSE),\"\")","v":""}]
[null,null,{"$f":"IFERROR(VLOOKUP(B783,DKC_Price!A:H,2,FALSE),\"\")","v":""},null,null,null,{"$f":"IFERROR(VLOOKUP(B783,DKC_Price!A:H,3,FALSE),\"\")","v":""}]
[null,null,{"$f":"IFERROR(VLOOKUP(B784,DKC_Price!A:H,2,FALSE),\"\")","v":""},null,null,null,{"$f":"IFERROR(VLOOKUP(B784,DKC_Price!A:H,3,FALSE),\"\")","v":""}]
[null,null,{"$f":"IFERROR(VLOOKUP(B785,DKC_Price!A:H,2,FALSE),\"\")","v":""},null,null,null,{"$f":"IFERROR(VLOOKUP(B785,DKC_Price!A:H,3,FALSE),\"\")","v":""}]
[null,null,{"$f":"IFERROR(VLOOKUP(B786,DKC_Price!A:H,2,FALSE),\"\")","v":""},null,null,null,{"$f":"IFERROR(VLOOKUP(B786,DKC_Price!A:H,3,FALSE),\"\")","v":""}]
[null,null,{"$f":"IFERROR(VLOOKUP(B787,DKC_Price!A:H,2,FALSE),\"\")","v":""},null,null,null,{"$f":"IFERROR(VLOOKUP(B787,DKC_Price!A:H,3,FALSE),\"\")","v":""}]
[null,null,{"$f":"IFERROR(VLOOKUP(B788,DKC_Price!A:H,2,FALSE),\"\")","v":""},null,null,null,{"$f":"IFERROR(VLOOKUP(B788,DKC_Price!A:H,3,FALSE),\"\")","v":""}]
[null,null,{"$f":"IFERROR(VLOOKUP(B789,DKC_Price!A:H,2,FALSE),\"\")","v":""},null,null,null,{"$f":"IFERROR(VLOOKUP(B789,DKC_Price!A:H,3,FALSE),\"\")","v":""}]
[null,null,{"$f":"IFERROR(VLOOKUP(B790,DKC_Price!A:H,2,FALSE),\"\")","v":""},null,null,null,{"$f":"IFERROR(VLOOKUP(B790,DKC_Price!A:H,3,FALSE),\"\")","v":""}]
[null,null,{"$f":"IFERROR(VLOOKUP(B791,DKC_Price!A:H,2,FALSE),\"\")","v":""},null,null,null,{"$f":"IFERROR(VLOOKUP(B791,DKC_Price!A:H,3,FALSE),\"\")","v":""}]
[null,null,{"$f":"IFERROR(VLOOKUP(B792,DKC_Price!A:H,2,FALSE),\"\")","v":""},null,null,null,{"$f":"IFERROR(VLOOKUP(B792,DKC_Price!A:H,3,FALSE),\"\")","v":""}]
[null,null,{"$f":"IFERROR(VLOOKUP(B793,DKC_Price!A:H,2,FALSE),\"\")","v":""},null,null,null,{"$f":"IFERROR(VLOOKUP(B793,DKC_Price!A:H,3,FALSE),\"\")","v":""}]
[null,null,{"$f":"IFERROR(VLOOKUP(B794,DKC_Price!A:H,2,FALSE),\"\")","v":""},null,null,null,{"$f":"IFERROR(VLOOKUP(B794,DKC_Price!A:H,3,FALSE),\"\")","v":""}]
[null,null,{"$f":"IFERROR(VLOOKUP(B795,DKC_Price!A:H,2,FALSE),\"\")","v":""},null,null,null,{"$f":"IFERROR(VLOOKUP(B795,DKC_Price!A:H,3,FALSE),\"\")","v":""}]
[null,null,{"$f":"IFERROR(VLOOKUP(B796,DKC_Price!A:H,2,FALSE),\"\")","v":""},null,null,null,{"$f":"IFERROR(VLOOKUP(B796,DKC_Price!A:H,3,FALSE),\"\")","v":""}]
[null,null,{"$f":"IFERROR(VLOOKUP(B797,DKC_Price!A:H,2,FALSE),\"\")","v":""},null,null,null,{"$f":"IFERROR(VLOOKUP(B797,DKC_Price!A:H,3,FALSE),\"\")","v":""}]
[null,null,{"$f":"IFERROR(VLOOKUP(B798,DKC_Price!A:H,2,FALSE),\"\")","v":""},null,null,null,{"$f":"IFERROR(VLOOKUP(B798,DKC_Price!A:H,3,FALSE),\"\")","v":""}]
[null,null,{"$f":"IFERROR(VLOOKUP(B799,DKC_Price!A:H,2,FALSE),\"\")","v":""},null,null,null,{"$f":"IFERROR(VLOOKUP(B799,DKC_Price!A:H,3,FALSE),\"\")","v":""}]
[null,null,{"$f":"IFERROR(VLOOKUP(B800,DKC_Price!A:H,2,FALSE),\"\")","v":""},null,null,null,{"$f":"IFERROR(VLOOKUP(B800,DKC_Price!A:H,3,FALSE),\"\")","v":""}]
[null,null,{"$f":"IFERROR(VLOOKUP(B801,DKC_Price!A:H,2,FALSE),\"\")","v":""},null,null,null,{"$f":"IFERROR(VLOOKUP(B801,DKC_Price!A:H,3,FALSE),\"\")","v":""}]
[null,null,{"$f":"IFERROR(VLOOKUP(B802,DKC_Price!A:H,2,FALSE),\"\")","v":""},null,null,null,{"$f":"IFERROR(VLOOKUP(B802,DKC_Price!A:H,3,FALSE),\"\")","v":""}]
[null,null,{"$f":"IFERROR(VLOOKUP(B803,DKC_Price!A:H,2,FALSE),\"\")","v":""},null,null,null,{"$f":"IFERROR(VLOOKUP(B803,DKC_Price!A:H,3,FALSE),\"\")","v":""}]
[null,null,{"$f":"IFERROR(VLOOKUP(B804,DKC_Price!A:H,2,FALSE),\"\")","v":""},null,null,null,{"$f":"IFERROR(VLOOKUP(B804,DKC_Price!A:H,3,FALSE),\"\")","v":""}]
[null,null,{"$f":"IFERROR(VLOOKUP(B805,DKC_Price!A:H,2,FALSE),\"\")","v":""},null,null,null,{"$f":"IFERROR(VLOOKUP(B805,DKC_Price!A:H,3,FALSE),\"\")","v":""}]
[null,null,{"$f":"IFERROR(VLOOKUP(B806,DKC_Price!A:H,2,FALSE),\"\")","v":""},null,null,null,{"$f":"IFERROR(VLOOKUP(B806,DKC_Price!A:H,3,FALSE),\"\")","v":""}]
[null,null,{"$f":"IFERROR(VLOOKUP(B807,DKC_Price!A:H,2,FALSE),\"\")","v":""},null,null,null,{"$f":"IFERROR(VLOOKUP(B807,DKC_Price!A:H,3,FALSE),\"\")","v":""}]
[null,null,{"$f":"IFERROR(VLOOKUP(B808,DKC_Price!A:H,2,FALSE),\"\")","v":""},null,null,null,{"$f":"IFERROR(VLOOKUP(B808,DKC_Price!A:H,3,FALSE),\"\")","v":""}]
[null,null,{"$f":"IFERROR(VLOOKUP(B809,DKC_Price!A:H,2,FALSE),\"\")","v":""},null,null,null,{"$f":"IFERROR(VLOOKUP(B809,DKC_Price!A:H,3,FALSE),\"\")","v":""}]
[null,null,{"$f":"IFERROR(VLOOKUP(B810,DKC_Price!A:H,2,FALSE),\"\")","v":""},null,null,null,{"$f":"IFERROR(VLOOKUP(B810,DKC_Price!A:H,3,FALSE),\"\")","v":""}]
[null,null,{"$f":"IFERROR(VLOOKUP(B811,DKC_Price!A:H,2,FALSE),\"\")","v":""},null,null,null,{"$f":"IFERROR(VLOOKUP(B811,DKC_Price!A:H,3,FALSE),\"\")","v":""}]
[null,null,{"$f":"IFERROR(VLOOKUP(B812,DKC_Price!A:H,2,FALSE),\"\")","v":""},null,null,null,{"$f":"IFERROR(VLOOKUP(B812,DKC_Price!A:H,3,FALSE),\"\")","v":""}]
[null,null,{"$f":"IFERROR(VLOOKUP(B813,DKC_Price!A:H,2,FALSE),\"\")","v":""},null,null,null,{"$f":"IFERROR(VLOOKUP(B813,DKC_Price!A:H,3,FALSE),\"\")","v":""}]
[null,null,{"$f":"IFERROR(VLOOKUP(B814,DKC_Price!A:H,2,FALSE),\"\")","v":""},null,null,null,{"$f":"IFERROR(VLOOKUP(B814,DKC_Price!A:H,3,FALSE),\"\")","v":""}]
[null,null,{"$f":"IFERROR(VLOOKUP(B815,DKC_Price!A:H,2,FALSE),\"\")","v":""},null,null,null,{"$f":"IFERROR(VLOOKUP(B815,DKC_Price!A:H,3,FALSE),\"\")","v":""}]
[null,null,{"$f":"IFERROR(VLOOKUP(B816,DKC_Price!A:H,2,FALSE),\"\")","v":""},null,null,null,{"$f":"IFERROR(VLOOKUP(B816,DKC_Price!A:H,3,FALSE),\"\")","v":""}]
[null,null,{"$f":"IFERROR(VLOOKUP(B817,DKC_Price!A:H,2,FALSE),\"\")","v":""},null,null,null,{"$f":"IFERROR(VLOOKUP(B817,DKC_Price!A:H,3,FALSE),\"\")","v":""}]
[null,null,{"$f":"IFERROR(VLOOKUP(B818,DKC_Price!A:H,2,FALSE),\"\")","v":""},null,null,null,{"$f":"IFERROR(VLOOKUP(B818,DKC_Price!A:H,3,FALSE),\"\")","v":""}]
[null,null,{"$f":"IFERROR(VLOOKUP(B819,DKC_Price!A:H,2,FALSE),\"\")","v":""},null,null,null,{"$f":"IFERROR(VLOOKUP(B819,DKC_Price!A:H,3,FALSE),\"\")","v":""}]
[null,null,{"$f":"IFERROR(VLOOKUP(B820,DKC_Price!A:H,2,FALSE),\"\")","v":""},null,null,null,{"$f":"IFERROR(VLOOKUP(B820,DKC_Price!A:H,3,FALSE),\"\")","v":""}]
[null,null,{"$f":"IFERROR(VLOOKUP(B821,DKC_Price!A:H,2,FALSE),\"\")","v":""},null,null,null,{"$f":"IFERROR(VLOOKUP(B821,DKC_Price!A:H,3,FALSE),\"\")","v":""}]
[null,null,{"$f":"IFERROR(VLOOKUP(B822,DKC_Price!A:H,2,FALSE),\"\")","v":""},null,null,null,{"$f":"IFERROR(VLOOKUP(B822,DKC_Price!A:H,3,FALSE),\"\")","v":""}]
[null,null,{"$f":"IFERROR(VLOOKUP(B823,DKC_Price!A:H,2,FALSE),\"\")","v":""},null,null,null,{"$f":"IFERROR(VLOOKUP(B823,DKC_Price!A:H,3,FALSE),\"\")","v":""}]
[null,null,{"$f":"IFERROR(VLOOKUP(B824,DKC_Price!A:H,2,FALSE),\"\")","v":""},null,null,null,{"$f":"IFERROR(VLOOKUP(B824,DKC_Price!A:H,3,FALSE),\"\")","v":""}]
[null,null,{"$f":"IFERROR(VLOOKUP(B825,DKC_Price!A:H,2,FALSE),\"\")","v":""},null,null,null,{"$f":"IFERROR(VLOOKUP(B825,DKC_Price!A:H,3,FALSE),\"\")","v":""}]
[null,null,{"$f":"IFERROR(VLOOKUP(B826,DKC_Price!A:H,2,FALSE),\"\")","v":""},null,null,null,{"$f":"IFERROR(VLOOKUP(B826,DKC_Price!A:H,3,FALSE),\"\")","v":""}]
[null,null,{"$f":"IFERROR(VLOOKUP(B827,DKC_Price!A:H,2,FALSE),\"\")","v":""},null,null,null,{"$f":"IFERROR(VLOOKUP(B827,DKC_Price!A:H,3,FALSE),\"\")","v":""}]
[null,null,{"$f":"IFERROR(VLOOKUP(B828,DKC_Price!A:H,2,FALSE),\"\")","v":""},null,null,null,{"$f":"IFERROR(VLOOKUP(B828,DKC_Price!A:H,3,FALSE),\"\")","v":""}]
[null,null,{"$f":"IFERROR(VLOOKUP(B829,DKC_Price!A:H,2,FALSE),\"\")","v":""},null,null,null,{"$f":"IFERROR(VLOOKUP(B829,DKC_Price!A:H,3,FALSE),\"\")","v":""}]
[null,null,{"$f":"IFERROR(VLOOKUP(B830,DKC_Price!A:H,2,FALSE),\"\")","v":""},null,null,null,{"$f":"IFERROR(VLOOKUP(B830,DKC_Price!A:H,3,FALSE),\"\")","v":""}]
[null,null,{"$f":"IFERROR(VLOOKUP(B831,DKC_Price!A:H,2,FALSE),\"\")","v":""},null,null,null,{"$f":"IFERROR(VLOOKUP(B831,DKC_Price!A:H,3,FALSE),\"\")","v":""}]
[null,null,{"$f":"IFERROR(VLOOKUP(B832,DKC_Price!A:H,2,FALSE),\"\")","v":""},null,null,null,{"$f":"IFERROR(VLOOKUP(B832,DKC_Price!A:H,3,FALSE),\"\")","v":""}]
[null,null,{"$f":"IFERROR(VLOOKUP(B833,DKC_Price!A:H,2,FALSE),\"\")","v":""},null,null,null,{"$f":"IFERROR(VLOOKUP(B833,DKC_Price!A:H,3,FALSE),\"\")","v":""}]
[null,null,{"$f":"IFERROR(VLOOKUP(B834,DKC_Price!A:H,2,FALSE),\"\")","v":""},null,null,null,{"$f":"IFERROR(VLOOKUP(B834,DKC_Price!A:H,3,FALSE),\"\")","v":""}]
[null,null,{"$f":"IFERROR(VLOOKUP(B835,DKC_Price!A:H,2,FALSE),\"\")","v":""},null,null,null,{"$f":"IFERROR(VLOOKUP(B835,DKC_Price!A:H,3,FALSE),\"\")","v":""}]
[null,null,{"$f":"IFERROR(VLOOKUP(B836,DKC_Price!A:H,2,FALSE),\"\")","v":""},null,null,null,{"$f":"IFERROR(VLOOKUP(B836,DKC_Price!A:H,3,FALSE),\"\")","v":""}]
[null,null,{"$f":"IFERROR(VLOOKUP(B837,DKC_Price!A:H,2,FALSE),\"\")","v":""},null,null,null,{"$f":"IFERROR(VLOOKUP(B837,DKC_Price!A:H,3,FALSE),\"\")","v":""}]
[null,null,{"$f":"IFERROR(VLOOKUP(B838,DKC_Price!A:H,2,FALSE),\"\")","v":""},null,null,null,{"$f":"IFERROR(VLOOKUP(B838,DKC_Price!A:H,3,FALSE),\"\")","v":""}]
[null,null,{"$f":"IFERROR(VLOOKUP(B839,DKC_Price!A:H,2,FALSE),\"\")","v":""},null,null,null,{"$f":"IFERROR(VLOOKUP(B839,DKC_Price!A:H,3,FALSE),\"\")","v":""}]
[null,null,{"$f":"IFERROR(VLOOKUP(B840,DKC_Price!A:H,2,FALSE),\"\")","v":""},null,null,null,{"$f":"IFERROR(VLOOKUP(B840,DKC_Price!A:H,3,FALSE),\"\")","v":""}]
[null,null,{"$f":"IFERROR(VLOOKUP(B841,DKC_Price!A:H,2,FALSE),\"\")","v":""},null,null,null,{"$f":"IFERROR(VLOOKUP(B841,DKC_Price!A:H,3,FALSE),\"\")","v":""}]
[null,null,{"$f":"IFERROR(VLOOKUP(B842,DKC_Price!A:H,2,FALSE),\"\")","v":""},null,null,null,{"$f":"IFERROR(VLOOKUP(B842,DKC_Price!A:H,3,FALSE),\"\")","v":""}]
[null,null,{"$f":"IFERROR(VLOOKUP(B843,DKC_Price!A:H,2,FALSE),\"\")","v":""},null,null,null,{"$f":"IFERROR(VLOOKUP(B843,DKC_Price!A:H,3,FALSE),\"\")","v":""}]
[null,null,{"$f":"IFERROR(VLOOKUP(B844,DKC_Price!A:H,2,FALSE),\"\")","v":""},null,null,null,{"$f":"IFERROR(VLOOKUP(B844,DKC_Price!A:H,3,FALSE),\"\")","v":""}]
[null,null,{"$f":"IFERROR(VLOOKUP(B845,DKC_Price!A:H,2,FALSE),\"\")","v":""},null,null,null,{"$f":"IFERROR(VLOOKUP(B845,DKC_Price!A:H,3,FALSE),\"\")","v":""}]
[null,null,{"$f":"IFERROR(VLOOKUP(B846,DKC_Price!A:H,2,FALSE),\"\")","v":""},null,null,null,{"$f":"IFERROR(VLOOKUP(B846,DKC_Price!A:H,3,FALSE),\"\")","v":""}]
[null,null,{"$f":"IFERROR(VLOOKUP(B847,DKC_Price!A:H,2,FALSE),\"\")","v":""},null,null,null,{"$f":"IFERROR(VLOOKUP(B847,DKC_Price!A:H,3,FALSE),\"\")","v":""}]
[null,null,{"$f":"IFERROR(VLOOKUP(B848,DKC_Price!A:H,2,FALSE),\"\")","v":""},null,null,null,{"$f":"IFERROR(VLOOKUP(B848,DKC_Price!A:H,3,FALSE),\"\")","v":""}]
[null,null,{"$f":"IFERROR(VLOOKUP(B849,DKC_Price!A:H,2,FALSE),\"\")","v":""},null,null,null,{"$f":"IFERROR(VLOOKUP(B849,DKC_Price!A:H,3,FALSE),\"\")","v":""}]
[null,null,{"$f":"IFERROR(VLOOKUP(B850,DKC_Price!A:H,2,FALSE),\"\")","v":""},null,null,null,{"$f":"IFERROR(VLOOKUP(B850,DKC_Price!A:H,3,FALSE),\"\")","v":""}]
[null,null,{"$f":"IFERROR(VLOOKUP(B851,DKC_Price!A:H,2,FALSE),\"\")","v":""},null,null,null,{"$f":"IFERROR(VLOOKUP(B851,DKC_Price!A:H,3,FALSE),\"\")","v":""}]
[null,null,{"$f":"IFERROR(VLOOKUP(B852,DKC_Price!A:H,2,FALSE),\"\")","v":""},null,null,null,{"$f":"IFERROR(VLOOKUP(B852,DKC_Price!A:H,3,FALSE),\"\")","v":""}]
[null,null,{"$f":"IFERROR(VLOOKUP(B853,DKC_Price!A:H,2,FALSE),\"\")","v":""},null,null,null,{"$f":"IFERROR(VLOOKUP(B853,DKC_Price!A:H,3,FALSE),\"\")","v":""}]
[null,null,{"$f":"IFERROR(VLOOKUP(B854,DKC_Price!A:H,2,FALSE),\"\")","v":""},null,null,null,{"$f":"IFERROR(VLOOKUP(B854,DKC_Price!A:H,3,FALSE),\"\")","v":""}]
[null,null,{"$f":"IFERROR(VLOOKUP(B855,DKC_Price!A:H,2,FALSE),\"\")","v":""},null,null,null,{"$f":"IFERROR(VLOOKUP(B855,DKC_Price!A:H,3,FALSE),\"\")","v":""}]
[null,null,{"$f":"IFERROR(VLOOKUP(B856,DKC_Price!A:H,2,FALSE),\"\")","v":""},null,null,null,{"$f":"IFERROR(VLOOKUP(B856,DKC_Price!A:H,3,FALSE),\"\")","v":""}]
[null,null,{"$f":"IFERROR(VLOOKUP(B857,DKC_Price!A:H,2,FALSE),\"\")","v":""},null,null,null,{"$f":"IFERROR(VLOOKUP(B857,DKC_Price!A:H,3,FALSE),\"\")","v":""}]
[null,null,{"$f":"IFERROR(VLOOKUP(B858,DKC_Price!A:H,2,FALSE),\"\")","v":""},null,null,null,{"$f":"IFERROR(VLOOKUP(B858,DKC_Price!A:H,3,FALSE),\"\")","v":""}]
[null,null,{"$f":"IFERROR(VLOOKUP(B859,DKC_Price!A:H,2,FALSE),\"\")","v":""},null,null,null,{"$f":"IFERROR(VLOOKUP(B859,DKC_Price!A:H,3,FALSE),\"\")","v":""}]
[null,null,{"$f":"IFERROR(VLOOKUP(B860,DKC_Price!A:H,2,FALSE),\"\")","v":""},null,null,null,{"$f":"IFERROR(VLOOKUP(B860,DKC_Price!A:H,3,FALSE),\"\")","v":""}]
[null,null,{"$f":"IFERROR(VLOOKUP(B861,DKC_Price!A:H,2,FALSE),\"\")","v":""},null,null,null,{"$f":"IFERROR(VLOOKUP(B861,DKC_Price!A:H,3,FALSE),\"\")","v":""}]
[null,null,{"$f":"IFERROR(VLOOKUP(B862,DKC_Price!A:H,2,FALSE),\"\")","v":""},null,null,null,{"$f":"IFERROR(VLOOKUP(B862,DKC_Price!A:H,3,FALSE),\"\")","v":""}]
[null,null,{"$f":"IFERROR(VLOOKUP(B863,DKC_Price!A:H,2,FALSE),\"\")","v":""},null,null,null,{"$f":"IFERROR(VLOOKUP(B863,DKC_Price!A:H,3,FALSE),\"\")","v":""}]
[null,null,{"$f":"IFERROR(VLOOKUP(B864,DKC_Price!A:H,2,FALSE),\"\")","v":""},null,null,null,{"$f":"IFERROR(VLOOKUP(B864,DKC_Price!A:H,3,FALSE),\"\")","v":""}]
[null,null,{"$f":"IFERROR(VLOOKUP(B865,DKC_Price!A:H,2,FALSE),\"\")","v":""},null,null,null,{"$f":"IFERROR(VLOOKUP(B865,DKC_Price!A:H,3,FALSE),\"\")","v":""}]
[null,null,{"$f":"IFERROR(VLOOKUP(B866,DKC_Price!A:H,2,FALSE),\"\")","v":""},null,null,null,{"$f":"IFERROR(VLOOKUP(B866,DKC_Price!A:H,3,FALSE),\"\")","v":""}]
[null,null,{"$f":"IFERROR(VLOOKUP(B867,DKC_Price!A:H,2,FALSE),\"\")","v":""},null,null,null,{"$f":"IFERROR(VLOOKUP(B867,DKC_Price!A:H,3,FALSE),\"\")","v":""}]
[null,null,{"$f":"IFERROR(VLOOKUP(B868,DKC_Price!A:H,2,FALSE),\"\")","v":""},null,null,null,{"$f":"IFERROR(VLOOKUP(B868,DKC_Price!A:H,3,FALSE),\"\")","v":""}]
[null,null,{"$f":"IFERROR(VLOOKUP(B869,DKC_Price!A:H,2,FALSE),\"\")","v":""},null,null,null,{"$f":"IFERROR(VLOOKUP(B869,DKC_Price!A:H,3,FALSE),\"\")","v":""}]
[null,null,{"$f":"IFERROR(VLOOKUP(B870,DKC_Price!A:H,2,FALSE),\"\")","v":""},null,null,null,{"$f":"IFERROR(VLOOKUP(B870,DKC_Price!A:H,3,FALSE),\"\")","v":""}]
[null,null,{"$f":"IFERROR(VLOOKUP(B871,DKC_Price!A:H,2,FALSE),\"\")","v":""},null,null,null,{"$f":"IFERROR(VLOOKUP(B871,DKC_Price!A:H,3,FALSE),\"\")","v":""}]
[null,null,{"$f":"IFERROR(VLOOKUP(B872,DKC_Price!A:H,2,FALSE),\"\")","v":""},null,null,null,{"$f":"IFERROR(VLOOKUP(B872,DKC_Price!A:H,3,FALSE),\"\")","v":""}]
[null,null,{"$f":"IFERROR(VLOOKUP(B873,DKC_Price!A:H,2,FALSE),\"\")","v":""},null,null,null,{"$f":"IFERROR(VLOOKUP(B873,DKC_Price!A:H,3,FALSE),\"\")","v":""}]
[null,null,{"$f":"IFERROR(VLOOKUP(B874,DKC_Price!A:H,2,FALSE),\"\")","v":""},null,null,null,{"$f":"IFERROR(VLOOKUP(B874,DKC_Price!A:H,3,FALSE),\"\")","v":""}]
[null,null,{"$f":"IFERROR(VLOOKUP(B875,DKC_Price!A:H,2,FALSE),\"\")","v":""},null,null,null,{"$f":"IFERROR(VLOOKUP(B875,DKC_Price!A:H,3,FALSE),\"\")","v":""}]
[null,null,{"$f":"IFERROR(VLOOKUP(B876,DKC_Price!A:H,2,FALSE),\"\")","v":""},null,null,null,{"$f":"IFERROR(VLOOKUP(B876,DKC_Price!A:H,3,FALSE),\"\")","v":""}]
[null,null,{"$f":"IFERROR(VLOOKUP(B877,DKC_Price!A:H,2,FALSE),\"\")","v":""},null,null,null,{"$f":"IFERROR(VLOOKUP(B877,DKC_Price!A:H,3,FALSE),\"\")","v":""}]
[null,null,{"$f":"IFERROR(VLOOKUP(B878,DKC_Price!A:H,2,FALSE),\"\")","v":""},null,null,null,{"$f":"IFERROR(VLOOKUP(B878,DKC_Price!A:H,3,FALSE),\"\")","v":""}]
[null,null,{"$f":"IFERROR(VLOOKUP(B879,DKC_Price!A:H,2,FALSE),\"\")","v":""},null,null,null,{"$f":"IFERROR(VLOOKUP(B879,DKC_Price!A:H,3,FALSE),\"\")","v":""}]
[null,null,{"$f":"IFERROR(VLOOKUP(B880,DKC_Price!A:H,2,FALSE),\"\")","v":""},null,null,null,{"$f":"IFERROR(VLOOKUP(B880,DKC_Price!A:H,3,FALSE),\"\")","v":""}]
[null,null,{"$f":"IFERROR(VLOOKUP(B881,DKC_Price!A:H,2,FALSE),\"\")","v":""},null,null,null,{"$f":"IFERROR(VLOOKUP(B881,DKC_Price!A:H,3,FALSE),\"\")","v":""}]
[null,null,{"$f":"IFERROR(VLOOKUP(B882,DKC_Price!A:H,2,FALSE),\"\")","v":""},null,null,null,{"$f":"IFERROR(VLOOKUP(B882,DKC_Price!A:H,3,FALSE),\"\")","v":""}]
[null,null,{"$f":"IFERROR(VLOOKUP(B883,DKC_Price!A:H,2,FALSE),\"\")","v":""},null,null,null,{"$f":"IFERROR(VLOOKUP(B883,DKC_Price!A:H,3,FALSE),\"\")","v":""}]
[null,null,{"$f":"IFERROR(VLOOKUP(B884,DKC_Price!A:H,2,FALSE),\"\")","v":""},null,null,null,{"$f":"IFERROR(VLOOKUP(B884,DKC_Price!A:H,3,FALSE),\"\")","v":""}]
[null,null,{"$f":"IFERROR(VLOOKUP(B885,DKC_Price!A:H,2,FALSE),\"\")","v":""},null,null,null,{"$f":"IFERROR(VLOOKUP(B885,DKC_Price!A:H,3,FALSE),\"\")","v":""}]
[null,null,{"$f":"IFERROR(VLOOKUP(B886,DKC_Price!A:H,2,FALSE),\"\")","v":""},null,null,null,{"$f":"IFERROR(VLOOKUP(B886,DKC_Price!A:H,3,FALSE),\"\")","v":""}]
[null,null,{"$f":"IFERROR(VLOOKUP(B887,DKC_Price!A:H,2,FALSE),\"\")","v":""},null,null,null,{"$f":"IFERROR(VLOOKUP(B887,DKC_Price!A:H,3,FALSE),\"\")","v":""}]
[null,null,{"$f":"IFERROR(VLOOKUP(B888,DKC_Price!A:H,2,FALSE),\"\")","v":""},null,null,null,{"$f":"IFERROR(VLOOKUP(B888,DKC_Price!A:H,3,FALSE),\"\")","v":""}]
[null,null,{"$f":"IFERROR(VLOOKUP(B889,DKC_Price!A:H,2,FALSE),\"\")","v":""},null,null,null,{"$f":"IFERROR(VLOOKUP(B889,DKC_Price!A:H,3,FALSE),\"\")","v":""}]
[null,null,{"$f":"IFERROR(VLOOKUP(B890,DKC_Price!A:H,2,FALSE),\"\")","v":""},null,null,null,{"$f":"IFERROR(VLOOKUP(B890,DKC_Price!A:H,3,FALSE),\"\")","v":""}]
[null,null,{"$f":"IFERROR(VLOOKUP(B891,DKC_Price!A:H,2,FALSE),\"\")","v":""},null,null,null,{"$f":"IFERROR(VLOOKUP(B891,DKC_Price!A:H,3,FALSE),\"\")","v":""}]
[null,null,{"$f":"IFERROR(VLOOKUP(B892,DKC_Price!A:H,2,FALSE),\"\")","v":""},null,null,null,{"$f":"IFERROR(VLOOKUP(B892,DKC_Price!A:H,3,FALSE),\"\")","v":""}]
[null,null,{"$f":"IFERROR(VLOOKUP(B893,DKC_Price!A:H,2,FALSE),\"\")","v":""},null,null,null,{"$f":"IFERROR(VLOOKUP(B893,DKC_Price!A:H,3,FALSE),\"\")","v":""}]
[null,null,{"$f":"IFERROR(VLOOKUP(B894,DKC_Price!A:H,2,FALSE),\"\")","v":""},null,null,null,{"$f":"IFERROR(VLOOKUP(B894,DKC_Price!A:H,3,FALSE),\"\")","v":""}]
[null,null,{"$f":"IFERROR(VLOOKUP(B895,DKC_Price!A:H,2,FALSE),\"\")","v":""},null,null,null,{"$f":"IFERROR(VLOOKUP(B895,DKC_Price!A:H,3,FALSE),\"\")","v":""}]
[null,null,{"$f":"IFERROR(VLOOKUP(B896,DKC_Price!A:H,2,FALSE),\"\")","v":""},null,null,null,{"$f":"IFERROR(VLOOKUP(B896,DKC_Price!A:H,3,FALSE),\"\")","v":""}]
[null,null,{"$f":"IFERROR(VLOOKUP(B897,DKC_Price!A:H,2,FALSE),\"\")","v":""},null,null,null,{"$f":"IFERROR(VLOOKUP(B897,DKC_Price!A:H,3,FALSE),\"\")","v":""}]
[null,null,{"$f":"IFERROR(VLOOKUP(B898,DKC_Price!A:H,2,FALSE),\"\")","v":""},null,null,null,{"$f":"IFERROR(VLOOKUP(B898,DKC_Price!A:H,3,FALSE),\"\")","v":""}]
[null,null,{"$f":"IFERROR(VLOOKUP(B899,DKC_Price!A:H,2,FALSE),\"\")","v":""},null,null,null,{"$f":"IFERROR(VLOOKUP(B899,DKC_Price!A:H,3,FALSE),\"\")","v":""}]
[null,null,{"$f":"IFERROR(VLOOKUP(B900,DKC_Price!A:H,2,FALSE),\"\")","v":""},null,null,null,{"$f":"IFERROR(VLOOKUP(B900,DKC_Price!A:H,3,FALSE),\"\")","v":""}]
[null,null,{"$f":"IFERROR(VLOOKUP(B901,DKC_Price!A:H,2,FALSE),\"\")","v":""},null,null,null,{"$f":"IFERROR(VLOOKUP(B901,DKC_Price!A:H,3,FALSE),\"\")","v":""}]
[null,null,{"$f":"IFERROR(VLOOKUP(B902,DKC_Price!A:H,2,FALSE),\"\")","v":""},null,null,null,{"$f":"IFERROR(VLOOKUP(B902,DKC_Price!A:H,3,FALSE),\"\")","v":""}]
[null,null,{"$f":"IFERROR(VLOOKUP(B903,DKC_Price!A:H,2,FALSE),\"\")","v":""},null,null,null,{"$f":"IFERROR(VLOOKUP(B903,DKC_Price!A:H,3,FALSE),\"\")","v":""}]
[null,null,{"$f":"IFERROR(VLOOKUP(B904,DKC_Price!A:H,2,FALSE),\"\")","v":""},null,null,null,{"$f":"IFERROR(VLOOKUP(B904,DKC_Price!A:H,3,FALSE),\"\")","v":""}]
[null,null,{"$f":"IFERROR(VLOOKUP(B905,DKC_Price!A:H,2,FALSE),\"\")","v":""},null,null,null,{"$f":"IFERROR(VLOOKUP(B905,DKC_Price!A:H,3,FALSE),\"\")","v":""}]
[null,null,{"$f":"IFERROR(VLOOKUP(B906,DKC_Price!A:H,2,FALSE),\"\")","v":""},null,null,null,{"$f":"IFERROR(VLOOKUP(B906,DKC_Price!A:H,3,FALSE),\"\")","v":""}]
[null,null,{"$f":"IFERROR(VLOOKUP(B907,DKC_Price!A:H,2,FALSE),\"\")","v":""},null,null,null,{"$f":"IFERROR(VLOOKUP(B907,DKC_Price!A:H,3,FALSE),\"\")","v":""}]
[null,null,{"$f":"IFERROR(VLOOKUP(B908,DKC_Price!A:H,2,FALSE),\"\")","v":""},null,null,null,{"$f":"IFERROR(VLOOKUP(B908,DKC_Price!A:H,3,FALSE),\"\")","v":""}]
[null,null,{"$f":"IFERROR(VLOOKUP(B909,DKC_Price!A:H,2,FALSE),\"\")","v":""},null,null,null,{"$f":"IFERROR(VLOOKUP(B909,DKC_Price!A:H,3,FALSE),\"\")","v":""}]
[null,null,{"$f":"IFERROR(VLOOKUP(B910,DKC_Price!A:H,2,FALSE),\"\")","v":""},null,null,null,{"$f":"IFERROR(VLOOKUP(B910,DKC_Price!A:H,3,FALSE),\"\")","v":""}]
[null,null,{"$f":"IFERROR(VLOOKUP(B911,DKC_Price!A:H,2,FALSE),\"\")","v":""},null,null,null,{"$f":"IFERROR(VLOOKUP(B911,DKC_Price!A:H,3,FALSE),\"\")","v":""}]
[null,null,{"$f":"IFERROR(VLOOKUP(B912,DKC_Price!A:H,2,FALSE),\"\")","v":""},null,null,null,{"$f":"IFERROR(VLOOKUP(B912,DKC_Price!A:H,3,FALSE),\"\")","v":""}]
[null,null,{"$f":"IFERROR(VLOOKUP(B913,DKC_Price!A:H,2,FALSE),\"\")","v":""},null,null,null,{"$f":"IFERROR(VLOOKUP(B913,DKC_Price!A:H,3,FALSE),\"\")","v":""}]
[null,null,{"$f":"IFERROR(VLOOKUP(B914,DKC_Price!A:H,2,FALSE),\"\")","v":""},null,null,null,{"$f":"IFERROR(VLOOKUP(B914,DKC_Price!A:H,3,FALSE),\"\")","v":""}]
[null,null,{"$f":"IFERROR(VLOOKUP(B915,DKC_Price!A:H,2,FALSE),\"\")","v":""},null,null,null,{"$f":"IFERROR(VLOOKUP(B915,DKC_Price!A:H,3,FALSE),\"\")","v":""}]
[null,null,{"$f":"IFERROR(VLOOKUP(B916,DKC_Price!A:H,2,FALSE),\"\")","v":""},null,null,null,{"$f":"IFERROR(VLOOKUP(B916,DKC_Price!A:H,3,FALSE),\"\")","v":""}]
[null,null,{"$f":"IFERROR(VLOOKUP(B917,DKC_Price!A:H,2,FALSE),\"\")","v":""},null,null,null,{"$f":"IFERROR(VLOOKUP(B917,DKC_Price!A:H,3,FALSE),\"\")","v":""}]
[null,null,{"$f":"IFERROR(VLOOKUP(B918,DKC_Price!A:H,2,FALSE),\"\")","v":""},null,null,null,{"$f":"IFERROR(VLOOKUP(B918,DKC_Price!A:H,3,FALSE),\"\")","v":""}]
[null,null,{"$f":"IFERROR(VLOOKUP(B919,DKC_Price!A:H,2,FALSE),\"\")","v":""},null,null,null,{"$f":"IFERROR(VLOOKUP(B919,DKC_Price!A:H,3,FALSE),\"\")","v":""}]
[null,null,{"$f":"IFERROR(VLOOKUP(B920,DKC_Price!A:H,2,FALSE),\"\")","v":""},null,null,null,{"$f":"IFERROR(VLOOKUP(B920,DKC_Price!A:H,3,FALSE),\"\")","v":""}]
[null,null,{"$f":"IFERROR(VLOOKUP(B921,DKC_Price!A:H,2,FALSE),\"\")","v":""},null,null,null,{"$f":"IFERROR(VLOOKUP(B921,DKC_Price!A:H,3,FALSE),\"\")","v":""}]
[null,null,{"$f":"IFERROR(VLOOKUP(B922,DKC_Price!A:H,2,FALSE),\"\")","v":""},null,null,null,{"$f":"IFERROR(VLOOKUP(B922,DKC_Price!A:H,3,FALSE),\"\")","v":""}]
[null,null,{"$f":"IFERROR(VLOOKUP(B923,DKC_Price!A:H,2,FALSE),\"\")","v":""},null,null,null,{"$f":"IFERROR(VLOOKUP(B923,DKC_Price!A:H,3,FALSE),\"\")","v":""}]
[null,null,{"$f":"IFERROR(VLOOKUP(B924,DKC_Price!A:H,2,FALSE),\"\")","v":""},null,null,null,{"$f":"IFERROR(VLOOKUP(B924,DKC_Price!A:H,3,FALSE),\"\")","v":""}]
[null,null,{"$f":"IFERROR(VLOOKUP(B925,DKC_Price!A:H,2,FALSE),\"\")","v":""},null,null,null,{"$f":"IFERROR(VLOOKUP(B925,DKC_Price!A:H,3,FALSE),\"\")","v":""}]
[null,null,{"$f":"IFERROR(VLOOKUP(B926,DKC_Price!A:H,2,FALSE),\"\")","v":""},null,null,null,{"$f":"IFERROR(VLOOKUP(B926,DKC_Price!A:H,3,FALSE),\"\")","v":""}]
[null,null,{"$f":"IFERROR(VLOOKUP(B927,DKC_Price!A:H,2,FALSE),\"\")","v":""},null,null,null,{"$f":"IFERROR(VLOOKUP(B927,DKC_Price!A:H,3,FALSE),\"\")","v":""}]
[null,null,{"$f":"IFERROR(VLOOKUP(B928,DKC_Price!A:H,2,FALSE),\"\")","v":""},null,null,null,{"$f":"IFERROR(VLOOKUP(B928,DKC_Price!A:H,3,FALSE),\"\")","v":""}]
[null,null,{"$f":"IFERROR(VLOOKUP(B929,DKC_Price!A:H,2,FALSE),\"\")","v":""},null,null,null,{"$f":"IFERROR(VLOOKUP(B929,DKC_Price!A:H,3,FALSE),\"\")","v":""}]
[null,null,{"$f":"IFERROR(VLOOKUP(B930,DKC_Price!A:H,2,FALSE),\"\")","v":""},null,null,null,{"$f":"IFERROR(VLOOKUP(B930,DKC_Price!A:H,3,FALSE),\"\")","v":""}]
[null,null,{"$f":"IFERROR(VLOOKUP(B931,DKC_Price!A:H,2,FALSE),\"\")","v":""},null,null,null,{"$f":"IFERROR(VLOOKUP(B931,DKC_Price!A:H,3,FALSE),\"\")","v":""}]
[null,null,{"$f":"IFERROR(VLOOKUP(B932,DKC_Price!A:H,2,FALSE),\"\")","v":""},null,null,null,{"$f":"IFERROR(VLOOKUP(B932,DKC_Price!A:H,3,FALSE),\"\")","v":""}]
[null,null,{"$f":"IFERROR(VLOOKUP(B933,DKC_Price!A:H,2,FALSE),\"\")","v":""},null,null,null,{"$f":"IFERROR(VLOOKUP(B933,DKC_Price!A:H,3,FALSE),\"\")","v":""}]
[null,null,{"$f":"IFERROR(VLOOKUP(B934,DKC_Price!A:H,2,FALSE),\"\")","v":""},null,null,null,{"$f":"IFERROR(VLOOKUP(B934,DKC_Price!A:H,3,FALSE),\"\")","v":""}]
[null,null,{"$f":"IFERROR(VLOOKUP(B935,DKC_Price!A:H,2,FALSE),\"\")","v":""},null,null,null,{"$f":"IFERROR(VLOOKUP(B935,DKC_Price!A:H,3,FALSE),\"\")","v":""}]
[null,null,{"$f":"IFERROR(VLOOKUP(B936,DKC_Price!A:H,2,FALSE),\"\")","v":""},null,null,null,{"$f":"IFERROR(VLOOKUP(B936,DKC_Price!A:H,3,FALSE),\"\")","v":""}]
[null,null,{"$f":"IFERROR(VLOOKUP(B937,DKC_Price!A:H,2,FALSE),\"\")","v":""},null,null,null,{"$f":"IFERROR(VLOOKUP(B937,DKC_Price!A:H,3,FALSE),\"\")","v":""}]
[null,null,{"$f":"IFERROR(VLOOKUP(B938,DKC_Price!A:H,2,FALSE),\"\")","v":""},null,null,null,{"$f":"IFERROR(VLOOKUP(B938,DKC_Price!A:H,3,FALSE),\"\")","v":""}]
[null,null,{"$f":"IFERROR(VLOOKUP(B939,DKC_Price!A:H,2,FALSE),\"\")","v":""},null,null,null,{"$f":"IFERROR(VLOOKUP(B939,DKC_Price!A:H,3,FALSE),\"\")","v":""}]
[null,null,{"$f":"IFERROR(VLOOKUP(B940,DKC_Price!A:H,2,FALSE),\"\")","v":""},null,null,null,{"$f":"IFERROR(VLOOKUP(B940,DKC_Price!A:H,3,FALSE),\"\")","v":""}]
[null,null,{"$f":"IFERROR(VLOOKUP(B941,DKC_Price!A:H,2,FALSE),\"\")","v":""},null,null,null,{"$f":"IFERROR(VLOOKUP(B941,DKC_Price!A:H,3,FALSE),\"\")","v":""}]
[null,null,{"$f":"IFERROR(VLOOKUP(B942,DKC_Price!A:H,2,FALSE),\"\")","v":""},null,null,null,{"$f":"IFERROR(VLOOKUP(B942,DKC_Price!A:H,3,FALSE),\"\")","v":""}]
[null,null,{"$f":"IFERROR(VLOOKUP(B943,DKC_Price!A:H,2,FALSE),\"\")","v":""},null,null,null,{"$f":"IFERROR(VLOOKUP(B943,DKC_Price!A:H,3,FALSE),\"\")","v":""}]
[null,null,{"$f":"IFERROR(VLOOKUP(B944,DKC_Price!A:H,2,FALSE),\"\")","v":""},null,null,null,{"$f":"IFERROR(VLOOKUP(B944,DKC_Price!A:H,3,FALSE),\"\")","v":""}]
[null,null,{"$f":"IFERROR(VLOOKUP(B945,DKC_Price!A:H,2,FALSE),\"\")","v":""},null,null,null,{"$f":"IFERROR(VLOOKUP(B945,DKC_Price!A:H,3,FALSE),\"\")","v":""}]
[null,null,{"$f":"IFERROR(VLOOKUP(B946,DKC_Price!A:H,2,FALSE),\"\")","v":""},null,null,null,{"$f":"IFERROR(VLOOKUP(B946,DKC_Price!A:H,3,FALSE),\"\")","v":""}]
[null,null,{"$f":"IFERROR(VLOOKUP(B947,DKC_Price!A:H,2,FALSE),\"\")","v":""},null,null,null,{"$f":"IFERROR(VLOOKUP(B947,DKC_Price!A:H,3,FALSE),\"\")","v":""}]
[null,null,{"$f":"IFERROR(VLOOKUP(B948,DKC_Price!A:H,2,FALSE),\"\")","v":""},null,null,null,{"$f":"IFERROR(VLOOKUP(B948,DKC_Price!A:H,3,FALSE),\"\")","v":""}]
[null,null,{"$f":"IFERROR(VLOOKUP(B949,DKC_Price!A:H,2,FALSE),\"\")","v":""},null,null,null,{"$f":"IFERROR(VLOOKUP(B949,DKC_Price!A:H,3,FALSE),\"\")","v":""}]
[null,null,{"$f":"IFERROR(VLOOKUP(B950,DKC_Price!A:H,2,FALSE),\"\")","v":""},null,null,null,{"$f":"IFERROR(VLOOKUP(B950,DKC_Price!A:H,3,FALSE),\"\")","v":""}]
[null,null,{"$f":"IFERROR(VLOOKUP(B951,DKC_Price!A:H,2,FALSE),\"\")","v":""},null,null,null,{"$f":"IFERROR(VLOOKUP(B951,DKC_Price!A:H,3,FALSE),\"\")","v":""}]
[null,null,{"$f":"IFERROR(VLOOKUP(B952,DKC_Price!A:H,2,FALSE),\"\")","v":""},null,null,null,{"$f":"IFERROR(VLOOKUP(B952,DKC_Price!A:H,3,FALSE),\"\")","v":""}]
[null,null,{"$f":"IFERROR(VLOOKUP(B953,DKC_Price!A:H,2,FALSE),\"\")","v":""},null,null,null,{"$f":"IFERROR(VLOOKUP(B953,DKC_Price!A:H,3,FALSE),\"\")","v":""}]
[null,null,{"$f":"IFERROR(VLOOKUP(B954,DKC_Price!A:H,2,FALSE),\"\")","v":""},null,null,null,{"$f":"IFERROR(VLOOKUP(B954,DKC_Price!A:H,3,FALSE),\"\")","v":""}]
[null,null,{"$f":"IFERROR(VLOOKUP(B955,DKC_Price!A:H,2,FALSE),\"\")","v":""},null,null,null,{"$f":"IFERROR(VLOOKUP(B955,DKC_Price!A:H,3,FALSE),\"\")","v":""}]
[null,null,{"$f":"IFERROR(VLOOKUP(B956,DKC_Price!A:H,2,FALSE),\"\")","v":""},null,null,null,{"$f":"IFERROR(VLOOKUP(B956,DKC_Price!A:H,3,FALSE),\"\")","v":""}]
[null,null,{"$f":"IFERROR(VLOOKUP(B957,DKC_Price!A:H,2,FALSE),\"\")","v":""},null,null,null,{"$f":"IFERROR(VLOOKUP(B957,DKC_Price!A:H,3,FALSE),\"\")","v":""}]
[null,null,{"$f":"IFERROR(VLOOKUP(B958,DKC_Price!A:H,2,FALSE),\"\")","v":""},null,null,null,{"$f":"IFERROR(VLOOKUP(B958,DKC_Price!A:H,3,FALSE),\"\")","v":""}]
[null,null,{"$f":"IFERROR(VLOOKUP(B959,DKC_Price!A:H,2,FALSE),\"\")","v":""},null,null,null,{"$f":"IFERROR(VLOOKUP(B959,DKC_Price!A:H,3,FALSE),\"\")","v":""}]
[null,null,{"$f":"IFERROR(VLOOKUP(B960,DKC_Price!A:H,2,FALSE),\"\")","v":""},null,null,null,{"$f":"IFERROR(VLOOKUP(B960,DKC_Price!A:H,3,FALSE),\"\")","v":""}]
[null,null,{"$f":"IFERROR(VLOOKUP(B961,DKC_Price!A:H,2,FALSE),\"\")","v":""},null,null,null,{"$f":"IFERROR(VLOOKUP(B961,DKC_Price!A:H,3,FALSE),\"\")","v":""}]
[null,null,{"$f":"IFERROR(VLOOKUP(B962,DKC_Price!A:H,2,FALSE),\"\")","v":""},null,null,null,{"$f":"IFERROR(VLOOKUP(B962,DKC_Price!A:H,3,FALSE),\"\")","v":""}]
[null,null,{"$f":"IFERROR(VLOOKUP(B963,DKC_Price!A:H,2,FALSE),\"\")","v":""},null,null,null,{"$f":"IFERROR(VLOOKUP(B963,DKC_Price!A:H,3,FALSE),\"\")","v":""}]
[null,null,{"$f":"IFERROR(VLOOKUP(B964,DKC_Price!A:H,2,FALSE),\"\")","v":""},null,null,null,{"$f":"IFERROR(VLOOKUP(B964,DKC_Price!A:H,3,FALSE),\"\")","v":""}]
[null,null,{"$f":"IFERROR(VLOOKUP(B965,DKC_Price!A:H,2,FALSE),\"\")","v":""},null,null,null,{"$f":"IFERROR(VLOOKUP(B965,DKC_Price!A:H,3,FALSE),\"\")","v":""}]
[null,null,{"$f":"IFERROR(VLOOKUP(B966,DKC_Price!A:H,2,FALSE),\"\")","v":""},null,null,null,{"$f":"IFERROR(VLOOKUP(B966,DKC_Price!A:H,3,FALSE),\"\")","v":""}]
[null,null,{"$f":"IFERROR(VLOOKUP(B967,DKC_Price!A:H,2,FALSE),\"\")","v":""},null,null,null,{"$f":"IFERROR(VLOOKUP(B967,DKC_Price!A:H,3,FALSE),\"\")","v":""}]
[null,null,{"$f":"IFERROR(VLOOKUP(B968,DKC_Price!A:H,2,FALSE),\"\")","v":""},null,null,null,{"$f":"IFERROR(VLOOKUP(B968,DKC_Price!A:H,3,FALSE),\"\")","v":""}]
[null,null,{"$f":"IFERROR(VLOOKUP(B969,DKC_Price!A:H,2,FALSE),\"\")","v":""},null,null,null,{"$f":"IFERROR(VLOOKUP(B969,DKC_Price!A:H,3,FALSE),\"\")","v":""}]
[null,null,{"$f":"IFERROR(VLOOKUP(B970,DKC_Price!A:H,2,FALSE),\"\")","v":""},null,null,null,{"$f":"IFERROR(VLOOKUP(B970,DKC_Price!A:H,3,FALSE),\"\")","v":""}]
[null,null,{"$f":"IFERROR(VLOOKUP(B971,DKC_Price!A:H,2,FALSE),\"\")","v":""},null,null,null,{"$f":"IFERROR(VLOOKUP(B971,DKC_Price!A:H,3,FALSE),\"\")","v":""}]
[null,null,{"$f":"IFERROR(VLOOKUP(B972,DKC_Price!A:H,2,FALSE),\"\")","v":""},null,null,null,{"$f":"IFERROR(VLOOKUP(B972,DKC_Price!A:H,3,FALSE),\"\")","v":""}]
[null,null,{"$f":"IFERROR(VLOOKUP(B973,DKC_Price!A:H,2,FALSE),\"\")","v":""},null,null,null,{"$f":"IFERROR(VLOOKUP(B973,DKC_Price!A:H,3,FALSE),\"\")","v":""}]
[null,null,{"$f":"IFERROR(VLOOKUP(B974,DKC_Price!A:H,2,FALSE),\"\")","v":""},null,null,null,{"$f":"IFERROR(VLOOKUP(B974,DKC_Price!A:H,3,FALSE),\"\")","v":""}]
[null,null,{"$f":"IFERROR(VLOOKUP(B975,DKC_Price!A:H,2,FALSE),\"\")","v":""},null,null,null,{"$f":"IFERROR(VLOOKUP(B975,DKC_Price!A:H,3,FALSE),\"\")","v":""}]
[null,null,{"$f":"IFERROR(VLOOKUP(B976,DKC_Price!A:H,2,FALSE),\"\")","v":""},null,null,null,{"$f":"IFERROR(VLOOKUP(B976,DKC_Price!A:H,3,FALSE),\"\")","v":""}]
[null,null,{"$f":"IFERROR(VLOOKUP(B977,DKC_Price!A:H,2,FALSE),\"\")","v":""},null,null,null,{"$f":"IFERROR(VLOOKUP(B977,DKC_Price!A:H,3,FALSE),\"\")","v":""}]
[null,null,{"$f":"IFERROR(VLOOKUP(B978,DKC_Price!A:H,2,FALSE),\"\")","v":""},null,null,null,{"$f":"IFERROR(VLOOKUP(B978,DKC_Price!A:H,3,FALSE),\"\")","v":""}]
[null,null,{"$f":"IFERROR(VLOOKUP(B979,DKC_Price!A:H,2,FALSE),\"\")","v":""},null,null,null,{"$f":"IFERROR(VLOOKUP(B979,DKC_Price!A:H,3,FALSE),\"\")","v":""}]
[null,null,{"$f":"IFERROR(VLOOKUP(B980,DKC_Price!A:H,2,FALSE),\"\")","v":""},null,null,null,{"$f":"IFERROR(VLOOKUP(B980,DKC_Price!A:H,3,FALSE),\"\")","v":""}]
[null,null,{"$f":"IFERROR(VLOOKUP(B981,DKC_Price!A:H,2,FALSE),\"\")","v":""},null,null,null,{"$f":"IFERROR(VLOOKUP(B981,DKC_Price!A:H,3,FALSE),\"\")","v":""}]
[null,null,{"$f":"IFERROR(VLOOKUP(B982,DKC_Price!A:H,2,FALSE),\"\")","v":""},null,null,null,{"$f":"IFERROR(VLOOKUP(B982,DKC_Price!A:H,3,FALSE),\"\")","v":""}]
[null,null,{"$f":"IFERROR(VLOOKUP(B983,DKC_Price!A:H,2,FALSE),\"\")","v":""},null,null,null,{"$f":"IFERROR(VLOOKUP(B983,DKC_Price!A:H,3,FALSE),\"\")","v":""}]
[null,null,{"$f":"IFERROR(VLOOKUP(B984,DKC_Price!A:H,2,FALSE),\"\")","v":""},null,null,null,{"$f":"IFERROR(VLOOKUP(B984,DKC_Price!A:H,3,FALSE),\"\")","v":""}]
[null,null,{"$f":"IFERROR(VLOOKUP(B985,DKC_Price!A:H,2,FALSE),\"\")","v":""},null,null,null,{"$f":"IFERROR(VLOOKUP(B985,DKC_Price!A:H,3,FALSE),\"\")","v":""}]
[null,null,{"$f":"IFERROR(VLOOKUP(B986,DKC_Price!A:H,2,FALSE),\"\")","v":""},null,null,null,{"$f":"IFERROR(VLOOKUP(B986,DKC_Price!A:H,3,FALSE),\"\")","v":""}]
[null,null,{"$f":"IFERROR(VLOOKUP(B987,DKC_Price!A:H,2,FALSE),\"\")","v":""},null,null,null,{"$f":"IFERROR(VLOOKUP(B987,DKC_Price!A:H,3,FALSE),\"\")","v":""}]
[null,null,{"$f":"IFERROR(VLOOKUP(B988,DKC_Price!A:H,2,FALSE),\"\")","v":""},null,null,null,{"$f":"IFERROR(VLOOKUP(B988,DKC_Price!A:H,3,FALSE),\"\")","v":""}]
[null,null,{"$f":"IFERROR(VLOOKUP(B989,DKC_Price!A:H,2,FALSE),\"\")","v":""},null,null,null,{"$f":"IFERROR(VLOOKUP(B989,DKC_Price!A:H,3,FALSE),\"\")","v":""}]
[null,null,{"$f":"IFERROR(VLOOKUP(B990,DKC_Price!A:H,2,FALSE),\"\")","v":""},null,null,null,{"$f":"IFERROR(VLOOKUP(B990,DKC_Price!A:H,3,FALSE),\"\")","v":""}]
[null,null,{"$f":"IFERROR(VLOOKUP(B991,DKC_Price!A:H,2,FALSE),\"\")","v":""},null,null,null,{"$f":"IFERROR(VLOOKUP(B991,DKC_Price!A:H,3,FALSE),\"\")","v":""}]
[null,null,{"$f":"IFERROR(VLOOKUP(B992,DKC_Price!A:H,2,FALSE),\"\")","v":""},null,null,null,{"$f":"IFERROR(VLOOKUP(B992,DKC_Price!A:H,3,FALSE),\"\")","v":""}]
[null,null,{"$f":"IFERROR(VLOOKUP(B993,DKC_Price!A:H,2,FALSE),\"\")","v":""},null,null,null,{"$f":"IFERROR(VLOOKUP(B993,DKC_Price!A:H,3,FALSE),\"\")","v":""}]
[null,null,{"$f":"IFERROR(VLOOKUP(B994,DKC_Price!A:H,2,FALSE),\"\")","v":""},null,null,null,{"$f":"IFERROR(VLOOKUP(B994,DKC_Price!A:H,3,FALSE),\"\")","v":""}]
[null,null,{"$f":"IFERROR(VLOOKUP(B995,DKC_Price!A:H,2,FALSE),\"\")","v":""},null,null,null,{"$f":"IFERROR(VLOOKUP(B995,DKC_Price!A:H,3,FALSE),\"\")","v":""}]
[null,null,{"$f":"IFERROR(VLOOKUP(B996,DKC_Price!A:H,2,FALSE),\"\")","v":""},null,null,null,{"$f":"IFERROR(VLOOKUP(B996,DKC_Price!A:H,3,FALSE),\"\")","v":""}]
[null,null,{"$f":"IFERROR(VLOOKUP(B997,DKC_Price!A:H,2,FALSE),\"\")","v":""},null,null,null,{"$f":"IFERROR(VLOOKUP(B997,DKC_Price!A:H,3,FALSE),\"\")","v":""}]
[null,null,{"$f":"IFERROR(VLOOKUP(B998,DKC_Price!A:H,2,FALSE),\"\")","v":""},null,null,null,{"$f":"IFERROR(VLOOKUP(B998,DKC_Price!A:H,3,FALSE),\"\")","v":""}]
[null,null,{"$f":"IFERROR(VLOOKUP(B999,DKC_Price!A:H,2,FALSE),\"\")","v":""},null,null,null,{"$f":"IFERROR(VLOOKUP(B999,DKC_Price!A:H,3,FALSE),\"\")","v":""}]
[null,null,{"$f":"IFERROR(VLOOKUP(B1000,DKC_Price!A:H,2,FALSE),\"\")","v":""},null,null,null,{"$f":"IFERROR(VLOOKUP(B1000,DKC_Price!A:H,3,FALSE),\"\")","v":""}]
[null,null,{"$f":"IFERROR(VLOOKUP(B1001,DKC_Price!A:H,2,FALSE),\"\")","v":""},null,null,null,{"$f":"IFERROR(VLOOKUP(B1001,DKC_Price!A:H,3,FALSE),\"\")","v":""}]
[null,null,{"$f":"IFERROR(VLOOKUP(B1002,DKC_Price!A:H,2,FALSE),\"\")","v":""},null,null,null,{"$f":"IFERROR(VLOOKUP(B1002,DKC_Price!A:H,3,FALSE),\"\")","v":""}]
[null,null,{"$f":"IFERROR(VLOOKUP(B1003,DKC_Price!A:H,2,FALSE),\"\")","v":""},null,null,null,{"$f":"IFERROR(VLOOKUP(B1003,DKC_Price!A:H,3,FALSE),\"\")","v":""}]
[null,null,{"$f":"IFERROR(VLOOKUP(B1004,DKC_Price!A:H,2,FALSE),\"\")","v":""},null,null,null,{"$f":"IFERROR(VLOOKUP(B1004,DKC_Price!A:H,3,FALSE),\"\")","v":""}]
[null,null,{"$f":"IFERROR(VLOOKUP(B1005,DKC_Price!A:H,2,FALSE),\"\")","v":""},null,null,null,{"$f":"IFERROR(VLOOKUP(B1005,DKC_Price!A:H,3,FALSE),\"\")","v":""}]
[null,null,{"$f":"IFERROR(VLOOKUP(B1006,DKC_Price!A:H,2,FALSE),\"\")","v":""},null,null,null,{"$f":"IFERROR(VLOOKUP(B1006,DKC_Price!A:H,3,FALSE),\"\")","v":""}]
[null,null,{"$f":"IFERROR(VLOOKUP(B1007,DKC_Price!A:H,2,FALSE),\"\")","v":""},null,null,null,{"$f":"IFERROR(VLOOKUP(B1007,DKC_Price!A:H,3,FALSE),\"\")","v":""}]
[null,null,{"$f":"IFERROR(VLOOKUP(B1008,DKC_Price!A:H,2,FALSE),\"\")","v":""},null,null,null,{"$f":"IFERROR(VLOOKUP(B1008,DKC_Price!A:H,3,FALSE),\"\")","v":""}]
[null,null,{"$f":"IFERROR(VLOOKUP(B1009,DKC_Price!A:H,2,FALSE),\"\")","v":""},null,null,null,{"$f":"IFERROR(VLOOKUP(B1009,DKC_Price!A:H,3,FALSE),\"\")","v":""}]
[null,null,{"$f":"IFERROR(VLOOKUP(B1010,DKC_Price!A:H,2,FALSE),\"\")","v":""},null,null,null,{"$f":"IFERROR(VLOOKUP(B1010,DKC_Price!A:H,3,FALSE),\"\")","v":""}]
[null,null,{"$f":"IFERROR(VLOOKUP(B1011,DKC_Price!A:H,2,FALSE),\"\")","v":""},null,null,null,{"$f":"IFERROR(VLOOKUP(B1011,DKC_Price!A:H,3,FALSE),\"\")","v":""}]
[null,null,{"$f":"IFERROR(VLOOKUP(B1012,DKC_Price!A:H,2,FALSE),\"\")","v":""},null,null,null,{"$f":"IFERROR(VLOOKUP(B1012,DKC_Price!A:H,3,FALSE),\"\")","v":""}]
[null,null,{"$f":"IFERROR(VLOOKUP(B1013,DKC_Price!A:H,2,FALSE),\"\")","v":""},null,null,null,{"$f":"IFERROR(VLOOKUP(B1013,DKC_Price!A:H,3,FALSE),\"\")","v":""}]
[null,null,{"$f":"IFERROR(VLOOKUP(B1014,DKC_Price!A:H,2,FALSE),\"\")","v":""},null,null,null,{"$f":"IFERROR(VLOOKUP(B1014,DKC_Price!A:H,3,FALSE),\"\")","v":""}]
[null,null,{"$f":"IFERROR(VLOOKUP(B1015,DKC_Price!A:H,2,FALSE),\"\")","v":""},null,null,null,{"$f":"IFERROR(VLOOKUP(B1015,DKC_Price!A:H,3,FALSE),\"\")","v":""}]
[null,null,{"$f":"IFERROR(VLOOKUP(B1016,DKC_Price!A:H,2,FALSE),\"\")","v":""},null,null,null,{"$f":"IFERROR(VLOOKUP(B1016,DKC_Price!A:H,3,FALSE),\"\")","v":""}]
[null,null,{"$f":"IFERROR(VLOOKUP(B1017,DKC_Price!A:H,2,FALSE),\"\")","v":""},null,null,null,{"$f":"IFERROR(VLOOKUP(B1017,DKC_Price!A:H,3,FALSE),\"\")","v":""}]
[null,null,{"$f":"IFERROR(VLOOKUP(B1018,DKC_Price!A:H,2,FALSE),\"\")","v":""},null,null,null,{"$f":"IFERROR(VLOOKUP(B1018,DKC_Price!A:H,3,FALSE),\"\")","v":""}]
[null,null,{"$f":"IFERROR(VLOOKUP(B1019,DKC_Price!A:H,2,FALSE),\"\")","v":""},null,null,null,{"$f":"IFERROR(VLOOKUP(B1019,DKC_Price!A:H,3,FALSE),\"\")","v":""}]
[null,null,{"$f":"IFERROR(VLOOKUP(B1020,DKC_Price!A:H,2,FALSE),\"\")","v":""},null,null,null,{"$f":"IFERROR(VLOOKUP(B1020,DKC_Price!A:H,3,FALSE),\"\")","v":""}]
[null,null,{"$f":"IFERROR(VLOOKUP(B1021,DKC_Price!A:H,2,FALSE),\"\")","v":""},null,null,null,{"$f":"IFERROR(VLOOKUP(B1021,DKC_Price!A:H,3,FALSE),\"\")","v":""}]
[null,null,{"$f":"IFERROR(VLOOKUP(B1022,DKC_Price!A:H,2,FALSE),\"\")","v":""},null,null,null,{"$f":"IFERROR(VLOOKUP(B1022,DKC_Price!A:H,3,FALSE),\"\")","v":""}]
[null,null,{"$f":"IFERROR(VLOOKUP(B1023,DKC_Price!A:H,2,FALSE),\"\")","v":""},null,null,null,{"$f":"IFERROR(VLOOKUP(B1023,DKC_Price!A:H,3,FALSE),\"\")","v":""}]
[null,null,{"$f":"IFERROR(VLOOKUP(B1024,DKC_Price!A:H,2,FALSE),\"\")","v":""},null,null,null,{"$f":"IFERROR(VLOOKUP(B1024,DKC_Price!A:H,3,FALSE),\"\")","v":""}]
[null,null,{"$f":"IFERROR(VLOOKUP(B1025,DKC_Price!A:H,2,FALSE),\"\")","v":""},null,null,null,{"$f":"IFERROR(VLOOKUP(B1025,DKC_Price!A:H,3,FALSE),\"\")","v":""}]
[null,null,{"$f":"IFERROR(VLOOKUP(B1026,DKC_Price!A:H,2,FALSE),\"\")","v":""},null,null,null,{"$f":"IFERROR(VLOOKUP(B1026,DKC_Price!A:H,3,FALSE),\"\")","v":""}]
[null,null,{"$f":"IFERROR(VLOOKUP(B1027,DKC_Price!A:H,2,FALSE),\"\")","v":""},null,null,null,{"$f":"IFERROR(VLOOKUP(B1027,DKC_Price!A:H,3,FALSE),\"\")","v":""}]
[null,null,{"$f":"IFERROR(VLOOKUP(B1028,DKC_Price!A:H,2,FALSE),\"\")","v":""},null,null,null,{"$f":"IFERROR(VLOOKUP(B1028,DKC_Price!A:H,3,FALSE),\"\")","v":""}]
[null,null,{"$f":"IFERROR(VLOOKUP(B1029,DKC_Price!A:H,2,FALSE),\"\")","v":""},null,null,null,{"$f":"IFERROR(VLOOKUP(B1029,DKC_Price!A:H,3,FALSE),\"\")","v":""}]
[null,null,{"$f":"IFERROR(VLOOKUP(B1030,DKC_Price!A:H,2,FALSE),\"\")","v":""},null,null,null,{"$f":"IFERROR(VLOOKUP(B1030,DKC_Price!A:H,3,FALSE),\"\")","v":""}]
[null,null,{"$f":"IFERROR(VLOOKUP(B1031,DKC_Price!A:H,2,FALSE),\"\")","v":""},null,null,null,{"$f":"IFERROR(VLOOKUP(B1031,DKC_Price!A:H,3,FALSE),\"\")","v":""}]
[null,null,{"$f":"IFERROR(VLOOKUP(B1032,DKC_Price!A:H,2,FALSE),\"\")","v":""},null,null,null,{"$f":"IFERROR(VLOOKUP(B1032,DKC_Price!A:H,3,FALSE),\"\")","v":""}]
[null,null,{"$f":"IFERROR(VLOOKUP(B1033,DKC_Price!A:H,2,FALSE),\"\")","v":""},null,null,null,{"$f":"IFERROR(VLOOKUP(B1033,DKC_Price!A:H,3,FALSE),\"\")","v":""}]
[null,null,{"$f":"IFERROR(VLOOKUP(B1034,DKC_Price!A:H,2,FALSE),\"\")","v":""},null,null,null,{"$f":"IFERROR(VLOOKUP(B1034,DKC_Price!A:H,3,FALSE),\"\")","v":""}]
[null,null,{"$f":"IFERROR(VLOOKUP(B1035,DKC_Price!A:H,2,FALSE),\"\")","v":""},null,null,null,{"$f":"IFERROR(VLOOKUP(B1035,DKC_Price!A:H,3,FALSE),\"\")","v":""}]
[null,null,{"$f":"IFERROR(VLOOKUP(B1036,DKC_Price!A:H,2,FALSE),\"\")","v":""},null,null,null,{"$f":"IFERROR(VLOOKUP(B1036,DKC_Price!A:H,3,FALSE),\"\")","v":""}]
[null,null,{"$f":"IFERROR(VLOOKUP(B1037,DKC_Price!A:H,2,FALSE),\"\")","v":""},null,null,null,{"$f":"IFERROR(VLOOKUP(B1037,DKC_Price!A:H,3,FALSE),\"\")","v":""}]
[null,null,{"$f":"IFERROR(VLOOKUP(B1038,DKC_Price!A:H,2,FALSE),\"\")","v":""},null,null,null,{"$f":"IFERROR(VLOOKUP(B1038,DKC_Price!A:H,3,FALSE),\"\")","v":""}]
[null,null,{"$f":"IFERROR(VLOOKUP(B1039,DKC_Price!A:H,2,FALSE),\"\")","v":""},null,null,null,{"$f":"IFERROR(VLOOKUP(B1039,DKC_Price!A:H,3,FALSE),\"\")","v":""}]
[null,null,{"$f":"IFERROR(VLOOKUP(B1040,DKC_Price!A:H,2,FALSE),\"\")","v":""},null,null,null,{"$f":"IFERROR(VLOOKUP(B1040,DKC_Price!A:H,3,FALSE),\"\")","v":""}]
[null,null,{"$f":"IFERROR(VLOOKUP(B1041,DKC_Price!A:H,2,FALSE),\"\")","v":""},null,null,null,{"$f":"IFERROR(VLOOKUP(B1041,DKC_Price!A:H,3,FALSE),\"\")","v":""}]
[null,null,{"$f":"IFERROR(VLOOKUP(B1042,DKC_Price!A:H,2,FALSE),\"\")","v":""},null,null,null,{"$f":"IFERROR(VLOOKUP(B1042,DKC_Price!A:H,3,FALSE),\"\")","v":""}]
[null,null,{"$f":"IFERROR(VLOOKUP(B1043,DKC_Price!A:H,2,FALSE),\"\")","v":""},null,null,null,{"$f":"IFERROR(VLOOKUP(B1043,DKC_Price!A:H,3,FALSE),\"\")","v":""}]
[null,null,{"$f":"IFERROR(VLOOKUP(B1044,DKC_Price!A:H,2,FALSE),\"\")","v":""},null,null,null,{"$f":"IFERROR(VLOOKUP(B1044,DKC_Price!A:H,3,FALSE),\"\")","v":""}]
[null,null,{"$f":"IFERROR(VLOOKUP(B1045,DKC_Price!A:H,2,FALSE),\"\")","v":""},null,null,null,{"$f":"IFERROR(VLOOKUP(B1045,DKC_Price!A:H,3,FALSE),\"\")","v":""}]
[null,null,{"$f":"IFERROR(VLOOKUP(B1046,DKC_Price!A:H,2,FALSE),\"\")","v":""},null,null,null,{"$f":"IFERROR(VLOOKUP(B1046,DKC_Price!A:H,3,FALSE),\"\")","v":""}]
[null,null,{"$f":"IFERROR(VLOOKUP(B1047,DKC_Price!A:H,2,FALSE),\"\")","v":""},null,null,null,{"$f":"IFERROR(VLOOKUP(B1047,DKC_Price!A:H,3,FALSE),\"\")","v":""}]
[null,null,{"$f":"IFERROR(VLOOKUP(B1048,DKC_Price!A:H,2,FALSE),\"\")","v":""},null,null,null,{"$f":"IFERROR(VLOOKUP(B1048,DKC_Price!A:H,3,FALSE),\"\")","v":""}]
[null,null,{"$f":"IFERROR(VLOOKUP(B1049,DKC_Price!A:H,2,FALSE),\"\")","v":""},null,null,null,{"$f":"IFERROR(VLOOKUP(B1049,DKC_Price!A:H,3,FALSE),\"\")","v":""}]
[null,null,{"$f":"IFERROR(VLOOKUP(B1050,DKC_Price!A:H,2,FALSE),\"\")","v":""},null,null,null,{"$f":"IFERROR(VLOOKUP(B1050,DKC_Price!A:H,3,FALSE),\"\")","v":""}]
[null,null,{"$f":"IFERROR(VLOOKUP(B1051,DKC_Price!A:H,2,FALSE),\"\")","v":""},null,null,null,{"$f":"IFERROR(VLOOKUP(B1051,DKC_Price!A:H,3,FALSE),\"\")","v":""}]
[null,null,{"$f":"IFERROR(VLOOKUP(B1052,DKC_Price!A:H,2,FALSE),\"\")","v":""},null,null,null,{"$f":"IFERROR(VLOOKUP(B1052,DKC_Price!A:H,3,FALSE),\"\")","v":""}]
[null,null,{"$f":"IFERROR(VLOOKUP(B1053,DKC_Price!A:H,2,FALSE),\"\")","v":""},null,null,null,{"$f":"IFERROR(VLOOKUP(B1053,DKC_Price!A:H,3,FALSE),\"\")","v":""}]
[null,null,{"$f":"IFERROR(VLOOKUP(B1054,DKC_Price!A:H,2,FALSE),\"\")","v":""},null,null,null,{"$f":"IFERROR(VLOOKUP(B1054,DKC_Price!A:H,3,FALSE),\"\")","v":""}]
[null,null,{"$f":"IFERROR(VLOOKUP(B1055,DKC_Price!A:H,2,FALSE),\"\")","v":""},null,null,null,{"$f":"IFERROR(VLOOKUP(B1055,DKC_Price!A:H,3,FALSE),\"\")","v":""}]
[null,null,{"$f":"IFERROR(VLOOKUP(B1056,DKC_Price!A:H,2,FALSE),\"\")","v":""},null,null,null,{"$f":"IFERROR(VLOOKUP(B1056,DKC_Price!A:H,3,FALSE),\"\")","v":""}]
[null,null,{"$f":"IFERROR(VLOOKUP(B1057,DKC_Price!A:H,2,FALSE),\"\")","v":""},null,null,null,{"$f":"IFERROR(VLOOKUP(B1057,DKC_Price!A:H,3,FALSE),\"\")","v":""}]
[null,null,{"$f":"IFERROR(VLOOKUP(B1058,DKC_Price!A:H,2,FALSE),\"\")","v":""},null,null,null,{"$f":"IFERROR(VLOOKUP(B1058,DKC_Price!A:H,3,FALSE),\"\")","v":""}]
[null,null,{"$f":"IFERROR(VLOOKUP(B1059,DKC_Price!A:H,2,FALSE),\"\")","v":""},null,null,null,{"$f":"IFERROR(VLOOKUP(B1059,DKC_Price!A:H,3,FALSE),\"\")","v":""}]
[null,null,{"$f":"IFERROR(VLOOKUP(B1060,DKC_Price!A:H,2,FALSE),\"\")","v":""},null,null,null,{"$f":"IFERROR(VLOOKUP(B1060,DKC_Price!A:H,3,FALSE),\"\")","v":""}]
[null,null,{"$f":"IFERROR(VLOOKUP(B1061,DKC_Price!A:H,2,FALSE),\"\")","v":""},null,null,null,{"$f":"IFERROR(VLOOKUP(B1061,DKC_Price!A:H,3,FALSE),\"\")","v":""}]
[null,null,{"$f":"IFERROR(VLOOKUP(B1062,DKC_Price!A:H,2,FALSE),\"\")","v":""},null,null,null,{"$f":"IFERROR(VLOOKUP(B1062,DKC_Price!A:H,3,FALSE),\"\")","v":""}]
[null,null,{"$f":"IFERROR(VLOOKUP(B1063,DKC_Price!A:H,2,FALSE),\"\")","v":""},null,null,null,{"$f":"IFERROR(VLOOKUP(B1063,DKC_Price!A:H,3,FALSE),\"\")","v":""}]
[null,null,{"$f":"IFERROR(VLOOKUP(B1064,DKC_Price!A:H,2,FALSE),\"\")","v":""},null,null,null,{"$f":"IFERROR(VLOOKUP(B1064,DKC_Price!A:H,3,FALSE),\"\")","v":""}]
[null,null,{"$f":"IFERROR(VLOOKUP(B1065,DKC_Price!A:H,2,FALSE),\"\")","v":""},null,null,null,{"$f":"IFERROR(VLOOKUP(B1065,DKC_Price!A:H,3,FALSE),\"\")","v":""}]
[null,null,{"$f":"IFERROR(VLOOKUP(B1066,DKC_Price!A:H,2,FALSE),\"\")","v":""},null,null,null,{"$f":"IFERROR(VLOOKUP(B1066,DKC_Price!A:H,3,FALSE),\"\")","v":""}]
[null,null,{"$f":"IFERROR(VLOOKUP(B1067,DKC_Price!A:H,2,FALSE),\"\")","v":""},null,null,null,{"$f":"IFERROR(VLOOKUP(B1067,DKC_Price!A:H,3,FALSE),\"\")","v":""}]
[null,null,{"$f":"IFERROR(VLOOKUP(B1068,DKC_Price!A:H,2,FALSE),\"\")","v":""},null,null,null,{"$f":"IFERROR(VLOOKUP(B1068,DKC_Price!A:H,3,FALSE),\"\")","v":""}]
[null,null,{"$f":"IFERROR(VLOOKUP(B1069,DKC_Price!A:H,2,FALSE),\"\")","v":""},null,null,null,{"$f":"IFERROR(VLOOKUP(B1069,DKC_Price!A:H,3,FALSE),\"\")","v":""}]
[null,null,{"$f":"IFERROR(VLOOKUP(B1070,DKC_Price!A:H,2,FALSE),\"\")","v":""},null,null,null,{"$f":"IFERROR(VLOOKUP(B1070,DKC_Price!A:H,3,FALSE),\"\")","v":""}]
[null,null,{"$f":"IFERROR(VLOOKUP(B1071,DKC_Price!A:H,2,FALSE),\"\")","v":""},null,null,null,{"$f":"IFERROR(VLOOKUP(B1071,DKC_Price!A:H,3,FALSE),\"\")","v":""}]
[null,null,{"$f":"IFERROR(VLOOKUP(B1072,DKC_Price!A:H,2,FALSE),\"\")","v":""},null,null,null,{"$f":"IFERROR(VLOOKUP(B1072,DKC_Price!A:H,3,FALSE),\"\")","v":""}]
[null,null,{"$f":"IFERROR(VLOOKUP(B1073,DKC_Price!A:H,2,FALSE),\"\")","v":""},null,null,null,{"$f":"IFERROR(VLOOKUP(B1073,DKC_Price!A:H,3,FALSE),\"\")","v":""}]
[null,null,{"$f":"IFERROR(VLOOKUP(B1074,DKC_Price!A:H,2,FALSE),\"\")","v":""},null,null,null,{"$f":"IFERROR(VLOOKUP(B1074,DKC_Price!A:H,3,FALSE),\"\")","v":""}]
[null,null,{"$f":"IFERROR(VLOOKUP(B1075,DKC_Price!A:H,2,FALSE),\"\")","v":""},null,null,null,{"$f":"IFERROR(VLOOKUP(B1075,DKC_Price!A:H,3,FALSE),\"\")","v":""}]
[null,null,{"$f":"IFERROR(VLOOKUP(B1076,DKC_Price!A:H,2,FALSE),\"\")","v":""},null,null,null,{"$f":"IFERROR(VLOOKUP(B1076,DKC_Price!A:H,3,FALSE),\"\")","v":""}]
[null,null,{"$f":"IFERROR(VLOOKUP(B1077,DKC_Price!A:H,2,FALSE),\"\")","v":""},null,null,null,{"$f":"IFERROR(VLOOKUP(B1077,DKC_Price!A:H,3,FALSE),\"\")","v":""}]
[null,null,{"$f":"IFERROR(VLOOKUP(B1078,DKC_Price!A:H,2,FALSE),\"\")","v":""},null,null,null,{"$f":"IFERROR(VLOOKUP(B1078,DKC_Price!A:H,3,FALSE),\"\")","v":""}]
[null,null,{"$f":"IFERROR(VLOOKUP(B1079,DKC_Price!A:H,2,FALSE),\"\")","v":""},null,null,null,{"$f":"IFERROR(VLOOKUP(B1079,DKC_Price!A:H,3,FALSE),\"\")","v":""}]
[null,null,{"$f":"IFERROR(VLOOKUP(B1080,DKC_Price!A:H,2,FALSE),\"\")","v":""},null,null,null,{"$f":"IFERROR(VLOOKUP(B1080,DKC_Price!A:H,3,FALSE),\"\")","v":""}]
[null,null,{"$f":"IFERROR(VLOOKUP(B1081,DKC_Price!A:H,2,FALSE),\"\")","v":""},null,null,null,{"$f":"IFERROR(VLOOKUP(B1081,DKC_Price!A:H,3,FALSE),\"\")","v":""}]
[null,null,{"$f":"IFERROR(VLOOKUP(B1082,DKC_Price!A:H,2,FALSE),\"\")","v":""},null,null,null,{"$f":"IFERROR(VLOOKUP(B1082,DKC_Price!A:H,3,FALSE),\"\")","v":""}]
[null,null,{"$f":"IFERROR(VLOOKUP(B1083,DKC_Price!A:H,2,FALSE),\"\")","v":""},null,null,null,{"$f":"IFERROR(VLOOKUP(B1083,DKC_Price!A:H,3,FALSE),\"\")","v":""}]
[null,null,{"$f":"IFERROR(VLOOKUP(B1084,DKC_Price!A:H,2,FALSE),\"\")","v":""},null,null,null,{"$f":"IFERROR(VLOOKUP(B1084,DKC_Price!A:H,3,FALSE),\"\")","v":""}]
[null,null,{"$f":"IFERROR(VLOOKUP(B1085,DKC_Price!A:H,2,FALSE),\"\")","v":""},null,null,null,{"$f":"IFERROR(VLOOKUP(B1085,DKC_Price!A:H,3,FALSE),\"\")","v":""}]
[null,null,{"$f":"IFERROR(VLOOKUP(B1086,DKC_Price!A:H,2,FALSE),\"\")","v":""},null,null,null,{"$f":"IFERROR(VLOOKUP(B1086,DKC_Price!A:H,3,FALSE),\"\")","v":""}]
[null,null,{"$f":"IFERROR(VLOOKUP(B1087,DKC_Price!A:H,2,FALSE),\"\")","v":""},null,null,null,{"$f":"IFERROR(VLOOKUP(B1087,DKC_Price!A:H,3,FALSE),\"\")","v":""}]
[null,null,{"$f":"IFERROR(VLOOKUP(B1088,DKC_Price!A:H,2,FALSE),\"\")","v":""},null,null,null,{"$f":"IFERROR(VLOOKUP(B1088,DKC_Price!A:H,3,FALSE),\"\")","v":""}]
[null,null,{"$f":"IFERROR(VLOOKUP(B1089,DKC_Price!A:H,2,FALSE),\"\")","v":""},null,null,null,{"$f":"IFERROR(VLOOKUP(B1089,DKC_Price!A:H,3,FALSE),\"\")","v":""}]
[null,null,{"$f":"IFERROR(VLOOKUP(B1090,DKC_Price!A:H,2,FALSE),\"\")","v":""},null,null,null,{"$f":"IFERROR(VLOOKUP(B1090,DKC_Price!A:H,3,FALSE),\"\")","v":""}]
[null,null,{"$f":"IFERROR(VLOOKUP(B1091,DKC_Price!A:H,2,FALSE),\"\")","v":""},null,null,null,{"$f":"IFERROR(VLOOKUP(B1091,DKC_Price!A:H,3,FALSE),\"\")","v":""}]
[null,null,{"$f":"IFERROR(VLOOKUP(B1092,DKC_Price!A:H,2,FALSE),\"\")","v":""},null,null,null,{"$f":"IFERROR(VLOOKUP(B1092,DKC_Price!A:H,3,FALSE),\"\")","v":""}]
[null,null,{"$f":"IFERROR(VLOOKUP(B1093,DKC_Price!A:H,2,FALSE),\"\")","v":""},null,null,null,{"$f":"IFERROR(VLOOKUP(B1093,DKC_Price!A:H,3,FALSE),\"\")","v":""}]
[null,null,{"$f":"IFERROR(VLOOKUP(B1094,DKC_Price!A:H,2,FALSE),\"\")","v":""},null,null,null,{"$f":"IFERROR(VLOOKUP(B1094,DKC_Price!A:H,3,FALSE),\"\")","v":""}]
[null,null,{"$f":"IFERROR(VLOOKUP(B1095,DKC_Price!A:H,2,FALSE),\"\")","v":""},null,null,null,{"$f":"IFERROR(VLOOKUP(B1095,DKC_Price!A:H,3,FALSE),\"\")","v":""}]
[null,null,{"$f":"IFERROR(VLOOKUP(B1096,DKC_Price!A:H,2,FALSE),\"\")","v":""},null,null,null,{"$f":"IFERROR(VLOOKUP(B1096,DKC_Price!A:H,3,FALSE),\"\")","v":""}]
[null,null,{"$f":"IFERROR(VLOOKUP(B1097,DKC_Price!A:H,2,FALSE),\"\")","v":""},null,null,null,{"$f":"IFERROR(VLOOKUP(B1097,DKC_Price!A:H,3,FALSE),\"\")","v":""}]
[null,null,{"$f":"IFERROR(VLOOKUP(B1098,DKC_Price!A:H,2,FALSE),\"\")","v":""},null,null,null,{"$f":"IFERROR(VLOOKUP(B1098,DKC_Price!A:H,3,FALSE),\"\")","v":""}]
[null,null,{"$f":"IFERROR(VLOOKUP(B1099,DKC_Price!A:H,2,FALSE),\"\")","v":""},null,null,null,{"$f":"IFERROR(VLOOKUP(B1099,DKC_Price!A:H,3,FALSE),\"\")","v":""}]
[null,null,{"$f":"IFERROR(VLOOKUP(B1100,DKC_Price!A:H,2,FALSE),\"\")","v":""},null,null,null,{"$f":"IFERROR(VLOOKUP(B1100,DKC_Price!A:H,3,FALSE),\"\")","v":""}]
[null,null,{"$f":"IFERROR(VLOOKUP(B1101,DKC_Price!A:H,2,FALSE),\"\")","v":""},null,null,null,{"$f":"IFERROR(VLOOKUP(B1101,DKC_Price!A:H,3,FALSE),\"\")","v":""}]
[null,null,{"$f":"IFERROR(VLOOKUP(B1102,DKC_Price!A:H,2,FALSE),\"\")","v":""},null,null,null,{"$f":"IFERROR(VLOOKUP(B1102,DKC_Price!A:H,3,FALSE),\"\")","v":""}]
[null,null,{"$f":"IFERROR(VLOOKUP(B1103,DKC_Price!A:H,2,FALSE),\"\")","v":""},null,null,null,{"$f":"IFERROR(VLOOKUP(B1103,DKC_Price!A:H,3,FALSE),\"\")","v":""}]
[null,null,{"$f":"IFERROR(VLOOKUP(B1104,DKC_Price!A:H,2,FALSE),\"\")","v":""},null,null,null,{"$f":"IFERROR(VLOOKUP(B1104,DKC_Price!A:H,3,FALSE),\"\")","v":""}]
[null,null,{"$f":"IFERROR(VLOOKUP(B1105,DKC_Price!A:H,2,FALSE),\"\")","v":""},null,null,null,{"$f":"IFERROR(VLOOKUP(B1105,DKC_Price!A:H,3,FALSE),\"\")","v":""}]
[null,null,{"$f":"IFERROR(VLOOKUP(B1106,DKC_Price!A:H,2,FALSE),\"\")","v":""},null,null,null,{"$f":"IFERROR(VLOOKUP(B1106,DKC_Price!A:H,3,FALSE),\"\")","v":""}]
[null,null,{"$f":"IFERROR(VLOOKUP(B1107,DKC_Price!A:H,2,FALSE),\"\")","v":""},null,null,null,{"$f":"IFERROR(VLOOKUP(B1107,DKC_Price!A:H,3,FALSE),\"\")","v":""}]
[null,null,{"$f":"IFERROR(VLOOKUP(B1108,DKC_Price!A:H,2,FALSE),\"\")","v":""},null,null,null,{"$f":"IFERROR(VLOOKUP(B1108,DKC_Price!A:H,3,FALSE),\"\")","v":""}]
[null,null,{"$f":"IFERROR(VLOOKUP(B1109,DKC_Price!A:H,2,FALSE),\"\")","v":""},null,null,null,{"$f":"IFERROR(VLOOKUP(B1109,DKC_Price!A:H,3,FALSE),\"\")","v":""}]
[null,null,{"$f":"IFERROR(VLOOKUP(B1110,DKC_Price!A:H,2,FALSE),\"\")","v":""},null,null,null,{"$f":"IFERROR(VLOOKUP(B1110,DKC_Price!A:H,3,FALSE),\"\")","v":""}]
[null,null,{"$f":"IFERROR(VLOOKUP(B1111,DKC_Price!A:H,2,FALSE),\"\")","v":""},null,null,null,{"$f":"IFERROR(VLOOKUP(B1111,DKC_Price!A:H,3,FALSE),\"\")","v":""}]
[null,null,{"$f":"IFERROR(VLOOKUP(B1112,DKC_Price!A:H,2,FALSE),\"\")","v":""},null,null,null,{"$f":"IFERROR(VLOOKUP(B1112,DKC_Price!A:H,3,FALSE),\"\")","v":""}]
[null,null,{"$f":"IFERROR(VLOOKUP(B1113,DKC_Price!A:H,2,FALSE),\"\")","v":""},null,null,null,{"$f":"IFERROR(VLOOKUP(B1113,DKC_Price!A:H,3,FALSE),\"\")","v":""}]
[null,null,{"$f":"IFERROR(VLOOKUP(B1114,DKC_Price!A:H,2,FALSE),\"\")","v":""},null,null,null,{"$f":"IFERROR(VLOOKUP(B1114,DKC_Price!A:H,3,FALSE),\"\")","v":""}]
[null,null,{"$f":"IFERROR(VLOOKUP(B1115,DKC_Price!A:H,2,FALSE),\"\")","v":""},null,null,null,{"$f":"IFERROR(VLOOKUP(B1115,DKC_Price!A:H,3,FALSE),\"\")","v":""}]
[null,null,{"$f":"IFERROR(VLOOKUP(B1116,DKC_Price!A:H,2,FALSE),\"\")","v":""},null,null,null,{"$f":"IFERROR(VLOOKUP(B1116,DKC_Price!A:H,3,FALSE),\"\")","v":""}]
[null,null,{"$f":"IFERROR(VLOOKUP(B1117,DKC_Price!A:H,2,FALSE),\"\")","v":""},null,null,null,{"$f":"IFERROR(VLOOKUP(B1117,DKC_Price!A:H,3,FALSE),\"\")","v":""}]
[null,null,{"$f":"IFERROR(VLOOKUP(B1118,DKC_Price!A:H,2,FALSE),\"\")","v":""},null,null,null,{"$f":"IFERROR(VLOOKUP(B1118,DKC_Price!A:H,3,FALSE),\"\")","v":""}]
[null,null,{"$f":"IFERROR(VLOOKUP(B1119,DKC_Price!A:H,2,FALSE),\"\")","v":""},null,null,null,{"$f":"IFERROR(VLOOKUP(B1119,DKC_Price!A:H,3,FALSE),\"\")","v":""}]
[null,null,{"$f":"IFERROR(VLOOKUP(B1120,DKC_Price!A:H,2,FALSE),\"\")","v":""},null,null,null,{"$f":"IFERROR(VLOOKUP(B1120,DKC_Price!A:H,3,FALSE),\"\")","v":""}]
[null,null,{"$f":"IFERROR(VLOOKUP(B1121,DKC_Price!A:H,2,FALSE),\"\")","v":""},null,null,null,{"$f":"IFERROR(VLOOKUP(B1121,DKC_Price!A:H,3,FALSE),\"\")","v":""}]
[null,null,{"$f":"IFERROR(VLOOKUP(B1122,DKC_Price!A:H,2,FALSE),\"\")","v":""},null,null,null,{"$f":"IFERROR(VLOOKUP(B1122,DKC_Price!A:H,3,FALSE),\"\")","v":""}]
[null,null,{"$f":"IFERROR(VLOOKUP(B1123,DKC_Price!A:H,2,FALSE),\"\")","v":""},null,null,null,{"$f":"IFERROR(VLOOKUP(B1123,DKC_Price!A:H,3,FALSE),\"\")","v":""}]
[null,null,{"$f":"IFERROR(VLOOKUP(B1124,DKC_Price!A:H,2,FALSE),\"\")","v":""},null,null,null,{"$f":"IFERROR(VLOOKUP(B1124,DKC_Price!A:H,3,FALSE),\"\")","v":""}]
[null,null,{"$f":"IFERROR(VLOOKUP(B1125,DKC_Price!A:H,2,FALSE),\"\")","v":""},null,null,null,{"$f":"IFERROR(VLOOKUP(B1125,DKC_Price!A:H,3,FALSE),\"\")","v":""}]
[null,null,{"$f":"IFERROR(VLOOKUP(B1126,DKC_Price!A:H,2,FALSE),\"\")","v":""},null,null,null,{"$f":"IFERROR(VLOOKUP(B1126,DKC_Price!A:H,3,FALSE),\"\")","v":""}]
[null,null,{"$f":"IFERROR(VLOOKUP(B1127,DKC_Price!A:H,2,FALSE),\"\")","v":""},null,null,null,{"$f":"IFERROR(VLOOKUP(B1127,DKC_Price!A:H,3,FALSE),\"\")","v":""}]
[null,null,{"$f":"IFERROR(VLOOKUP(B1128,DKC_Price!A:H,2,FALSE),\"\")","v":""},null,null,null,{"$f":"IFERROR(VLOOKUP(B1128,DKC_Price!A:H,3,FALSE),\"\")","v":""}]
[null,null,{"$f":"IFERROR(VLOOKUP(B1129,DKC_Price!A:H,2,FALSE),\"\")","v":""},null,null,null,{"$f":"IFERROR(VLOOKUP(B1129,DKC_Price!A:H,3,FALSE),\"\")","v":""}]
[null,null,{"$f":"IFERROR(VLOOKUP(B1130,DKC_Price!A:H,2,FALSE),\"\")","v":""},null,null,null,{"$f":"IFERROR(VLOOKUP(B1130,DKC_Price!A:H,3,FALSE),\"\")","v":""}]
[null,null,{"$f":"IFERROR(VLOOKUP(B1131,DKC_Price!A:H,2,FALSE),\"\")","v":""},null,null,null,{"$f":"IFERROR(VLOOKUP(B1131,DKC_Price!A:H,3,FALSE),\"\")","v":""}]
[null,null,{"$f":"IFERROR(VLOOKUP(B1132,DKC_Price!A:H,2,FALSE),\"\")","v":""},null,null,null,{"$f":"IFERROR(VLOOKUP(B1132,DKC_Price!A:H,3,FALSE),\"\")","v":""}]
[null,null,{"$f":"IFERROR(VLOOKUP(B1133,DKC_Price!A:H,2,FALSE),\"\")","v":""},null,null,null,{"$f":"IFERROR(VLOOKUP(B1133,DKC_Price!A:H,3,FALSE),\"\")","v":""}]
[null,null,{"$f":"IFERROR(VLOOKUP(B1134,DKC_Price!A:H,2,FALSE),\"\")","v":""},null,null,null,{"$f":"IFERROR(VLOOKUP(B1134,DKC_Price!A:H,3,FALSE),\"\")","v":""}]
[null,null,{"$f":"IFERROR(VLOOKUP(B1135,DKC_Price!A:H,2,FALSE),\"\")","v":""},null,null,null,{"$f":"IFERROR(VLOOKUP(B1135,DKC_Price!A:H,3,FALSE),\"\")","v":""}]
[null,null,{"$f":"IFERROR(VLOOKUP(B1136,DKC_Price!A:H,2,FALSE),\"\")","v":""},null,null,null,{"$f":"IFERROR(VLOOKUP(B1136,DKC_Price!A:H,3,FALSE),\"\")","v":""}]
[null,null,{"$f":"IFERROR(VLOOKUP(B1137,DKC_Price!A:H,2,FALSE),\"\")","v":""},null,null,null,{"$f":"IFERROR(VLOOKUP(B1137,DKC_Price!A:H,3,FALSE),\"\")","v":""}]
[null,null,{"$f":"IFERROR(VLOOKUP(B1138,DKC_Price!A:H,2,FALSE),\"\")","v":""},null,null,null,{"$f":"IFERROR(VLOOKUP(B1138,DKC_Price!A:H,3,FALSE),\"\")","v":""}]
[null,null,{"$f":"IFERROR(VLOOKUP(B1139,DKC_Price!A:H,2,FALSE),\"\")","v":""},null,null,null,{"$f":"IFERROR(VLOOKUP(B1139,DKC_Price!A:H,3,FALSE),\"\")","v":""}]
[null,null,{"$f":"IFERROR(VLOOKUP(B1140,DKC_Price!A:H,2,FALSE),\"\")","v":""},null,null,null,{"$f":"IFERROR(VLOOKUP(B1140,DKC_Price!A:H,3,FALSE),\"\")","v":""}]
[null,null,{"$f":"IFERROR(VLOOKUP(B1141,DKC_Price!A:H,2,FALSE),\"\")","v":""},null,null,null,{"$f":"IFERROR(VLOOKUP(B1141,DKC_Price!A:H,3,FALSE),\"\")","v":""}]
[null,null,{"$f":"IFERROR(VLOOKUP(B1142,DKC_Price!A:H,2,FALSE),\"\")","v":""},null,null,null,{"$f":"IFERROR(VLOOKUP(B1142,DKC_Price!A:H,3,FALSE),\"\")","v":""}]
[null,null,{"$f":"IFERROR(VLOOKUP(B1143,DKC_Price!A:H,2,FALSE),\"\")","v":""},null,null,null,{"$f":"IFERROR(VLOOKUP(B1143,DKC_Price!A:H,3,FALSE),\"\")","v":""}]
[null,null,{"$f":"IFERROR(VLOOKUP(B1144,DKC_Price!A:H,2,FALSE),\"\")","v":""},null,null,null,{"$f":"IFERROR(VLOOKUP(B1144,DKC_Price!A:H,3,FALSE),\"\")","v":""}]
[null,null,{"$f":"IFERROR(VLOOKUP(B1145,DKC_Price!A:H,2,FALSE),\"\")","v":""},null,null,null,{"$f":"IFERROR(VLOOKUP(B1145,DKC_Price!A:H,3,FALSE),\"\")","v":""}]
[null,null,{"$f":"IFERROR(VLOOKUP(B1146,DKC_Price!A:H,2,FALSE),\"\")","v":""},null,null,null,{"$f":"IFERROR(VLOOKUP(B1146,DKC_Price!A:H,3,FALSE),\"\")","v":""}]
[null,null,{"$f":"IFERROR(VLOOKUP(B1147,DKC_Price!A:H,2,FALSE),\"\")","v":""},null,null,null,{"$f":"IFERROR(VLOOKUP(B1147,DKC_Price!A:H,3,FALSE),\"\")","v":""}]
[null,null,{"$f":"IFERROR(VLOOKUP(B1148,DKC_Price!A:H,2,FALSE),\"\")","v":""},null,null,null,{"$f":"IFERROR(VLOOKUP(B1148,DKC_Price!A:H,3,FALSE),\"\")","v":""}]
[null,null,{"$f":"IFERROR(VLOOKUP(B1149,DKC_Price!A:H,2,FALSE),\"\")","v":""},null,null,null,{"$f":"IFERROR(VLOOKUP(B1149,DKC_Price!A:H,3,FALSE),\"\")","v":""}]
[null,null,{"$f":"IFERROR(VLOOKUP(B1150,DKC_Price!A:H,2,FALSE),\"\")","v":""},null,null,null,{"$f":"IFERROR(VLOOKUP(B1150,DKC_Price!A:H,3,FALSE),\"\")","v":""}]
[null,null,{"$f":"IFERROR(VLOOKUP(B1151,DKC_Price!A:H,2,FALSE),\"\")","v":""},null,null,null,{"$f":"IFERROR(VLOOKUP(B1151,DKC_Price!A:H,3,FALSE),\"\")","v":""}]
[null,null,{"$f":"IFERROR(VLOOKUP(B1152,DKC_Price!A:H,2,FALSE),\"\")","v":""},null,null,null,{"$f":"IFERROR(VLOOKUP(B1152,DKC_Price!A:H,3,FALSE),\"\")","v":""}]
[null,null,{"$f":"IFERROR(VLOOKUP(B1153,DKC_Price!A:H,2,FALSE),\"\")","v":""},null,null,null,{"$f":"IFERROR(VLOOKUP(B1153,DKC_Price!A:H,3,FALSE),\"\")","v":""}]
[null,null,{"$f":"IFERROR(VLOOKUP(B1154,DKC_Price!A:H,2,FALSE),\"\")","v":""},null,null,null,{"$f":"IFERROR(VLOOKUP(B1154,DKC_Price!A:H,3,FALSE),\"\")","v":""}]
[null,null,{"$f":"IFERROR(VLOOKUP(B1155,DKC_Price!A:H,2,FALSE),\"\")","v":""},null,null,null,{"$f":"IFERROR(VLOOKUP(B1155,DKC_Price!A:H,3,FALSE),\"\")","v":""}]
[null,null,{"$f":"IFERROR(VLOOKUP(B1156,DKC_Price!A:H,2,FALSE),\"\")","v":""},null,null,null,{"$f":"IFERROR(VLOOKUP(B1156,DKC_Price!A:H,3,FALSE),\"\")","v":""}]
[null,null,{"$f":"IFERROR(VLOOKUP(B1157,DKC_Price!A:H,2,FALSE),\"\")","v":""},null,null,null,{"$f":"IFERROR(VLOOKUP(B1157,DKC_Price!A:H,3,FALSE),\"\")","v":""}]
[null,null,{"$f":"IFERROR(VLOOKUP(B1158,DKC_Price!A:H,2,FALSE),\"\")","v":""},null,null,null,{"$f":"IFERROR(VLOOKUP(B1158,DKC_Price!A:H,3,FALSE),\"\")","v":""}]
[null,null,{"$f":"IFERROR(VLOOKUP(B1159,DKC_Price!A:H,2,FALSE),\"\")","v":""},null,null,null,{"$f":"IFERROR(VLOOKUP(B1159,DKC_Price!A:H,3,FALSE),\"\")","v":""}]
[null,null,{"$f":"IFERROR(VLOOKUP(B1160,DKC_Price!A:H,2,FALSE),\"\")","v":""},null,null,null,{"$f":"IFERROR(VLOOKUP(B1160,DKC_Price!A:H,3,FALSE),\"\")","v":""}]
[null,null,{"$f":"IFERROR(VLOOKUP(B1161,DKC_Price!A:H,2,FALSE),\"\")","v":""},null,null,null,{"$f":"IFERROR(VLOOKUP(B1161,DKC_Price!A:H,3,FALSE),\"\")","v":""}]
[null,null,{"$f":"IFERROR(VLOOKUP(B1162,DKC_Price!A:H,2,FALSE),\"\")","v":""},null,null,null,{"$f":"IFERROR(VLOOKUP(B1162,DKC_Price!A:H,3,FALSE),\"\")","v":""}]
[null,null,{"$f":"IFERROR(VLOOKUP(B1163,DKC_Price!A:H,2,FALSE),\"\")","v":""},null,null,null,{"$f":"IFERROR(VLOOKUP(B1163,DKC_Price!A:H,3,FALSE),\"\")","v":""}]
[null,null,{"$f":"IFERROR(VLOOKUP(B1164,DKC_Price!A:H,2,FALSE),\"\")","v":""},null,null,null,{"$f":"IFERROR(VLOOKUP(B1164,DKC_Price!A:H,3,FALSE),\"\")","v":""}]
[null,null,{"$f":"IFERROR(VLOOKUP(B1165,DKC_Price!A:H,2,FALSE),\"\")","v":""},null,null,null,{"$f":"IFERROR(VLOOKUP(B1165,DKC_Price!A:H,3,FALSE),\"\")","v":""}]
[null,null,{"$f":"IFERROR(VLOOKUP(B1166,DKC_Price!A:H,2,FALSE),\"\")","v":""},null,null,null,{"$f":"IFERROR(VLOOKUP(B1166,DKC_Price!A:H,3,FALSE),\"\")","v":""}]
[null,null,{"$f":"IFERROR(VLOOKUP(B1167,DKC_Price!A:H,2,FALSE),\"\")","v":""},null,null,null,{"$f":"IFERROR(VLOOKUP(B1167,DKC_Price!A:H,3,FALSE),\"\")","v":""}]
[null,null,{"$f":"IFERROR(VLOOKUP(B1168,DKC_Price!A:H,2,FALSE),\"\")","v":""},null,null,null,{"$f":"IFERROR(VLOOKUP(B1168,DKC_Price!A:H,3,FALSE),\"\")","v":""}]
[null,null,{"$f":"IFERROR(VLOOKUP(B1169,DKC_Price!A:H,2,FALSE),\"\")","v":""},null,null,null,{"$f":"IFERROR(VLOOKUP(B1169,DKC_Price!A:H,3,FALSE),\"\")","v":""}]
[null,null,{"$f":"IFERROR(VLOOKUP(B1170,DKC_Price!A:H,2,FALSE),\"\")","v":""},null,null,null,{"$f":"IFERROR(VLOOKUP(B1170,DKC_Price!A:H,3,FALSE),\"\")","v":""}]
[null,null,{"$f":"IFERROR(VLOOKUP(B1171,DKC_Price!A:H,2,FALSE),\"\")","v":""},null,null,null,{"$f":"IFERROR(VLOOKUP(B1171,DKC_Price!A:H,3,FALSE),\"\")","v":""}]
[null,null,{"$f":"IFERROR(VLOOKUP(B1172,DKC_Price!A:H,2,FALSE),\"\")","v":""},null,null,null,{"$f":"IFERROR(VLOOKUP(B1172,DKC_Price!A:H,3,FALSE),\"\")","v":""}]
[null,null,{"$f":"IFERROR(VLOOKUP(B1173,DKC_Price!A:H,2,FALSE),\"\")","v":""},null,null,null,{"$f":"IFERROR(VLOOKUP(B1173,DKC_Price!A:H,3,FALSE),\"\")","v":""}]
[null,null,{"$f":"IFERROR(VLOOKUP(B1174,DKC_Price!A:H,2,FALSE),\"\")","v":""},null,null,null,{"$f":"IFERROR(VLOOKUP(B1174,DKC_Price!A:H,3,FALSE),\"\")","v":""}]
[null,null,{"$f":"IFERROR(VLOOKUP(B1175,DKC_Price!A:H,2,FALSE),\"\")","v":""},null,null,null,{"$f":"IFERROR(VLOOKUP(B1175,DKC_Price!A:H,3,FALSE),\"\")","v":""}]
[null,null,{"$f":"IFERROR(VLOOKUP(B1176,DKC_Price!A:H,2,FALSE),\"\")","v":""},null,null,null,{"$f":"IFERROR(VLOOKUP(B1176,DKC_Price!A:H,3,FALSE),\"\")","v":""}]
[null,null,{"$f":"IFERROR(VLOOKUP(B1177,DKC_Price!A:H,2,FALSE),\"\")","v":""},null,null,null,{"$f":"IFERROR(VLOOKUP(B1177,DKC_Price!A:H,3,FALSE),\"\")","v":""}]
[null,null,{"$f":"IFERROR(VLOOKUP(B1178,DKC_Price!A:H,2,FALSE),\"\")","v":""},null,null,null,{"$f":"IFERROR(VLOOKUP(B1178,DKC_Price!A:H,3,FALSE),\"\")","v":""}]
[null,null,{"$f":"IFERROR(VLOOKUP(B1179,DKC_Price!A:H,2,FALSE),\"\")","v":""},null,null,null,{"$f":"IFERROR(VLOOKUP(B1179,DKC_Price!A:H,3,FALSE),\"\")","v":""}]
[null,null,{"$f":"IFERROR(VLOOKUP(B1180,DKC_Price!A:H,2,FALSE),\"\")","v":""},null,null,null,{"$f":"IFERROR(VLOOKUP(B1180,DKC_Price!A:H,3,FALSE),\"\")","v":""}]
[null,null,{"$f":"IFERROR(VLOOKUP(B1181,DKC_Price!A:H,2,FALSE),\"\")","v":""},null,null,null,{"$f":"IFERROR(VLOOKUP(B1181,DKC_Price!A:H,3,FALSE),\"\")","v":""}]
[null,null,{"$f":"IFERROR(VLOOKUP(B1182,DKC_Price!A:H,2,FALSE),\"\")","v":""},null,null,null,{"$f":"IFERROR(VLOOKUP(B1182,DKC_Price!A:H,3,FALSE),\"\")","v":""}]
[null,null,{"$f":"IFERROR(VLOOKUP(B1183,DKC_Price!A:H,2,FALSE),\"\")","v":""},null,null,null,{"$f":"IFERROR(VLOOKUP(B1183,DKC_Price!A:H,3,FALSE),\"\")","v":""}]
[null,null,{"$f":"IFERROR(VLOOKUP(B1184,DKC_Price!A:H,2,FALSE),\"\")","v":""},null,null,null,{"$f":"IFERROR(VLOOKUP(B1184,DKC_Price!A:H,3,FALSE),\"\")","v":""}]
[null,null,{"$f":"IFERROR(VLOOKUP(B1185,DKC_Price!A:H,2,FALSE),\"\")","v":""},null,null,null,{"$f":"IFERROR(VLOOKUP(B1185,DKC_Price!A:H,3,FALSE),\"\")","v":""}]
[null,null,{"$f":"IFERROR(VLOOKUP(B1186,DKC_Price!A:H,2,FALSE),\"\")","v":""},null,null,null,{"$f":"IFERROR(VLOOKUP(B1186,DKC_Price!A:H,3,FALSE),\"\")","v":""}]
[null,null,{"$f":"IFERROR(VLOOKUP(B1187,DKC_Price!A:H,2,FALSE),\"\")","v":""},null,null,null,{"$f":"IFERROR(VLOOKUP(B1187,DKC_Price!A:H,3,FALSE),\"\")","v":""}]
[null,null,{"$f":"IFERROR(VLOOKUP(B1188,DKC_Price!A:H,2,FALSE),\"\")","v":""},null,null,null,{"$f":"IFERROR(VLOOKUP(B1188,DKC_Price!A:H,3,FALSE),\"\")","v":""}]
[null,null,{"$f":"IFERROR(VLOOKUP(B1189,DKC_Price!A:H,2,FALSE),\"\")","v":""},null,null,null,{"$f":"IFERROR(VLOOKUP(B1189,DKC_Price!A:H,3,FALSE),\"\")","v":""}]
[null,null,{"$f":"IFERROR(VLOOKUP(B1190,DKC_Price!A:H,2,FALSE),\"\")","v":""},null,null,null,{"$f":"IFERROR(VLOOKUP(B1190,DKC_Price!A:H,3,FALSE),\"\")","v":""}]
[null,null,{"$f":"IFERROR(VLOOKUP(B1191,DKC_Price!A:H,2,FALSE),\"\")","v":""},null,null,null,{"$f":"IFERROR(VLOOKUP(B1191,DKC_Price!A:H,3,FALSE),\"\")","v":""}]
[null,null,{"$f":"IFERROR(VLOOKUP(B1192,DKC_Price!A:H,2,FALSE),\"\")","v":""},null,null,null,{"$f":"IFERROR(VLOOKUP(B1192,DKC_Price!A:H,3,FALSE),\"\")","v":""}]
[null,null,{"$f":"IFERROR(VLOOKUP(B1193,DKC_Price!A:H,2,FALSE),\"\")","v":""},null,null,null,{"$f":"IFERROR(VLOOKUP(B1193,DKC_Price!A:H,3,FALSE),\"\")","v":""}]
[null,null,{"$f":"IFERROR(VLOOKUP(B1194,DKC_Price!A:H,2,FALSE),\"\")","v":""},null,null,null,{"$f":"IFERROR(VLOOKUP(B1194,DKC_Price!A:H,3,FALSE),\"\")","v":""}]
[null,null,{"$f":"IFERROR(VLOOKUP(B1195,DKC_Price!A:H,2,FALSE),\"\")","v":""},null,null,null,{"$f":"IFERROR(VLOOKUP(B1195,DKC_Price!A:H,3,FALSE),\"\")","v":""}]
[null,null,{"$f":"IFERROR(VLOOKUP(B1196,DKC_Price!A:H,2,FALSE),\"\")","v":""},null,null,null,{"$f":"IFERROR(VLOOKUP(B1196,DKC_Price!A:H,3,FALSE),\"\")","v":""}]
[null,null,{"$f":"IFERROR(VLOOKUP(B1197,DKC_Price!A:H,2,FALSE),\"\")","v":""},null,null,null,{"$f":"IFERROR(VLOOKUP(B1197,DKC_Price!A:H,3,FALSE),\"\")","v":""}]
[null,null,{"$f":"IFERROR(VLOOKUP(B1198,DKC_Price!A:H,2,FALSE),\"\")","v":""},null,null,null,{"$f":"IFERROR(VLOOKUP(B1198,DKC_Price!A:H,3,FALSE),\"\")","v":""}]
[null,null,{"$f":"IFERROR(VLOOKUP(B1199,DKC_Price!A:H,2,FALSE),\"\")","v":""},null,null,null,{"$f":"IFERROR(VLOOKUP(B1199,DKC_Price!A:H,3,FALSE),\"\")","v":""}]
[null,null,{"$f":"IFERROR(VLOOKUP(B1200,DKC_Price!A:H,2,FALSE),\"\")","v":""},null,null,null,{"$f":"IFERROR(VLOOKUP(B1200,DKC_Price!A:H,3,FALSE),\"\")","v":""}]
[null,null,{"$f":"IFERROR(VLOOKUP(B1201,DKC_Price!A:H,2,FALSE),\"\")","v":""},null,null,null,{"$f":"IFERROR(VLOOKUP(B1201,DKC_Price!A:H,3,FALSE),\"\")","v":""}]
[null,null,{"$f":"IFERROR(VLOOKUP(B1202,DKC_Price!A:H,2,FALSE),\"\")","v":""},null,null,null,{"$f":"IFERROR(VLOOKUP(B1202,DKC_Price!A:H,3,FALSE),\"\")","v":""}]
[null,null,{"$f":"IFERROR(VLOOKUP(B1203,DKC_Price!A:H,2,FALSE),\"\")","v":""},null,null,null,{"$f":"IFERROR(VLOOKUP(B1203,DKC_Price!A:H,3,FALSE),\"\")","v":""}]
[null,null,{"$f":"IFERROR(VLOOKUP(B1204,DKC_Price!A:H,2,FALSE),\"\")","v":""},null,null,null,{"$f":"IFERROR(VLOOKUP(B1204,DKC_Price!A:H,3,FALSE),\"\")","v":""}]
[null,null,{"$f":"IFERROR(VLOOKUP(B1205,DKC_Price!A:H,2,FALSE),\"\")","v":""},null,null,null,{"$f":"IFERROR(VLOOKUP(B1205,DKC_Price!A:H,3,FALSE),\"\")","v":""}]
[null,null,{"$f":"IFERROR(VLOOKUP(B1206,DKC_Price!A:H,2,FALSE),\"\")","v":""},null,null,null,{"$f":"IFERROR(VLOOKUP(B1206,DKC_Price!A:H,3,FALSE),\"\")","v":""}]
[null,null,{"$f":"IFERROR(VLOOKUP(B1207,DKC_Price!A:H,2,FALSE),\"\")","v":""},null,null,null,{"$f":"IFERROR(VLOOKUP(B1207,DKC_Price!A:H,3,FALSE),\"\")","v":""}]
[null,null,{"$f":"IFERROR(VLOOKUP(B1208,DKC_Price!A:H,2,FALSE),\"\")","v":""},null,null,null,{"$f":"IFERROR(VLOOKUP(B1208,DKC_Price!A:H,3,FALSE),\"\")","v":""}]
[null,null,{"$f":"IFERROR(VLOOKUP(B1209,DKC_Price!A:H,2,FALSE),\"\")","v":""},null,null,null,{"$f":"IFERROR(VLOOKUP(B1209,DKC_Price!A:H,3,FALSE),\"\")","v":""}]
[null,null,{"$f":"IFERROR(VLOOKUP(B1210,DKC_Price!A:H,2,FALSE),\"\")","v":""},null,null,null,{"$f":"IFERROR(VLOOKUP(B1210,DKC_Price!A:H,3,FALSE),\"\")","v":""}]
[null,null,{"$f":"IFERROR(VLOOKUP(B1211,DKC_Price!A:H,2,FALSE),\"\")","v":""},null,null,null,{"$f":"IFERROR(VLOOKUP(B1211,DKC_Price!A:H,3,FALSE),\"\")","v":""}]
[null,null,{"$f":"IFERROR(VLOOKUP(B1212,DKC_Price!A:H,2,FALSE),\"\")","v":""},null,null,null,{"$f":"IFERROR(VLOOKUP(B1212,DKC_Price!A:H,3,FALSE),\"\")","v":""}]
[null,null,{"$f":"IFERROR(VLOOKUP(B1213,DKC_Price!A:H,2,FALSE),\"\")","v":""},null,null,null,{"$f":"IFERROR(VLOOKUP(B1213,DKC_Price!A:H,3,FALSE),\"\")","v":""}]
[null,null,{"$f":"IFERROR(VLOOKUP(B1214,DKC_Price!A:H,2,FALSE),\"\")","v":""},null,null,null,{"$f":"IFERROR(VLOOKUP(B1214,DKC_Price!A:H,3,FALSE),\"\")","v":""}]
[null,null,{"$f":"IFERROR(VLOOKUP(B1215,DKC_Price!A:H,2,FALSE),\"\")","v":""},null,null,null,{"$f":"IFERROR(VLOOKUP(B1215,DKC_Price!A:H,3,FALSE),\"\")","v":""}]
[null,null,{"$f":"IFERROR(VLOOKUP(B1216,DKC_Price!A:H,2,FALSE),\"\")","v":""},null,null,null,{"$f":"IFERROR(VLOOKUP(B1216,DKC_Price!A:H,3,FALSE),\"\")","v":""}]
[null,null,{"$f":"IFERROR(VLOOKUP(B1217,DKC_Price!A:H,2,FALSE),\"\")","v":""},null,null,null,{"$f":"IFERROR(VLOOKUP(B1217,DKC_Price!A:H,3,FALSE),\"\")","v":""}]
[null,null,{"$f":"IFERROR(VLOOKUP(B1218,DKC_Price!A:H,2,FALSE),\"\")","v":""},null,null,null,{"$f":"IFERROR(VLOOKUP(B1218,DKC_Price!A:H,3,FALSE),\"\")","v":""}]
[null,null,{"$f":"IFERROR(VLOOKUP(B1219,DKC_Price!A:H,2,FALSE),\"\")","v":""},null,null,null,{"$f":"IFERROR(VLOOKUP(B1219,DKC_Price!A:H,3,FALSE),\"\")","v":""}]
[null,null,{"$f":"IFERROR(VLOOKUP(B1220,DKC_Price!A:H,2,FALSE),\"\")","v":""},null,null,null,{"$f":"IFERROR(VLOOKUP(B1220,DKC_Price!A:H,3,FALSE),\"\")","v":""}]
[null,null,{"$f":"IFERROR(VLOOKUP(B1221,DKC_Price!A:H,2,FALSE),\"\")","v":""},null,null,null,{"$f":"IFERROR(VLOOKUP(B1221,DKC_Price!A:H,3,FALSE),\"\")","v":""}]
[null,null,{"$f":"IFERROR(VLOOKUP(B1222,DKC_Price!A:H,2,FALSE),\"\")","v":""},null,null,null,{"$f":"IFERROR(VLOOKUP(B1222,DKC_Price!A:H,3,FALSE),\"\")","v":""}]
[null,null,{"$f":"IFERROR(VLOOKUP(B1223,DKC_Price!A:H,2,FALSE),\"\")","v":""},null,null,null,{"$f":"IFERROR(VLOOKUP(B1223,DKC_Price!A:H,3,FALSE),\"\")","v":""}]
[null,null,{"$f":"IFERROR(VLOOKUP(B1224,DKC_Price!A:H,2,FALSE),\"\")","v":""},null,null,null,{"$f":"IFERROR(VLOOKUP(B1224,DKC_Price!A:H,3,FALSE),\"\")","v":""}]
[null,null,{"$f":"IFERROR(VLOOKUP(B1225,DKC_Price!A:H,2,FALSE),\"\")","v":""},null,null,null,{"$f":"IFERROR(VLOOKUP(B1225,DKC_Price!A:H,3,FALSE),\"\")","v":""}]
[null,null,{"$f":"IFERROR(VLOOKUP(B1226,DKC_Price!A:H,2,FALSE),\"\")","v":""},null,null,null,{"$f":"IFERROR(VLOOKUP(B1226,DKC_Price!A:H,3,FALSE),\"\")","v":""}]
[null,null,{"$f":"IFERROR(VLOOKUP(B1227,DKC_Price!A:H,2,FALSE),\"\")","v":""},null,null,null,{"$f":"IFERROR(VLOOKUP(B1227,DKC_Price!A:H,3,FALSE),\"\")","v":""}]
[null,null,{"$f":"IFERROR(VLOOKUP(B1228,DKC_Price!A:H,2,FALSE),\"\")","v":""},null,null,null,{"$f":"IFERROR(VLOOKUP(B1228,DKC_Price!A:H,3,FALSE),\"\")","v":""}]
[null,null,{"$f":"IFERROR(VLOOKUP(B1229,DKC_Price!A:H,2,FALSE),\"\")","v":""},null,null,null,{"$f":"IFERROR(VLOOKUP(B1229,DKC_Price!A:H,3,FALSE),\"\")","v":""}]
[null,null,{"$f":"IFERROR(VLOOKUP(B1230,DKC_Price!A:H,2,FALSE),\"\")","v":""},null,null,null,{"$f":"IFERROR(VLOOKUP(B1230,DKC_Price!A:H,3,FALSE),\"\")","v":""}]
[null,null,{"$f":"IFERROR(VLOOKUP(B1231,DKC_Price!A:H,2,FALSE),\"\")","v":""},null,null,null,{"$f":"IFERROR(VLOOKUP(B1231,DKC_Price!A:H,3,FALSE),\"\")","v":""}]
[null,null,{"$f":"IFERROR(VLOOKUP(B1232,DKC_Price!A:H,2,FALSE),\"\")","v":""},null,null,null,{"$f":"IFERROR(VLOOKUP(B1232,DKC_Price!A:H,3,FALSE),\"\")","v":""}]
[null,null,{"$f":"IFERROR(VLOOKUP(B1233,DKC_Price!A:H,2,FALSE),\"\")","v":""},null,null,null,{"$f":"IFERROR(VLOOKUP(B1233,DKC_Price!A:H,3,FALSE),\"\")","v":""}]
[null,null,{"$f":"IFERROR(VLOOKUP(B1234,DKC_Price!A:H,2,FALSE),\"\")","v":""},null,null,null,{"$f":"IFERROR(VLOOKUP(B1234,DKC_Price!A:H,3,FALSE),\"\")","v":""}]
[null,null,{"$f":"IFERROR(VLOOKUP(B1235,DKC_Price!A:H,2,FALSE),\"\")","v":""},null,null,null,{"$f":"IFERROR(VLOOKUP(B1235,DKC_Price!A:H,3,FALSE),\"\")","v":""}]
[null,null,{"$f":"IFERROR(VLOOKUP(B1236,DKC_Price!A:H,2,FALSE),\"\")","v":""},null,null,null,{"$f":"IFERROR(VLOOKUP(B1236,DKC_Price!A:H,3,FALSE),\"\")","v":""}]
[null,null,{"$f":"IFERROR(VLOOKUP(B1237,DKC_Price!A:H,2,FALSE),\"\")","v":""},null,null,null,{"$f":"IFERROR(VLOOKUP(B1237,DKC_Price!A:H,3,FALSE),\"\")","v":""}]
[null,null,{"$f":"IFERROR(VLOOKUP(B1238,DKC_Price!A:H,2,FALSE),\"\")","v":""},null,null,null,{"$f":"IFERROR(VLOOKUP(B1238,DKC_Price!A:H,3,FALSE),\"\")","v":""}]
[null,null,{"$f":"IFERROR(VLOOKUP(B1239,DKC_Price!A:H,2,FALSE),\"\")","v":""},null,null,null,{"$f":"IFERROR(VLOOKUP(B1239,DKC_Price!A:H,3,FALSE),\"\")","v":""}]
[null,null,{"$f":"IFERROR(VLOOKUP(B1240,DKC_Price!A:H,2,FALSE),\"\")","v":""},null,null,null,{"$f":"IFERROR(VLOOKUP(B1240,DKC_Price!A:H,3,FALSE),\"\")","v":""}]
[null,null,{"$f":"IFERROR(VLOOKUP(B1241,DKC_Price!A:H,2,FALSE),\"\")","v":""},null,null,null,{"$f":"IFERROR(VLOOKUP(B1241,DKC_Price!A:H,3,FALSE),\"\")","v":""}]
[null,null,{"$f":"IFERROR(VLOOKUP(B1242,DKC_Price!A:H,2,FALSE),\"\")","v":""},null,null,null,{"$f":"IFERROR(VLOOKUP(B1242,DKC_Price!A:H,3,FALSE),\"\")","v":""}]
[null,null,{"$f":"IFERROR(VLOOKUP(B1243,DKC_Price!A:H,2,FALSE),\"\")","v":""},null,null,null,{"$f":"IFERROR(VLOOKUP(B1243,DKC_Price!A:H,3,FALSE),\"\")","v":""}]
[null,null,{"$f":"IFERROR(VLOOKUP(B1244,DKC_Price!A:H,2,FALSE),\"\")","v":""},null,null,null,{"$f":"IFERROR(VLOOKUP(B1244,DKC_Price!A:H,3,FALSE),\"\")","v":""}]
[null,null,{"$f":"IFERROR(VLOOKUP(B1245,DKC_Price!A:H,2,FALSE),\"\")","v":""},null,null,null,{"$f":"IFERROR(VLOOKUP(B1245,DKC_Price!A:H,3,FALSE),\"\")","v":""}]
[null,null,{"$f":"IFERROR(VLOOKUP(B1246,DKC_Price!A:H,2,FALSE),\"\")","v":""},null,null,null,{"$f":"IFERROR(VLOOKUP(B1246,DKC_Price!A:H,3,FALSE),\"\")","v":""}]
[null,null,{"$f":"IFERROR(VLOOKUP(B1247,DKC_Price!A:H,2,FALSE),\"\")","v":""},null,null,null,{"$f":"IFERROR(VLOOKUP(B1247,DKC_Price!A:H,3,FALSE),\"\")","v":""}]
[null,null,{"$f":"IFERROR(VLOOKUP(B1248,DKC_Price!A:H,2,FALSE),\"\")","v":""},null,null,null,{"$f":"IFERROR(VLOOKUP(B1248,DKC_Price!A:H,3,FALSE),\"\")","v":""}]
[null,null,{"$f":"IFERROR(VLOOKUP(B1249,DKC_Price!A:H,2,FALSE),\"\")","v":""},null,null,null,{"$f":"IFERROR(VLOOKUP(B1249,DKC_Price!A:H,3,FALSE),\"\")","v":""}]
[null,null,{"$f":"IFERROR(VLOOKUP(B1250,DKC_Price!A:H,2,FALSE),\"\")","v":""},null,null,null,{"$f":"IFERROR(VLOOKUP(B1250,DKC_Price!A:H,3,FALSE),\"\")","v":""}]
[null,null,{"$f":"IFERROR(VLOOKUP(B1251,DKC_Price!A:H,2,FALSE),\"\")","v":""},null,null,null,{"$f":"IFERROR(VLOOKUP(B1251,DKC_Price!A:H,3,FALSE),\"\")","v":""}]
[null,null,{"$f":"IFERROR(VLOOKUP(B1252,DKC_Price!A:H,2,FALSE),\"\")","v":""},null,null,null,{"$f":"IFERROR(VLOOKUP(B1252,DKC_Price!A:H,3,FALSE),\"\")","v":""}]
[null,null,{"$f":"IFERROR(VLOOKUP(B1253,DKC_Price!A:H,2,FALSE),\"\")","v":""},null,null,null,{"$f":"IFERROR(VLOOKUP(B1253,DKC_Price!A:H,3,FALSE),\"\")","v":""}]
[null,null,{"$f":"IFERROR(VLOOKUP(B1254,DKC_Price!A:H,2,FALSE),\"\")","v":""},null,null,null,{"$f":"IFERROR(VLOOKUP(B1254,DKC_Price!A:H,3,FALSE),\"\")","v":""}]
[null,null,{"$f":"IFERROR(VLOOKUP(B1255,DKC_Price!A:H,2,FALSE),\"\")","v":""},null,null,null,{"$f":"IFERROR(VLOOKUP(B1255,DKC_Price!A:H,3,FALSE),\"\")","v":""}]
[null,null,{"$f":"IFERROR(VLOOKUP(B1256,DKC_Price!A:H,2,FALSE),\"\")","v":""},null,null,null,{"$f":"IFERROR(VLOOKUP(B1256,DKC_Price!A:H,3,FALSE),\"\")","v":""}]
[null,null,{"$f":"IFERROR(VLOOKUP(B1257,DKC_Price!A:H,2,FALSE),\"\")","v":""},null,null,null,{"$f":"IFERROR(VLOOKUP(B1257,DKC_Price!A:H,3,FALSE),\"\")","v":""}]
[null,null,{"$f":"IFERROR(VLOOKUP(B1258,DKC_Price!A:H,2,FALSE),\"\")","v":""},null,null,null,{"$f":"IFERROR(VLOOKUP(B1258,DKC_Price!A:H,3,FALSE),\"\")","v":""}]
[null,null,{"$f":"IFERROR(VLOOKUP(B1259,DKC_Price!A:H,2,FALSE),\"\")","v":""},null,null,null,{"$f":"IFERROR(VLOOKUP(B1259,DKC_Price!A:H,3,FALSE),\"\")","v":""}]
[null,null,{"$f":"IFERROR(VLOOKUP(B1260,DKC_Price!A:H,2,FALSE),\"\")","v":""},null,null,null,{"$f":"IFERROR(VLOOKUP(B1260,DKC_Price!A:H,3,FALSE),\"\")","v":""}]
[null,null,{"$f":"IFERROR(VLOOKUP(B1261,DKC_Price!A:H,2,FALSE),\"\")","v":""},null,null,null,{"$f":"IFERROR(VLOOKUP(B1261,DKC_Price!A:H,3,FALSE),\"\")","v":""}]
[null,null,{"$f":"IFERROR(VLOOKUP(B1262,DKC_Price!A:H,2,FALSE),\"\")","v":""},null,null,null,{"$f":"IFERROR(VLOOKUP(B1262,DKC_Price!A:H,3,FALSE),\"\")","v":""}]
[null,null,{"$f":"IFERROR(VLOOKUP(B1263,DKC_Price!A:H,2,FALSE),\"\")","v":""},null,null,null,{"$f":"IFERROR(VLOOKUP(B1263,DKC_Price!A:H,3,FALSE),\"\")","v":""}]
[null,null,{"$f":"IFERROR(VLOOKUP(B1264,DKC_Price!A:H,2,FALSE),\"\")","v":""},null,null,null,{"$f":"IFERROR(VLOOKUP(B1264,DKC_Price!A:H,3,FALSE),\"\")","v":""}]
[null,null,{"$f":"IFERROR(VLOOKUP(B1265,DKC_Price!A:H,2,FALSE),\"\")","v":""},null,null,null,{"$f":"IFERROR(VLOOKUP(B1265,DKC_Price!A:H,3,FALSE),\"\")","v":""}]
[null,null,{"$f":"IFERROR(VLOOKUP(B1266,DKC_Price!A:H,2,FALSE),\"\")","v":""},null,null,null,{"$f":"IFERROR(VLOOKUP(B1266,DKC_Price!A:H,3,FALSE),\"\")","v":""}]
[null,null,{"$f":"IFERROR(VLOOKUP(B1267,DKC_Price!A:H,2,FALSE),\"\")","v":""},null,null,null,{"$f":"IFERROR(VLOOKUP(B1267,DKC_Price!A:H,3,FALSE),\"\")","v":""}]
[null,null,{"$f":"IFERROR(VLOOKUP(B1268,DKC_Price!A:H,2,FALSE),\"\")","v":""},null,null,null,{"$f":"IFERROR(VLOOKUP(B1268,DKC_Price!A:H,3,FALSE),\"\")","v":""}]
[null,null,{"$f":"IFERROR(VLOOKUP(B1269,DKC_Price!A:H,2,FALSE),\"\")","v":""},null,null,null,{"$f":"IFERROR(VLOOKUP(B1269,DKC_Price!A:H,3,FALSE),\"\")","v":""}]
[null,null,{"$f":"IFERROR(VLOOKUP(B1270,DKC_Price!A:H,2,FALSE),\"\")","v":""},null,null,null,{"$f":"IFERROR(VLOOKUP(B1270,DKC_Price!A:H,3,FALSE),\"\")","v":""}]
[null,null,{"$f":"IFERROR(VLOOKUP(B1271,DKC_Price!A:H,2,FALSE),\"\")","v":""},null,null,null,{"$f":"IFERROR(VLOOKUP(B1271,DKC_Price!A:H,3,FALSE),\"\")","v":""}]
[null,null,{"$f":"IFERROR(VLOOKUP(B1272,DKC_Price!A:H,2,FALSE),\"\")","v":""},null,null,null,{"$f":"IFERROR(VLOOKUP(B1272,DKC_Price!A:H,3,FALSE),\"\")","v":""}]
[null,null,{"$f":"IFERROR(VLOOKUP(B1273,DKC_Price!A:H,2,FALSE),\"\")","v":""},null,null,null,{"$f":"IFERROR(VLOOKUP(B1273,DKC_Price!A:H,3,FALSE),\"\")","v":""}]
[null,null,{"$f":"IFERROR(VLOOKUP(B1274,DKC_Price!A:H,2,FALSE),\"\")","v":""},null,null,null,{"$f":"IFERROR(VLOOKUP(B1274,DKC_Price!A:H,3,FALSE),\"\")","v":""}]
[null,null,{"$f":"IFERROR(VLOOKUP(B1275,DKC_Price!A:H,2,FALSE),\"\")","v":""},null,null,null,{"$f":"IFERROR(VLOOKUP(B1275,DKC_Price!A:H,3,FALSE),\"\")","v":""}]
[null,null,{"$f":"IFERROR(VLOOKUP(B1276,DKC_Price!A:H,2,FALSE),\"\")","v":""},null,null,null,{"$f":"IFERROR(VLOOKUP(B1276,DKC_Price!A:H,3,FALSE),\"\")","v":""}]
[null,null,{"$f":"IFERROR(VLOOKUP(B1277,DKC_Price!A:H,2,FALSE),\"\")","v":""},null,null,null,{"$f":"IFERROR(VLOOKUP(B1277,DKC_Price!A:H,3,FALSE),\"\")","v":""}]
[null,null,{"$f":"IFERROR(VLOOKUP(B1278,DKC_Price!A:H,2,FALSE),\"\")","v":""},null,null,null,{"$f":"IFERROR(VLOOKUP(B1278,DKC_Price!A:H,3,FALSE),\"\")","v":""}]
[null,null,{"$f":"IFERROR(VLOOKUP(B1279,DKC_Price!A:H,2,FALSE),\"\")","v":""},null,null,null,{"$f":"IFERROR(VLOOKUP(B1279,DKC_Price!A:H,3,FALSE),\"\")","v":""}]
[null,null,{"$f":"IFERROR(VLOOKUP(B1280,DKC_Price!A:H,2,FALSE),\"\")","v":""},null,null,null,{"$f":"IFERROR(VLOOKUP(B1280,DKC_Price!A:H,3,FALSE),\"\")","v":""}]
[null,null,{"$f":"IFERROR(VLOOKUP(B1281,DKC_Price!A:H,2,FALSE),\"\")","v":""},null,null,null,{"$f":"IFERROR(VLOOKUP(B1281,DKC_Price!A:H,3,FALSE),\"\")","v":""}]
[null,null,{"$f":"IFERROR(VLOOKUP(B1282,DKC_Price!A:H,2,FALSE),\"\")","v":""},null,null,null,{"$f":"IFERROR(VLOOKUP(B1282,DKC_Price!A:H,3,FALSE),\"\")","v":""}]
[null,null,{"$f":"IFERROR(VLOOKUP(B1283,DKC_Price!A:H,2,FALSE),\"\")","v":""},null,null,null,{"$f":"IFERROR(VLOOKUP(B1283,DKC_Price!A:H,3,FALSE),\"\")","v":""}]
[null,null,{"$f":"IFERROR(VLOOKUP(B1284,DKC_Price!A:H,2,FALSE),\"\")","v":""},null,null,null,{"$f":"IFERROR(VLOOKUP(B1284,DKC_Price!A:H,3,FALSE),\"\")","v":""}]
[null,null,{"$f":"IFERROR(VLOOKUP(B1285,DKC_Price!A:H,2,FALSE),\"\")","v":""},null,null,null,{"$f":"IFERROR(VLOOKUP(B1285,DKC_Price!A:H,3,FALSE),\"\")","v":""}]
[null,null,{"$f":"IFERROR(VLOOKUP(B1286,DKC_Price!A:H,2,FALSE),\"\")","v":""},null,null,null,{"$f":"IFERROR(VLOOKUP(B1286,DKC_Price!A:H,3,FALSE),\"\")","v":""}]
[null,null,{"$f":"IFERROR(VLOOKUP(B1287,DKC_Price!A:H,2,FALSE),\"\")","v":""},null,null,null,{"$f":"IFERROR(VLOOKUP(B1287,DKC_Price!A:H,3,FALSE),\"\")","v":""}]
[null,null,{"$f":"IFERROR(VLOOKUP(B1288,DKC_Price!A:H,2,FALSE),\"\")","v":""},null,null,null,{"$f":"IFERROR(VLOOKUP(B1288,DKC_Price!A:H,3,FALSE),\"\")","v":""}]
[null,null,{"$f":"IFERROR(VLOOKUP(B1289,DKC_Price!A:H,2,FALSE),\"\")","v":""},null,null,null,{"$f":"IFERROR(VLOOKUP(B1289,DKC_Price!A:H,3,FALSE),\"\")","v":""}]
[null,null,{"$f":"IFERROR(VLOOKUP(B1290,DKC_Price!A:H,2,FALSE),\"\")","v":""},null,null,null,{"$f":"IFERROR(VLOOKUP(B1290,DKC_Price!A:H,3,FALSE),\"\")","v":""}]
[null,null,{"$f":"IFERROR(VLOOKUP(B1291,DKC_Price!A:H,2,FALSE),\"\")","v":""},null,null,null,{"$f":"IFERROR(VLOOKUP(B1291,DKC_Price!A:H,3,FALSE),\"\")","v":""}]
[null,null,{"$f":"IFERROR(VLOOKUP(B1292,DKC_Price!A:H,2,FALSE),\"\")","v":""},null,null,null,{"$f":"IFERROR(VLOOKUP(B1292,DKC_Price!A:H,3,FALSE),\"\")","v":""}]
[null,null,{"$f":"IFERROR(VLOOKUP(B1293,DKC_Price!A:H,2,FALSE),\"\")","v":""},null,null,null,{"$f":"IFERROR(VLOOKUP(B1293,DKC_Price!A:H,3,FALSE),\"\")","v":""}]
[null,null,{"$f":"IFERROR(VLOOKUP(B1294,DKC_Price!A:H,2,FALSE),\"\")","v":""},null,null,null,{"$f":"IFERROR(VLOOKUP(B1294,DKC_Price!A:H,3,FALSE),\"\")","v":""}]
[null,null,{"$f":"IFERROR(VLOOKUP(B1295,DKC_Price!A:H,2,FALSE),\"\")","v":""},null,null,null,{"$f":"IFERROR(VLOOKUP(B1295,DKC_Price!A:H,3,FALSE),\"\")","v":""}]
[null,null,{"$f":"IFERROR(VLOOKUP(B1296,DKC_Price!A:H,2,FALSE),\"\")","v":""},null,null,null,{"$f":"IFERROR(VLOOKUP(B1296,DKC_Price!A:H,3,FALSE),\"\")","v":""}]
[null,null,{"$f":"IFERROR(VLOOKUP(B1297,DKC_Price!A:H,2,FALSE),\"\")","v":""},null,null,null,{"$f":"IFERROR(VLOOKUP(B1297,DKC_Price!A:H,3,FALSE),\"\")","v":""}]
[null,null,{"$f":"IFERROR(VLOOKUP(B1298,DKC_Price!A:H,2,FALSE),\"\")","v":""},null,null,null,{"$f":"IFERROR(VLOOKUP(B1298,DKC_Price!A:H,3,FALSE),\"\")","v":""}]
[null,null,{"$f":"IFERROR(VLOOKUP(B1299,DKC_Price!A:H,2,FALSE),\"\")","v":""},null,null,null,{"$f":"IFERROR(VLOOKUP(B1299,DKC_Price!A:H,3,FALSE),\"\")","v":""}]
[null,null,{"$f":"IFERROR(VLOOKUP(B1300,DKC_Price!A:H,2,FALSE),\"\")","v":""},null,null,null,{"$f":"IFERROR(VLOOKUP(B1300,DKC_Price!A:H,3,FALSE),\"\")","v":""}]
[null,null,{"$f":"IFERROR(VLOOKUP(B1301,DKC_Price!A:H,2,FALSE),\"\")","v":""},null,null,null,{"$f":"IFERROR(VLOOKUP(B1301,DKC_Price!A:H,3,FALSE),\"\")","v":""}]
[null,null,{"$f":"IFERROR(VLOOKUP(B1302,DKC_Price!A:H,2,FALSE),\"\")","v":""},null,null,null,{"$f":"IFERROR(VLOOKUP(B1302,DKC_Price!A:H,3,FALSE),\"\")","v":""}]
[null,null,{"$f":"IFERROR(VLOOKUP(B1303,DKC_Price!A:H,2,FALSE),\"\")","v":""},null,null,null,{"$f":"IFERROR(VLOOKUP(B1303,DKC_Price!A:H,3,FALSE),\"\")","v":""}]
[null,null,{"$f":"IFERROR(VLOOKUP(B1304,DKC_Price!A:H,2,FALSE),\"\")","v":""},null,null,null,{"$f":"IFERROR(VLOOKUP(B1304,DKC_Price!A:H,3,FALSE),\"\")","v":""}]
[null,null,{"$f":"IFERROR(VLOOKUP(B1305,DKC_Price!A:H,2,FALSE),\"\")","v":""},null,null,null,{"$f":"IFERROR(VLOOKUP(B1305,DKC_Price!A:H,3,FALSE),\"\")","v":""}]
[null,null,{"$f":"IFERROR(VLOOKUP(B1306,DKC_Price!A:H,2,FALSE),\"\")","v":""},null,null,null,{"$f":"IFERROR(VLOOKUP(B1306,DKC_Price!A:H,3,FALSE),\"\")","v":""}]
[null,null,{"$f":"IFERROR(VLOOKUP(B1307,DKC_Price!A:H,2,FALSE),\"\")","v":""},null,null,null,{"$f":"IFERROR(VLOOKUP(B1307,DKC_Price!A:H,3,FALSE),\"\")","v":""}]
[null,null,{"$f":"IFERROR(VLOOKUP(B1308,DKC_Price!A:H,2,FALSE),\"\")","v":""},null,null,null,{"$f":"IFERROR(VLOOKUP(B1308,DKC_Price!A:H,3,FALSE),\"\")","v":""}]
[null,null,{"$f":"IFERROR(VLOOKUP(B1309,DKC_Price!A:H,2,FALSE),\"\")","v":""},null,null,null,{"$f":"IFERROR(VLOOKUP(B1309,DKC_Price!A:H,3,FALSE),\"\")","v":""}]
[null,null,{"$f":"IFERROR(VLOOKUP(B1310,DKC_Price!A:H,2,FALSE),\"\")","v":""},null,null,null,{"$f":"IFERROR(VLOOKUP(B1310,DKC_Price!A:H,3,FALSE),\"\")","v":""}]
[null,null,{"$f":"IFERROR(VLOOKUP(B1311,DKC_Price!A:H,2,FALSE),\"\")","v":""},null,null,null,{"$f":"IFERROR(VLOOKUP(B1311,DKC_Price!A:H,3,FALSE),\"\")","v":""}]
[null,null,{"$f":"IFERROR(VLOOKUP(B1312,DKC_Price!A:H,2,FALSE),\"\")","v":""},null,null,null,{"$f":"IFERROR(VLOOKUP(B1312,DKC_Price!A:H,3,FALSE),\"\")","v":""}]
[null,null,{"$f":"IFERROR(VLOOKUP(B1313,DKC_Price!A:H,2,FALSE),\"\")","v":""},null,null,null,{"$f":"IFERROR(VLOOKUP(B1313,DKC_Price!A:H,3,FALSE),\"\")","v":""}]
[null,null,{"$f":"IFERROR(VLOOKUP(B1314,DKC_Price!A:H,2,FALSE),\"\")","v":""},null,null,null,{"$f":"IFERROR(VLOOKUP(B1314,DKC_Price!A:H,3,FALSE),\"\")","v":""}]
[null,null,{"$f":"IFERROR(VLOOKUP(B1315,DKC_Price!A:H,2,FALSE),\"\")","v":""},null,null,null,{"$f":"IFERROR(VLOOKUP(B1315,DKC_Price!A:H,3,FALSE),\"\")","v":""}]
[null,null,{"$f":"IFERROR(VLOOKUP(B1316,DKC_Price!A:H,2,FALSE),\"\")","v":""},null,null,null,{"$f":"IFERROR(VLOOKUP(B1316,DKC_Price!A:H,3,FALSE),\"\")","v":""}]
[null,null,{"$f":"IFERROR(VLOOKUP(B1317,DKC_Price!A:H,2,FALSE),\"\")","v":""},null,null,null,{"$f":"IFERROR(VLOOKUP(B1317,DKC_Price!A:H,3,FALSE),\"\")","v":""}]
[null,null,{"$f":"IFERROR(VLOOKUP(B1318,DKC_Price!A:H,2,FALSE),\"\")","v":""},null,null,null,{"$f":"IFERROR(VLOOKUP(B1318,DKC_Price!A:H,3,FALSE),\"\")","v":""}]
[null,null,{"$f":"IFERROR(VLOOKUP(B1319,DKC_Price!A:H,2,FALSE),\"\")","v":""},null,null,null,{"$f":"IFERROR(VLOOKUP(B1319,DKC_Price!A:H,3,FALSE),\"\")","v":""}]
[null,null,{"$f":"IFERROR(VLOOKUP(B1320,DKC_Price!A:H,2,FALSE),\"\")","v":""},null,null,null,{"$f":"IFERROR(VLOOKUP(B1320,DKC_Price!A:H,3,FALSE),\"\")","v":""}]
[null,null,{"$f":"IFERROR(VLOOKUP(B1321,DKC_Price!A:H,2,FALSE),\"\")","v":""},null,null,null,{"$f":"IFERROR(VLOOKUP(B1321,DKC_Price!A:H,3,FALSE),\"\")","v":""}]
[null,null,{"$f":"IFERROR(VLOOKUP(B1322,DKC_Price!A:H,2,FALSE),\"\")","v":""},null,null,null,{"$f":"IFERROR(VLOOKUP(B1322,DKC_Price!A:H,3,FALSE),\"\")","v":""}]
[null,null,{"$f":"IFERROR(VLOOKUP(B1323,DKC_Price!A:H,2,FALSE),\"\")","v":""},null,null,null,{"$f":"IFERROR(VLOOKUP(B1323,DKC_Price!A:H,3,FALSE),\"\")","v":""}]
[null,null,{"$f":"IFERROR(VLOOKUP(B1324,DKC_Price!A:H,2,FALSE),\"\")","v":""},null,null,null,{"$f":"IFERROR(VLOOKUP(B1324,DKC_Price!A:H,3,FALSE),\"\")","v":""}]
[null,null,{"$f":"IFERROR(VLOOKUP(B1325,DKC_Price!A:H,2,FALSE),\"\")","v":""},null,null,null,{"$f":"IFERROR(VLOOKUP(B1325,DKC_Price!A:H,3,FALSE),\"\")","v":""}]
[null,null,{"$f":"IFERROR(VLOOKUP(B1326,DKC_Price!A:H,2,FALSE),\"\")","v":""},null,null,null,{"$f":"IFERROR(VLOOKUP(B1326,DKC_Price!A:H,3,FALSE),\"\")","v":""}]
[null,null,{"$f":"IFERROR(VLOOKUP(B1327,DKC_Price!A:H,2,FALSE),\"\")","v":""},null,null,null,{"$f":"IFERROR(VLOOKUP(B1327,DKC_Price!A:H,3,FALSE),\"\")","v":""}]
[null,null,{"$f":"IFERROR(VLOOKUP(B1328,DKC_Price!A:H,2,FALSE),\"\")","v":""},null,null,null,{"$f":"IFERROR(VLOOKUP(B1328,DKC_Price!A:H,3,FALSE),\"\")","v":""}]
[null,null,{"$f":"IFERROR(VLOOKUP(B1329,DKC_Price!A:H,2,FALSE),\"\")","v":""},null,null,null,{"$f":"IFERROR(VLOOKUP(B1329,DKC_Price!A:H,3,FALSE),\"\")","v":""}]
[null,null,{"$f":"IFERROR(VLOOKUP(B1330,DKC_Price!A:H,2,FALSE),\"\")","v":""},null,null,null,{"$f":"IFERROR(VLOOKUP(B1330,DKC_Price!A:H,3,FALSE),\"\")","v":""}]
[null,null,{"$f":"IFERROR(VLOOKUP(B1331,DKC_Price!A:H,2,FALSE),\"\")","v":""},null,null,null,{"$f":"IFERROR(VLOOKUP(B1331,DKC_Price!A:H,3,FALSE),\"\")","v":""}]
[null,null,{"$f":"IFERROR(VLOOKUP(B1332,DKC_Price!A:H,2,FALSE),\"\")","v":""},null,null,null,{"$f":"IFERROR(VLOOKUP(B1332,DKC_Price!A:H,3,FALSE),\"\")","v":""}]
[null,null,{"$f":"IFERROR(VLOOKUP(B1333,DKC_Price!A:H,2,FALSE),\"\")","v":""},null,null,null,{"$f":"IFERROR(VLOOKUP(B1333,DKC_Price!A:H,3,FALSE),\"\")","v":""}]
[null,null,{"$f":"IFERROR(VLOOKUP(B1334,DKC_Price!A:H,2,FALSE),\"\")","v":""},null,null,null,{"$f":"IFERROR(VLOOKUP(B1334,DKC_Price!A:H,3,FALSE),\"\")","v":""}]
[null,null,{"$f":"IFERROR(VLOOKUP(B1335,DKC_Price!A:H,2,FALSE),\"\")","v":""},null,null,null,{"$f":"IFERROR(VLOOKUP(B1335,DKC_Price!A:H,3,FALSE),\"\")","v":""}]
[null,null,{"$f":"IFERROR(VLOOKUP(B1336,DKC_Price!A:H,2,FALSE),\"\")","v":""},null,null,null,{"$f":"IFERROR(VLOOKUP(B1336,DKC_Price!A:H,3,FALSE),\"\")","v":""}]
[null,null,{"$f":"IFERROR(VLOOKUP(B1337,DKC_Price!A:H,2,FALSE),\"\")","v":""},null,null,null,{"$f":"IFERROR(VLOOKUP(B1337,DKC_Price!A:H,3,FALSE),\"\")","v":""}]
[null,null,{"$f":"IFERROR(VLOOKUP(B1338,DKC_Price!A:H,2,FALSE),\"\")","v":""},null,null,null,{"$f":"IFERROR(VLOOKUP(B1338,DKC_Price!A:H,3,FALSE),\"\")","v":""}]
[null,null,{"$f":"IFERROR(VLOOKUP(B1339,DKC_Price!A:H,2,FALSE),\"\")","v":""},null,null,null,{"$f":"IFERROR(VLOOKUP(B1339,DKC_Price!A:H,3,FALSE),\"\")","v":""}]
[null,null,{"$f":"IFERROR(VLOOKUP(B1340,DKC_Price!A:H,2,FALSE),\"\")","v":""},null,null,null,{"$f":"IFERROR(VLOOKUP(B1340,DKC_Price!A:H,3,FALSE),\"\")","v":""}]
[null,null,{"$f":"IFERROR(VLOOKUP(B1341,DKC_Price!A:H,2,FALSE),\"\")","v":""},null,null,null,{"$f":"IFERROR(VLOOKUP(B1341,DKC_Price!A:H,3,FALSE),\"\")","v":""}]
[null,null,{"$f":"IFERROR(VLOOKUP(B1342,DKC_Price!A:H,2,FALSE),\"\")","v":""},null,null,null,{"$f":"IFERROR(VLOOKUP(B1342,DKC_Price!A:H,3,FALSE),\"\")","v":""}]
[null,null,{"$f":"IFERROR(VLOOKUP(B1343,DKC_Price!A:H,2,FALSE),\"\")","v":""},null,null,null,{"$f":"IFERROR(VLOOKUP(B1343,DKC_Price!A:H,3,FALSE),\"\")","v":""}]
[null,null,{"$f":"IFERROR(VLOOKUP(B1344,DKC_Price!A:H,2,FALSE),\"\")","v":""},null,null,null,{"$f":"IFERROR(VLOOKUP(B1344,DKC_Price!A:H,3,FALSE),\"\")","v":""}]
[null,null,{"$f":"IFERROR(VLOOKUP(B1345,DKC_Price!A:H,2,FALSE),\"\")","v":""},null,null,null,{"$f":"IFERROR(VLOOKUP(B1345,DKC_Price!A:H,3,FALSE),\"\")","v":""}]
[null,null,{"$f":"IFERROR(VLOOKUP(B1346,DKC_Price!A:H,2,FALSE),\"\")","v":""},null,null,null,{"$f":"IFERROR(VLOOKUP(B1346,DKC_Price!A:H,3,FALSE),\"\")","v":""}]
[null,null,{"$f":"IFERROR(VLOOKUP(B1347,DKC_Price!A:H,2,FALSE),\"\")","v":""},null,null,null,{"$f":"IFERROR(VLOOKUP(B1347,DKC_Price!A:H,3,FALSE),\"\")","v":""}]
[null,null,{"$f":"IFERROR(VLOOKUP(B1348,DKC_Price!A:H,2,FALSE),\"\")","v":""},null,null,null,{"$f":"IFERROR(VLOOKUP(B1348,DKC_Price!A:H,3,FALSE),\"\")","v":""}]
[null,null,{"$f":"IFERROR(VLOOKUP(B1349,DKC_Price!A:H,2,FALSE),\"\")","v":""},null,null,null,{"$f":"IFERROR(VLOOKUP(B1349,DKC_Price!A:H,3,FALSE),\"\")","v":""}]
[null,null,{"$f":"IFERROR(VLOOKUP(B1350,DKC_Price!A:H,2,FALSE),\"\")","v":""},null,null,null,{"$f":"IFERROR(VLOOKUP(B1350,DKC_Price!A:H,3,FALSE),\"\")","v":""}]
[null,null,{"$f":"IFERROR(VLOOKUP(B1351,DKC_Price!A:H,2,FALSE),\"\")","v":""},null,null,null,{"$f":"IFERROR(VLOOKUP(B1351,DKC_Price!A:H,3,FALSE),\"\")","v":""}]
[null,null,{"$f":"IFERROR(VLOOKUP(B1352,DKC_Price!A:H,2,FALSE),\"\")","v":""},null,null,null,{"$f":"IFERROR(VLOOKUP(B1352,DKC_Price!A:H,3,FALSE),\"\")","v":""}]
[null,null,{"$f":"IFERROR(VLOOKUP(B1353,DKC_Price!A:H,2,FALSE),\"\")","v":""},null,null,null,{"$f":"IFERROR(VLOOKUP(B1353,DKC_Price!A:H,3,FALSE),\"\")","v":""}]
[null,null,{"$f":"IFERROR(VLOOKUP(B1354,DKC_Price!A:H,2,FALSE),\"\")","v":""},null,null,null,{"$f":"IFERROR(VLOOKUP(B1354,DKC_Price!A:H,3,FALSE),\"\")","v":""}]
[null,null,{"$f":"IFERROR(VLOOKUP(B1355,DKC_Price!A:H,2,FALSE),\"\")","v":""},null,null,null,{"$f":"IFERROR(VLOOKUP(B1355,DKC_Price!A:H,3,FALSE),\"\")","v":""}]
[null,null,{"$f":"IFERROR(VLOOKUP(B1356,DKC_Price!A:H,2,FALSE),\"\")","v":""},null,null,null,{"$f":"IFERROR(VLOOKUP(B1356,DKC_Price!A:H,3,FALSE),\"\")","v":""}]
[null,null,{"$f":"IFERROR(VLOOKUP(B1357,DKC_Price!A:H,2,FALSE),\"\")","v":""},null,null,null,{"$f":"IFERROR(VLOOKUP(B1357,DKC_Price!A:H,3,FALSE),\"\")","v":""}]
[null,null,{"$f":"IFERROR(VLOOKUP(B1358,DKC_Price!A:H,2,FALSE),\"\")","v":""},null,null,null,{"$f":"IFERROR(VLOOKUP(B1358,DKC_Price!A:H,3,FALSE),\"\")","v":""}]
[null,null,{"$f":"IFERROR(VLOOKUP(B1359,DKC_Price!A:H,2,FALSE),\"\")","v":""},null,null,null,{"$f":"IFERROR(VLOOKUP(B1359,DKC_Price!A:H,3,FALSE),\"\")","v":""}]
[null,null,{"$f":"IFERROR(VLOOKUP(B1360,DKC_Price!A:H,2,FALSE),\"\")","v":""},null,null,null,{"$f":"IFERROR(VLOOKUP(B1360,DKC_Price!A:H,3,FALSE),\"\")","v":""}]
[null,null,{"$f":"IFERROR(VLOOKUP(B1361,DKC_Price!A:H,2,FALSE),\"\")","v":""},null,null,null,{"$f":"IFERROR(VLOOKUP(B1361,DKC_Price!A:H,3,FALSE),\"\")","v":""}]
[null,null,{"$f":"IFERROR(VLOOKUP(B1362,DKC_Price!A:H,2,FALSE),\"\")","v":""},null,null,null,{"$f":"IFERROR(VLOOKUP(B1362,DKC_Price!A:H,3,FALSE),\"\")","v":""}]
[null,null,{"$f":"IFERROR(VLOOKUP(B1363,DKC_Price!A:H,2,FALSE),\"\")","v":""},null,null,null,{"$f":"IFERROR(VLOOKUP(B1363,DKC_Price!A:H,3,FALSE),\"\")","v":""}]
[null,null,{"$f":"IFERROR(VLOOKUP(B1364,DKC_Price!A:H,2,FALSE),\"\")","v":""},null,null,null,{"$f":"IFERROR(VLOOKUP(B1364,DKC_Price!A:H,3,FALSE),\"\")","v":""}]
[null,null,{"$f":"IFERROR(VLOOKUP(B1365,DKC_Price!A:H,2,FALSE),\"\")","v":""},null,null,null,{"$f":"IFERROR(VLOOKUP(B1365,DKC_Price!A:H,3,FALSE),\"\")","v":""}]
[null,null,{"$f":"IFERROR(VLOOKUP(B1366,DKC_Price!A:H,2,FALSE),\"\")","v":""},null,null,null,{"$f":"IFERROR(VLOOKUP(B1366,DKC_Price!A:H,3,FALSE),\"\")","v":""}]
[null,null,{"$f":"IFERROR(VLOOKUP(B1367,DKC_Price!A:H,2,FALSE),\"\")","v":""},null,null,null,{"$f":"IFERROR(VLOOKUP(B1367,DKC_Price!A:H,3,FALSE),\"\")","v":""}]
[null,null,{"$f":"IFERROR(VLOOKUP(B1368,DKC_Price!A:H,2,FALSE),\"\")","v":""},null,null,null,{"$f":"IFERROR(VLOOKUP(B1368,DKC_Price!A:H,3,FALSE),\"\")","v":""}]
[null,null,{"$f":"IFERROR(VLOOKUP(B1369,DKC_Price!A:H,2,FALSE),\"\")","v":""},null,null,null,{"$f":"IFERROR(VLOOKUP(B1369,DKC_Price!A:H,3,FALSE),\"\")","v":""}]
[null,null,{"$f":"IFERROR(VLOOKUP(B1370,DKC_Price!A:H,2,FALSE),\"\")","v":""},null,null,null,{"$f":"IFERROR(VLOOKUP(B1370,DKC_Price!A:H,3,FALSE),\"\")","v":""}]
[null,null,{"$f":"IFERROR(VLOOKUP(B1371,DKC_Price!A:H,2,FALSE),\"\")","v":""},null,null,null,{"$f":"IFERROR(VLOOKUP(B1371,DKC_Price!A:H,3,FALSE),\"\")","v":""}]
[null,null,{"$f":"IFERROR(VLOOKUP(B1372,DKC_Price!A:H,2,FALSE),\"\")","v":""},null,null,null,{"$f":"IFERROR(VLOOKUP(B1372,DKC_Price!A:H,3,FALSE),\"\")","v":""}]
[null,null,{"$f":"IFERROR(VLOOKUP(B1373,DKC_Price!A:H,2,FALSE),\"\")","v":""},null,null,null,{"$f":"IFERROR(VLOOKUP(B1373,DKC_Price!A:H,3,FALSE),\"\")","v":""}]
[null,null,{"$f":"IFERROR(VLOOKUP(B1374,DKC_Price!A:H,2,FALSE),\"\")","v":""},null,null,null,{"$f":"IFERROR(VLOOKUP(B1374,DKC_Price!A:H,3,FALSE),\"\")","v":""}]
[null,null,{"$f":"IFERROR(VLOOKUP(B1375,DKC_Price!A:H,2,FALSE),\"\")","v":""},null,null,null,{"$f":"IFERROR(VLOOKUP(B1375,DKC_Price!A:H,3,FALSE),\"\")","v":""}]
[null,null,{"$f":"IFERROR(VLOOKUP(B1376,DKC_Price!A:H,2,FALSE),\"\")","v":""},null,null,null,{"$f":"IFERROR(VLOOKUP(B1376,DKC_Price!A:H,3,FALSE),\"\")","v":""}]
[null,null,{"$f":"IFERROR(VLOOKUP(B1377,DKC_Price!A:H,2,FALSE),\"\")","v":""},null,null,null,{"$f":"IFERROR(VLOOKUP(B1377,DKC_Price!A:H,3,FALSE),\"\")","v":""}]
[null,null,{"$f":"IFERROR(VLOOKUP(B1378,DKC_Price!A:H,2,FALSE),\"\")","v":""},null,null,null,{"$f":"IFERROR(VLOOKUP(B1378,DKC_Price!A:H,3,FALSE),\"\")","v":""}]
[null,null,{"$f":"IFERROR(VLOOKUP(B1379,DKC_Price!A:H,2,FALSE),\"\")","v":""},null,null,null,{"$f":"IFERROR(VLOOKUP(B1379,DKC_Price!A:H,3,FALSE),\"\")","v":""}]
[null,null,{"$f":"IFERROR(VLOOKUP(B1380,DKC_Price!A:H,2,FALSE),\"\")","v":""},null,null,null,{"$f":"IFERROR(VLOOKUP(B1380,DKC_Price!A:H,3,FALSE),\"\")","v":""}]
[null,null,{"$f":"IFERROR(VLOOKUP(B1381,DKC_Price!A:H,2,FALSE),\"\")","v":""},null,null,null,{"$f":"IFERROR(VLOOKUP(B1381,DKC_Price!A:H,3,FALSE),\"\")","v":""}]
[null,null,{"$f":"IFERROR(VLOOKUP(B1382,DKC_Price!A:H,2,FALSE),\"\")","v":""},null,null,null,{"$f":"IFERROR(VLOOKUP(B1382,DKC_Price!A:H,3,FALSE),\"\")","v":""}]
[null,null,{"$f":"IFERROR(VLOOKUP(B1383,DKC_Price!A:H,2,FALSE),\"\")","v":""},null,null,null,{"$f":"IFERROR(VLOOKUP(B1383,DKC_Price!A:H,3,FALSE),\"\")","v":""}]
[null,null,{"$f":"IFERROR(VLOOKUP(B1384,DKC_Price!A:H,2,FALSE),\"\")","v":""},null,null,null,{"$f":"IFERROR(VLOOKUP(B1384,DKC_Price!A:H,3,FALSE),\"\")","v":""}]
[null,null,{"$f":"IFERROR(VLOOKUP(B1385,DKC_Price!A:H,2,FALSE),\"\")","v":""},null,null,null,{"$f":"IFERROR(VLOOKUP(B1385,DKC_Price!A:H,3,FALSE),\"\")","v":""}]
[null,null,{"$f":"IFERROR(VLOOKUP(B1386,DKC_Price!A:H,2,FALSE),\"\")","v":""},null,null,null,{"$f":"IFERROR(VLOOKUP(B1386,DKC_Price!A:H,3,FALSE),\"\")","v":""}]
[null,null,{"$f":"IFERROR(VLOOKUP(B1387,DKC_Price!A:H,2,FALSE),\"\")","v":""},null,null,null,{"$f":"IFERROR(VLOOKUP(B1387,DKC_Price!A:H,3,FALSE),\"\")","v":""}]
[null,null,{"$f":"IFERROR(VLOOKUP(B1388,DKC_Price!A:H,2,FALSE),\"\")","v":""},null,null,null,{"$f":"IFERROR(VLOOKUP(B1388,DKC_Price!A:H,3,FALSE),\"\")","v":""}]
[null,null,{"$f":"IFERROR(VLOOKUP(B1389,DKC_Price!A:H,2,FALSE),\"\")","v":""},null,null,null,{"$f":"IFERROR(VLOOKUP(B1389,DKC_Price!A:H,3,FALSE),\"\")","v":""}]
[null,null,{"$f":"IFERROR(VLOOKUP(B1390,DKC_Price!A:H,2,FALSE),\"\")","v":""},null,null,null,{"$f":"IFERROR(VLOOKUP(B1390,DKC_Price!A:H,3,FALSE),\"\")","v":""}]
[null,null,{"$f":"IFERROR(VLOOKUP(B1391,DKC_Price!A:H,2,FALSE),\"\")","v":""},null,null,null,{"$f":"IFERROR(VLOOKUP(B1391,DKC_Price!A:H,3,FALSE),\"\")","v":""}]
[null,null,{"$f":"IFERROR(VLOOKUP(B1392,DKC_Price!A:H,2,FALSE),\"\")","v":""},null,null,null,{"$f":"IFERROR(VLOOKUP(B1392,DKC_Price!A:H,3,FALSE),\"\")","v":""}]
[null,null,{"$f":"IFERROR(VLOOKUP(B1393,DKC_Price!A:H,2,FALSE),\"\")","v":""},null,null,null,{"$f":"IFERROR(VLOOKUP(B1393,DKC_Price!A:H,3,FALSE),\"\")","v":""}]
[null,null,{"$f":"IFERROR(VLOOKUP(B1394,DKC_Price!A:H,2,FALSE),\"\")","v":""},null,null,null,{"$f":"IFERROR(VLOOKUP(B1394,DKC_Price!A:H,3,FALSE),\"\")","v":""}]
[null,null,{"$f":"IFERROR(VLOOKUP(B1395,DKC_Price!A:H,2,FALSE),\"\")","v":""},null,null,null,{"$f":"IFERROR(VLOOKUP(B1395,DKC_Price!A:H,3,FALSE),\"\")","v":""}]
[null,null,{"$f":"IFERROR(VLOOKUP(B1396,DKC_Price!A:H,2,FALSE),\"\")","v":""},null,null,null,{"$f":"IFERROR(VLOOKUP(B1396,DKC_Price!A:H,3,FALSE),\"\")","v":""}]
[null,null,{"$f":"IFERROR(VLOOKUP(B1397,DKC_Price!A:H,2,FALSE),\"\")","v":""},null,null,null,{"$f":"IFERROR(VLOOKUP(B1397,DKC_Price!A:H,3,FALSE),\"\")","v":""}]
[null,null,{"$f":"IFERROR(VLOOKUP(B1398,DKC_Price!A:H,2,FALSE),\"\")","v":""},null,null,null,{"$f":"IFERROR(VLOOKUP(B1398,DKC_Price!A:H,3,FALSE),\"\")","v":""}]
[null,null,{"$f":"IFERROR(VLOOKUP(B1399,DKC_Price!A:H,2,FALSE),\"\")","v":""},null,null,null,{"$f":"IFERROR(VLOOKUP(B1399,DKC_Price!A:H,3,FALSE),\"\")","v":""}]
[null,null,{"$f":"IFERROR(VLOOKUP(B1400,DKC_Price!A:H,2,FALSE),\"\")","v":""},null,null,null,{"$f":"IFERROR(VLOOKUP(B1400,DKC_Price!A:H,3,FALSE),\"\")","v":""}]
[null,null,{"$f":"IFERROR(VLOOKUP(B1401,DKC_Price!A:H,2,FALSE),\"\")","v":""},null,null,null,{"$f":"IFERROR(VLOOKUP(B1401,DKC_Price!A:H,3,FALSE),\"\")","v":""}]
[null,null,{"$f":"IFERROR(VLOOKUP(B1402,DKC_Price!A:H,2,FALSE),\"\")","v":""},null,null,null,{"$f":"IFERROR(VLOOKUP(B1402,DKC_Price!A:H,3,FALSE),\"\")","v":""}]
[null,null,{"$f":"IFERROR(VLOOKUP(B1403,DKC_Price!A:H,2,FALSE),\"\")","v":""},null,null,null,{"$f":"IFERROR(VLOOKUP(B1403,DKC_Price!A:H,3,FALSE),\"\")","v":""}]
[null,null,{"$f":"IFERROR(VLOOKUP(B1404,DKC_Price!A:H,2,FALSE),\"\")","v":""},null,null,null,{"$f":"IFERROR(VLOOKUP(B1404,DKC_Price!A:H,3,FALSE),\"\")","v":""}]
[null,null,{"$f":"IFERROR(VLOOKUP(B1405,DKC_Price!A:H,2,FALSE),\"\")","v":""},null,null,null,{"$f":"IFERROR(VLOOKUP(B1405,DKC_Price!A:H,3,FALSE),\"\")","v":""}]
[null,null,{"$f":"IFERROR(VLOOKUP(B1406,DKC_Price!A:H,2,FALSE),\"\")","v":""},null,null,null,{"$f":"IFERROR(VLOOKUP(B1406,DKC_Price!A:H,3,FALSE),\"\")","v":""}]
[null,null,{"$f":"IFERROR(VLOOKUP(B1407,DKC_Price!A:H,2,FALSE),\"\")","v":""},null,null,null,{"$f":"IFERROR(VLOOKUP(B1407,DKC_Price!A:H,3,FALSE),\"\")","v":""}]
[null,null,{"$f":"IFERROR(VLOOKUP(B1408,DKC_Price!A:H,2,FALSE),\"\")","v":""},null,null,null,{"$f":"IFERROR(VLOOKUP(B1408,DKC_Price!A:H,3,FALSE),\"\")","v":""}]
[null,null,{"$f":"IFERROR(VLOOKUP(B1409,DKC_Price!A:H,2,FALSE),\"\")","v":""},null,null,null,{"$f":"IFERROR(VLOOKUP(B1409,DKC_Price!A:H,3,FALSE),\"\")","v":""}]
[null,null,{"$f":"IFERROR(VLOOKUP(B1410,DKC_Price!A:H,2,FALSE),\"\")","v":""},null,null,null,{"$f":"IFERROR(VLOOKUP(B1410,DKC_Price!A:H,3,FALSE),\"\")","v":""}]
[null,null,{"$f":"IFERROR(VLOOKUP(B1411,DKC_Price!A:H,2,FALSE),\"\")","v":""},null,null,null,{"$f":"IFERROR(VLOOKUP(B1411,DKC_Price!A:H,3,FALSE),\"\")","v":""}]
[null,null,{"$f":"IFERROR(VLOOKUP(B1412,DKC_Price!A:H,2,FALSE),\"\")","v":""},null,null,null,{"$f":"IFERROR(VLOOKUP(B1412,DKC_Price!A:H,3,FALSE),\"\")","v":""}]
[null,null,{"$f":"IFERROR(VLOOKUP(B1413,DKC_Price!A:H,2,FALSE),\"\")","v":""},null,null,null,{"$f":"IFERROR(VLOOKUP(B1413,DKC_Price!A:H,3,FALSE),\"\")","v":""}]
[null,null,{"$f":"IFERROR(VLOOKUP(B1414,DKC_Price!A:H,2,FALSE),\"\")","v":""},null,null,null,{"$f":"IFERROR(VLOOKUP(B1414,DKC_Price!A:H,3,FALSE),\"\")","v":""}]
[null,null,{"$f":"IFERROR(VLOOKUP(B1415,DKC_Price!A:H,2,FALSE),\"\")","v":""},null,null,null,{"$f":"IFERROR(VLOOKUP(B1415,DKC_Price!A:H,3,FALSE),\"\")","v":""}]
[null,null,{"$f":"IFERROR(VLOOKUP(B1416,DKC_Price!A:H,2,FALSE),\"\")","v":""},null,null,null,{"$f":"IFERROR(VLOOKUP(B1416,DKC_Price!A:H,3,FALSE),\"\")","v":""}]
[null,null,{"$f":"IFERROR(VLOOKUP(B1417,DKC_Price!A:H,2,FALSE),\"\")","v":""},null,null,null,{"$f":"IFERROR(VLOOKUP(B1417,DKC_Price!A:H,3,FALSE),\"\")","v":""}]
[null,null,{"$f":"IFERROR(VLOOKUP(B1418,DKC_Price!A:H,2,FALSE),\"\")","v":""},null,null,null,{"$f":"IFERROR(VLOOKUP(B1418,DKC_Price!A:H,3,FALSE),\"\")","v":""}]
[null,null,{"$f":"IFERROR(VLOOKUP(B1419,DKC_Price!A:H,2,FALSE),\"\")","v":""},null,null,null,{"$f":"IFERROR(VLOOKUP(B1419,DKC_Price!A:H,3,FALSE),\"\")","v":""}]
[null,null,{"$f":"IFERROR(VLOOKUP(B1420,DKC_Price!A:H,2,FALSE),\"\")","v":""},null,null,null,{"$f":"IFERROR(VLOOKUP(B1420,DKC_Price!A:H,3,FALSE),\"\")","v":""}]
[null,null,{"$f":"IFERROR(VLOOKUP(B1421,DKC_Price!A:H,2,FALSE),\"\")","v":""},null,null,null,{"$f":"IFERROR(VLOOKUP(B1421,DKC_Price!A:H,3,FALSE),\"\")","v":""}]
[null,null,{"$f":"IFERROR(VLOOKUP(B1422,DKC_Price!A:H,2,FALSE),\"\")","v":""},null,null,null,{"$f":"IFERROR(VLOOKUP(B1422,DKC_Price!A:H,3,FALSE),\"\")","v":""}]
[null,null,{"$f":"IFERROR(VLOOKUP(B1423,DKC_Price!A:H,2,FALSE),\"\")","v":""},null,null,null,{"$f":"IFERROR(VLOOKUP(B1423,DKC_Price!A:H,3,FALSE),\"\")","v":""}]
[null,null,{"$f":"IFERROR(VLOOKUP(B1424,DKC_Price!A:H,2,FALSE),\"\")","v":""},null,null,null,{"$f":"IFERROR(VLOOKUP(B1424,DKC_Price!A:H,3,FALSE),\"\")","v":""}]
[null,null,{"$f":"IFERROR(VLOOKUP(B1425,DKC_Price!A:H,2,FALSE),\"\")","v":""},null,null,null,{"$f":"IFERROR(VLOOKUP(B1425,DKC_Price!A:H,3,FALSE),\"\")","v":""}]
[null,null,{"$f":"IFERROR(VLOOKUP(B1426,DKC_Price!A:H,2,FALSE),\"\")","v":""},null,null,null,{"$f":"IFERROR(VLOOKUP(B1426,DKC_Price!A:H,3,FALSE),\"\")","v":""}]
[null,null,{"$f":"IFERROR(VLOOKUP(B1427,DKC_Price!A:H,2,FALSE),\"\")","v":""},null,null,null,{"$f":"IFERROR(VLOOKUP(B1427,DKC_Price!A:H,3,FALSE),\"\")","v":""}]
[null,null,{"$f":"IFERROR(VLOOKUP(B1428,DKC_Price!A:H,2,FALSE),\"\")","v":""},null,null,null,{"$f":"IFERROR(VLOOKUP(B1428,DKC_Price!A:H,3,FALSE),\"\")","v":""}]
[null,null,{"$f":"IFERROR(VLOOKUP(B1429,DKC_Price!A:H,2,FALSE),\"\")","v":""},null,null,null,{"$f":"IFERROR(VLOOKUP(B1429,DKC_Price!A:H,3,FALSE),\"\")","v":""}]
[null,null,{"$f":"IFERROR(VLOOKUP(B1430,DKC_Price!A:H,2,FALSE),\"\")","v":""},null,null,null,{"$f":"IFERROR(VLOOKUP(B1430,DKC_Price!A:H,3,FALSE),\"\")","v":""}]
[null,null,{"$f":"IFERROR(VLOOKUP(B1431,DKC_Price!A:H,2,FALSE),\"\")","v":""},null,null,null,{"$f":"IFERROR(VLOOKUP(B1431,DKC_Price!A:H,3,FALSE),\"\")","v":""}]
[null,null,{"$f":"IFERROR(VLOOKUP(B1432,DKC_Price!A:H,2,FALSE),\"\")","v":""},null,null,null,{"$f":"IFERROR(VLOOKUP(B1432,DKC_Price!A:H,3,FALSE),\"\")","v":""}]
[null,null,{"$f":"IFERROR(VLOOKUP(B1433,DKC_Price!A:H,2,FALSE),\"\")","v":""},null,null,null,{"$f":"IFERROR(VLOOKUP(B1433,DKC_Price!A:H,3,FALSE),\"\")","v":""}]
[null,null,{"$f":"IFERROR(VLOOKUP(B1434,DKC_Price!A:H,2,FALSE),\"\")","v":""},null,null,null,{"$f":"IFERROR(VLOOKUP(B1434,DKC_Price!A:H,3,FALSE),\"\")","v":""}]
[null,null,{"$f":"IFERROR(VLOOKUP(B1435,DKC_Price!A:H,2,FALSE),\"\")","v":""},null,null,null,{"$f":"IFERROR(VLOOKUP(B1435,DKC_Price!A:H,3,FALSE),\"\")","v":""}]
[null,null,{"$f":"IFERROR(VLOOKUP(B1436,DKC_Price!A:H,2,FALSE),\"\")","v":""},null,null,null,{"$f":"IFERROR(VLOOKUP(B1436,DKC_Price!A:H,3,FALSE),\"\")","v":""}]
[null,null,{"$f":"IFERROR(VLOOKUP(B1437,DKC_Price!A:H,2,FALSE),\"\")","v":""},null,null,null,{"$f":"IFERROR(VLOOKUP(B1437,DKC_Price!A:H,3,FALSE),\"\")","v":""}]
[null,null,{"$f":"IFERROR(VLOOKUP(B1438,DKC_Price!A:H,2,FALSE),\"\")","v":""},null,null,null,{"$f":"IFERROR(VLOOKUP(B1438,DKC_Price!A:H,3,FALSE),\"\")","v":""}]
[null,null,{"$f":"IFERROR(VLOOKUP(B1439,DKC_Price!A:H,2,FALSE),\"\")","v":""},null,null,null,{"$f":"IFERROR(VLOOKUP(B1439,DKC_Price!A:H,3,FALSE),\"\")","v":""}]
[null,null,{"$f":"IFERROR(VLOOKUP(B1440,DKC_Price!A:H,2,FALSE),\"\")","v":""},null,null,null,{"$f":"IFERROR(VLOOKUP(B1440,DKC_Price!A:H,3,FALSE),\"\")","v":""}]
[null,null,{"$f":"IFERROR(VLOOKUP(B1441,DKC_Price!A:H,2,FALSE),\"\")","v":""},null,null,null,{"$f":"IFERROR(VLOOKUP(B1441,DKC_Price!A:H,3,FALSE),\"\")","v":""}]
[null,null,{"$f":"IFERROR(VLOOKUP(B1442,DKC_Price!A:H,2,FALSE),\"\")","v":""},null,null,null,{"$f":"IFERROR(VLOOKUP(B1442,DKC_Price!A:H,3,FALSE),\"\")","v":""}]
[null,null,{"$f":"IFERROR(VLOOKUP(B1443,DKC_Price!A:H,2,FALSE),\"\")","v":""},null,null,null,{"$f":"IFERROR(VLOOKUP(B1443,DKC_Price!A:H,3,FALSE),\"\")","v":""}]
[null,null,{"$f":"IFERROR(VLOOKUP(B1444,DKC_Price!A:H,2,FALSE),\"\")","v":""},null,null,null,{"$f":"IFERROR(VLOOKUP(B1444,DKC_Price!A:H,3,FALSE),\"\")","v":""}]
[null,null,{"$f":"IFERROR(VLOOKUP(B1445,DKC_Price!A:H,2,FALSE),\"\")","v":""},null,null,null,{"$f":"IFERROR(VLOOKUP(B1445,DKC_Price!A:H,3,FALSE),\"\")","v":""}]
[null,null,{"$f":"IFERROR(VLOOKUP(B1446,DKC_Price!A:H,2,FALSE),\"\")","v":""},null,null,null,{"$f":"IFERROR(VLOOKUP(B1446,DKC_Price!A:H,3,FALSE),\"\")","v":""}]
[null,null,{"$f":"IFERROR(VLOOKUP(B1447,DKC_Price!A:H,2,FALSE),\"\")","v":""},null,null,null,{"$f":"IFERROR(VLOOKUP(B1447,DKC_Price!A:H,3,FALSE),\"\")","v":""}]
[null,null,{"$f":"IFERROR(VLOOKUP(B1448,DKC_Price!A:H,2,FALSE),\"\")","v":""},null,null,null,{"$f":"IFERROR(VLOOKUP(B1448,DKC_Price!A:H,3,FALSE),\"\")","v":""}]
[null,null,{"$f":"IFERROR(VLOOKUP(B1449,DKC_Price!A:H,2,FALSE),\"\")","v":""},null,null,null,{"$f":"IFERROR(VLOOKUP(B1449,DKC_Price!A:H,3,FALSE),\"\")","v":""}]
[null,null,{"$f":"IFERROR(VLOOKUP(B1450,DKC_Price!A:H,2,FALSE),\"\")","v":""},null,null,null,{"$f":"IFERROR(VLOOKUP(B1450,DKC_Price!A:H,3,FALSE),\"\")","v":""}]
[null,null,{"$f":"IFERROR(VLOOKUP(B1451,DKC_Price!A:H,2,FALSE),\"\")","v":""},null,null,null,{"$f":"IFERROR(VLOOKUP(B1451,DKC_Price!A:H,3,FALSE),\"\")","v":""}]
[null,null,{"$f":"IFERROR(VLOOKUP(B1452,DKC_Price!A:H,2,FALSE),\"\")","v":""},null,null,null,{"$f":"IFERROR(VLOOKUP(B1452,DKC_Price!A:H,3,FALSE),\"\")","v":""}]
[null,null,{"$f":"IFERROR(VLOOKUP(B1453,DKC_Price!A:H,2,FALSE),\"\")","v":""},null,null,null,{"$f":"IFERROR(VLOOKUP(B1453,DKC_Price!A:H,3,FALSE),\"\")","v":""}]
[null,null,{"$f":"IFERROR(VLOOKUP(B1454,DKC_Price!A:H,2,FALSE),\"\")","v":""},null,null,null,{"$f":"IFERROR(VLOOKUP(B1454,DKC_Price!A:H,3,FALSE),\"\")","v":""}]
[null,null,{"$f":"IFERROR(VLOOKUP(B1455,DKC_Price!A:H,2,FALSE),\"\")","v":""},null,null,null,{"$f":"IFERROR(VLOOKUP(B1455,DKC_Price!A:H,3,FALSE),\"\")","v":""}]
[null,null,{"$f":"IFERROR(VLOOKUP(B1456,DKC_Price!A:H,2,FALSE),\"\")","v":""},null,null,null,{"$f":"IFERROR(VLOOKUP(B1456,DKC_Price!A:H,3,FALSE),\"\")","v":""}]
[null,null,{"$f":"IFERROR(VLOOKUP(B1457,DKC_Price!A:H,2,FALSE),\"\")","v":""},null,null,null,{"$f":"IFERROR(VLOOKUP(B1457,DKC_Price!A:H,3,FALSE),\"\")","v":""}]
[null,null,{"$f":"IFERROR(VLOOKUP(B1458,DKC_Price!A:H,2,FALSE),\"\")","v":""},null,null,null,{"$f":"IFERROR(VLOOKUP(B1458,DKC_Price!A:H,3,FALSE),\"\")","v":""}]
[null,null,{"$f":"IFERROR(VLOOKUP(B1459,DKC_Price!A:H,2,FALSE),\"\")","v":""},null,null,null,{"$f":"IFERROR(VLOOKUP(B1459,DKC_Price!A:H,3,FALSE),\"\")","v":""}]
[null,null,{"$f":"IFERROR(VLOOKUP(B1460,DKC_Price!A:H,2,FALSE),\"\")","v":""},null,null,null,{"$f":"IFERROR(VLOOKUP(B1460,DKC_Price!A:H,3,FALSE),\"\")","v":""}]
[null,null,{"$f":"IFERROR(VLOOKUP(B1461,DKC_Price!A:H,2,FALSE),\"\")","v":""},null,null,null,{"$f":"IFERROR(VLOOKUP(B1461,DKC_Price!A:H,3,FALSE),\"\")","v":""}]
[null,null,{"$f":"IFERROR(VLOOKUP(B1462,DKC_Price!A:H,2,FALSE),\"\")","v":""},null,null,null,{"$f":"IFERROR(VLOOKUP(B1462,DKC_Price!A:H,3,FALSE),\"\")","v":""}]
[null,null,{"$f":"IFERROR(VLOOKUP(B1463,DKC_Price!A:H,2,FALSE),\"\")","v":""},null,null,null,{"$f":"IFERROR(VLOOKUP(B1463,DKC_Price!A:H,3,FALSE),\"\")","v":""}]
[null,null,{"$f":"IFERROR(VLOOKUP(B1464,DKC_Price!A:H,2,FALSE),\"\")","v":""},null,null,null,{"$f":"IFERROR(VLOOKUP(B1464,DKC_Price!A:H,3,FALSE),\"\")","v":""}]
[null,null,{"$f":"IFERROR(VLOOKUP(B1465,DKC_Price!A:H,2,FALSE),\"\")","v":""},null,null,null,{"$f":"IFERROR(VLOOKUP(B1465,DKC_Price!A:H,3,FALSE),\"\")","v":""}]
[null,null,{"$f":"IFERROR(VLOOKUP(B1466,DKC_Price!A:H,2,FALSE),\"\")","v":""},null,null,null,{"$f":"IFERROR(VLOOKUP(B1466,DKC_Price!A:H,3,FALSE),\"\")","v":""}]
[null,null,{"$f":"IFERROR(VLOOKUP(B1467,DKC_Price!A:H,2,FALSE),\"\")","v":""},null,null,null,{"$f":"IFERROR(VLOOKUP(B1467,DKC_Price!A:H,3,FALSE),\"\")","v":""}]
[null,null,{"$f":"IFERROR(VLOOKUP(B1468,DKC_Price!A:H,2,FALSE),\"\")","v":""},null,null,null,{"$f":"IFERROR(VLOOKUP(B1468,DKC_Price!A:H,3,FALSE),\"\")","v":""}]
[null,null,{"$f":"IFERROR(VLOOKUP(B1469,DKC_Price!A:H,2,FALSE),\"\")","v":""},null,null,null,{"$f":"IFERROR(VLOOKUP(B1469,DKC_Price!A:H,3,FALSE),\"\")","v":""}]
[null,null,{"$f":"IFERROR(VLOOKUP(B1470,DKC_Price!A:H,2,FALSE),\"\")","v":""},null,null,null,{"$f":"IFERROR(VLOOKUP(B1470,DKC_Price!A:H,3,FALSE),\"\")","v":""}]
[null,null,{"$f":"IFERROR(VLOOKUP(B1471,DKC_Price!A:H,2,FALSE),\"\")","v":""},null,null,null,{"$f":"IFERROR(VLOOKUP(B1471,DKC_Price!A:H,3,FALSE),\"\")","v":""}]
[null,null,{"$f":"IFERROR(VLOOKUP(B1472,DKC_Price!A:H,2,FALSE),\"\")","v":""},null,null,null,{"$f":"IFERROR(VLOOKUP(B1472,DKC_Price!A:H,3,FALSE),\"\")","v":""}]
[null,null,{"$f":"IFERROR(VLOOKUP(B1473,DKC_Price!A:H,2,FALSE),\"\")","v":""},null,null,null,{"$f":"IFERROR(VLOOKUP(B1473,DKC_Price!A:H,3,FALSE),\"\")","v":""}]
[null,null,{"$f":"IFERROR(VLOOKUP(B1474,DKC_Price!A:H,2,FALSE),\"\")","v":""},null,null,null,{"$f":"IFERROR(VLOOKUP(B1474,DKC_Price!A:H,3,FALSE),\"\")","v":""}]
[null,null,{"$f":"IFERROR(VLOOKUP(B1475,DKC_Price!A:H,2,FALSE),\"\")","v":""},null,null,null,{"$f":"IFERROR(VLOOKUP(B1475,DKC_Price!A:H,3,FALSE),\"\")","v":""}]
[null,null,{"$f":"IFERROR(VLOOKUP(B1476,DKC_Price!A:H,2,FALSE),\"\")","v":""},null,null,null,{"$f":"IFERROR(VLOOKUP(B1476,DKC_Price!A:H,3,FALSE),\"\")","v":""}]
[null,null,{"$f":"IFERROR(VLOOKUP(B1477,DKC_Price!A:H,2,FALSE),\"\")","v":""},null,null,null,{"$f":"IFERROR(VLOOKUP(B1477,DKC_Price!A:H,3,FALSE),\"\")","v":""}]
[null,null,{"$f":"IFERROR(VLOOKUP(B1478,DKC_Price!A:H,2,FALSE),\"\")","v":""},null,null,null,{"$f":"IFERROR(VLOOKUP(B1478,DKC_Price!A:H,3,FALSE),\"\")","v":""}]
[null,null,{"$f":"IFERROR(VLOOKUP(B1479,DKC_Price!A:H,2,FALSE),\"\")","v":""},null,null,null,{"$f":"IFERROR(VLOOKUP(B1479,DKC_Price!A:H,3,FALSE),\"\")","v":""}]
[null,null,{"$f":"IFERROR(VLOOKUP(B1480,DKC_Price!A:H,2,FALSE),\"\")","v":""},null,null,null,{"$f":"IFERROR(VLOOKUP(B1480,DKC_Price!A:H,3,FALSE),\"\")","v":""}]
[null,null,{"$f":"IFERROR(VLOOKUP(B1481,DKC_Price!A:H,2,FALSE),\"\")","v":""},null,null,null,{"$f":"IFERROR(VLOOKUP(B1481,DKC_Price!A:H,3,FALSE),\"\")","v":""}]
[null,null,{"$f":"IFERROR(VLOOKUP(B1482,DKC_Price!A:H,2,FALSE),\"\")","v":""},null,null,null,{"$f":"IFERROR(VLOOKUP(B1482,DKC_Price!A:H,3,FALSE),\"\")","v":""}]
[null,null,{"$f":"IFERROR(VLOOKUP(B1483,DKC_Price!A:H,2,FALSE),\"\")","v":""},null,null,null,{"$f":"IFERROR(VLOOKUP(B1483,DKC_Price!A:H,3,FALSE),\"\")","v":""}]
[null,null,{"$f":"IFERROR(VLOOKUP(B1484,DKC_Price!A:H,2,FALSE),\"\")","v":""},null,null,null,{"$f":"IFERROR(VLOOKUP(B1484,DKC_Price!A:H,3,FALSE),\"\")","v":""}]
[null,null,{"$f":"IFERROR(VLOOKUP(B1485,DKC_Price!A:H,2,FALSE),\"\")","v":""},null,null,null,{"$f":"IFERROR(VLOOKUP(B1485,DKC_Price!A:H,3,FALSE),\"\")","v":""}]
[null,null,{"$f":"IFERROR(VLOOKUP(B1486,DKC_Price!A:H,2,FALSE),\"\")","v":""},null,null,null,{"$f":"IFERROR(VLOOKUP(B1486,DKC_Price!A:H,3,FALSE),\"\")","v":""}]
[null,null,{"$f":"IFERROR(VLOOKUP(B1487,DKC_Price!A:H,2,FALSE),\"\")","v":""},null,null,null,{"$f":"IFERROR(VLOOKUP(B1487,DKC_Price!A:H,3,FALSE),\"\")","v":""}]
[null,null,{"$f":"IFERROR(VLOOKUP(B1488,DKC_Price!A:H,2,FALSE),\"\")","v":""},null,null,null,{"$f":"IFERROR(VLOOKUP(B1488,DKC_Price!A:H,3,FALSE),\"\")","v":""}]
[null,null,{"$f":"IFERROR(VLOOKUP(B1489,DKC_Price!A:H,2,FALSE),\"\")","v":""},null,null,null,{"$f":"IFERROR(VLOOKUP(B1489,DKC_Price!A:H,3,FALSE),\"\")","v":""}]
[null,null,{"$f":"IFERROR(VLOOKUP(B1490,DKC_Price!A:H,2,FALSE),\"\")","v":""},null,null,null,{"$f":"IFERROR(VLOOKUP(B1490,DKC_Price!A:H,3,FALSE),\"\")","v":""}]
[null,null,{"$f":"IFERROR(VLOOKUP(B1491,DKC_Price!A:H,2,FALSE),\"\")","v":""},null,null,null,{"$f":"IFERROR(VLOOKUP(B1491,DKC_Price!A:H,3,FALSE),\"\")","v":""}]
[null,null,{"$f":"IFERROR(VLOOKUP(B1492,DKC_Price!A:H,2,FALSE),\"\")","v":""},null,null,null,{"$f":"IFERROR(VLOOKUP(B1492,DKC_Price!A:H,3,FALSE),\"\")","v":""}]
[null,null,{"$f":"IFERROR(VLOOKUP(B1493,DKC_Price!A:H,2,FALSE),\"\")","v":""},null,null,null,{"$f":"IFERROR(VLOOKUP(B1493,DKC_Price!A:H,3,FALSE),\"\")","v":""}]
[null,null,{"$f":"IFERROR(VLOOKUP(B1494,DKC_Price!A:H,2,FALSE),\"\")","v":""},null,null,null,{"$f":"IFERROR(VLOOKUP(B1494,DKC_Price!A:H,3,FALSE),\"\")","v":""}]
[null,null,{"$f":"IFERROR(VLOOKUP(B1495,DKC_Price!A:H,2,FALSE),\"\")","v":""},null,null,null,{"$f":"IFERROR(VLOOKUP(B1495,DKC_Price!A:H,3,FALSE),\"\")","v":""}]
[null,null,{"$f":"IFERROR(VLOOKUP(B1496,DKC_Price!A:H,2,FALSE),\"\")","v":""},null,null,null,{"$f":"IFERROR(VLOOKUP(B1496,DKC_Price!A:H,3,FALSE),\"\")","v":""}]
[null,null,{"$f":"IFERROR(VLOOKUP(B1497,DKC_Price!A:H,2,FALSE),\"\")","v":""},null,null,null,{"$f":"IFERROR(VLOOKUP(B1497,DKC_Price!A:H,3,FALSE),\"\")","v":""}]
[null,null,{"$f":"IFERROR(VLOOKUP(B1498,DKC_Price!A:H,2,FALSE),\"\")","v":""},null,null,null,{"$f":"IFERROR(VLOOKUP(B1498,DKC_Price!A:H,3,FALSE),\"\")","v":""}]
[null,null,{"$f":"IFERROR(VLOOKUP(B1499,DKC_Price!A:H,2,FALSE),\"\")","v":""},null,null,null,{"$f":"IFERROR(VLOOKUP(B1499,DKC_Price!A:H,3,FALSE),\"\")","v":""}]
[null,null,{"$f":"IFERROR(VLOOKUP(B1500,DKC_Price!A:H,2,FALSE),\"\")","v":""},null,null,null,{"$f":"IFERROR(VLOOKUP(B1500,DKC_Price!A:H,3,FALSE),\"\")","v":""}]
[null,null,{"$f":"IFERROR(VLOOKUP(B1501,DKC_Price!A:H,2,FALSE),\"\")","v":""},null,null,null,{"$f":"IFERROR(VLOOKUP(B1501,DKC_Price!A:H,3,FALSE),\"\")","v":""}]
[null,null,{"$f":"IFERROR(VLOOKUP(B1502,DKC_Price!A:H,2,FALSE),\"\")","v":""},null,null,null,{"$f":"IFERROR(VLOOKUP(B1502,DKC_Price!A:H,3,FALSE),\"\")","v":""}]
[null,null,{"$f":"IFERROR(VLOOKUP(B1503,DKC_Price!A:H,2,FALSE),\"\")","v":""},null,null,null,{"$f":"IFERROR(VLOOKUP(B1503,DKC_Price!A:H,3,FALSE),\"\")","v":""}]
[null,null,{"$f":"IFERROR(VLOOKUP(B1504,DKC_Price!A:H,2,FALSE),\"\")","v":""},null,null,null,{"$f":"IFERROR(VLOOKUP(B1504,DKC_Price!A:H,3,FALSE),\"\")","v":""}]
[null,null,{"$f":"IFERROR(VLOOKUP(B1505,DKC_Price!A:H,2,FALSE),\"\")","v":""},null,null,null,{"$f":"IFERROR(VLOOKUP(B1505,DKC_Price!A:H,3,FALSE),\"\")","v":""}]
[null,null,{"$f":"IFERROR(VLOOKUP(B1506,DKC_Price!A:H,2,FALSE),\"\")","v":""},null,null,null,{"$f":"IFERROR(VLOOKUP(B1506,DKC_Price!A:H,3,FALSE),\"\")","v":""}]
[null,null,{"$f":"IFERROR(VLOOKUP(B1507,DKC_Price!A:H,2,FALSE),\"\")","v":""},null,null,null,{"$f":"IFERROR(VLOOKUP(B1507,DKC_Price!A:H,3,FALSE),\"\")","v":""}]
[null,null,{"$f":"IFERROR(VLOOKUP(B1508,DKC_Price!A:H,2,FALSE),\"\")","v":""},null,null,null,{"$f":"IFERROR(VLOOKUP(B1508,DKC_Price!A:H,3,FALSE),\"\")","v":""}]
[null,null,{"$f":"IFERROR(VLOOKUP(B1509,DKC_Price!A:H,2,FALSE),\"\")","v":""},null,null,null,{"$f":"IFERROR(VLOOKUP(B1509,DKC_Price!A:H,3,FALSE),\"\")","v":""}]
[null,null,{"$f":"IFERROR(VLOOKUP(B1510,DKC_Price!A:H,2,FALSE),\"\")","v":""},null,null,null,{"$f":"IFERROR(VLOOKUP(B1510,DKC_Price!A:H,3,FALSE),\"\")","v":""}]
[null,null,{"$f":"IFERROR(VLOOKUP(B1511,DKC_Price!A:H,2,FALSE),\"\")","v":""},null,null,null,{"$f":"IFERROR(VLOOKUP(B1511,DKC_Price!A:H,3,FALSE),\"\")","v":""}]
[null,null,{"$f":"IFERROR(VLOOKUP(B1512,DKC_Price!A:H,2,FALSE),\"\")","v":""},null,null,null,{"$f":"IFERROR(VLOOKUP(B1512,DKC_Price!A:H,3,FALSE),\"\")","v":""}]
[null,null,{"$f":"IFERROR(VLOOKUP(B1513,DKC_Price!A:H,2,FALSE),\"\")","v":""},null,null,null,{"$f":"IFERROR(VLOOKUP(B1513,DKC_Price!A:H,3,FALSE),\"\")","v":""}]
[null,null,{"$f":"IFERROR(VLOOKUP(B1514,DKC_Price!A:H,2,FALSE),\"\")","v":""},null,null,null,{"$f":"IFERROR(VLOOKUP(B1514,DKC_Price!A:H,3,FALSE),\"\")","v":""}]
[null,null,{"$f":"IFERROR(VLOOKUP(B1515,DKC_Price!A:H,2,FALSE),\"\")","v":""},null,null,null,{"$f":"IFERROR(VLOOKUP(B1515,DKC_Price!A:H,3,FALSE),\"\")","v":""}]
[null,null,{"$f":"IFERROR(VLOOKUP(B1516,DKC_Price!A:H,2,FALSE),\"\")","v":""},null,null,null,{"$f":"IFERROR(VLOOKUP(B1516,DKC_Price!A:H,3,FALSE),\"\")","v":""}]
[null,null,{"$f":"IFERROR(VLOOKUP(B1517,DKC_Price!A:H,2,FALSE),\"\")","v":""},null,null,null,{"$f":"IFERROR(VLOOKUP(B1517,DKC_Price!A:H,3,FALSE),\"\")","v":""}]
[null,null,{"$f":"IFERROR(VLOOKUP(B1518,DKC_Price!A:H,2,FALSE),\"\")","v":""},null,null,null,{"$f":"IFERROR(VLOOKUP(B1518,DKC_Price!A:H,3,FALSE),\"\")","v":""}]
[null,null,{"$f":"IFERROR(VLOOKUP(B1519,DKC_Price!A:H,2,FALSE),\"\")","v":""},null,null,null,{"$f":"IFERROR(VLOOKUP(B1519,DKC_Price!A:H,3,FALSE),\"\")","v":""}]
[null,null,{"$f":"IFERROR(VLOOKUP(B1520,DKC_Price!A:H,2,FALSE),\"\")","v":""},null,null,null,{"$f":"IFERROR(VLOOKUP(B1520,DKC_Price!A:H,3,FALSE),\"\")","v":""}]
[null,null,{"$f":"IFERROR(VLOOKUP(B1521,DKC_Price!A:H,2,FALSE),\"\")","v":""},null,null,null,{"$f":"IFERROR(VLOOKUP(B1521,DKC_Price!A:H,3,FALSE),\"\")","v":""}]
[null,null,{"$f":"IFERROR(VLOOKUP(B1522,DKC_Price!A:H,2,FALSE),\"\")","v":""},null,null,null,{"$f":"IFERROR(VLOOKUP(B1522,DKC_Price!A:H,3,FALSE),\"\")","v":""}]
[null,null,{"$f":"IFERROR(VLOOKUP(B1523,DKC_Price!A:H,2,FALSE),\"\")","v":""},null,null,null,{"$f":"IFERROR(VLOOKUP(B1523,DKC_Price!A:H,3,FALSE),\"\")","v":""}]
[null,null,{"$f":"IFERROR(VLOOKUP(B1524,DKC_Price!A:H,2,FALSE),\"\")","v":""},null,null,null,{"$f":"IFERROR(VLOOKUP(B1524,DKC_Price!A:H,3,FALSE),\"\")","v":""}]
[null,null,{"$f":"IFERROR(VLOOKUP(B1525,DKC_Price!A:H,2,FALSE),\"\")","v":""},null,null,null,{"$f":"IFERROR(VLOOKUP(B1525,DKC_Price!A:H,3,FALSE),\"\")","v":""}]
[null,null,{"$f":"IFERROR(VLOOKUP(B1526,DKC_Price!A:H,2,FALSE),\"\")","v":""},null,null,null,{"$f":"IFERROR(VLOOKUP(B1526,DKC_Price!A:H,3,FALSE),\"\")","v":""}]
[null,null,{"$f":"IFERROR(VLOOKUP(B1527,DKC_Price!A:H,2,FALSE),\"\")","v":""},null,null,null,{"$f":"IFERROR(VLOOKUP(B1527,DKC_Price!A:H,3,FALSE),\"\")","v":""}]
[null,null,{"$f":"IFERROR(VLOOKUP(B1528,DKC_Price!A:H,2,FALSE),\"\")","v":""},null,null,null,{"$f":"IFERROR(VLOOKUP(B1528,DKC_Price!A:H,3,FALSE),\"\")","v":""}]
[null,null,{"$f":"IFERROR(VLOOKUP(B1529,DKC_Price!A:H,2,FALSE),\"\")","v":""},null,null,null,{"$f":"IFERROR(VLOOKUP(B1529,DKC_Price!A:H,3,FALSE),\"\")","v":""}]
[null,null,{"$f":"IFERROR(VLOOKUP(B1530,DKC_Price!A:H,2,FALSE),\"\")","v":""},null,null,null,{"$f":"IFERROR(VLOOKUP(B1530,DKC_Price!A:H,3,FALSE),\"\")","v":""}]
[null,null,{"$f":"IFERROR(VLOOKUP(B1531,DKC_Price!A:H,2,FALSE),\"\")","v":""},null,null,null,{"$f":"IFERROR(VLOOKUP(B1531,DKC_Price!A:H,3,FALSE),\"\")","v":""}]
[null,null,{"$f":"IFERROR(VLOOKUP(B1532,DKC_Price!A:H,2,FALSE),\"\")","v":""},null,null,null,{"$f":"IFERROR(VLOOKUP(B1532,DKC_Price!A:H,3,FALSE),\"\")","v":""}]
[null,null,{"$f":"IFERROR(VLOOKUP(B1533,DKC_Price!A:H,2,FALSE),\"\")","v":""},null,null,null,{"$f":"IFERROR(VLOOKUP(B1533,DKC_Price!A:H,3,FALSE),\"\")","v":""}]
[null,null,{"$f":"IFERROR(VLOOKUP(B1534,DKC_Price!A:H,2,FALSE),\"\")","v":""},null,null,null,{"$f":"IFERROR(VLOOKUP(B1534,DKC_Price!A:H,3,FALSE),\"\")","v":""}]
[null,null,{"$f":"IFERROR(VLOOKUP(B1535,DKC_Price!A:H,2,FALSE),\"\")","v":""},null,null,null,{"$f":"IFERROR(VLOOKUP(B1535,DKC_Price!A:H,3,FALSE),\"\")","v":""}]
[null,null,{"$f":"IFERROR(VLOOKUP(B1536,DKC_Price!A:H,2,FALSE),\"\")","v":""},null,null,null,{"$f":"IFERROR(VLOOKUP(B1536,DKC_Price!A:H,3,FALSE),\"\")","v":""}]
[null,null,{"$f":"IFERROR(VLOOKUP(B1537,DKC_Price!A:H,2,FALSE),\"\")","v":""},null,null,null,{"$f":"IFERROR(VLOOKUP(B1537,DKC_Price!A:H,3,FALSE),\"\")","v":""}]
[null,null,{"$f":"IFERROR(VLOOKUP(B1538,DKC_Price!A:H,2,FALSE),\"\")","v":""},null,null,null,{"$f":"IFERROR(VLOOKUP(B1538,DKC_Price!A:H,3,FALSE),\"\")","v":""}]
[null,null,{"$f":"IFERROR(VLOOKUP(B1539,DKC_Price!A:H,2,FALSE),\"\")","v":""},null,null,null,{"$f":"IFERROR(VLOOKUP(B1539,DKC_Price!A:H,3,FALSE),\"\")","v":""}]
[null,null,{"$f":"IFERROR(VLOOKUP(B1540,DKC_Price!A:H,2,FALSE),\"\")","v":""},null,null,null,{"$f":"IFERROR(VLOOKUP(B1540,DKC_Price!A:H,3,FALSE),\"\")","v":""}]
[null,null,{"$f":"IFERROR(VLOOKUP(B1541,DKC_Price!A:H,2,FALSE),\"\")","v":""},null,null,null,{"$f":"IFERROR(VLOOKUP(B1541,DKC_Price!A:H,3,FALSE),\"\")","v":""}]
[null,null,{"$f":"IFERROR(VLOOKUP(B1542,DKC_Price!A:H,2,FALSE),\"\")","v":""},null,null,null,{"$f":"IFERROR(VLOOKUP(B1542,DKC_Price!A:H,3,FALSE),\"\")","v":""}]
[null,null,{"$f":"IFERROR(VLOOKUP(B1543,DKC_Price!A:H,2,FALSE),\"\")","v":""},null,null,null,{"$f":"IFERROR(VLOOKUP(B1543,DKC_Price!A:H,3,FALSE),\"\")","v":""}]
[null,null,{"$f":"IFERROR(VLOOKUP(B1544,DKC_Price!A:H,2,FALSE),\"\")","v":""},null,null,null,{"$f":"IFERROR(VLOOKUP(B1544,DKC_Price!A:H,3,FALSE),\"\")","v":""}]
[null,null,{"$f":"IFERROR(VLOOKUP(B1545,DKC_Price!A:H,2,FALSE),\"\")","v":""},null,null,null,{"$f":"IFERROR(VLOOKUP(B1545,DKC_Price!A:H,3,FALSE),\"\")","v":""}]
[null,null,{"$f":"IFERROR(VLOOKUP(B1546,DKC_Price!A:H,2,FALSE),\"\")","v":""},null,null,null,{"$f":"IFERROR(VLOOKUP(B1546,DKC_Price!A:H,3,FALSE),\"\")","v":""}]
[null,null,{"$f":"IFERROR(VLOOKUP(B1547,DKC_Price!A:H,2,FALSE),\"\")","v":""},null,null,null,{"$f":"IFERROR(VLOOKUP(B1547,DKC_Price!A:H,3,FALSE),\"\")","v":""}]
[null,null,{"$f":"IFERROR(VLOOKUP(B1548,DKC_Price!A:H,2,FALSE),\"\")","v":""},null,null,null,{"$f":"IFERROR(VLOOKUP(B1548,DKC_Price!A:H,3,FALSE),\"\")","v":""}]
[null,null,{"$f":"IFERROR(VLOOKUP(B1549,DKC_Price!A:H,2,FALSE),\"\")","v":""},null,null,null,{"$f":"IFERROR(VLOOKUP(B1549,DKC_Price!A:H,3,FALSE),\"\")","v":""}]
[null,null,{"$f":"IFERROR(VLOOKUP(B1550,DKC_Price!A:H,2,FALSE),\"\")","v":""},null,null,null,{"$f":"IFERROR(VLOOKUP(B1550,DKC_Price!A:H,3,FALSE),\"\")","v":""}]
[null,null,{"$f":"IFERROR(VLOOKUP(B1551,DKC_Price!A:H,2,FALSE),\"\")","v":""},null,null,null,{"$f":"IFERROR(VLOOKUP(B1551,DKC_Price!A:H,3,FALSE),\"\")","v":""}]
[null,null,{"$f":"IFERROR(VLOOKUP(B1552,DKC_Price!A:H,2,FALSE),\"\")","v":""},null,null,null,{"$f":"IFERROR(VLOOKUP(B1552,DKC_Price!A:H,3,FALSE),\"\")","v":""}]
[null,null,{"$f":"IFERROR(VLOOKUP(B1553,DKC_Price!A:H,2,FALSE),\"\")","v":""},null,null,null,{"$f":"IFERROR(VLOOKUP(B1553,DKC_Price!A:H,3,FALSE),\"\")","v":""}]
[null,null,{"$f":"IFERROR(VLOOKUP(B1554,DKC_Price!A:H,2,FALSE),\"\")","v":""},null,null,null,{"$f":"IFERROR(VLOOKUP(B1554,DKC_Price!A:H,3,FALSE),\"\")","v":""}]
[null,null,{"$f":"IFERROR(VLOOKUP(B1555,DKC_Price!A:H,2,FALSE),\"\")","v":""},null,null,null,{"$f":"IFERROR(VLOOKUP(B1555,DKC_Price!A:H,3,FALSE),\"\")","v":""}]
[null,null,{"$f":"IFERROR(VLOOKUP(B1556,DKC_Price!A:H,2,FALSE),\"\")","v":""},null,null,null,{"$f":"IFERROR(VLOOKUP(B1556,DKC_Price!A:H,3,FALSE),\"\")","v":""}]
[null,null,{"$f":"IFERROR(VLOOKUP(B1557,DKC_Price!A:H,2,FALSE),\"\")","v":""},null,null,null,{"$f":"IFERROR(VLOOKUP(B1557,DKC_Price!A:H,3,FALSE),\"\")","v":""}]
[null,null,{"$f":"IFERROR(VLOOKUP(B1558,DKC_Price!A:H,2,FALSE),\"\")","v":""},null,null,null,{"$f":"IFERROR(VLOOKUP(B1558,DKC_Price!A:H,3,FALSE),\"\")","v":""}]
[null,null,{"$f":"IFERROR(VLOOKUP(B1559,DKC_Price!A:H,2,FALSE),\"\")","v":""},null,null,null,{"$f":"IFERROR(VLOOKUP(B1559,DKC_Price!A:H,3,FALSE),\"\")","v":""}]
[null,null,{"$f":"IFERROR(VLOOKUP(B1560,DKC_Price!A:H,2,FALSE),\"\")","v":""},null,null,null,{"$f":"IFERROR(VLOOKUP(B1560,DKC_Price!A:H,3,FALSE),\"\")","v":""}]
[null,null,{"$f":"IFERROR(VLOOKUP(B1561,DKC_Price!A:H,2,FALSE),\"\")","v":""},null,null,null,{"$f":"IFERROR(VLOOKUP(B1561,DKC_Price!A:H,3,FALSE),\"\")","v":""}]
[null,null,{"$f":"IFERROR(VLOOKUP(B1562,DKC_Price!A:H,2,FALSE),\"\")","v":""},null,null,null,{"$f":"IFERROR(VLOOKUP(B1562,DKC_Price!A:H,3,FALSE),\"\")","v":""}]
[null,null,{"$f":"IFERROR(VLOOKUP(B1563,DKC_Price!A:H,2,FALSE),\"\")","v":""},null,null,null,{"$f":"IFERROR(VLOOKUP(B1563,DKC_Price!A:H,3,FALSE),\"\")","v":""}]
[null,null,{"$f":"IFERROR(VLOOKUP(B1564,DKC_Price!A:H,2,FALSE),\"\")","v":""},null,null,null,{"$f":"IFERROR(VLOOKUP(B1564,DKC_Price!A:H,3,FALSE),\"\")","v":""}]
[null,null,{"$f":"IFERROR(VLOOKUP(B1565,DKC_Price!A:H,2,FALSE),\"\")","v":""},null,null,null,{"$f":"IFERROR(VLOOKUP(B1565,DKC_Price!A:H,3,FALSE),\"\")","v":""}]
[null,null,{"$f":"IFERROR(VLOOKUP(B1566,DKC_Price!A:H,2,FALSE),\"\")","v":""},null,null,null,{"$f":"IFERROR(VLOOKUP(B1566,DKC_Price!A:H,3,FALSE),\"\")","v":""}]
[null,null,{"$f":"IFERROR(VLOOKUP(B1567,DKC_Price!A:H,2,FALSE),\"\")","v":""},null,null,null,{"$f":"IFERROR(VLOOKUP(B1567,DKC_Price!A:H,3,FALSE),\"\")","v":""}]
[null,null,{"$f":"IFERROR(VLOOKUP(B1568,DKC_Price!A:H,2,FALSE),\"\")","v":""},null,null,null,{"$f":"IFERROR(VLOOKUP(B1568,DKC_Price!A:H,3,FALSE),\"\")","v":""}]
[null,null,{"$f":"IFERROR(VLOOKUP(B1569,DKC_Price!A:H,2,FALSE),\"\")","v":""},null,null,null,{"$f":"IFERROR(VLOOKUP(B1569,DKC_Price!A:H,3,FALSE),\"\")","v":""}]
[null,null,{"$f":"IFERROR(VLOOKUP(B1570,DKC_Price!A:H,2,FALSE),\"\")","v":""},null,null,null,{"$f":"IFERROR(VLOOKUP(B1570,DKC_Price!A:H,3,FALSE),\"\")","v":""}]
[null,null,{"$f":"IFERROR(VLOOKUP(B1571,DKC_Price!A:H,2,FALSE),\"\")","v":""},null,null,null,{"$f":"IFERROR(VLOOKUP(B1571,DKC_Price!A:H,3,FALSE),\"\")","v":""}]
[null,null,{"$f":"IFERROR(VLOOKUP(B1572,DKC_Price!A:H,2,FALSE),\"\")","v":""},null,null,null,{"$f":"IFERROR(VLOOKUP(B1572,DKC_Price!A:H,3,FALSE),\"\")","v":""}]
[null,null,{"$f":"IFERROR(VLOOKUP(B1573,DKC_Price!A:H,2,FALSE),\"\")","v":""},null,null,null,{"$f":"IFERROR(VLOOKUP(B1573,DKC_Price!A:H,3,FALSE),\"\")","v":""}]
[null,null,{"$f":"IFERROR(VLOOKUP(B1574,DKC_Price!A:H,2,FALSE),\"\")","v":""},null,null,null,{"$f":"IFERROR(VLOOKUP(B1574,DKC_Price!A:H,3,FALSE),\"\")","v":""}]
[null,null,{"$f":"IFERROR(VLOOKUP(B1575,DKC_Price!A:H,2,FALSE),\"\")","v":""},null,null,null,{"$f":"IFERROR(VLOOKUP(B1575,DKC_Price!A:H,3,FALSE),\"\")","v":""}]
[null,null,{"$f":"IFERROR(VLOOKUP(B1576,DKC_Price!A:H,2,FALSE),\"\")","v":""},null,null,null,{"$f":"IFERROR(VLOOKUP(B1576,DKC_Price!A:H,3,FALSE),\"\")","v":""}]
[null,null,{"$f":"IFERROR(VLOOKUP(B1577,DKC_Price!A:H,2,FALSE),\"\")","v":""},null,null,null,{"$f":"IFERROR(VLOOKUP(B1577,DKC_Price!A:H,3,FALSE),\"\")","v":""}]
[null,null,{"$f":"IFERROR(VLOOKUP(B1578,DKC_Price!A:H,2,FALSE),\"\")","v":""},null,null,null,{"$f":"IFERROR(VLOOKUP(B1578,DKC_Price!A:H,3,FALSE),\"\")","v":""}]
[null,null,{"$f":"IFERROR(VLOOKUP(B1579,DKC_Price!A:H,2,FALSE),\"\")","v":""},null,null,null,{"$f":"IFERROR(VLOOKUP(B1579,DKC_Price!A:H,3,FALSE),\"\")","v":""}]
[null,null,{"$f":"IFERROR(VLOOKUP(B1580,DKC_Price!A:H,2,FALSE),\"\")","v":""},null,null,null,{"$f":"IFERROR(VLOOKUP(B1580,DKC_Price!A:H,3,FALSE),\"\")","v":""}]
[null,null,{"$f":"IFERROR(VLOOKUP(B1581,DKC_Price!A:H,2,FALSE),\"\")","v":""},null,null,null,{"$f":"IFERROR(VLOOKUP(B1581,DKC_Price!A:H,3,FALSE),\"\")","v":""}]
[null,null,{"$f":"IFERROR(VLOOKUP(B1582,DKC_Price!A:H,2,FALSE),\"\")","v":""},null,null,null,{"$f":"IFERROR(VLOOKUP(B1582,DKC_Price!A:H,3,FALSE),\"\")","v":""}]
[null,null,{"$f":"IFERROR(VLOOKUP(B1583,DKC_Price!A:H,2,FALSE),\"\")","v":""},null,null,null,{"$f":"IFERROR(VLOOKUP(B1583,DKC_Price!A:H,3,FALSE),\"\")","v":""}]
[null,null,{"$f":"IFERROR(VLOOKUP(B1584,DKC_Price!A:H,2,FALSE),\"\")","v":""},null,null,null,{"$f":"IFERROR(VLOOKUP(B1584,DKC_Price!A:H,3,FALSE),\"\")","v":""}]
[null,null,{"$f":"IFERROR(VLOOKUP(B1585,DKC_Price!A:H,2,FALSE),\"\")","v":""},null,null,null,{"$f":"IFERROR(VLOOKUP(B1585,DKC_Price!A:H,3,FALSE),\"\")","v":""}]
[null,null,{"$f":"IFERROR(VLOOKUP(B1586,DKC_Price!A:H,2,FALSE),\"\")","v":""},null,null,null,{"$f":"IFERROR(VLOOKUP(B1586,DKC_Price!A:H,3,FALSE),\"\")","v":""}]
[null,null,{"$f":"IFERROR(VLOOKUP(B1587,DKC_Price!A:H,2,FALSE),\"\")","v":""},null,null,null,{"$f":"IFERROR(VLOOKUP(B1587,DKC_Price!A:H,3,FALSE),\"\")","v":""}]
[null,null,{"$f":"IFERROR(VLOOKUP(B1588,DKC_Price!A:H,2,FALSE),\"\")","v":""},null,null,null,{"$f":"IFERROR(VLOOKUP(B1588,DKC_Price!A:H,3,FALSE),\"\")","v":""}]
[null,null,{"$f":"IFERROR(VLOOKUP(B1589,DKC_Price!A:H,2,FALSE),\"\")","v":""},null,null,null,{"$f":"IFERROR(VLOOKUP(B1589,DKC_Price!A:H,3,FALSE),\"\")","v":""}]
[null,null,{"$f":"IFERROR(VLOOKUP(B1590,DKC_Price!A:H,2,FALSE),\"\")","v":""},null,null,null,{"$f":"IFERROR(VLOOKUP(B1590,DKC_Price!A:H,3,FALSE),\"\")","v":""}]
[null,null,{"$f":"IFERROR(VLOOKUP(B1591,DKC_Price!A:H,2,FALSE),\"\")","v":""},null,null,null,{"$f":"IFERROR(VLOOKUP(B1591,DKC_Price!A:H,3,FALSE),\"\")","v":""}]
[null,null,{"$f":"IFERROR(VLOOKUP(B1592,DKC_Price!A:H,2,FALSE),\"\")","v":""},null,null,null,{"$f":"IFERROR(VLOOKUP(B1592,DKC_Price!A:H,3,FALSE),\"\")","v":""}]
[null,null,{"$f":"IFERROR(VLOOKUP(B1593,DKC_Price!A:H,2,FALSE),\"\")","v":""},null,null,null,{"$f":"IFERROR(VLOOKUP(B1593,DKC_Price!A:H,3,FALSE),\"\")","v":""}]
[null,null,{"$f":"IFERROR(VLOOKUP(B1594,DKC_Price!A:H,2,FALSE),\"\")","v":""},null,null,null,{"$f":"IFERROR(VLOOKUP(B1594,DKC_Price!A:H,3,FALSE),\"\")","v":""}]
[null,null,{"$f":"IFERROR(VLOOKUP(B1595,DKC_Price!A:H,2,FALSE),\"\")","v":""},null,null,null,{"$f":"IFERROR(VLOOKUP(B1595,DKC_Price!A:H,3,FALSE),\"\")","v":""}]
[null,null,{"$f":"IFERROR(VLOOKUP(B1596,DKC_Price!A:H,2,FALSE),\"\")","v":""},null,null,null,{"$f":"IFERROR(VLOOKUP(B1596,DKC_Price!A:H,3,FALSE),\"\")","v":""}]
[null,null,{"$f":"IFERROR(VLOOKUP(B1597,DKC_Price!A:H,2,FALSE),\"\")","v":""},null,null,null,{"$f":"IFERROR(VLOOKUP(B1597,DKC_Price!A:H,3,FALSE),\"\")","v":""}]
[null,null,{"$f":"IFERROR(VLOOKUP(B1598,DKC_Price!A:H,2,FALSE),\"\")","v":""},null,null,null,{"$f":"IFERROR(VLOOKUP(B1598,DKC_Price!A:H,3,FALSE),\"\")","v":""}]
[null,null,{"$f":"IFERROR(VLOOKUP(B1599,DKC_Price!A:H,2,FALSE),\"\")","v":""},null,null,null,{"$f":"IFERROR(VLOOKUP(B1599,DKC_Price!A:H,3,FALSE),\"\")","v":""}]
[null,null,{"$f":"IFERROR(VLOOKUP(B1600,DKC_Price!A:H,2,FALSE),\"\")","v":""},null,null,null,{"$f":"IFERROR(VLOOKUP(B1600,DKC_Price!A:H,3,FALSE),\"\")","v":""}]
[null,null,{"$f":"IFERROR(VLOOKUP(B1601,DKC_Price!A:H,2,FALSE),\"\")","v":""},null,null,null,{"$f":"IFERROR(VLOOKUP(B1601,DKC_Price!A:H,3,FALSE),\"\")","v":""}]
[null,null,{"$f":"IFERROR(VLOOKUP(B1602,DKC_Price!A:H,2,FALSE),\"\")","v":""},null,null,null,{"$f":"IFERROR(VLOOKUP(B1602,DKC_Price!A:H,3,FALSE),\"\")","v":""}]
[null,null,{"$f":"IFERROR(VLOOKUP(B1603,DKC_Price!A:H,2,FALSE),\"\")","v":""},null,null,null,{"$f":"IFERROR(VLOOKUP(B1603,DKC_Price!A:H,3,FALSE),\"\")","v":""}]
[null,null,{"$f":"IFERROR(VLOOKUP(B1604,DKC_Price!A:H,2,FALSE),\"\")","v":""},null,null,null,{"$f":"IFERROR(VLOOKUP(B1604,DKC_Price!A:H,3,FALSE),\"\")","v":""}]
[null,null,{"$f":"IFERROR(VLOOKUP(B1605,DKC_Price!A:H,2,FALSE),\"\")","v":""},null,null,null,{"$f":"IFERROR(VLOOKUP(B1605,DKC_Price!A:H,3,FALSE),\"\")","v":""}]
[null,null,{"$f":"IFERROR(VLOOKUP(B1606,DKC_Price!A:H,2,FALSE),\"\")","v":""},null,null,null,{"$f":"IFERROR(VLOOKUP(B1606,DKC_Price!A:H,3,FALSE),\"\")","v":""}]
[null,null,{"$f":"IFERROR(VLOOKUP(B1607,DKC_Price!A:H,2,FALSE),\"\")","v":""},null,null,null,{"$f":"IFERROR(VLOOKUP(B1607,DKC_Price!A:H,3,FALSE),\"\")","v":""}]
[null,null,{"$f":"IFERROR(VLOOKUP(B1608,DKC_Price!A:H,2,FALSE),\"\")","v":""},null,null,null,{"$f":"IFERROR(VLOOKUP(B1608,DKC_Price!A:H,3,FALSE),\"\")","v":""}]
[null,null,{"$f":"IFERROR(VLOOKUP(B1609,DKC_Price!A:H,2,FALSE),\"\")","v":""},null,null,null,{"$f":"IFERROR(VLOOKUP(B1609,DKC_Price!A:H,3,FALSE),\"\")","v":""}]
[null,null,{"$f":"IFERROR(VLOOKUP(B1610,DKC_Price!A:H,2,FALSE),\"\")","v":""},null,null,null,{"$f":"IFERROR(VLOOKUP(B1610,DKC_Price!A:H,3,FALSE),\"\")","v":""}]
[null,null,{"$f":"IFERROR(VLOOKUP(B1611,DKC_Price!A:H,2,FALSE),\"\")","v":""},null,null,null,{"$f":"IFERROR(VLOOKUP(B1611,DKC_Price!A:H,3,FALSE),\"\")","v":""}]
[null,null,{"$f":"IFERROR(VLOOKUP(B1612,DKC_Price!A:H,2,FALSE),\"\")","v":""},null,null,null,{"$f":"IFERROR(VLOOKUP(B1612,DKC_Price!A:H,3,FALSE),\"\")","v":""}]
[null,null,{"$f":"IFERROR(VLOOKUP(B1613,DKC_Price!A:H,2,FALSE),\"\")","v":""},null,null,null,{"$f":"IFERROR(VLOOKUP(B1613,DKC_Price!A:H,3,FALSE),\"\")","v":""}]
[null,null,{"$f":"IFERROR(VLOOKUP(B1614,DKC_Price!A:H,2,FALSE),\"\")","v":""},null,null,null,{"$f":"IFERROR(VLOOKUP(B1614,DKC_Price!A:H,3,FALSE),\"\")","v":""}]
[null,null,{"$f":"IFERROR(VLOOKUP(B1615,DKC_Price!A:H,2,FALSE),\"\")","v":""},null,null,null,{"$f":"IFERROR(VLOOKUP(B1615,DKC_Price!A:H,3,FALSE),\"\")","v":""}]
[null,null,{"$f":"IFERROR(VLOOKUP(B1616,DKC_Price!A:H,2,FALSE),\"\")","v":""},null,null,null,{"$f":"IFERROR(VLOOKUP(B1616,DKC_Price!A:H,3,FALSE),\"\")","v":""}]
[null,null,{"$f":"IFERROR(VLOOKUP(B1617,DKC_Price!A:H,2,FALSE),\"\")","v":""},null,null,null,{"$f":"IFERROR(VLOOKUP(B1617,DKC_Price!A:H,3,FALSE),\"\")","v":""}]
[null,null,{"$f":"IFERROR(VLOOKUP(B1618,DKC_Price!A:H,2,FALSE),\"\")","v":""},null,null,null,{"$f":"IFERROR(VLOOKUP(B1618,DKC_Price!A:H,3,FALSE),\"\")","v":""}]
[null,null,{"$f":"IFERROR(VLOOKUP(B1619,DKC_Price!A:H,2,FALSE),\"\")","v":""},null,null,null,{"$f":"IFERROR(VLOOKUP(B1619,DKC_Price!A:H,3,FALSE),\"\")","v":""}]
[null,null,{"$f":"IFERROR(VLOOKUP(B1620,DKC_Price!A:H,2,FALSE),\"\")","v":""},null,null,null,{"$f":"IFERROR(VLOOKUP(B1620,DKC_Price!A:H,3,FALSE),\"\")","v":""}]
[null,null,{"$f":"IFERROR(VLOOKUP(B1621,DKC_Price!A:H,2,FALSE),\"\")","v":""},null,null,null,{"$f":"IFERROR(VLOOKUP(B1621,DKC_Price!A:H,3,FALSE),\"\")","v":""}]
[null,null,{"$f":"IFERROR(VLOOKUP(B1622,DKC_Price!A:H,2,FALSE),\"\")","v":""},null,null,null,{"$f":"IFERROR(VLOOKUP(B1622,DKC_Price!A:H,3,FALSE),\"\")","v":""}]
[null,null,{"$f":"IFERROR(VLOOKUP(B1623,DKC_Price!A:H,2,FALSE),\"\")","v":""},null,null,null,{"$f":"IFERROR(VLOOKUP(B1623,DKC_Price!A:H,3,FALSE),\"\")","v":""}]
[null,null,{"$f":"IFERROR(VLOOKUP(B1624,DKC_Price!A:H,2,FALSE),\"\")","v":""},null,null,null,{"$f":"IFERROR(VLOOKUP(B1624,DKC_Price!A:H,3,FALSE),\"\")","v":""}]
[null,null,{"$f":"IFERROR(VLOOKUP(B1625,DKC_Price!A:H,2,FALSE),\"\")","v":""},null,null,null,{"$f":"IFERROR(VLOOKUP(B1625,DKC_Price!A:H,3,FALSE),\"\")","v":""}]
[null,null,{"$f":"IFERROR(VLOOKUP(B1626,DKC_Price!A:H,2,FALSE),\"\")","v":""},null,null,null,{"$f":"IFERROR(VLOOKUP(B1626,DKC_Price!A:H,3,FALSE),\"\")","v":""}]
[null,null,{"$f":"IFERROR(VLOOKUP(B1627,DKC_Price!A:H,2,FALSE),\"\")","v":""},null,null,null,{"$f":"IFERROR(VLOOKUP(B1627,DKC_Price!A:H,3,FALSE),\"\")","v":""}]
[null,null,{"$f":"IFERROR(VLOOKUP(B1628,DKC_Price!A:H,2,FALSE),\"\")","v":""},null,null,null,{"$f":"IFERROR(VLOOKUP(B1628,DKC_Price!A:H,3,FALSE),\"\")","v":""}]
[null,null,{"$f":"IFERROR(VLOOKUP(B1629,DKC_Price!A:H,2,FALSE),\"\")","v":""},null,null,null,{"$f":"IFERROR(VLOOKUP(B1629,DKC_Price!A:H,3,FALSE),\"\")","v":""}]
[null,null,{"$f":"IFERROR(VLOOKUP(B1630,DKC_Price!A:H,2,FALSE),\"\")","v":""},null,null,null,{"$f":"IFERROR(VLOOKUP(B1630,DKC_Price!A:H,3,FALSE),\"\")","v":""}]
[null,null,{"$f":"IFERROR(VLOOKUP(B1631,DKC_Price!A:H,2,FALSE),\"\")","v":""},null,null,null,{"$f":"IFERROR(VLOOKUP(B1631,DKC_Price!A:H,3,FALSE),\"\")","v":""}]
[null,null,{"$f":"IFERROR(VLOOKUP(B1632,DKC_Price!A:H,2,FALSE),\"\")","v":""},null,null,null,{"$f":"IFERROR(VLOOKUP(B1632,DKC_Price!A:H,3,FALSE),\"\")","v":""}]
[null,null,{"$f":"IFERROR(VLOOKUP(B1633,DKC_Price!A:H,2,FALSE),\"\")","v":""},null,null,null,{"$f":"IFERROR(VLOOKUP(B1633,DKC_Price!A:H,3,FALSE),\"\")","v":""}]
[null,null,{"$f":"IFERROR(VLOOKUP(B1634,DKC_Price!A:H,2,FALSE),\"\")","v":""},null,null,null,{"$f":"IFERROR(VLOOKUP(B1634,DKC_Price!A:H,3,FALSE),\"\")","v":""}]
[null,null,{"$f":"IFERROR(VLOOKUP(B1635,DKC_Price!A:H,2,FALSE),\"\")","v":""},null,null,null,{"$f":"IFERROR(VLOOKUP(B1635,DKC_Price!A:H,3,FALSE),\"\")","v":""}]
[null,null,{"$f":"IFERROR(VLOOKUP(B1636,DKC_Price!A:H,2,FALSE),\"\")","v":""},null,null,null,{"$f":"IFERROR(VLOOKUP(B1636,DKC_Price!A:H,3,FALSE),\"\")","v":""}]
[null,null,{"$f":"IFERROR(VLOOKUP(B1637,DKC_Price!A:H,2,FALSE),\"\")","v":""},null,null,null,{"$f":"IFERROR(VLOOKUP(B1637,DKC_Price!A:H,3,FALSE),\"\")","v":""}]
[null,null,{"$f":"IFERROR(VLOOKUP(B1638,DKC_Price!A:H,2,FALSE),\"\")","v":""},null,null,null,{"$f":"IFERROR(VLOOKUP(B1638,DKC_Price!A:H,3,FALSE),\"\")","v":""}]
[null,null,{"$f":"IFERROR(VLOOKUP(B1639,DKC_Price!A:H,2,FALSE),\"\")","v":""},null,null,null,{"$f":"IFERROR(VLOOKUP(B1639,DKC_Price!A:H,3,FALSE),\"\")","v":""}]
[null,null,{"$f":"IFERROR(VLOOKUP(B1640,DKC_Price!A:H,2,FALSE),\"\")","v":""},null,null,null,{"$f":"IFERROR(VLOOKUP(B1640,DKC_Price!A:H,3,FALSE),\"\")","v":""}]
[null,null,{"$f":"IFERROR(VLOOKUP(B1641,DKC_Price!A:H,2,FALSE),\"\")","v":""},null,null,null,{"$f":"IFERROR(VLOOKUP(B1641,DKC_Price!A:H,3,FALSE),\"\")","v":""}]
[null,null,{"$f":"IFERROR(VLOOKUP(B1642,DKC_Price!A:H,2,FALSE),\"\")","v":""},null,null,null,{"$f":"IFERROR(VLOOKUP(B1642,DKC_Price!A:H,3,FALSE),\"\")","v":""}]
[null,null,{"$f":"IFERROR(VLOOKUP(B1643,DKC_Price!A:H,2,FALSE),\"\")","v":""},null,null,null,{"$f":"IFERROR(VLOOKUP(B1643,DKC_Price!A:H,3,FALSE),\"\")","v":""}]
[null,null,{"$f":"IFERROR(VLOOKUP(B1644,DKC_Price!A:H,2,FALSE),\"\")","v":""},null,null,null,{"$f":"IFERROR(VLOOKUP(B1644,DKC_Price!A:H,3,FALSE),\"\")","v":""}]
[null,null,{"$f":"IFERROR(VLOOKUP(B1645,DKC_Price!A:H,2,FALSE),\"\")","v":""},null,null,null,{"$f":"IFERROR(VLOOKUP(B1645,DKC_Price!A:H,3,FALSE),\"\")","v":""}]
[null,null,{"$f":"IFERROR(VLOOKUP(B1646,DKC_Price!A:H,2,FALSE),\"\")","v":""},null,null,null,{"$f":"IFERROR(VLOOKUP(B1646,DKC_Price!A:H,3,FALSE),\"\")","v":""}]
[null,null,{"$f":"IFERROR(VLOOKUP(B1647,DKC_Price!A:H,2,FALSE),\"\")","v":""},null,null,null,{"$f":"IFERROR(VLOOKUP(B1647,DKC_Price!A:H,3,FALSE),\"\")","v":""}]
[null,null,{"$f":"IFERROR(VLOOKUP(B1648,DKC_Price!A:H,2,FALSE),\"\")","v":""},null,null,null,{"$f":"IFERROR(VLOOKUP(B1648,DKC_Price!A:H,3,FALSE),\"\")","v":""}]
[null,null,{"$f":"IFERROR(VLOOKUP(B1649,DKC_Price!A:H,2,FALSE),\"\")","v":""},null,null,null,{"$f":"IFERROR(VLOOKUP(B1649,DKC_Price!A:H,3,FALSE),\"\")","v":""}]
[null,null,{"$f":"IFERROR(VLOOKUP(B1650,DKC_Price!A:H,2,FALSE),\"\")","v":""},null,null,null,{"$f":"IFERROR(VLOOKUP(B1650,DKC_Price!A:H,3,FALSE),\"\")","v":""}]
[null,null,{"$f":"IFERROR(VLOOKUP(B1651,DKC_Price!A:H,2,FALSE),\"\")","v":""},null,null,null,{"$f":"IFERROR(VLOOKUP(B1651,DKC_Price!A:H,3,FALSE),\"\")","v":""}]
[null,null,{"$f":"IFERROR(VLOOKUP(B1652,DKC_Price!A:H,2,FALSE),\"\")","v":""},null,null,null,{"$f":"IFERROR(VLOOKUP(B1652,DKC_Price!A:H,3,FALSE),\"\")","v":""}]
[null,null,{"$f":"IFERROR(VLOOKUP(B1653,DKC_Price!A:H,2,FALSE),\"\")","v":""},null,null,null,{"$f":"IFERROR(VLOOKUP(B1653,DKC_Price!A:H,3,FALSE),\"\")","v":""}]
[null,null,{"$f":"IFERROR(VLOOKUP(B1654,DKC_Price!A:H,2,FALSE),\"\")","v":""},null,null,null,{"$f":"IFERROR(VLOOKUP(B1654,DKC_Price!A:H,3,FALSE),\"\")","v":""}]
[null,null,{"$f":"IFERROR(VLOOKUP(B1655,DKC_Price!A:H,2,FALSE),\"\")","v":""},null,null,null,{"$f":"IFERROR(VLOOKUP(B1655,DKC_Price!A:H,3,FALSE),\"\")","v":""}]
[null,null,{"$f":"IFERROR(VLOOKUP(B1656,DKC_Price!A:H,2,FALSE),\"\")","v":""},null,null,null,{"$f":"IFERROR(VLOOKUP(B1656,DKC_Price!A:H,3,FALSE),\"\")","v":""}]
[null,null,{"$f":"IFERROR(VLOOKUP(B1657,DKC_Price!A:H,2,FALSE),\"\")","v":""},null,null,null,{"$f":"IFERROR(VLOOKUP(B1657,DKC_Price!A:H,3,FALSE),\"\")","v":""}]
[null,null,{"$f":"IFERROR(VLOOKUP(B1658,DKC_Price!A:H,2,FALSE),\"\")","v":""},null,null,null,{"$f":"IFERROR(VLOOKUP(B1658,DKC_Price!A:H,3,FALSE),\"\")","v":""}]
[null,null,{"$f":"IFERROR(VLOOKUP(B1659,DKC_Price!A:H,2,FALSE),\"\")","v":""},null,null,null,{"$f":"IFERROR(VLOOKUP(B1659,DKC_Price!A:H,3,FALSE),\"\")","v":""}]
[null,null,{"$f":"IFERROR(VLOOKUP(B1660,DKC_Price!A:H,2,FALSE),\"\")","v":""},null,null,null,{"$f":"IFERROR(VLOOKUP(B1660,DKC_Price!A:H,3,FALSE),\"\")","v":""}]
[null,null,{"$f":"IFERROR(VLOOKUP(B1661,DKC_Price!A:H,2,FALSE),\"\")","v":""},null,null,null,{"$f":"IFERROR(VLOOKUP(B1661,DKC_Price!A:H,3,FALSE),\"\")","v":""}]
[null,null,{"$f":"IFERROR(VLOOKUP(B1662,DKC_Price!A:H,2,FALSE),\"\")","v":""},null,null,null,{"$f":"IFERROR(VLOOKUP(B1662,DKC_Price!A:H,3,FALSE),\"\")","v":""}]
[null,null,{"$f":"IFERROR(VLOOKUP(B1663,DKC_Price!A:H,2,FALSE),\"\")","v":""},null,null,null,{"$f":"IFERROR(VLOOKUP(B1663,DKC_Price!A:H,3,FALSE),\"\")","v":""}]
[null,null,{"$f":"IFERROR(VLOOKUP(B1664,DKC_Price!A:H,2,FALSE),\"\")","v":""},null,null,null,{"$f":"IFERROR(VLOOKUP(B1664,DKC_Price!A:H,3,FALSE),\"\")","v":""}]
[null,null,{"$f":"IFERROR(VLOOKUP(B1665,DKC_Price!A:H,2,FALSE),\"\")","v":""},null,null,null,{"$f":"IFERROR(VLOOKUP(B1665,DKC_Price!A:H,3,FALSE),\"\")","v":""}]
[null,null,{"$f":"IFERROR(VLOOKUP(B1666,DKC_Price!A:H,2,FALSE),\"\")","v":""},null,null,null,{"$f":"IFERROR(VLOOKUP(B1666,DKC_Price!A:H,3,FALSE),\"\")","v":""}]
[null,null,{"$f":"IFERROR(VLOOKUP(B1667,DKC_Price!A:H,2,FALSE),\"\")","v":""},null,null,null,{"$f":"IFERROR(VLOOKUP(B1667,DKC_Price!A:H,3,FALSE),\"\")","v":""}]
[null,null,{"$f":"IFERROR(VLOOKUP(B1668,DKC_Price!A:H,2,FALSE),\"\")","v":""},null,null,null,{"$f":"IFERROR(VLOOKUP(B1668,DKC_Price!A:H,3,FALSE),\"\")","v":""}]
[null,null,{"$f":"IFERROR(VLOOKUP(B1669,DKC_Price!A:H,2,FALSE),\"\")","v":""},null,null,null,{"$f":"IFERROR(VLOOKUP(B1669,DKC_Price!A:H,3,FALSE),\"\")","v":""}]
[null,null,{"$f":"IFERROR(VLOOKUP(B1670,DKC_Price!A:H,2,FALSE),\"\")","v":""},null,null,null,{"$f":"IFERROR(VLOOKUP(B1670,DKC_Price!A:H,3,FALSE),\"\")","v":""}]
[null,null,{"$f":"IFERROR(VLOOKUP(B1671,DKC_Price!A:H,2,FALSE),\"\")","v":""},null,null,null,{"$f":"IFERROR(VLOOKUP(B1671,DKC_Price!A:H,3,FALSE),\"\")","v":""}]
[null,null,{"$f":"IFERROR(VLOOKUP(B1672,DKC_Price!A:H,2,FALSE),\"\")","v":""},null,null,null,{"$f":"IFERROR(VLOOKUP(B1672,DKC_Price!A:H,3,FALSE),\"\")","v":""}]
[null,null,{"$f":"IFERROR(VLOOKUP(B1673,DKC_Price!A:H,2,FALSE),\"\")","v":""},null,null,null,{"$f":"IFERROR(VLOOKUP(B1673,DKC_Price!A:H,3,FALSE),\"\")","v":""}]
[null,null,{"$f":"IFERROR(VLOOKUP(B1674,DKC_Price!A:H,2,FALSE),\"\")","v":""},null,null,null,{"$f":"IFERROR(VLOOKUP(B1674,DKC_Price!A:H,3,FALSE),\"\")","v":""}]
[null,null,{"$f":"IFERROR(VLOOKUP(B1675,DKC_Price!A:H,2,FALSE),\"\")","v":""},null,null,null,{"$f":"IFERROR(VLOOKUP(B1675,DKC_Price!A:H,3,FALSE),\"\")","v":""}]
[null,null,{"$f":"IFERROR(VLOOKUP(B1676,DKC_Price!A:H,2,FALSE),\"\")","v":""},null,null,null,{"$f":"IFERROR(VLOOKUP(B1676,DKC_Price!A:H,3,FALSE),\"\")","v":""}]
[null,null,{"$f":"IFERROR(VLOOKUP(B1677,DKC_Price!A:H,2,FALSE),\"\")","v":""},null,null,null,{"$f":"IFERROR(VLOOKUP(B1677,DKC_Price!A:H,3,FALSE),\"\")","v":""}]
[null,null,{"$f":"IFERROR(VLOOKUP(B1678,DKC_Price!A:H,2,FALSE),\"\")","v":""},null,null,null,{"$f":"IFERROR(VLOOKUP(B1678,DKC_Price!A:H,3,FALSE),\"\")","v":""}]
[null,null,{"$f":"IFERROR(VLOOKUP(B1679,DKC_Price!A:H,2,FALSE),\"\")","v":""},null,null,null,{"$f":"IFERROR(VLOOKUP(B1679,DKC_Price!A:H,3,FALSE),\"\")","v":""}]
[null,null,{"$f":"IFERROR(VLOOKUP(B1680,DKC_Price!A:H,2,FALSE),\"\")","v":""},null,null,null,{"$f":"IFERROR(VLOOKUP(B1680,DKC_Price!A:H,3,FALSE),\"\")","v":""}]
[null,null,{"$f":"IFERROR(VLOOKUP(B1681,DKC_Price!A:H,2,FALSE),\"\")","v":""},null,null,null,{"$f":"IFERROR(VLOOKUP(B1681,DKC_Price!A:H,3,FALSE),\"\")","v":""}]
[null,null,{"$f":"IFERROR(VLOOKUP(B1682,DKC_Price!A:H,2,FALSE),\"\")","v":""},null,null,null,{"$f":"IFERROR(VLOOKUP(B1682,DKC_Price!A:H,3,FALSE),\"\")","v":""}]
[null,null,{"$f":"IFERROR(VLOOKUP(B1683,DKC_Price!A:H,2,FALSE),\"\")","v":""},null,null,null,{"$f":"IFERROR(VLOOKUP(B1683,DKC_Price!A:H,3,FALSE),\"\")","v":""}]
[null,null,{"$f":"IFERROR(VLOOKUP(B1684,DKC_Price!A:H,2,FALSE),\"\")","v":""},null,null,null,{"$f":"IFERROR(VLOOKUP(B1684,DKC_Price!A:H,3,FALSE),\"\")","v":""}]
[null,null,{"$f":"IFERROR(VLOOKUP(B1685,DKC_Price!A:H,2,FALSE),\"\")","v":""},null,null,null,{"$f":"IFERROR(VLOOKUP(B1685,DKC_Price!A:H,3,FALSE),\"\")","v":""}]
[null,null,{"$f":"IFERROR(VLOOKUP(B1686,DKC_Price!A:H,2,FALSE),\"\")","v":""},null,null,null,{"$f":"IFERROR(VLOOKUP(B1686,DKC_Price!A:H,3,FALSE),\"\")","v":""}]
[null,null,{"$f":"IFERROR(VLOOKUP(B1687,DKC_Price!A:H,2,FALSE),\"\")","v":""},null,null,null,{"$f":"IFERROR(VLOOKUP(B1687,DKC_Price!A:H,3,FALSE),\"\")","v":""}]
[null,null,{"$f":"IFERROR(VLOOKUP(B1688,DKC_Price!A:H,2,FALSE),\"\")","v":""},null,null,null,{"$f":"IFERROR(VLOOKUP(B1688,DKC_Price!A:H,3,FALSE),\"\")","v":""}]
[null,null,{"$f":"IFERROR(VLOOKUP(B1689,DKC_Price!A:H,2,FALSE),\"\")","v":""},null,null,null,{"$f":"IFERROR(VLOOKUP(B1689,DKC_Price!A:H,3,FALSE),\"\")","v":""}]
[null,null,{"$f":"IFERROR(VLOOKUP(B1690,DKC_Price!A:H,2,FALSE),\"\")","v":""},null,null,null,{"$f":"IFERROR(VLOOKUP(B1690,DKC_Price!A:H,3,FALSE),\"\")","v":""}]
[null,null,{"$f":"IFERROR(VLOOKUP(B1691,DKC_Price!A:H,2,FALSE),\"\")","v":""},null,null,null,{"$f":"IFERROR(VLOOKUP(B1691,DKC_Price!A:H,3,FALSE),\"\")","v":""}]
[null,null,{"$f":"IFERROR(VLOOKUP(B1692,DKC_Price!A:H,2,FALSE),\"\")","v":""},null,null,null,{"$f":"IFERROR(VLOOKUP(B1692,DKC_Price!A:H,3,FALSE),\"\")","v":""}]
[null,null,{"$f":"IFERROR(VLOOKUP(B1693,DKC_Price!A:H,2,FALSE),\"\")","v":""},null,null,null,{"$f":"IFERROR(VLOOKUP(B1693,DKC_Price!A:H,3,FALSE),\"\")","v":""}]
[null,null,{"$f":"IFERROR(VLOOKUP(B1694,DKC_Price!A:H,2,FALSE),\"\")","v":""},null,null,null,{"$f":"IFERROR(VLOOKUP(B1694,DKC_Price!A:H,3,FALSE),\"\")","v":""}]
[null,null,{"$f":"IFERROR(VLOOKUP(B1695,DKC_Price!A:H,2,FALSE),\"\")","v":""},null,null,null,{"$f":"IFERROR(VLOOKUP(B1695,DKC_Price!A:H,3,FALSE),\"\")","v":""}]
[null,null,{"$f":"IFERROR(VLOOKUP(B1696,DKC_Price!A:H,2,FALSE),\"\")","v":""},null,null,null,{"$f":"IFERROR(VLOOKUP(B1696,DKC_Price!A:H,3,FALSE),\"\")","v":""}]
[null,null,{"$f":"IFERROR(VLOOKUP(B1697,DKC_Price!A:H,2,FALSE),\"\")","v":""},null,null,null,{"$f":"IFERROR(VLOOKUP(B1697,DKC_Price!A:H,3,FALSE),\"\")","v":""}]
[null,null,{"$f":"IFERROR(VLOOKUP(B1698,DKC_Price!A:H,2,FALSE),\"\")","v":""},null,null,null,{"$f":"IFERROR(VLOOKUP(B1698,DKC_Price!A:H,3,FALSE),\"\")","v":""}]
[null,null,{"$f":"IFERROR(VLOOKUP(B1699,DKC_Price!A:H,2,FALSE),\"\")","v":""},null,null,null,{"$f":"IFERROR(VLOOKUP(B1699,DKC_Price!A:H,3,FALSE),\"\")","v":""}]
[null,null,{"$f":"IFERROR(VLOOKUP(B1700,DKC_Price!A:H,2,FALSE),\"\")","v":""},null,null,null,{"$f":"IFERROR(VLOOKUP(B1700,DKC_Price!A:H,3,FALSE),\"\")","v":""}]
[null,null,{"$f":"IFERROR(VLOOKUP(B1701,DKC_Price!A:H,2,FALSE),\"\")","v":""},null,null,null,{"$f":"IFERROR(VLOOKUP(B1701,DKC_Price!A:H,3,FALSE),\"\")","v":""}]
[null,null,{"$f":"IFERROR(VLOOKUP(B1702,DKC_Price!A:H,2,FALSE),\"\")","v":""},null,null,null,{"$f":"IFERROR(VLOOKUP(B1702,DKC_Price!A:H,3,FALSE),\"\")","v":""}]
[null,null,{"$f":"IFERROR(VLOOKUP(B1703,DKC_Price!A:H,2,FALSE),\"\")","v":""},null,null,null,{"$f":"IFERROR(VLOOKUP(B1703,DKC_Price!A:H,3,FALSE),\"\")","v":""}]
[null,null,{"$f":"IFERROR(VLOOKUP(B1704,DKC_Price!A:H,2,FALSE),\"\")","v":""},null,null,null,{"$f":"IFERROR(VLOOKUP(B1704,DKC_Price!A:H,3,FALSE),\"\")","v":""}]
[null,null,{"$f":"IFERROR(VLOOKUP(B1705,DKC_Price!A:H,2,FALSE),\"\")","v":""},null,null,null,{"$f":"IFERROR(VLOOKUP(B1705,DKC_Price!A:H,3,FALSE),\"\")","v":""}]
[null,null,{"$f":"IFERROR(VLOOKUP(B1706,DKC_Price!A:H,2,FALSE),\"\")","v":""},null,null,null,{"$f":"IFERROR(VLOOKUP(B1706,DKC_Price!A:H,3,FALSE),\"\")","v":""}]
[null,null,{"$f":"IFERROR(VLOOKUP(B1707,DKC_Price!A:H,2,FALSE),\"\")","v":""},null,null,null,{"$f":"IFERROR(VLOOKUP(B1707,DKC_Price!A:H,3,FALSE),\"\")","v":""}]
[null,null,{"$f":"IFERROR(VLOOKUP(B1708,DKC_Price!A:H,2,FALSE),\"\")","v":""},null,null,null,{"$f":"IFERROR(VLOOKUP(B1708,DKC_Price!A:H,3,FALSE),\"\")","v":""}]
[null,null,{"$f":"IFERROR(VLOOKUP(B1709,DKC_Price!A:H,2,FALSE),\"\")","v":""},null,null,null,{"$f":"IFERROR(VLOOKUP(B1709,DKC_Price!A:H,3,FALSE),\"\")","v":""}]
[null,null,{"$f":"IFERROR(VLOOKUP(B1710,DKC_Price!A:H,2,FALSE),\"\")","v":""},null,null,null,{"$f":"IFERROR(VLOOKUP(B1710,DKC_Price!A:H,3,FALSE),\"\")","v":""}]
[null,null,{"$f":"IFERROR(VLOOKUP(B1711,DKC_Price!A:H,2,FALSE),\"\")","v":""},null,null,null,{"$f":"IFERROR(VLOOKUP(B1711,DKC_Price!A:H,3,FALSE),\"\")","v":""}]
[null,null,{"$f":"IFERROR(VLOOKUP(B1712,DKC_Price!A:H,2,FALSE),\"\")","v":""},null,null,null,{"$f":"IFERROR(VLOOKUP(B1712,DKC_Price!A:H,3,FALSE),\"\")","v":""}]
[null,null,{"$f":"IFERROR(VLOOKUP(B1713,DKC_Price!A:H,2,FALSE),\"\")","v":""},null,null,null,{"$f":"IFERROR(VLOOKUP(B1713,DKC_Price!A:H,3,FALSE),\"\")","v":""}]
[null,null,{"$f":"IFERROR(VLOOKUP(B1714,DKC_Price!A:H,2,FALSE),\"\")","v":""},null,null,null,{"$f":"IFERROR(VLOOKUP(B1714,DKC_Price!A:H,3,FALSE),\"\")","v":""}]
[null,null,{"$f":"IFERROR(VLOOKUP(B1715,DKC_Price!A:H,2,FALSE),\"\")","v":""},null,null,null,{"$f":"IFERROR(VLOOKUP(B1715,DKC_Price!A:H,3,FALSE),\"\")","v":""}]
[null,null,{"$f":"IFERROR(VLOOKUP(B1716,DKC_Price!A:H,2,FALSE),\"\")","v":""},null,null,null,{"$f":"IFERROR(VLOOKUP(B1716,DKC_Price!A:H,3,FALSE),\"\")","v":""}]
[null,null,{"$f":"IFERROR(VLOOKUP(B1717,DKC_Price!A:H,2,FALSE),\"\")","v":""},null,null,null,{"$f":"IFERROR(VLOOKUP(B1717,DKC_Price!A:H,3,FALSE),\"\")","v":""}]
[null,null,{"$f":"IFERROR(VLOOKUP(B1718,DKC_Price!A:H,2,FALSE),\"\")","v":""},null,null,null,{"$f":"IFERROR(VLOOKUP(B1718,DKC_Price!A:H,3,FALSE),\"\")","v":""}]
[null,null,{"$f":"IFERROR(VLOOKUP(B1719,DKC_Price!A:H,2,FALSE),\"\")","v":""},null,null,null,{"$f":"IFERROR(VLOOKUP(B1719,DKC_Price!A:H,3,FALSE),\"\")","v":""}]
[null,null,{"$f":"IFERROR(VLOOKUP(B1720,DKC_Price!A:H,2,FALSE),\"\")","v":""},null,null,null,{"$f":"IFERROR(VLOOKUP(B1720,DKC_Price!A:H,3,FALSE),\"\")","v":""}]
[null,null,{"$f":"IFERROR(VLOOKUP(B1721,DKC_Price!A:H,2,FALSE),\"\")","v":""},null,null,null,{"$f":"IFERROR(VLOOKUP(B1721,DKC_Price!A:H,3,FALSE),\"\")","v":""}]
[null,null,{"$f":"IFERROR(VLOOKUP(B1722,DKC_Price!A:H,2,FALSE),\"\")","v":""},null,null,null,{"$f":"IFERROR(VLOOKUP(B1722,DKC_Price!A:H,3,FALSE),\"\")","v":""}]
[null,null,{"$f":"IFERROR(VLOOKUP(B1723,DKC_Price!A:H,2,FALSE),\"\")","v":""},null,null,null,{"$f":"IFERROR(VLOOKUP(B1723,DKC_Price!A:H,3,FALSE),\"\")","v":""}]
[null,null,{"$f":"IFERROR(VLOOKUP(B1724,DKC_Price!A:H,2,FALSE),\"\")","v":""},null,null,null,{"$f":"IFERROR(VLOOKUP(B1724,DKC_Price!A:H,3,FALSE),\"\")","v":""}]
[null,null,{"$f":"IFERROR(VLOOKUP(B1725,DKC_Price!A:H,2,FALSE),\"\")","v":""},null,null,null,{"$f":"IFERROR(VLOOKUP(B1725,DKC_Price!A:H,3,FALSE),\"\")","v":""}]
[null,null,{"$f":"IFERROR(VLOOKUP(B1726,DKC_Price!A:H,2,FALSE),\"\")","v":""},null,null,null,{"$f":"IFERROR(VLOOKUP(B1726,DKC_Price!A:H,3,FALSE),\"\")","v":""}]
[null,null,{"$f":"IFERROR(VLOOKUP(B1727,DKC_Price!A:H,2,FALSE),\"\")","v":""},null,null,null,{"$f":"IFERROR(VLOOKUP(B1727,DKC_Price!A:H,3,FALSE),\"\")","v":""}]
[null,null,{"$f":"IFERROR(VLOOKUP(B1728,DKC_Price!A:H,2,FALSE),\"\")","v":""},null,null,null,{"$f":"IFERROR(VLOOKUP(B1728,DKC_Price!A:H,3,FALSE),\"\")","v":""}]
[null,null,{"$f":"IFERROR(VLOOKUP(B1729,DKC_Price!A:H,2,FALSE),\"\")","v":""},null,null,null,{"$f":"IFERROR(VLOOKUP(B1729,DKC_Price!A:H,3,FALSE),\"\")","v":""}]
[null,null,{"$f":"IFERROR(VLOOKUP(B1730,DKC_Price!A:H,2,FALSE),\"\")","v":""},null,null,null,{"$f":"IFERROR(VLOOKUP(B1730,DKC_Price!A:H,3,FALSE),\"\")","v":""}]
[null,null,{"$f":"IFERROR(VLOOKUP(B1731,DKC_Price!A:H,2,FALSE),\"\")","v":""},null,null,null,{"$f":"IFERROR(VLOOKUP(B1731,DKC_Price!A:H,3,FALSE),\"\")","v":""}]
[null,null,{"$f":"IFERROR(VLOOKUP(B1732,DKC_Price!A:H,2,FALSE),\"\")","v":""},null,null,null,{"$f":"IFERROR(VLOOKUP(B1732,DKC_Price!A:H,3,FALSE),\"\")","v":""}]
[null,null,{"$f":"IFERROR(VLOOKUP(B1733,DKC_Price!A:H,2,FALSE),\"\")","v":""},null,null,null,{"$f":"IFERROR(VLOOKUP(B1733,DKC_Price!A:H,3,FALSE),\"\")","v":""}]
[null,null,{"$f":"IFERROR(VLOOKUP(B1734,DKC_Price!A:H,2,FALSE),\"\")","v":""},null,null,null,{"$f":"IFERROR(VLOOKUP(B1734,DKC_Price!A:H,3,FALSE),\"\")","v":""}]
[null,null,{"$f":"IFERROR(VLOOKUP(B1735,DKC_Price!A:H,2,FALSE),\"\")","v":""},null,null,null,{"$f":"IFERROR(VLOOKUP(B1735,DKC_Price!A:H,3,FALSE),\"\")","v":""}]
[null,null,{"$f":"IFERROR(VLOOKUP(B1736,DKC_Price!A:H,2,FALSE),\"\")","v":""},null,null,null,{"$f":"IFERROR(VLOOKUP(B1736,DKC_Price!A:H,3,FALSE),\"\")","v":""}]
[null,null,{"$f":"IFERROR(VLOOKUP(B1737,DKC_Price!A:H,2,FALSE),\"\")","v":""},null,null,null,{"$f":"IFERROR(VLOOKUP(B1737,DKC_Price!A:H,3,FALSE),\"\")","v":""}]
[null,null,{"$f":"IFERROR(VLOOKUP(B1738,DKC_Price!A:H,2,FALSE),\"\")","v":""},null,null,null,{"$f":"IFERROR(VLOOKUP(B1738,DKC_Price!A:H,3,FALSE),\"\")","v":""}]
[null,null,{"$f":"IFERROR(VLOOKUP(B1739,DKC_Price!A:H,2,FALSE),\"\")","v":""},null,null,null,{"$f":"IFERROR(VLOOKUP(B1739,DKC_Price!A:H,3,FALSE),\"\")","v":""}]
[null,null,{"$f":"IFERROR(VLOOKUP(B1740,DKC_Price!A:H,2,FALSE),\"\")","v":""},null,null,null,{"$f":"IFERROR(VLOOKUP(B1740,DKC_Price!A:H,3,FALSE),\"\")","v":""}]
[null,null,{"$f":"IFERROR(VLOOKUP(B1741,DKC_Price!A:H,2,FALSE),\"\")","v":""},null,null,null,{"$f":"IFERROR(VLOOKUP(B1741,DKC_Price!A:H,3,FALSE),\"\")","v":""}]
[null,null,{"$f":"IFERROR(VLOOKUP(B1742,DKC_Price!A:H,2,FALSE),\"\")","v":""},null,null,null,{"$f":"IFERROR(VLOOKUP(B1742,DKC_Price!A:H,3,FALSE),\"\")","v":""}]
[null,null,{"$f":"IFERROR(VLOOKUP(B1743,DKC_Price!A:H,2,FALSE),\"\")","v":""},null,null,null,{"$f":"IFERROR(VLOOKUP(B1743,DKC_Price!A:H,3,FALSE),\"\")","v":""}]
[null,null,{"$f":"IFERROR(VLOOKUP(B1744,DKC_Price!A:H,2,FALSE),\"\")","v":""},null,null,null,{"$f":"IFERROR(VLOOKUP(B1744,DKC_Price!A:H,3,FALSE),\"\")","v":""}]
[null,null,{"$f":"IFERROR(VLOOKUP(B1745,DKC_Price!A:H,2,FALSE),\"\")","v":""},null,null,null,{"$f":"IFERROR(VLOOKUP(B1745,DKC_Price!A:H,3,FALSE),\"\")","v":""}]
[null,null,{"$f":"IFERROR(VLOOKUP(B1746,DKC_Price!A:H,2,FALSE),\"\")","v":""},null,null,null,{"$f":"IFERROR(VLOOKUP(B1746,DKC_Price!A:H,3,FALSE),\"\")","v":""}]
[null,null,{"$f":"IFERROR(VLOOKUP(B1747,DKC_Price!A:H,2,FALSE),\"\")","v":""},null,null,null,{"$f":"IFERROR(VLOOKUP(B1747,DKC_Price!A:H,3,FALSE),\"\")","v":""}]
[null,null,{"$f":"IFERROR(VLOOKUP(B1748,DKC_Price!A:H,2,FALSE),\"\")","v":""},null,null,null,{"$f":"IFERROR(VLOOKUP(B1748,DKC_Price!A:H,3,FALSE),\"\")","v":""}]
[null,null,{"$f":"IFERROR(VLOOKUP(B1749,DKC_Price!A:H,2,FALSE),\"\")","v":""},null,null,null,{"$f":"IFERROR(VLOOKUP(B1749,DKC_Price!A:H,3,FALSE),\"\")","v":""}]
[null,null,{"$f":"IFERROR(VLOOKUP(B1750,DKC_Price!A:H,2,FALSE),\"\")","v":""},null,null,null,{"$f":"IFERROR(VLOOKUP(B1750,DKC_Price!A:H,3,FALSE),\"\")","v":""}]
[null,null,{"$f":"IFERROR(VLOOKUP(B1751,DKC_Price!A:H,2,FALSE),\"\")","v":""},null,null,null,{"$f":"IFERROR(VLOOKUP(B1751,DKC_Price!A:H,3,FALSE),\"\")","v":""}]
[null,null,{"$f":"IFERROR(VLOOKUP(B1752,DKC_Price!A:H,2,FALSE),\"\")","v":""},null,null,null,{"$f":"IFERROR(VLOOKUP(B1752,DKC_Price!A:H,3,FALSE),\"\")","v":""}]
[null,null,{"$f":"IFERROR(VLOOKUP(B1753,DKC_Price!A:H,2,FALSE),\"\")","v":""},null,null,null,{"$f":"IFERROR(VLOOKUP(B1753,DKC_Price!A:H,3,FALSE),\"\")","v":""}]
[null,null,{"$f":"IFERROR(VLOOKUP(B1754,DKC_Price!A:H,2,FALSE),\"\")","v":""},null,null,null,{"$f":"IFERROR(VLOOKUP(B1754,DKC_Price!A:H,3,FALSE),\"\")","v":""}]
[null,null,{"$f":"IFERROR(VLOOKUP(B1755,DKC_Price!A:H,2,FALSE),\"\")","v":""},null,null,null,{"$f":"IFERROR(VLOOKUP(B1755,DKC_Price!A:H,3,FALSE),\"\")","v":""}]
[null,null,{"$f":"IFERROR(VLOOKUP(B1756,DKC_Price!A:H,2,FALSE),\"\")","v":""},null,null,null,{"$f":"IFERROR(VLOOKUP(B1756,DKC_Price!A:H,3,FALSE),\"\")","v":""}]
[null,null,{"$f":"IFERROR(VLOOKUP(B1757,DKC_Price!A:H,2,FALSE),\"\")","v":""},null,null,null,{"$f":"IFERROR(VLOOKUP(B1757,DKC_Price!A:H,3,FALSE),\"\")","v":""}]
[null,null,{"$f":"IFERROR(VLOOKUP(B1758,DKC_Price!A:H,2,FALSE),\"\")","v":""},null,null,null,{"$f":"IFERROR(VLOOKUP(B1758,DKC_Price!A:H,3,FALSE),\"\")","v":""}]
[null,null,{"$f":"IFERROR(VLOOKUP(B1759,DKC_Price!A:H,2,FALSE),\"\")","v":""},null,null,null,{"$f":"IFERROR(VLOOKUP(B1759,DKC_Price!A:H,3,FALSE),\"\")","v":""}]
[null,null,{"$f":"IFERROR(VLOOKUP(B1760,DKC_Price!A:H,2,FALSE),\"\")","v":""},null,null,null,{"$f":"IFERROR(VLOOKUP(B1760,DKC_Price!A:H,3,FALSE),\"\")","v":""}]
[null,null,{"$f":"IFERROR(VLOOKUP(B1761,DKC_Price!A:H,2,FALSE),\"\")","v":""},null,null,null,{"$f":"IFERROR(VLOOKUP(B1761,DKC_Price!A:H,3,FALSE),\"\")","v":""}]
[null,null,{"$f":"IFERROR(VLOOKUP(B1762,DKC_Price!A:H,2,FALSE),\"\")","v":""},null,null,null,{"$f":"IFERROR(VLOOKUP(B1762,DKC_Price!A:H,3,FALSE),\"\")","v":""}]
[null,null,{"$f":"IFERROR(VLOOKUP(B1763,DKC_Price!A:H,2,FALSE),\"\")","v":""},null,null,null,{"$f":"IFERROR(VLOOKUP(B1763,DKC_Price!A:H,3,FALSE),\"\")","v":""}]
[null,null,{"$f":"IFERROR(VLOOKUP(B1764,DKC_Price!A:H,2,FALSE),\"\")","v":""},null,null,null,{"$f":"IFERROR(VLOOKUP(B1764,DKC_Price!A:H,3,FALSE),\"\")","v":""}]
[null,null,{"$f":"IFERROR(VLOOKUP(B1765,DKC_Price!A:H,2,FALSE),\"\")","v":""},null,null,null,{"$f":"IFERROR(VLOOKUP(B1765,DKC_Price!A:H,3,FALSE),\"\")","v":""}]
[null,null,{"$f":"IFERROR(VLOOKUP(B1766,DKC_Price!A:H,2,FALSE),\"\")","v":""},null,null,null,{"$f":"IFERROR(VLOOKUP(B1766,DKC_Price!A:H,3,FALSE),\"\")","v":""}]
[null,null,{"$f":"IFERROR(VLOOKUP(B1767,DKC_Price!A:H,2,FALSE),\"\")","v":""},null,null,null,{"$f":"IFERROR(VLOOKUP(B1767,DKC_Price!A:H,3,FALSE),\"\")","v":""}]
[null,null,{"$f":"IFERROR(VLOOKUP(B1768,DKC_Price!A:H,2,FALSE),\"\")","v":""},null,null,null,{"$f":"IFERROR(VLOOKUP(B1768,DKC_Price!A:H,3,FALSE),\"\")","v":""}]
[null,null,{"$f":"IFERROR(VLOOKUP(B1769,DKC_Price!A:H,2,FALSE),\"\")","v":""},null,null,null,{"$f":"IFERROR(VLOOKUP(B1769,DKC_Price!A:H,3,FALSE),\"\")","v":""}]
[null,null,{"$f":"IFERROR(VLOOKUP(B1770,DKC_Price!A:H,2,FALSE),\"\")","v":""},null,null,null,{"$f":"IFERROR(VLOOKUP(B1770,DKC_Price!A:H,3,FALSE),\"\")","v":""}]
[null,null,{"$f":"IFERROR(VLOOKUP(B1771,DKC_Price!A:H,2,FALSE),\"\")","v":""},null,null,null,{"$f":"IFERROR(VLOOKUP(B1771,DKC_Price!A:H,3,FALSE),\"\")","v":""}]
[null,null,{"$f":"IFERROR(VLOOKUP(B1772,DKC_Price!A:H,2,FALSE),\"\")","v":""},null,null,null,{"$f":"IFERROR(VLOOKUP(B1772,DKC_Price!A:H,3,FALSE),\"\")","v":""}]
[null,null,{"$f":"IFERROR(VLOOKUP(B1773,DKC_Price!A:H,2,FALSE),\"\")","v":""},null,null,null,{"$f":"IFERROR(VLOOKUP(B1773,DKC_Price!A:H,3,FALSE),\"\")","v":""}]
[null,null,{"$f":"IFERROR(VLOOKUP(B1774,DKC_Price!A:H,2,FALSE),\"\")","v":""},null,null,null,{"$f":"IFERROR(VLOOKUP(B1774,DKC_Price!A:H,3,FALSE),\"\")","v":""}]
[null,null,{"$f":"IFERROR(VLOOKUP(B1775,DKC_Price!A:H,2,FALSE),\"\")","v":""},null,null,null,{"$f":"IFERROR(VLOOKUP(B1775,DKC_Price!A:H,3,FALSE),\"\")","v":""}]
[null,null,{"$f":"IFERROR(VLOOKUP(B1776,DKC_Price!A:H,2,FALSE),\"\")","v":""},null,null,null,{"$f":"IFERROR(VLOOKUP(B1776,DKC_Price!A:H,3,FALSE),\"\")","v":""}]
[null,null,{"$f":"IFERROR(VLOOKUP(B1777,DKC_Price!A:H,2,FALSE),\"\")","v":""},null,null,null,{"$f":"IFERROR(VLOOKUP(B1777,DKC_Price!A:H,3,FALSE),\"\")","v":""}]
[null,null,{"$f":"IFERROR(VLOOKUP(B1778,DKC_Price!A:H,2,FALSE),\"\")","v":""},null,null,null,{"$f":"IFERROR(VLOOKUP(B1778,DKC_Price!A:H,3,FALSE),\"\")","v":""}]
[null,null,{"$f":"IFERROR(VLOOKUP(B1779,DKC_Price!A:H,2,FALSE),\"\")","v":""},null,null,null,{"$f":"IFERROR(VLOOKUP(B1779,DKC_Price!A:H,3,FALSE),\"\")","v":""}]
[null,null,{"$f":"IFERROR(VLOOKUP(B1780,DKC_Price!A:H,2,FALSE),\"\")","v":""},null,null,null,{"$f":"IFERROR(VLOOKUP(B1780,DKC_Price!A:H,3,FALSE),\"\")","v":""}]
[null,null,{"$f":"IFERROR(VLOOKUP(B1781,DKC_Price!A:H,2,FALSE),\"\")","v":""},null,null,null,{"$f":"IFERROR(VLOOKUP(B1781,DKC_Price!A:H,3,FALSE),\"\")","v":""}]
[null,null,{"$f":"IFERROR(VLOOKUP(B1782,DKC_Price!A:H,2,FALSE),\"\")","v":""},null,null,null,{"$f":"IFERROR(VLOOKUP(B1782,DKC_Price!A:H,3,FALSE),\"\")","v":""}]
[null,null,{"$f":"IFERROR(VLOOKUP(B1783,DKC_Price!A:H,2,FALSE),\"\")","v":""},null,null,null,{"$f":"IFERROR(VLOOKUP(B1783,DKC_Price!A:H,3,FALSE),\"\")","v":""}]
[null,null,{"$f":"IFERROR(VLOOKUP(B1784,DKC_Price!A:H,2,FALSE),\"\")","v":""},null,null,null,{"$f":"IFERROR(VLOOKUP(B1784,DKC_Price!A:H,3,FALSE),\"\")","v":""}]
[null,null,{"$f":"IFERROR(VLOOKUP(B1785,DKC_Price!A:H,2,FALSE),\"\")","v":""},null,null,null,{"$f":"IFERROR(VLOOKUP(B1785,DKC_Price!A:H,3,FALSE),\"\")","v":""}]
[null,null,{"$f":"IFERROR(VLOOKUP(B1786,DKC_Price!A:H,2,FALSE),\"\")","v":""},null,null,null,{"$f":"IFERROR(VLOOKUP(B1786,DKC_Price!A:H,3,FALSE),\"\")","v":""}]
[null,null,{"$f":"IFERROR(VLOOKUP(B1787,DKC_Price!A:H,2,FALSE),\"\")","v":""},null,null,null,{"$f":"IFERROR(VLOOKUP(B1787,DKC_Price!A:H,3,FALSE),\"\")","v":""}]
[null,null,{"$f":"IFERROR(VLOOKUP(B1788,DKC_Price!A:H,2,FALSE),\"\")","v":""},null,null,null,{"$f":"IFERROR(VLOOKUP(B1788,DKC_Price!A:H,3,FALSE),\"\")","v":""}]
[null,null,{"$f":"IFERROR(VLOOKUP(B1789,DKC_Price!A:H,2,FALSE),\"\")","v":""},null,null,null,{"$f":"IFERROR(VLOOKUP(B1789,DKC_Price!A:H,3,FALSE),\"\")","v":""}]
[null,null,{"$f":"IFERROR(VLOOKUP(B1790,DKC_Price!A:H,2,FALSE),\"\")","v":""},null,null,null,{"$f":"IFERROR(VLOOKUP(B1790,DKC_Price!A:H,3,FALSE),\"\")","v":""}]
[null,null,{"$f":"IFERROR(VLOOKUP(B1791,DKC_Price!A:H,2,FALSE),\"\")","v":""},null,null,null,{"$f":"IFERROR(VLOOKUP(B1791,DKC_Price!A:H,3,FALSE),\"\")","v":""}]
[null,null,{"$f":"IFERROR(VLOOKUP(B1792,DKC_Price!A:H,2,FALSE),\"\")","v":""},null,null,null,{"$f":"IFERROR(VLOOKUP(B1792,DKC_Price!A:H,3,FALSE),\"\")","v":""}]
[null,null,{"$f":"IFERROR(VLOOKUP(B1793,DKC_Price!A:H,2,FALSE),\"\")","v":""},null,null,null,{"$f":"IFERROR(VLOOKUP(B1793,DKC_Price!A:H,3,FALSE),\"\")","v":""}]
[null,null,{"$f":"IFERROR(VLOOKUP(B1794,DKC_Price!A:H,2,FALSE),\"\")","v":""},null,null,null,{"$f":"IFERROR(VLOOKUP(B1794,DKC_Price!A:H,3,FALSE),\"\")","v":""}]
[null,null,{"$f":"IFERROR(VLOOKUP(B1795,DKC_Price!A:H,2,FALSE),\"\")","v":""},null,null,null,{"$f":"IFERROR(VLOOKUP(B1795,DKC_Price!A:H,3,FALSE),\"\")","v":""}]
[null,null,{"$f":"IFERROR(VLOOKUP(B1796,DKC_Price!A:H,2,FALSE),\"\")","v":""},null,null,null,{"$f":"IFERROR(VLOOKUP(B1796,DKC_Price!A:H,3,FALSE),\"\")","v":""}]
[null,null,{"$f":"IFERROR(VLOOKUP(B1797,DKC_Price!A:H,2,FALSE),\"\")","v":""},null,null,null,{"$f":"IFERROR(VLOOKUP(B1797,DKC_Price!A:H,3,FALSE),\"\")","v":""}]
[null,null,{"$f":"IFERROR(VLOOKUP(B1798,DKC_Price!A:H,2,FALSE),\"\")","v":""},null,null,null,{"$f":"IFERROR(VLOOKUP(B1798,DKC_Price!A:H,3,FALSE),\"\")","v":""}]
[null,null,{"$f":"IFERROR(VLOOKUP(B1799,DKC_Price!A:H,2,FALSE),\"\")","v":""},null,null,null,{"$f":"IFERROR(VLOOKUP(B1799,DKC_Price!A:H,3,FALSE),\"\")","v":""}]
[null,null,{"$f":"IFERROR(VLOOKUP(B1800,DKC_Price!A:H,2,FALSE),\"\")","v":""},null,null,null,{"$f":"IFERROR(VLOOKUP(B1800,DKC_Price!A:H,3,FALSE),\"\")","v":""}]
[null,null,{"$f":"IFERROR(VLOOKUP(B1801,DKC_Price!A:H,2,FALSE),\"\")","v":""},null,null,null,{"$f":"IFERROR(VLOOKUP(B1801,DKC_Price!A:H,3,FALSE),\"\")","v":""}]
[null,null,{"$f":"IFERROR(VLOOKUP(B1802,DKC_Price!A:H,2,FALSE),\"\")","v":""},null,null,null,{"$f":"IFERROR(VLOOKUP(B1802,DKC_Price!A:H,3,FALSE),\"\")","v":""}]
[null,null,{"$f":"IFERROR(VLOOKUP(B1803,DKC_Price!A:H,2,FALSE),\"\")","v":""},null,null,null,{"$f":"IFERROR(VLOOKUP(B1803,DKC_Price!A:H,3,FALSE),\"\")","v":""}]
[null,null,{"$f":"IFERROR(VLOOKUP(B1804,DKC_Price!A:H,2,FALSE),\"\")","v":""},null,null,null,{"$f":"IFERROR(VLOOKUP(B1804,DKC_Price!A:H,3,FALSE),\"\")","v":""}]
[null,null,{"$f":"IFERROR(VLOOKUP(B1805,DKC_Price!A:H,2,FALSE),\"\")","v":""},null,null,null,{"$f":"IFERROR(VLOOKUP(B1805,DKC_Price!A:H,3,FALSE),\"\")","v":""}]
[null,null,{"$f":"IFERROR(VLOOKUP(B1806,DKC_Price!A:H,2,FALSE),\"\")","v":""},null,null,null,{"$f":"IFERROR(VLOOKUP(B1806,DKC_Price!A:H,3,FALSE),\"\")","v":""}]
[null,null,{"$f":"IFERROR(VLOOKUP(B1807,DKC_Price!A:H,2,FALSE),\"\")","v":""},null,null,null,{"$f":"IFERROR(VLOOKUP(B1807,DKC_Price!A:H,3,FALSE),\"\")","v":""}]
[null,null,{"$f":"IFERROR(VLOOKUP(B1808,DKC_Price!A:H,2,FALSE),\"\")","v":""},null,null,null,{"$f":"IFERROR(VLOOKUP(B1808,DKC_Price!A:H,3,FALSE),\"\")","v":""}]
[null,null,{"$f":"IFERROR(VLOOKUP(B1809,DKC_Price!A:H,2,FALSE),\"\")","v":""},null,null,null,{"$f":"IFERROR(VLOOKUP(B1809,DKC_Price!A:H,3,FALSE),\"\")","v":""}]
[null,null,{"$f":"IFERROR(VLOOKUP(B1810,DKC_Price!A:H,2,FALSE),\"\")","v":""},null,null,null,{"$f":"IFERROR(VLOOKUP(B1810,DKC_Price!A:H,3,FALSE),\"\")","v":""}]
[null,null,{"$f":"IFERROR(VLOOKUP(B1811,DKC_Price!A:H,2,FALSE),\"\")","v":""},null,null,null,{"$f":"IFERROR(VLOOKUP(B1811,DKC_Price!A:H,3,FALSE),\"\")","v":""}]
[null,null,{"$f":"IFERROR(VLOOKUP(B1812,DKC_Price!A:H,2,FALSE),\"\")","v":""},null,null,null,{"$f":"IFERROR(VLOOKUP(B1812,DKC_Price!A:H,3,FALSE),\"\")","v":""}]
[null,null,{"$f":"IFERROR(VLOOKUP(B1813,DKC_Price!A:H,2,FALSE),\"\")","v":""},null,null,null,{"$f":"IFERROR(VLOOKUP(B1813,DKC_Price!A:H,3,FALSE),\"\")","v":""}]
[null,null,{"$f":"IFERROR(VLOOKUP(B1814,DKC_Price!A:H,2,FALSE),\"\")","v":""},null,null,null,{"$f":"IFERROR(VLOOKUP(B1814,DKC_Price!A:H,3,FALSE),\"\")","v":""}]
[null,null,{"$f":"IFERROR(VLOOKUP(B1815,DKC_Price!A:H,2,FALSE),\"\")","v":""},null,null,null,{"$f":"IFERROR(VLOOKUP(B1815,DKC_Price!A:H,3,FALSE),\"\")","v":""}]
[null,null,{"$f":"IFERROR(VLOOKUP(B1816,DKC_Price!A:H,2,FALSE),\"\")","v":""},null,null,null,{"$f":"IFERROR(VLOOKUP(B1816,DKC_Price!A:H,3,FALSE),\"\")","v":""}]
[null,null,{"$f":"IFERROR(VLOOKUP(B1817,DKC_Price!A:H,2,FALSE),\"\")","v":""},null,null,null,{"$f":"IFERROR(VLOOKUP(B1817,DKC_Price!A:H,3,FALSE),\"\")","v":""}]
[null,null,{"$f":"IFERROR(VLOOKUP(B1818,DKC_Price!A:H,2,FALSE),\"\")","v":""},null,null,null,{"$f":"IFERROR(VLOOKUP(B1818,DKC_Price!A:H,3,FALSE),\"\")","v":""}]
[null,null,{"$f":"IFERROR(VLOOKUP(B1819,DKC_Price!A:H,2,FALSE),\"\")","v":""},null,null,null,{"$f":"IFERROR(VLOOKUP(B1819,DKC_Price!A:H,3,FALSE),\"\")","v":""}]
[null,null,{"$f":"IFERROR(VLOOKUP(B1820,DKC_Price!A:H,2,FALSE),\"\")","v":""},null,null,null,{"$f":"IFERROR(VLOOKUP(B1820,DKC_Price!A:H,3,FALSE),\"\")","v":""}]
[null,null,{"$f":"IFERROR(VLOOKUP(B1821,DKC_Price!A:H,2,FALSE),\"\")","v":""},null,null,null,{"$f":"IFERROR(VLOOKUP(B1821,DKC_Price!A:H,3,FALSE),\"\")","v":""}]
[null,null,{"$f":"IFERROR(VLOOKUP(B1822,DKC_Price!A:H,2,FALSE),\"\")","v":""},null,null,null,{"$f":"IFERROR(VLOOKUP(B1822,DKC_Price!A:H,3,FALSE),\"\")","v":""}]
[null,null,{"$f":"IFERROR(VLOOKUP(B1823,DKC_Price!A:H,2,FALSE),\"\")","v":""},null,null,null,{"$f":"IFERROR(VLOOKUP(B1823,DKC_Price!A:H,3,FALSE),\"\")","v":""}]
[null,null,{"$f":"IFERROR(VLOOKUP(B1824,DKC_Price!A:H,2,FALSE),\"\")","v":""},null,null,null,{"$f":"IFERROR(VLOOKUP(B1824,DKC_Price!A:H,3,FALSE),\"\")","v":""}]
[null,null,{"$f":"IFERROR(VLOOKUP(B1825,DKC_Price!A:H,2,FALSE),\"\")","v":""},null,null,null,{"$f":"IFERROR(VLOOKUP(B1825,DKC_Price!A:H,3,FALSE),\"\")","v":""}]
[null,null,{"$f":"IFERROR(VLOOKUP(B1826,DKC_Price!A:H,2,FALSE),\"\")","v":""},null,null,null,{"$f":"IFERROR(VLOOKUP(B1826,DKC_Price!A:H,3,FALSE),\"\")","v":""}]
[null,null,{"$f":"IFERROR(VLOOKUP(B1827,DKC_Price!A:H,2,FALSE),\"\")","v":""},null,null,null,{"$f":"IFERROR(VLOOKUP(B1827,DKC_Price!A:H,3,FALSE),\"\")","v":""}]
[null,null,{"$f":"IFERROR(VLOOKUP(B1828,DKC_Price!A:H,2,FALSE),\"\")","v":""},null,null,null,{"$f":"IFERROR(VLOOKUP(B1828,DKC_Price!A:H,3,FALSE),\"\")","v":""}]
[null,null,{"$f":"IFERROR(VLOOKUP(B1829,DKC_Price!A:H,2,FALSE),\"\")","v":""},null,null,null,{"$f":"IFERROR(VLOOKUP(B1829,DKC_Price!A:H,3,FALSE),\"\")","v":""}]
[null,null,{"$f":"IFERROR(VLOOKUP(B1830,DKC_Price!A:H,2,FALSE),\"\")","v":""},null,null,null,{"$f":"IFERROR(VLOOKUP(B1830,DKC_Price!A:H,3,FALSE),\"\")","v":""}]
[null,null,{"$f":"IFERROR(VLOOKUP(B1831,DKC_Price!A:H,2,FALSE),\"\")","v":""},null,null,null,{"$f":"IFERROR(VLOOKUP(B1831,DKC_Price!A:H,3,FALSE),\"\")","v":""}]
[null,null,{"$f":"IFERROR(VLOOKUP(B1832,DKC_Price!A:H,2,FALSE),\"\")","v":""},null,null,null,{"$f":"IFERROR(VLOOKUP(B1832,DKC_Price!A:H,3,FALSE),\"\")","v":""}]
[null,null,{"$f":"IFERROR(VLOOKUP(B1833,DKC_Price!A:H,2,FALSE),\"\")","v":""},null,null,null,{"$f":"IFERROR(VLOOKUP(B1833,DKC_Price!A:H,3,FALSE),\"\")","v":""}]
[null,null,{"$f":"IFERROR(VLOOKUP(B1834,DKC_Price!A:H,2,FALSE),\"\")","v":""},null,null,null,{"$f":"IFERROR(VLOOKUP(B1834,DKC_Price!A:H,3,FALSE),\"\")","v":""}]
[null,null,{"$f":"IFERROR(VLOOKUP(B1835,DKC_Price!A:H,2,FALSE),\"\")","v":""},null,null,null,{"$f":"IFERROR(VLOOKUP(B1835,DKC_Price!A:H,3,FALSE),\"\")","v":""}]
[null,null,{"$f":"IFERROR(VLOOKUP(B1836,DKC_Price!A:H,2,FALSE),\"\")","v":""},null,null,null,{"$f":"IFERROR(VLOOKUP(B1836,DKC_Price!A:H,3,FALSE),\"\")","v":""}]
[null,null,{"$f":"IFERROR(VLOOKUP(B1837,DKC_Price!A:H,2,FALSE),\"\")","v":""},null,null,null,{"$f":"IFERROR(VLOOKUP(B1837,DKC_Price!A:H,3,FALSE),\"\")","v":""}]
[null,null,{"$f":"IFERROR(VLOOKUP(B1838,DKC_Price!A:H,2,FALSE),\"\")","v":""},null,null,null,{"$f":"IFERROR(VLOOKUP(B1838,DKC_Price!A:H,3,FALSE),\"\")","v":""}]
[null,null,{"$f":"IFERROR(VLOOKUP(B1839,DKC_Price!A:H,2,FALSE),\"\")","v":""},null,null,null,{"$f":"IFERROR(VLOOKUP(B1839,DKC_Price!A:H,3,FALSE),\"\")","v":""}]
[null,null,{"$f":"IFERROR(VLOOKUP(B1840,DKC_Price!A:H,2,FALSE),\"\")","v":""},null,null,null,{"$f":"IFERROR(VLOOKUP(B1840,DKC_Price!A:H,3,FALSE),\"\")","v":""}]
[null,null,{"$f":"IFERROR(VLOOKUP(B1841,DKC_Price!A:H,2,FALSE),\"\")","v":""},null,null,null,{"$f":"IFERROR(VLOOKUP(B1841,DKC_Price!A:H,3,FALSE),\"\")","v":""}]
[null,null,{"$f":"IFERROR(VLOOKUP(B1842,DKC_Price!A:H,2,FALSE),\"\")","v":""},null,null,null,{"$f":"IFERROR(VLOOKUP(B1842,DKC_Price!A:H,3,FALSE),\"\")","v":""}]
[null,null,{"$f":"IFERROR(VLOOKUP(B1843,DKC_Price!A:H,2,FALSE),\"\")","v":""},null,null,null,{"$f":"IFERROR(VLOOKUP(B1843,DKC_Price!A:H,3,FALSE),\"\")","v":""}]
[null,null,{"$f":"IFERROR(VLOOKUP(B1844,DKC_Price!A:H,2,FALSE),\"\")","v":""},null,null,null,{"$f":"IFERROR(VLOOKUP(B1844,DKC_Price!A:H,3,FALSE),\"\")","v":""}]
[null,null,{"$f":"IFERROR(VLOOKUP(B1845,DKC_Price!A:H,2,FALSE),\"\")","v":""},null,null,null,{"$f":"IFERROR(VLOOKUP(B1845,DKC_Price!A:H,3,FALSE),\"\")","v":""}]
[null,null,{"$f":"IFERROR(VLOOKUP(B1846,DKC_Price!A:H,2,FALSE),\"\")","v":""},null,null,null,{"$f":"IFERROR(VLOOKUP(B1846,DKC_Price!A:H,3,FALSE),\"\")","v":""}]
[null,null,{"$f":"IFERROR(VLOOKUP(B1847,DKC_Price!A:H,2,FALSE),\"\")","v":""},null,null,null,{"$f":"IFERROR(VLOOKUP(B1847,DKC_Price!A:H,3,FALSE),\"\")","v":""}]
[null,null,{"$f":"IFERROR(VLOOKUP(B1848,DKC_Price!A:H,2,FALSE),\"\")","v":""},null,null,null,{"$f":"IFERROR(VLOOKUP(B1848,DKC_Price!A:H,3,FALSE),\"\")","v":""}]
[null,null,{"$f":"IFERROR(VLOOKUP(B1849,DKC_Price!A:H,2,FALSE),\"\")","v":""},null,null,null,{"$f":"IFERROR(VLOOKUP(B1849,DKC_Price!A:H,3,FALSE),\"\")","v":""}]
[null,null,{"$f":"IFERROR(VLOOKUP(B1850,DKC_Price!A:H,2,FALSE),\"\")","v":""},null,null,null,{"$f":"IFERROR(VLOOKUP(B1850,DKC_Price!A:H,3,FALSE),\"\")","v":""}]
[null,null,{"$f":"IFERROR(VLOOKUP(B1851,DKC_Price!A:H,2,FALSE),\"\")","v":""},null,null,null,{"$f":"IFERROR(VLOOKUP(B1851,DKC_Price!A:H,3,FALSE),\"\")","v":""}]
[null,null,{"$f":"IFERROR(VLOOKUP(B1852,DKC_Price!A:H,2,FALSE),\"\")","v":""},null,null,null,{"$f":"IFERROR(VLOOKUP(B1852,DKC_Price!A:H,3,FALSE),\"\")","v":""}]
[null,null,{"$f":"IFERROR(VLOOKUP(B1853,DKC_Price!A:H,2,FALSE),\"\")","v":""},null,null,null,{"$f":"IFERROR(VLOOKUP(B1853,DKC_Price!A:H,3,FALSE),\"\")","v":""}]
[null,null,{"$f":"IFERROR(VLOOKUP(B1854,DKC_Price!A:H,2,FALSE),\"\")","v":""},null,null,null,{"$f":"IFERROR(VLOOKUP(B1854,DKC_Price!A:H,3,FALSE),\"\")","v":""}]
[null,null,{"$f":"IFERROR(VLOOKUP(B1855,DKC_Price!A:H,2,FALSE),\"\")","v":""},null,null,null,{"$f":"IFERROR(VLOOKUP(B1855,DKC_Price!A:H,3,FALSE),\"\")","v":""}]
[null,null,{"$f":"IFERROR(VLOOKUP(B1856,DKC_Price!A:H,2,FALSE),\"\")","v":""},null,null,null,{"$f":"IFERROR(VLOOKUP(B1856,DKC_Price!A:H,3,FALSE),\"\")","v":""}]
[null,null,{"$f":"IFERROR(VLOOKUP(B1857,DKC_Price!A:H,2,FALSE),\"\")","v":""},null,null,null,{"$f":"IFERROR(VLOOKUP(B1857,DKC_Price!A:H,3,FALSE),\"\")","v":""}]
[null,null,{"$f":"IFERROR(VLOOKUP(B1858,DKC_Price!A:H,2,FALSE),\"\")","v":""},null,null,null,{"$f":"IFERROR(VLOOKUP(B1858,DKC_Price!A:H,3,FALSE),\"\")","v":""}]
[null,null,{"$f":"IFERROR(VLOOKUP(B1859,DKC_Price!A:H,2,FALSE),\"\")","v":""},null,null,null,{"$f":"IFERROR(VLOOKUP(B1859,DKC_Price!A:H,3,FALSE),\"\")","v":""}]
[null,null,{"$f":"IFERROR(VLOOKUP(B1860,DKC_Price!A:H,2,FALSE),\"\")","v":""},null,null,null,{"$f":"IFERROR(VLOOKUP(B1860,DKC_Price!A:H,3,FALSE),\"\")","v":""}]
[null,null,{"$f":"IFERROR(VLOOKUP(B1861,DKC_Price!A:H,2,FALSE),\"\")","v":""},null,null,null,{"$f":"IFERROR(VLOOKUP(B1861,DKC_Price!A:H,3,FALSE),\"\")","v":""}]
[null,null,{"$f":"IFERROR(VLOOKUP(B1862,DKC_Price!A:H,2,FALSE),\"\")","v":""},null,null,null,{"$f":"IFERROR(VLOOKUP(B1862,DKC_Price!A:H,3,FALSE),\"\")","v":""}]
[null,null,{"$f":"IFERROR(VLOOKUP(B1863,DKC_Price!A:H,2,FALSE),\"\")","v":""},null,null,null,{"$f":"IFERROR(VLOOKUP(B1863,DKC_Price!A:H,3,FALSE),\"\")","v":""}]
[null,null,{"$f":"IFERROR(VLOOKUP(B1864,DKC_Price!A:H,2,FALSE),\"\")","v":""},null,null,null,{"$f":"IFERROR(VLOOKUP(B1864,DKC_Price!A:H,3,FALSE),\"\")","v":""}]
[null,null,{"$f":"IFERROR(VLOOKUP(B1865,DKC_Price!A:H,2,FALSE),\"\")","v":""},null,null,null,{"$f":"IFERROR(VLOOKUP(B1865,DKC_Price!A:H,3,FALSE),\"\")","v":""}]
[null,null,{"$f":"IFERROR(VLOOKUP(B1866,DKC_Price!A:H,2,FALSE),\"\")","v":""},null,null,null,{"$f":"IFERROR(VLOOKUP(B1866,DKC_Price!A:H,3,FALSE),\"\")","v":""}]
[null,null,{"$f":"IFERROR(VLOOKUP(B1867,DKC_Price!A:H,2,FALSE),\"\")","v":""},null,null,null,{"$f":"IFERROR(VLOOKUP(B1867,DKC_Price!A:H,3,FALSE),\"\")","v":""}]
[null,null,{"$f":"IFERROR(VLOOKUP(B1868,DKC_Price!A:H,2,FALSE),\"\")","v":""},null,null,null,{"$f":"IFERROR(VLOOKUP(B1868,DKC_Price!A:H,3,FALSE),\"\")","v":""}]
[null,null,{"$f":"IFERROR(VLOOKUP(B1869,DKC_Price!A:H,2,FALSE),\"\")","v":""},null,null,null,{"$f":"IFERROR(VLOOKUP(B1869,DKC_Price!A:H,3,FALSE),\"\")","v":""}]
[null,null,{"$f":"IFERROR(VLOOKUP(B1870,DKC_Price!A:H,2,FALSE),\"\")","v":""},null,null,null,{"$f":"IFERROR(VLOOKUP(B1870,DKC_Price!A:H,3,FALSE),\"\")","v":""}]
[null,null,{"$f":"IFERROR(VLOOKUP(B1871,DKC_Price!A:H,2,FALSE),\"\")","v":""},null,null,null,{"$f":"IFERROR(VLOOKUP(B1871,DKC_Price!A:H,3,FALSE),\"\")","v":""}]
[null,null,{"$f":"IFERROR(VLOOKUP(B1872,DKC_Price!A:H,2,FALSE),\"\")","v":""},null,null,null,{"$f":"IFERROR(VLOOKUP(B1872,DKC_Price!A:H,3,FALSE),\"\")","v":""}]
[null,null,{"$f":"IFERROR(VLOOKUP(B1873,DKC_Price!A:H,2,FALSE),\"\")","v":""},null,null,null,{"$f":"IFERROR(VLOOKUP(B1873,DKC_Price!A:H,3,FALSE),\"\")","v":""}]
[null,null,{"$f":"IFERROR(VLOOKUP(B1874,DKC_Price!A:H,2,FALSE),\"\")","v":""},null,null,null,{"$f":"IFERROR(VLOOKUP(B1874,DKC_Price!A:H,3,FALSE),\"\")","v":""}]
[null,null,{"$f":"IFERROR(VLOOKUP(B1875,DKC_Price!A:H,2,FALSE),\"\")","v":""},null,null,null,{"$f":"IFERROR(VLOOKUP(B1875,DKC_Price!A:H,3,FALSE),\"\")","v":""}]
[null,null,{"$f":"IFERROR(VLOOKUP(B1876,DKC_Price!A:H,2,FALSE),\"\")","v":""},null,null,null,{"$f":"IFERROR(VLOOKUP(B1876,DKC_Price!A:H,3,FALSE),\"\")","v":""}]
[null,null,{"$f":"IFERROR(VLOOKUP(B1877,DKC_Price!A:H,2,FALSE),\"\")","v":""},null,null,null,{"$f":"IFERROR(VLOOKUP(B1877,DKC_Price!A:H,3,FALSE),\"\")","v":""}]
[null,null,{"$f":"IFERROR(VLOOKUP(B1878,DKC_Price!A:H,2,FALSE),\"\")","v":""},null,null,null,{"$f":"IFERROR(VLOOKUP(B1878,DKC_Price!A:H,3,FALSE),\"\")","v":""}]
[null,null,{"$f":"IFERROR(VLOOKUP(B1879,DKC_Price!A:H,2,FALSE),\"\")","v":""},null,null,null,{"$f":"IFERROR(VLOOKUP(B1879,DKC_Price!A:H,3,FALSE),\"\")","v":""}]
[null,null,{"$f":"IFERROR(VLOOKUP(B1880,DKC_Price!A:H,2,FALSE),\"\")","v":""},null,null,null,{"$f":"IFERROR(VLOOKUP(B1880,DKC_Price!A:H,3,FALSE),\"\")","v":""}]
[null,null,{"$f":"IFERROR(VLOOKUP(B1881,DKC_Price!A:H,2,FALSE),\"\")","v":""},null,null,null,{"$f":"IFERROR(VLOOKUP(B1881,DKC_Price!A:H,3,FALSE),\"\")","v":""}]
[null,null,{"$f":"IFERROR(VLOOKUP(B1882,DKC_Price!A:H,2,FALSE),\"\")","v":""},null,null,null,{"$f":"IFERROR(VLOOKUP(B1882,DKC_Price!A:H,3,FALSE),\"\")","v":""}]
[null,null,{"$f":"IFERROR(VLOOKUP(B1883,DKC_Price!A:H,2,FALSE),\"\")","v":""},null,null,null,{"$f":"IFERROR(VLOOKUP(B1883,DKC_Price!A:H,3,FALSE),\"\")","v":""}]
[null,null,{"$f":"IFERROR(VLOOKUP(B1884,DKC_Price!A:H,2,FALSE),\"\")","v":""},null,null,null,{"$f":"IFERROR(VLOOKUP(B1884,DKC_Price!A:H,3,FALSE),\"\")","v":""}]
[null,null,{"$f":"IFERROR(VLOOKUP(B1885,DKC_Price!A:H,2,FALSE),\"\")","v":""},null,null,null,{"$f":"IFERROR(VLOOKUP(B1885,DKC_Price!A:H,3,FALSE),\"\")","v":""}]
[null,null,{"$f":"IFERROR(VLOOKUP(B1886,DKC_Price!A:H,2,FALSE),\"\")","v":""},null,null,null,{"$f":"IFERROR(VLOOKUP(B1886,DKC_Price!A:H,3,FALSE),\"\")","v":""}]
[null,null,{"$f":"IFERROR(VLOOKUP(B1887,DKC_Price!A:H,2,FALSE),\"\")","v":""},null,null,null,{"$f":"IFERROR(VLOOKUP(B1887,DKC_Price!A:H,3,FALSE),\"\")","v":""}]
[null,null,{"$f":"IFERROR(VLOOKUP(B1888,DKC_Price!A:H,2,FALSE),\"\")","v":""},null,null,null,{"$f":"IFERROR(VLOOKUP(B1888,DKC_Price!A:H,3,FALSE),\"\")","v":""}]
[null,null,{"$f":"IFERROR(VLOOKUP(B1889,DKC_Price!A:H,2,FALSE),\"\")","v":""},null,null,null,{"$f":"IFERROR(VLOOKUP(B1889,DKC_Price!A:H,3,FALSE),\"\")","v":""}]
[null,null,{"$f":"IFERROR(VLOOKUP(B1890,DKC_Price!A:H,2,FALSE),\"\")","v":""},null,null,null,{"$f":"IFERROR(VLOOKUP(B1890,DKC_Price!A:H,3,FALSE),\"\")","v":""}]
[null,null,{"$f":"IFERROR(VLOOKUP(B1891,DKC_Price!A:H,2,FALSE),\"\")","v":""},null,null,null,{"$f":"IFERROR(VLOOKUP(B1891,DKC_Price!A:H,3,FALSE),\"\")","v":""}]
[null,null,{"$f":"IFERROR(VLOOKUP(B1892,DKC_Price!A:H,2,FALSE),\"\")","v":""},null,null,null,{"$f":"IFERROR(VLOOKUP(B1892,DKC_Price!A:H,3,FALSE),\"\")","v":""}]
[null,null,{"$f":"IFERROR(VLOOKUP(B1893,DKC_Price!A:H,2,FALSE),\"\")","v":""},null,null,null,{"$f":"IFERROR(VLOOKUP(B1893,DKC_Price!A:H,3,FALSE),\"\")","v":""}]
[null,null,{"$f":"IFERROR(VLOOKUP(B1894,DKC_Price!A:H,2,FALSE),\"\")","v":""},null,null,null,{"$f":"IFERROR(VLOOKUP(B1894,DKC_Price!A:H,3,FALSE),\"\")","v":""}]
[null,null,{"$f":"IFERROR(VLOOKUP(B1895,DKC_Price!A:H,2,FALSE),\"\")","v":""},null,null,null,{"$f":"IFERROR(VLOOKUP(B1895,DKC_Price!A:H,3,FALSE),\"\")","v":""}]
[null,null,{"$f":"IFERROR(VLOOKUP(B1896,DKC_Price!A:H,2,FALSE),\"\")","v":""},null,null,null,{"$f":"IFERROR(VLOOKUP(B1896,DKC_Price!A:H,3,FALSE),\"\")","v":""}]
[null,null,{"$f":"IFERROR(VLOOKUP(B1897,DKC_Price!A:H,2,FALSE),\"\")","v":""},null,null,null,{"$f":"IFERROR(VLOOKUP(B1897,DKC_Price!A:H,3,FALSE),\"\")","v":""}]
[null,null,{"$f":"IFERROR(VLOOKUP(B1898,DKC_Price!A:H,2,FALSE),\"\")","v":""},null,null,null,{"$f":"IFERROR(VLOOKUP(B1898,DKC_Price!A:H,3,FALSE),\"\")","v":""}]
[null,null,{"$f":"IFERROR(VLOOKUP(B1899,DKC_Price!A:H,2,FALSE),\"\")","v":""},null,null,null,{"$f":"IFERROR(VLOOKUP(B1899,DKC_Price!A:H,3,FALSE),\"\")","v":""}]
[null,null,{"$f":"IFERROR(VLOOKUP(B1900,DKC_Price!A:H,2,FALSE),\"\")","v":""},null,null,null,{"$f":"IFERROR(VLOOKUP(B1900,DKC_Price!A:H,3,FALSE),\"\")","v":""}]
[null,null,{"$f":"IFERROR(VLOOKUP(B1901,DKC_Price!A:H,2,FALSE),\"\")","v":""},null,null,null,{"$f":"IFERROR(VLOOKUP(B1901,DKC_Price!A:H,3,FALSE),\"\")","v":""}]
[null,null,{"$f":"IFERROR(VLOOKUP(B1902,DKC_Price!A:H,2,FALSE),\"\")","v":""},null,null,null,{"$f":"IFERROR(VLOOKUP(B1902,DKC_Price!A:H,3,FALSE),\"\")","v":""}]
[null,null,{"$f":"IFERROR(VLOOKUP(B1903,DKC_Price!A:H,2,FALSE),\"\")","v":""},null,null,null,{"$f":"IFERROR(VLOOKUP(B1903,DKC_Price!A:H,3,FALSE),\"\")","v":""}]
[null,null,{"$f":"IFERROR(VLOOKUP(B1904,DKC_Price!A:H,2,FALSE),\"\")","v":""},null,null,null,{"$f":"IFERROR(VLOOKUP(B1904,DKC_Price!A:H,3,FALSE),\"\")","v":""}]
[null,null,{"$f":"IFERROR(VLOOKUP(B1905,DKC_Price!A:H,2,FALSE),\"\")","v":""},null,null,null,{"$f":"IFERROR(VLOOKUP(B1905,DKC_Price!A:H,3,FALSE),\"\")","v":""}]
[null,null,{"$f":"IFERROR(VLOOKUP(B1906,DKC_Price!A:H,2,FALSE),\"\")","v":""},null,null,null,{"$f":"IFERROR(VLOOKUP(B1906,DKC_Price!A:H,3,FALSE),\"\")","v":""}]
[null,null,{"$f":"IFERROR(VLOOKUP(B1907,DKC_Price!A:H,2,FALSE),\"\")","v":""},null,null,null,{"$f":"IFERROR(VLOOKUP(B1907,DKC_Price!A:H,3,FALSE),\"\")","v":""}]
[null,null,{"$f":"IFERROR(VLOOKUP(B1908,DKC_Price!A:H,2,FALSE),\"\")","v":""},null,null,null,{"$f":"IFERROR(VLOOKUP(B1908,DKC_Price!A:H,3,FALSE),\"\")","v":""}]
[null,null,{"$f":"IFERROR(VLOOKUP(B1909,DKC_Price!A:H,2,FALSE),\"\")","v":""},null,null,null,{"$f":"IFERROR(VLOOKUP(B1909,DKC_Price!A:H,3,FALSE),\"\")","v":""}]
[null,null,{"$f":"IFERROR(VLOOKUP(B1910,DKC_Price!A:H,2,FALSE),\"\")","v":""},null,null,null,{"$f":"IFERROR(VLOOKUP(B1910,DKC_Price!A:H,3,FALSE),\"\")","v":""}]
[null,null,{"$f":"IFERROR(VLOOKUP(B1911,DKC_Price!A:H,2,FALSE),\"\")","v":""},null,null,null,{"$f":"IFERROR(VLOOKUP(B1911,DKC_Price!A:H,3,FALSE),\"\")","v":""}]
[null,null,{"$f":"IFERROR(VLOOKUP(B1912,DKC_Price!A:H,2,FALSE),\"\")","v":""},null,null,null,{"$f":"IFERROR(VLOOKUP(B1912,DKC_Price!A:H,3,FALSE),\"\")","v":""}]
[null,null,{"$f":"IFERROR(VLOOKUP(B1913,DKC_Price!A:H,2,FALSE),\"\")","v":""},null,null,null,{"$f":"IFERROR(VLOOKUP(B1913,DKC_Price!A:H,3,FALSE),\"\")","v":""}]
[null,null,{"$f":"IFERROR(VLOOKUP(B1914,DKC_Price!A:H,2,FALSE),\"\")","v":""},null,null,null,{"$f":"IFERROR(VLOOKUP(B1914,DKC_Price!A:H,3,FALSE),\"\")","v":""}]
[null,null,{"$f":"IFERROR(VLOOKUP(B1915,DKC_Price!A:H,2,FALSE),\"\")","v":""},null,null,null,{"$f":"IFERROR(VLOOKUP(B1915,DKC_Price!A:H,3,FALSE),\"\")","v":""}]
[null,null,{"$f":"IFERROR(VLOOKUP(B1916,DKC_Price!A:H,2,FALSE),\"\")","v":""},null,null,null,{"$f":"IFERROR(VLOOKUP(B1916,DKC_Price!A:H,3,FALSE),\"\")","v":""}]
[null,null,{"$f":"IFERROR(VLOOKUP(B1917,DKC_Price!A:H,2,FALSE),\"\")","v":""},null,null,null,{"$f":"IFERROR(VLOOKUP(B1917,DKC_Price!A:H,3,FALSE),\"\")","v":""}]
[null,null,{"$f":"IFERROR(VLOOKUP(B1918,DKC_Price!A:H,2,FALSE),\"\")","v":""},null,null,null,{"$f":"IFERROR(VLOOKUP(B1918,DKC_Price!A:H,3,FALSE),\"\")","v":""}]
[null,null,{"$f":"IFERROR(VLOOKUP(B1919,DKC_Price!A:H,2,FALSE),\"\")","v":""},null,null,null,{"$f":"IFERROR(VLOOKUP(B1919,DKC_Price!A:H,3,FALSE),\"\")","v":""}]
[null,null,{"$f":"IFERROR(VLOOKUP(B1920,DKC_Price!A:H,2,FALSE),\"\")","v":""},null,null,null,{"$f":"IFERROR(VLOOKUP(B1920,DKC_Price!A:H,3,FALSE),\"\")","v":""}]
[null,null,{"$f":"IFERROR(VLOOKUP(B1921,DKC_Price!A:H,2,FALSE),\"\")","v":""},null,null,null,{"$f":"IFERROR(VLOOKUP(B1921,DKC_Price!A:H,3,FALSE),\"\")","v":""}]
[null,null,{"$f":"IFERROR(VLOOKUP(B1922,DKC_Price!A:H,2,FALSE),\"\")","v":""},null,null,null,{"$f":"IFERROR(VLOOKUP(B1922,DKC_Price!A:H,3,FALSE),\"\")","v":""}]
[null,null,{"$f":"IFERROR(VLOOKUP(B1923,DKC_Price!A:H,2,FALSE),\"\")","v":""},null,null,null,{"$f":"IFERROR(VLOOKUP(B1923,DKC_Price!A:H,3,FALSE),\"\")","v":""}]
[null,null,{"$f":"IFERROR(VLOOKUP(B1924,DKC_Price!A:H,2,FALSE),\"\")","v":""},null,null,null,{"$f":"IFERROR(VLOOKUP(B1924,DKC_Price!A:H,3,FALSE),\"\")","v":""}]
[null,null,{"$f":"IFERROR(VLOOKUP(B1925,DKC_Price!A:H,2,FALSE),\"\")","v":""},null,null,null,{"$f":"IFERROR(VLOOKUP(B1925,DKC_Price!A:H,3,FALSE),\"\")","v":""}]
[null,null,{"$f":"IFERROR(VLOOKUP(B1926,DKC_Price!A:H,2,FALSE),\"\")","v":""},null,null,null,{"$f":"IFERROR(VLOOKUP(B1926,DKC_Price!A:H,3,FALSE),\"\")","v":""}]
[null,null,{"$f":"IFERROR(VLOOKUP(B1927,DKC_Price!A:H,2,FALSE),\"\")","v":""},null,null,null,{"$f":"IFERROR(VLOOKUP(B1927,DKC_Price!A:H,3,FALSE),\"\")","v":""}]
[null,null,{"$f":"IFERROR(VLOOKUP(B1928,DKC_Price!A:H,2,FALSE),\"\")","v":""},null,null,null,{"$f":"IFERROR(VLOOKUP(B1928,DKC_Price!A:H,3,FALSE),\"\")","v":""}]
[null,null,{"$f":"IFERROR(VLOOKUP(B1929,DKC_Price!A:H,2,FALSE),\"\")","v":""},null,null,null,{"$f":"IFERROR(VLOOKUP(B1929,DKC_Price!A:H,3,FALSE),\"\")","v":""}]
[null,null,{"$f":"IFERROR(VLOOKUP(B1930,DKC_Price!A:H,2,FALSE),\"\")","v":""},null,null,null,{"$f":"IFERROR(VLOOKUP(B1930,DKC_Price!A:H,3,FALSE),\"\")","v":""}]
[null,null,{"$f":"IFERROR(VLOOKUP(B1931,DKC_Price!A:H,2,FALSE),\"\")","v":""},null,null,null,{"$f":"IFERROR(VLOOKUP(B1931,DKC_Price!A:H,3,FALSE),\"\")","v":""}]
[null,null,{"$f":"IFERROR(VLOOKUP(B1932,DKC_Price!A:H,2,FALSE),\"\")","v":""},null,null,null,{"$f":"IFERROR(VLOOKUP(B1932,DKC_Price!A:H,3,FALSE),\"\")","v":""}]
[null,null,{"$f":"IFERROR(VLOOKUP(B1933,DKC_Price!A:H,2,FALSE),\"\")","v":""},null,null,null,{"$f":"IFERROR(VLOOKUP(B1933,DKC_Price!A:H,3,FALSE),\"\")","v":""}]
[null,null,{"$f":"IFERROR(VLOOKUP(B1934,DKC_Price!A:H,2,FALSE),\"\")","v":""},null,null,null,{"$f":"IFERROR(VLOOKUP(B1934,DKC_Price!A:H,3,FALSE),\"\")","v":""}]
[null,null,{"$f":"IFERROR(VLOOKUP(B1935,DKC_Price!A:H,2,FALSE),\"\")","v":""},null,null,null,{"$f":"IFERROR(VLOOKUP(B1935,DKC_Price!A:H,3,FALSE),\"\")","v":""}]
[null,null,{"$f":"IFERROR(VLOOKUP(B1936,DKC_Price!A:H,2,FALSE),\"\")","v":""},null,null,null,{"$f":"IFERROR(VLOOKUP(B1936,DKC_Price!A:H,3,FALSE),\"\")","v":""}]
[null,null,{"$f":"IFERROR(VLOOKUP(B1937,DKC_Price!A:H,2,FALSE),\"\")","v":""},null,null,null,{"$f":"IFERROR(VLOOKUP(B1937,DKC_Price!A:H,3,FALSE),\"\")","v":""}]
[null,null,{"$f":"IFERROR(VLOOKUP(B1938,DKC_Price!A:H,2,FALSE),\"\")","v":""},null,null,null,{"$f":"IFERROR(VLOOKUP(B1938,DKC_Price!A:H,3,FALSE),\"\")","v":""}]
[null,null,{"$f":"IFERROR(VLOOKUP(B1939,DKC_Price!A:H,2,FALSE),\"\")","v":""},null,null,null,{"$f":"IFERROR(VLOOKUP(B1939,DKC_Price!A:H,3,FALSE),\"\")","v":""}]
[null,null,{"$f":"IFERROR(VLOOKUP(B1940,DKC_Price!A:H,2,FALSE),\"\")","v":""},null,null,null,{"$f":"IFERROR(VLOOKUP(B1940,DKC_Price!A:H,3,FALSE),\"\")","v":""}]
[null,null,{"$f":"IFERROR(VLOOKUP(B1941,DKC_Price!A:H,2,FALSE),\"\")","v":""},null,null,null,{"$f":"IFERROR(VLOOKUP(B1941,DKC_Price!A:H,3,FALSE),\"\")","v":""}]
[null,null,{"$f":"IFERROR(VLOOKUP(B1942,DKC_Price!A:H,2,FALSE),\"\")","v":""},null,null,null,{"$f":"IFERROR(VLOOKUP(B1942,DKC_Price!A:H,3,FALSE),\"\")","v":""}]
[null,null,{"$f":"IFERROR(VLOOKUP(B1943,DKC_Price!A:H,2,FALSE),\"\")","v":""},null,null,null,{"$f":"IFERROR(VLOOKUP(B1943,DKC_Price!A:H,3,FALSE),\"\")","v":""}]
[null,null,{"$f":"IFERROR(VLOOKUP(B1944,DKC_Price!A:H,2,FALSE),\"\")","v":""},null,null,null,{"$f":"IFERROR(VLOOKUP(B1944,DKC_Price!A:H,3,FALSE),\"\")","v":""}]
[null,null,{"$f":"IFERROR(VLOOKUP(B1945,DKC_Price!A:H,2,FALSE),\"\")","v":""},null,null,null,{"$f":"IFERROR(VLOOKUP(B1945,DKC_Price!A:H,3,FALSE),\"\")","v":""}]
[null,null,{"$f":"IFERROR(VLOOKUP(B1946,DKC_Price!A:H,2,FALSE),\"\")","v":""},null,null,null,{"$f":"IFERROR(VLOOKUP(B1946,DKC_Price!A:H,3,FALSE),\"\")","v":""}]
[null,null,{"$f":"IFERROR(VLOOKUP(B1947,DKC_Price!A:H,2,FALSE),\"\")","v":""},null,null,null,{"$f":"IFERROR(VLOOKUP(B1947,DKC_Price!A:H,3,FALSE),\"\")","v":""}]
[null,null,{"$f":"IFERROR(VLOOKUP(B1948,DKC_Price!A:H,2,FALSE),\"\")","v":""},null,null,null,{"$f":"IFERROR(VLOOKUP(B1948,DKC_Price!A:H,3,FALSE),\"\")","v":""}]
[null,null,{"$f":"IFERROR(VLOOKUP(B1949,DKC_Price!A:H,2,FALSE),\"\")","v":""},null,null,null,{"$f":"IFERROR(VLOOKUP(B1949,DKC_Price!A:H,3,FALSE),\"\")","v":""}]
[null,null,{"$f":"IFERROR(VLOOKUP(B1950,DKC_Price!A:H,2,FALSE),\"\")","v":""},null,null,null,{"$f":"IFERROR(VLOOKUP(B1950,DKC_Price!A:H,3,FALSE),\"\")","v":""}]
[null,null,{"$f":"IFERROR(VLOOKUP(B1951,DKC_Price!A:H,2,FALSE),\"\")","v":""},null,null,null,{"$f":"IFERROR(VLOOKUP(B1951,DKC_Price!A:H,3,FALSE),\"\")","v":""}]
[null,null,{"$f":"IFERROR(VLOOKUP(B1952,DKC_Price!A:H,2,FALSE),\"\")","v":""},null,null,null,{"$f":"IFERROR(VLOOKUP(B1952,DKC_Price!A:H,3,FALSE),\"\")","v":""}]
[null,null,{"$f":"IFERROR(VLOOKUP(B1953,DKC_Price!A:H,2,FALSE),\"\")","v":""},null,null,null,{"$f":"IFERROR(VLOOKUP(B1953,DKC_Price!A:H,3,FALSE),\"\")","v":""}]
[null,null,{"$f":"IFERROR(VLOOKUP(B1954,DKC_Price!A:H,2,FALSE),\"\")","v":""},null,null,null,{"$f":"IFERROR(VLOOKUP(B1954,DKC_Price!A:H,3,FALSE),\"\")","v":""}]
[null,null,{"$f":"IFERROR(VLOOKUP(B1955,DKC_Price!A:H,2,FALSE),\"\")","v":""},null,null,null,{"$f":"IFERROR(VLOOKUP(B1955,DKC_Price!A:H,3,FALSE),\"\")","v":""}]
[null,null,{"$f":"IFERROR(VLOOKUP(B1956,DKC_Price!A:H,2,FALSE),\"\")","v":""},null,null,null,{"$f":"IFERROR(VLOOKUP(B1956,DKC_Price!A:H,3,FALSE),\"\")","v":""}]
[null,null,{"$f":"IFERROR(VLOOKUP(B1957,DKC_Price!A:H,2,FALSE),\"\")","v":""},null,null,null,{"$f":"IFERROR(VLOOKUP(B1957,DKC_Price!A:H,3,FALSE),\"\")","v":""}]
[null,null,{"$f":"IFERROR(VLOOKUP(B1958,DKC_Price!A:H,2,FALSE),\"\")","v":""},null,null,null,{"$f":"IFERROR(VLOOKUP(B1958,DKC_Price!A:H,3,FALSE),\"\")","v":""}]
[null,null,{"$f":"IFERROR(VLOOKUP(B1959,DKC_Price!A:H,2,FALSE),\"\")","v":""},null,null,null,{"$f":"IFERROR(VLOOKUP(B1959,DKC_Price!A:H,3,FALSE),\"\")","v":""}]
[null,null,{"$f":"IFERROR(VLOOKUP(B1960,DKC_Price!A:H,2,FALSE),\"\")","v":""},null,null,null,{"$f":"IFERROR(VLOOKUP(B1960,DKC_Price!A:H,3,FALSE),\"\")","v":""}]
[null,null,{"$f":"IFERROR(VLOOKUP(B1961,DKC_Price!A:H,2,FALSE),\"\")","v":""},null,null,null,{"$f":"IFERROR(VLOOKUP(B1961,DKC_Price!A:H,3,FALSE),\"\")","v":""}]
[null,null,{"$f":"IFERROR(VLOOKUP(B1962,DKC_Price!A:H,2,FALSE),\"\")","v":""},null,null,null,{"$f":"IFERROR(VLOOKUP(B1962,DKC_Price!A:H,3,FALSE),\"\")","v":""}]
[null,null,{"$f":"IFERROR(VLOOKUP(B1963,DKC_Price!A:H,2,FALSE),\"\")","v":""},null,null,null,{"$f":"IFERROR(VLOOKUP(B1963,DKC_Price!A:H,3,FALSE),\"\")","v":""}]
[null,null,{"$f":"IFERROR(VLOOKUP(B1964,DKC_Price!A:H,2,FALSE),\"\")","v":""},null,null,null,{"$f":"IFERROR(VLOOKUP(B1964,DKC_Price!A:H,3,FALSE),\"\")","v":""}]
[null,null,{"$f":"IFERROR(VLOOKUP(B1965,DKC_Price!A:H,2,FALSE),\"\")","v":""},null,null,null,{"$f":"IFERROR(VLOOKUP(B1965,DKC_Price!A:H,3,FALSE),\"\")","v":""}]
[null,null,{"$f":"IFERROR(VLOOKUP(B1966,DKC_Price!A:H,2,FALSE),\"\")","v":""},null,null,null,{"$f":"IFERROR(VLOOKUP(B1966,DKC_Price!A:H,3,FALSE),\"\")","v":""}]
[null,null,{"$f":"IFERROR(VLOOKUP(B1967,DKC_Price!A:H,2,FALSE),\"\")","v":""},null,null,null,{"$f":"IFERROR(VLOOKUP(B1967,DKC_Price!A:H,3,FALSE),\"\")","v":""}]
[null,null,{"$f":"IFERROR(VLOOKUP(B1968,DKC_Price!A:H,2,FALSE),\"\")","v":""},null,null,null,{"$f":"IFERROR(VLOOKUP(B1968,DKC_Price!A:H,3,FALSE),\"\")","v":""}]
[null,null,{"$f":"IFERROR(VLOOKUP(B1969,DKC_Price!A:H,2,FALSE),\"\")","v":""},null,null,null,{"$f":"IFERROR(VLOOKUP(B1969,DKC_Price!A:H,3,FALSE),\"\")","v":""}]
[null,null,{"$f":"IFERROR(VLOOKUP(B1970,DKC_Price!A:H,2,FALSE),\"\")","v":""},null,null,null,{"$f":"IFERROR(VLOOKUP(B1970,DKC_Price!A:H,3,FALSE),\"\")","v":""}]
[null,null,{"$f":"IFERROR(VLOOKUP(B1971,DKC_Price!A:H,2,FALSE),\"\")","v":""},null,null,null,{"$f":"IFERROR(VLOOKUP(B1971,DKC_Price!A:H,3,FALSE),\"\")","v":""}]
[null,null,{"$f":"IFERROR(VLOOKUP(B1972,DKC_Price!A:H,2,FALSE),\"\")","v":""},null,null,null,{"$f":"IFERROR(VLOOKUP(B1972,DKC_Price!A:H,3,FALSE),\"\")","v":""}]
[null,null,{"$f":"IFERROR(VLOOKUP(B1973,DKC_Price!A:H,2,FALSE),\"\")","v":""},null,null,null,{"$f":"IFERROR(VLOOKUP(B1973,DKC_Price!A:H,3,FALSE),\"\")","v":""}]
[null,null,{"$f":"IFERROR(VLOOKUP(B1974,DKC_Price!A:H,2,FALSE),\"\")","v":""},null,null,null,{"$f":"IFERROR(VLOOKUP(B1974,DKC_Price!A:H,3,FALSE),\"\")","v":""}]
[null,null,{"$f":"IFERROR(VLOOKUP(B1975,DKC_Price!A:H,2,FALSE),\"\")","v":""},null,null,null,{"$f":"IFERROR(VLOOKUP(B1975,DKC_Price!A:H,3,FALSE),\"\")","v":""}]
[null,null,{"$f":"IFERROR(VLOOKUP(B1976,DKC_Price!A:H,2,FALSE),\"\")","v":""},null,null,null,{"$f":"IFERROR(VLOOKUP(B1976,DKC_Price!A:H,3,FALSE),\"\")","v":""}]
[null,null,{"$f":"IFERROR(VLOOKUP(B1977,DKC_Price!A:H,2,FALSE),\"\")","v":""},null,null,null,{"$f":"IFERROR(VLOOKUP(B1977,DKC_Price!A:H,3,FALSE),\"\")","v":""}]
[null,null,{"$f":"IFERROR(VLOOKUP(B1978,DKC_Price!A:H,2,FALSE),\"\")","v":""},null,null,null,{"$f":"IFERROR(VLOOKUP(B1978,DKC_Price!A:H,3,FALSE),\"\")","v":""}]
[null,null,{"$f":"IFERROR(VLOOKUP(B1979,DKC_Price!A:H,2,FALSE),\"\")","v":""},null,null,null,{"$f":"IFERROR(VLOOKUP(B1979,DKC_Price!A:H,3,FALSE),\"\")","v":""}]
[null,null,{"$f":"IFERROR(VLOOKUP(B1980,DKC_Price!A:H,2,FALSE),\"\")","v":""},null,null,null,{"$f":"IFERROR(VLOOKUP(B1980,DKC_Price!A:H,3,FALSE),\"\")","v":""}]
[null,null,{"$f":"IFERROR(VLOOKUP(B1981,DKC_Price!A:H,2,FALSE),\"\")","v":""},null,null,null,{"$f":"IFERROR(VLOOKUP(B1981,DKC_Price!A:H,3,FALSE),\"\")","v":""}]
[null,null,{"$f":"IFERROR(VLOOKUP(B1982,DKC_Price!A:H,2,FALSE),\"\")","v":""},null,null,null,{"$f":"IFERROR(VLOOKUP(B1982,DKC_Price!A:H,3,FALSE),\"\")","v":""}]
[null,null,{"$f":"IFERROR(VLOOKUP(B1983,DKC_Price!A:H,2,FALSE),\"\")","v":""},null,null,null,{"$f":"IFERROR(VLOOKUP(B1983,DKC_Price!A:H,3,FALSE),\"\")","v":""}]
[null,null,{"$f":"IFERROR(VLOOKUP(B1984,DKC_Price!A:H,2,FALSE),\"\")","v":""},null,null,null,{"$f":"IFERROR(VLOOKUP(B1984,DKC_Price!A:H,3,FALSE),\"\")","v":""}]
[null,null,{"$f":"IFERROR(VLOOKUP(B1985,DKC_Price!A:H,2,FALSE),\"\")","v":""},null,null,null,{"$f":"IFERROR(VLOOKUP(B1985,DKC_Price!A:H,3,FALSE),\"\")","v":""}]
[null,null,{"$f":"IFERROR(VLOOKUP(B1986,DKC_Price!A:H,2,FALSE),\"\")","v":""},null,null,null,{"$f":"IFERROR(VLOOKUP(B1986,DKC_Price!A:H,3,FALSE),\"\")","v":""}]
[null,null,{"$f":"IFERROR(VLOOKUP(B1987,DKC_Price!A:H,2,FALSE),\"\")","v":""},null,null,null,{"$f":"IFERROR(VLOOKUP(B1987,DKC_Price!A:H,3,FALSE),\"\")","v":""}]
[null,null,{"$f":"IFERROR(VLOOKUP(B1988,DKC_Price!A:H,2,FALSE),\"\")","v":""},null,null,null,{"$f":"IFERROR(VLOOKUP(B1988,DKC_Price!A:H,3,FALSE),\"\")","v":""}]
[null,null,{"$f":"IFERROR(VLOOKUP(B1989,DKC_Price!A:H,2,FALSE),\"\")","v":""},null,null,null,{"$f":"IFERROR(VLOOKUP(B1989,DKC_Price!A:H,3,FALSE),\"\")","v":""}]
[null,null,{"$f":"IFERROR(VLOOKUP(B1990,DKC_Price!A:H,2,FALSE),\"\")","v":""},null,null,null,{"$f":"IFERROR(VLOOKUP(B1990,DKC_Price!A:H,3,FALSE),\"\")","v":""}]
[null,null,{"$f":"IFERROR(VLOOKUP(B1991,DKC_Price!A:H,2,FALSE),\"\")","v":""},null,null,null,{"$f":"IFERROR(VLOOKUP(B1991,DKC_Price!A:H,3,FALSE),\"\")","v":""}]
[null,null,{"$f":"IFERROR(VLOOKUP(B1992,DKC_Price!A:H,2,FALSE),\"\")","v":""},null,null,null,{"$f":"IFERROR(VLOOKUP(B1992,DKC_Price!A:H,3,FALSE),\"\")","v":""}]
[null,null,{"$f":"IFERROR(VLOOKUP(B1993,DKC_Price!A:H,2,FALSE),\"\")","v":""},null,null,null,{"$f":"IFERROR(VLOOKUP(B1993,DKC_Price!A:H,3,FALSE),\"\")","v":""}]
[null,null,{"$f":"IFERROR(VLOOKUP(B1994,DKC_Price!A:H,2,FALSE),\"\")","v":""},null,null,null,{"$f":"IFERROR(VLOOKUP(B1994,DKC_Price!A:H,3,FALSE),\"\")","v":""}]
[null,null,{"$f":"IFERROR(VLOOKUP(B1995,DKC_Price!A:H,2,FALSE),\"\")","v":""},null,null,null,{"$f":"IFERROR(VLOOKUP(B1995,DKC_Price!A:H,3,FALSE),\"\")","v":""}]
[null,null,{"$f":"IFERROR(VLOOKUP(B1996,DKC_Price!A:H,2,FALSE),\"\")","v":""},null,null,null,{"$f":"IFERROR(VLOOKUP(B1996,DKC_Price!A:H,3,FALSE),\"\")","v":""}]
[null,null,{"$f":"IFERROR(VLOOKUP(B1997,DKC_Price!A:H,2,FALSE),\"\")","v":""},null,null,null,{"$f":"IFERROR(VLOOKUP(B1997,DKC_Price!A:H,3,FALSE),\"\")","v":""}]
[null,null,{"$f":"IFERROR(VLOOKUP(B1998,DKC_Price!A:H,2,FALSE),\"\")","v":""},null,null,null,{"$f":"IFERROR(VLOOKUP(B1998,DKC_Price!A:H,3,FALSE),\"\")","v":""}]
[null,null,{"$f":"IFERROR(VLOOKUP(B1999,DKC_Price!A:H,2,FALSE),\"\")","v":""},null,null,null,{"$f":"IFERROR(VLOOKUP(B1999,DKC_Price!A:H,3,FALSE),\"\")","v":""}]
[null,null,{"$f":"IFERROR(VLOOKUP(B2000,DKC_Price!A:H,2,FALSE),\"\")","v":""},null,null,null,{"$f":"IFERROR(VLOOKUP(B2000,DKC_Price!A:H,3,FALSE),\"\")","v":""}]
[null,null,{"$f":"IFERROR(VLOOKUP(B2001,DKC_Price!A:H,2,FALSE),\"\")","v":""},null,null,null,{"$f":"IFERROR(VLOOKUP(B2001,DKC_Price!A:H,3,FALSE),\"\")","v":""}]
[null,null,{"$f":"IFERROR(VLOOKUP(B2002,DKC_Price!A:H,2,FALSE),\"\")","v":""},null,null,null,{"$f":"IFERROR(VLOOKUP(B2002,DKC_Price!A:H,3,FALSE),\"\")","v":""}]
[null,null,{"$f":"IFERROR(VLOOKUP(B2003,DKC_Price!A:H,2,FALSE),\"\")","v":""},null,null,null,{"$f":"IFERROR(VLOOKUP(B2003,DKC_Price!A:H,3,FALSE),\"\")","v":""}]
[null,null,{"$f":"IFERROR(VLOOKUP(B2004,DKC_Price!A:H,2,FALSE),\"\")","v":""},null,null,null,{"$f":"IFERROR(VLOOKUP(B2004,DKC_Price!A:H,3,FALSE),\"\")","v":""}]
[null,null,{"$f":"IFERROR(VLOOKUP(B2005,DKC_Price!A:H,2,FALSE),\"\")","v":""},null,null,null,{"$f":"IFERROR(VLOOKUP(B2005,DKC_Price!A:H,3,FALSE),\"\")","v":""}]
[null,null,{"$f":"IFERROR(VLOOKUP(B2006,DKC_Price!A:H,2,FALSE),\"\")","v":""},null,null,null,{"$f":"IFERROR(VLOOKUP(B2006,DKC_Price!A:H,3,FALSE),\"\")","v":""}]
[null,null,{"$f":"IFERROR(VLOOKUP(B2007,DKC_Price!A:H,2,FALSE),\"\")","v":""},null,null,null,{"$f":"IFERROR(VLOOKUP(B2007,DKC_Price!A:H,3,FALSE),\"\")","v":""}]
[null,null,{"$f":"IFERROR(VLOOKUP(B2008,DKC_Price!A:H,2,FALSE),\"\")","v":""},null,null,null,{"$f":"IFERROR(VLOOKUP(B2008,DKC_Price!A:H,3,FALSE),\"\")","v":""}]
[null,null,{"$f":"IFERROR(VLOOKUP(B2009,DKC_Price!A:H,2,FALSE),\"\")","v":""},null,null,null,{"$f":"IFERROR(VLOOKUP(B2009,DKC_Price!A:H,3,FALSE),\"\")","v":""}]
[null,null,{"$f":"IFERROR(VLOOKUP(B2010,DKC_Price!A:H,2,FALSE),\"\")","v":""},null,null,null,{"$f":"IFERROR(VLOOKUP(B2010,DKC_Price!A:H,3,FALSE),\"\")","v":""}]
[null,null,{"$f":"IFERROR(VLOOKUP(B2011,DKC_Price!A:H,2,FALSE),\"\")","v":""},null,null,null,{"$f":"IFERROR(VLOOKUP(B2011,DKC_Price!A:H,3,FALSE),\"\")","v":""}]
[null,null,{"$f":"IFERROR(VLOOKUP(B2012,DKC_Price!A:H,2,FALSE),\"\")","v":""},null,null,null,{"$f":"IFERROR(VLOOKUP(B2012,DKC_Price!A:H,3,FALSE),\"\")","v":""}]
[null,null,{"$f":"IFERROR(VLOOKUP(B2013,DKC_Price!A:H,2,FALSE),\"\")","v":""},null,null,null,{"$f":"IFERROR(VLOOKUP(B2013,DKC_Price!A:H,3,FALSE),\"\")","v":""}]
[null,null,{"$f":"IFERROR(VLOOKUP(B2014,DKC_Price!A:H,2,FALSE),\"\")","v":""},null,null,null,{"$f":"IFERROR(VLOOKUP(B2014,DKC_Price!A:H,3,FALSE),\"\")","v":""}]
[null,null,{"$f":"IFERROR(VLOOKUP(B2015,DKC_Price!A:H,2,FALSE),\"\")","v":""},null,null,null,{"$f":"IFERROR(VLOOKUP(B2015,DKC_Price!A:H,3,FALSE),\"\")","v":""}]
[null,null,{"$f":"IFERROR(VLOOKUP(B2016,DKC_Price!A:H,2,FALSE),\"\")","v":""},null,null,null,{"$f":"IFERROR(VLOOKUP(B2016,DKC_Price!A:H,3,FALSE),\"\")","v":""}]
[null,null,{"$f":"IFERROR(VLOOKUP(B2017,DKC_Price!A:H,2,FALSE),\"\")","v":""},null,null,null,{"$f":"IFERROR(VLOOKUP(B2017,DKC_Price!A:H,3,FALSE),\"\")","v":""}]
[null,null,{"$f":"IFERROR(VLOOKUP(B2018,DKC_Price!A:H,2,FALSE),\"\")","v":""},null,null,null,{"$f":"IFERROR(VLOOKUP(B2018,DKC_Price!A:H,3,FALSE),\"\")","v":""}]
[null,null,{"$f":"IFERROR(VLOOKUP(B2019,DKC_Price!A:H,2,FALSE),\"\")","v":""},null,null,null,{"$f":"IFERROR(VLOOKUP(B2019,DKC_Price!A:H,3,FALSE),\"\")","v":""}]
[null,null,{"$f":"IFERROR(VLOOKUP(B2020,DKC_Price!A:H,2,FALSE),\"\")","v":""},null,null,null,{"$f":"IFERROR(VLOOKUP(B2020,DKC_Price!A:H,3,FALSE),\"\")","v":""}]
[null,null,{"$f":"IFERROR(VLOOKUP(B2021,DKC_Price!A:H,2,FALSE),\"\")","v":""},null,null,null,{"$f":"IFERROR(VLOOKUP(B2021,DKC_Price!A:H,3,FALSE),\"\")","v":""}]
[null,null,{"$f":"IFERROR(VLOOKUP(B2022,DKC_Price!A:H,2,FALSE),\"\")","v":""},null,null,null,{"$f":"IFERROR(VLOOKUP(B2022,DKC_Price!A:H,3,FALSE),\"\")","v":""}]
[null,null,{"$f":"IFERROR(VLOOKUP(B2023,DKC_Price!A:H,2,FALSE),\"\")","v":""},null,null,null,{"$f":"IFERROR(VLOOKUP(B2023,DKC_Price!A:H,3,FALSE),\"\")","v":""}]
[null,null,{"$f":"IFERROR(VLOOKUP(B2024,DKC_Price!A:H,2,FALSE),\"\")","v":""},null,null,null,{"$f":"IFERROR(VLOOKUP(B2024,DKC_Price!A:H,3,FALSE),\"\")","v":""}]
[null,null,{"$f":"IFERROR(VLOOKUP(B2025,DKC_Price!A:H,2,FALSE),\"\")","v":""},null,null,null,{"$f":"IFERROR(VLOOKUP(B2025,DKC_Price!A:H,3,FALSE),\"\")","v":""}]
[null,null,{"$f":"IFERROR(VLOOKUP(B2026,DKC_Price!A:H,2,FALSE),\"\")","v":""},null,null,null,{"$f":"IFERROR(VLOOKUP(B2026,DKC_Price!A:H,3,FALSE),\"\")","v":""}]
[null,null,{"$f":"IFERROR(VLOOKUP(B2027,DKC_Price!A:H,2,FALSE),\"\")","v":""},null,null,null,{"$f":"IFERROR(VLOOKUP(B2027,DKC_Price!A:H,3,FALSE),\"\")","v":""}]
[null,null,{"$f":"IFERROR(VLOOKUP(B2028,DKC_Price!A:H,2,FALSE),\"\")","v":""},null,null,null,{"$f":"IFERROR(VLOOKUP(B2028,DKC_Price!A:H,3,FALSE),\"\")","v":""}]
[null,null,{"$f":"IFERROR(VLOOKUP(B2029,DKC_Price!A:H,2,FALSE),\"\")","v":""},null,null,null,{"$f":"IFERROR(VLOOKUP(B2029,DKC_Price!A:H,3,FALSE),\"\")","v":""}]
[null,null,{"$f":"IFERROR(VLOOKUP(B2030,DKC_Price!A:H,2,FALSE),\"\")","v":""},null,null,null,{"$f":"IFERROR(VLOOKUP(B2030,DKC_Price!A:H,3,FALSE),\"\")","v":""}]
[null,null,{"$f":"IFERROR(VLOOKUP(B2031,DKC_Price!A:H,2,FALSE),\"\")","v":""},null,null,null,{"$f":"IFERROR(VLOOKUP(B2031,DKC_Price!A:H,3,FALSE),\"\")","v":""}]
[null,null,{"$f":"IFERROR(VLOOKUP(B2032,DKC_Price!A:H,2,FALSE),\"\")","v":""},null,null,null,{"$f":"IFERROR(VLOOKUP(B2032,DKC_Price!A:H,3,FALSE),\"\")","v":""}]
[null,null,{"$f":"IFERROR(VLOOKUP(B2033,DKC_Price!A:H,2,FALSE),\"\")","v":""},null,null,null,{"$f":"IFERROR(VLOOKUP(B2033,DKC_Price!A:H,3,FALSE),\"\")","v":""}]
[null,null,{"$f":"IFERROR(VLOOKUP(B2034,DKC_Price!A:H,2,FALSE),\"\")","v":""},null,null,null,{"$f":"IFERROR(VLOOKUP(B2034,DKC_Price!A:H,3,FALSE),\"\")","v":""}]
[null,null,{"$f":"IFERROR(VLOOKUP(B2035,DKC_Price!A:H,2,FALSE),\"\")","v":""},null,null,null,{"$f":"IFERROR(VLOOKUP(B2035,DKC_Price!A:H,3,FALSE),\"\")","v":""}]
[null,null,{"$f":"IFERROR(VLOOKUP(B2036,DKC_Price!A:H,2,FALSE),\"\")","v":""},null,null,null,{"$f":"IFERROR(VLOOKUP(B2036,DKC_Price!A:H,3,FALSE),\"\")","v":""}]
[null,null,{"$f":"IFERROR(VLOOKUP(B2037,DKC_Price!A:H,2,FALSE),\"\")","v":""},null,null,null,{"$f":"IFERROR(VLOOKUP(B2037,DKC_Price!A:H,3,FALSE),\"\")","v":""}]
[null,null,{"$f":"IFERROR(VLOOKUP(B2038,DKC_Price!A:H,2,FALSE),\"\")","v":""},null,null,null,{"$f":"IFERROR(VLOOKUP(B2038,DKC_Price!A:H,3,FALSE),\"\")","v":""}]
[null,null,{"$f":"IFERROR(VLOOKUP(B2039,DKC_Price!A:H,2,FALSE),\"\")","v":""},null,null,null,{"$f":"IFERROR(VLOOKUP(B2039,DKC_Price!A:H,3,FALSE),\"\")","v":""}]
[null,null,{"$f":"IFERROR(VLOOKUP(B2040,DKC_Price!A:H,2,FALSE),\"\")","v":""},null,null,null,{"$f":"IFERROR(VLOOKUP(B2040,DKC_Price!A:H,3,FALSE),\"\")","v":""}]
[null,null,{"$f":"IFERROR(VLOOKUP(B2041,DKC_Price!A:H,2,FALSE),\"\")","v":""},null,null,null,{"$f":"IFERROR(VLOOKUP(B2041,DKC_Price!A:H,3,FALSE),\"\")","v":""}]
[null,null,{"$f":"IFERROR(VLOOKUP(B2042,DKC_Price!A:H,2,FALSE),\"\")","v":""},null,null,null,{"$f":"IFERROR(VLOOKUP(B2042,DKC_Price!A:H,3,FALSE),\"\")","v":""}]
[null,null,{"$f":"IFERROR(VLOOKUP(B2043,DKC_Price!A:H,2,FALSE),\"\")","v":""},null,null,null,{"$f":"IFERROR(VLOOKUP(B2043,DKC_Price!A:H,3,FALSE),\"\")","v":""}]
[null,null,{"$f":"IFERROR(VLOOKUP(B2044,DKC_Price!A:H,2,FALSE),\"\")","v":""},null,null,null,{"$f":"IFERROR(VLOOKUP(B2044,DKC_Price!A:H,3,FALSE),\"\")","v":""}]
[null,null,{"$f":"IFERROR(VLOOKUP(B2045,DKC_Price!A:H,2,FALSE),\"\")","v":""},null,null,null,{"$f":"IFERROR(VLOOKUP(B2045,DKC_Price!A:H,3,FALSE),\"\")","v":""}]
[null,null,{"$f":"IFERROR(VLOOKUP(B2046,DKC_Price!A:H,2,FALSE),\"\")","v":""},null,null,null,{"$f":"IFERROR(VLOOKUP(B2046,DKC_Price!A:H,3,FALSE),\"\")","v":""}]
[null,null,{"$f":"IFERROR(VLOOKUP(B2047,DKC_Price!A:H,2,FALSE),\"\")","v":""},null,null,null,{"$f":"IFERROR(VLOOKUP(B2047,DKC_Price!A:H,3,FALSE),\"\")","v":""}]
[null,null,{"$f":"IFERROR(VLOOKUP(B2048,DKC_Price!A:H,2,FALSE),\"\")","v":""},null,null,null,{"$f":"IFERROR(VLOOKUP(B2048,DKC_Price!A:H,3,FALSE),\"\")","v":""}]
[null,null,{"$f":"IFERROR(VLOOKUP(B2049,DKC_Price!A:H,2,FALSE),\"\")","v":""},null,null,null,{"$f":"IFERROR(VLOOKUP(B2049,DKC_Price!A:H,3,FALSE),\"\")","v":""}]
[null,null,{"$f":"IFERROR(VLOOKUP(B2050,DKC_Price!A:H,2,FALSE),\"\")","v":""},null,null,null,{"$f":"IFERROR(VLOOKUP(B2050,DKC_Price!A:H,3,FALSE),\"\")","v":""}]
[null,null,{"$f":"IFERROR(VLOOKUP(B2051,DKC_Price!A:H,2,FALSE),\"\")","v":""},null,null,null,{"$f":"IFERROR(VLOOKUP(B2051,DKC_Price!A:H,3,FALSE),\"\")","v":""}]
[null,null,{"$f":"IFERROR(VLOOKUP(B2052,DKC_Price!A:H,2,FALSE),\"\")","v":""},null,null,null,{"$f":"IFERROR(VLOOKUP(B2052,DKC_Price!A:H,3,FALSE),\"\")","v":""}]
[null,null,{"$f":"IFERROR(VLOOKUP(B2053,DKC_Price!A:H,2,FALSE),\"\")","v":""},null,null,null,{"$f":"IFERROR(VLOOKUP(B2053,DKC_Price!A:H,3,FALSE),\"\")","v":""}]
[null,null,{"$f":"IFERROR(VLOOKUP(B2054,DKC_Price!A:H,2,FALSE),\"\")","v":""},null,null,null,{"$f":"IFERROR(VLOOKUP(B2054,DKC_Price!A:H,3,FALSE),\"\")","v":""}]
[null,null,{"$f":"IFERROR(VLOOKUP(B2055,DKC_Price!A:H,2,FALSE),\"\")","v":""},null,null,null,{"$f":"IFERROR(VLOOKUP(B2055,DKC_Price!A:H,3,FALSE),\"\")","v":""}]
[null,null,{"$f":"IFERROR(VLOOKUP(B2056,DKC_Price!A:H,2,FALSE),\"\")","v":""},null,null,null,{"$f":"IFERROR(VLOOKUP(B2056,DKC_Price!A:H,3,FALSE),\"\")","v":""}]
[null,null,{"$f":"IFERROR(VLOOKUP(B2057,DKC_Price!A:H,2,FALSE),\"\")","v":""},null,null,null,{"$f":"IFERROR(VLOOKUP(B2057,DKC_Price!A:H,3,FALSE),\"\")","v":""}]
[null,null,{"$f":"IFERROR(VLOOKUP(B2058,DKC_Price!A:H,2,FALSE),\"\")","v":""},null,null,null,{"$f":"IFERROR(VLOOKUP(B2058,DKC_Price!A:H,3,FALSE),\"\")","v":""}]
[null,null,{"$f":"IFERROR(VLOOKUP(B2059,DKC_Price!A:H,2,FALSE),\"\")","v":""},null,null,null,{"$f":"IFERROR(VLOOKUP(B2059,DKC_Price!A:H,3,FALSE),\"\")","v":""}]
[null,null,{"$f":"IFERROR(VLOOKUP(B2060,DKC_Price!A:H,2,FALSE),\"\")","v":""},null,null,null,{"$f":"IFERROR(VLOOKUP(B2060,DKC_Price!A:H,3,FALSE),\"\")","v":""}]
[null,null,{"$f":"IFERROR(VLOOKUP(B2061,DKC_Price!A:H,2,FALSE),\"\")","v":""},null,null,null,{"$f":"IFERROR(VLOOKUP(B2061,DKC_Price!A:H,3,FALSE),\"\")","v":""}]
[null,null,{"$f":"IFERROR(VLOOKUP(B2062,DKC_Price!A:H,2,FALSE),\"\")","v":""},null,null,null,{"$f":"IFERROR(VLOOKUP(B2062,DKC_Price!A:H,3,FALSE),\"\")","v":""}]
[null,null,{"$f":"IFERROR(VLOOKUP(B2063,DKC_Price!A:H,2,FALSE),\"\")","v":""},null,null,null,{"$f":"IFERROR(VLOOKUP(B2063,DKC_Price!A:H,3,FALSE),\"\")","v":""}]
[null,null,{"$f":"IFERROR(VLOOKUP(B2064,DKC_Price!A:H,2,FALSE),\"\")","v":""},null,null,null,{"$f":"IFERROR(VLOOKUP(B2064,DKC_Price!A:H,3,FALSE),\"\")","v":""}]
[null,null,{"$f":"IFERROR(VLOOKUP(B2065,DKC_Price!A:H,2,FALSE),\"\")","v":""},null,null,null,{"$f":"IFERROR(VLOOKUP(B2065,DKC_Price!A:H,3,FALSE),\"\")","v":""}]
[null,null,{"$f":"IFERROR(VLOOKUP(B2066,DKC_Price!A:H,2,FALSE),\"\")","v":""},null,null,null,{"$f":"IFERROR(VLOOKUP(B2066,DKC_Price!A:H,3,FALSE),\"\")","v":""}]
[null,null,{"$f":"IFERROR(VLOOKUP(B2067,DKC_Price!A:H,2,FALSE),\"\")","v":""},null,null,null,{"$f":"IFERROR(VLOOKUP(B2067,DKC_Price!A:H,3,FALSE),\"\")","v":""}]
[null,null,{"$f":"IFERROR(VLOOKUP(B2068,DKC_Price!A:H,2,FALSE),\"\")","v":""},null,null,null,{"$f":"IFERROR(VLOOKUP(B2068,DKC_Price!A:H,3,FALSE),\"\")","v":""}]
[null,null,{"$f":"IFERROR(VLOOKUP(B2069,DKC_Price!A:H,2,FALSE),\"\")","v":""},null,null,null,{"$f":"IFERROR(VLOOKUP(B2069,DKC_Price!A:H,3,FALSE),\"\")","v":""}]
[null,null,{"$f":"IFERROR(VLOOKUP(B2070,DKC_Price!A:H,2,FALSE),\"\")","v":""},null,null,null,{"$f":"IFERROR(VLOOKUP(B2070,DKC_Price!A:H,3,FALSE),\"\")","v":""}]
[null,null,{"$f":"IFERROR(VLOOKUP(B2071,DKC_Price!A:H,2,FALSE),\"\")","v":""},null,null,null,{"$f":"IFERROR(VLOOKUP(B2071,DKC_Price!A:H,3,FALSE),\"\")","v":""}]
[null,null,{"$f":"IFERROR(VLOOKUP(B2072,DKC_Price!A:H,2,FALSE),\"\")","v":""},null,null,null,{"$f":"IFERROR(VLOOKUP(B2072,DKC_Price!A:H,3,FALSE),\"\")","v":""}]
[null,null,{"$f":"IFERROR(VLOOKUP(B2073,DKC_Price!A:H,2,FALSE),\"\")","v":""},null,null,null,{"$f":"IFERROR(VLOOKUP(B2073,DKC_Price!A:H,3,FALSE),\"\")","v":""}]
[null,null,{"$f":"IFERROR(VLOOKUP(B2074,DKC_Price!A:H,2,FALSE),\"\")","v":""},null,null,null,{"$f":"IFERROR(VLOOKUP(B2074,DKC_Price!A:H,3,FALSE),\"\")","v":""}]
[null,null,{"$f":"IFERROR(VLOOKUP(B2075,DKC_Price!A:H,2,FALSE),\"\")","v":""},null,null,null,{"$f":"IFERROR(VLOOKUP(B2075,DKC_Price!A:H,3,FALSE),\"\")","v":""}]
[null,null,{"$f":"IFERROR(VLOOKUP(B2076,DKC_Price!A:H,2,FALSE),\"\")","v":""},null,null,null,{"$f":"IFERROR(VLOOKUP(B2076,DKC_Price!A:H,3,FALSE),\"\")","v":""}]
[null,null,{"$f":"IFERROR(VLOOKUP(B2077,DKC_Price!A:H,2,FALSE),\"\")","v":""},null,null,null,{"$f":"IFERROR(VLOOKUP(B2077,DKC_Price!A:H,3,FALSE),\"\")","v":""}]
[null,null,{"$f":"IFERROR(VLOOKUP(B2078,DKC_Price!A:H,2,FALSE),\"\")","v":""},null,null,null,{"$f":"IFERROR(VLOOKUP(B2078,DKC_Price!A:H,3,FALSE),\"\")","v":""}]
[null,null,{"$f":"IFERROR(VLOOKUP(B2079,DKC_Price!A:H,2,FALSE),\"\")","v":""},null,null,null,{"$f":"IFERROR(VLOOKUP(B2079,DKC_Price!A:H,3,FALSE),\"\")","v":""}]
[null,null,{"$f":"IFERROR(VLOOKUP(B2080,DKC_Price!A:H,2,FALSE),\"\")","v":""},null,null,null,{"$f":"IFERROR(VLOOKUP(B2080,DKC_Price!A:H,3,FALSE),\"\")","v":""}]
[null,null,{"$f":"IFERROR(VLOOKUP(B2081,DKC_Price!A:H,2,FALSE),\"\")","v":""},null,null,null,{"$f":"IFERROR(VLOOKUP(B2081,DKC_Price!A:H,3,FALSE),\"\")","v":""}]
[null,null,{"$f":"IFERROR(VLOOKUP(B2082,DKC_Price!A:H,2,FALSE),\"\")","v":""},null,null,null,{"$f":"IFERROR(VLOOKUP(B2082,DKC_Price!A:H,3,FALSE),\"\")","v":""}]
[null,null,{"$f":"IFERROR(VLOOKUP(B2083,DKC_Price!A:H,2,FALSE),\"\")","v":""},null,null,null,{"$f":"IFERROR(VLOOKUP(B2083,DKC_Price!A:H,3,FALSE),\"\")","v":""}]
[null,null,{"$f":"IFERROR(VLOOKUP(B2084,DKC_Price!A:H,2,FALSE),\"\")","v":""},null,null,null,{"$f":"IFERROR(VLOOKUP(B2084,DKC_Price!A:H,3,FALSE),\"\")","v":""}]
[null,null,{"$f":"IFERROR(VLOOKUP(B2085,DKC_Price!A:H,2,FALSE),\"\")","v":""},null,null,null,{"$f":"IFERROR(VLOOKUP(B2085,DKC_Price!A:H,3,FALSE),\"\")","v":""}]
[null,null,{"$f":"IFERROR(VLOOKUP(B2086,DKC_Price!A:H,2,FALSE),\"\")","v":""},null,null,null,{"$f":"IFERROR(VLOOKUP(B2086,DKC_Price!A:H,3,FALSE),\"\")","v":""}]
[null,null,{"$f":"IFERROR(VLOOKUP(B2087,DKC_Price!A:H,2,FALSE),\"\")","v":""},null,null,null,{"$f":"IFERROR(VLOOKUP(B2087,DKC_Price!A:H,3,FALSE),\"\")","v":""}]
[null,null,{"$f":"IFERROR(VLOOKUP(B2088,DKC_Price!A:H,2,FALSE),\"\")","v":""},null,null,null,{"$f":"IFERROR(VLOOKUP(B2088,DKC_Price!A:H,3,FALSE),\"\")","v":""}]
[null,null,{"$f":"IFERROR(VLOOKUP(B2089,DKC_Price!A:H,2,FALSE),\"\")","v":""},null,null,null,{"$f":"IFERROR(VLOOKUP(B2089,DKC_Price!A:H,3,FALSE),\"\")","v":""}]
[null,null,{"$f":"IFERROR(VLOOKUP(B2090,DKC_Price!A:H,2,FALSE),\"\")","v":""},null,null,null,{"$f":"IFERROR(VLOOKUP(B2090,DKC_Price!A:H,3,FALSE),\"\")","v":""}]
[null,null,{"$f":"IFERROR(VLOOKUP(B2091,DKC_Price!A:H,2,FALSE),\"\")","v":""},null,null,null,{"$f":"IFERROR(VLOOKUP(B2091,DKC_Price!A:H,3,FALSE),\"\")","v":""}]
[null,null,{"$f":"IFERROR(VLOOKUP(B2092,DKC_Price!A:H,2,FALSE),\"\")","v":""},null,null,null,{"$f":"IFERROR(VLOOKUP(B2092,DKC_Price!A:H,3,FALSE),\"\")","v":""}]
[null,null,{"$f":"IFERROR(VLOOKUP(B2093,DKC_Price!A:H,2,FALSE),\"\")","v":""},null,null,null,{"$f":"IFERROR(VLOOKUP(B2093,DKC_Price!A:H,3,FALSE),\"\")","v":""}]
[null,null,{"$f":"IFERROR(VLOOKUP(B2094,DKC_Price!A:H,2,FALSE),\"\")","v":""},null,null,null,{"$f":"IFERROR(VLOOKUP(B2094,DKC_Price!A:H,3,FALSE),\"\")","v":""}]
[null,null,{"$f":"IFERROR(VLOOKUP(B2095,DKC_Price!A:H,2,FALSE),\"\")","v":""},null,null,null,{"$f":"IFERROR(VLOOKUP(B2095,DKC_Price!A:H,3,FALSE),\"\")","v":""}]
[null,null,{"$f":"IFERROR(VLOOKUP(B2096,DKC_Price!A:H,2,FALSE),\"\")","v":""},null,null,null,{"$f":"IFERROR(VLOOKUP(B2096,DKC_Price!A:H,3,FALSE),\"\")","v":""}]
[null,null,{"$f":"IFERROR(VLOOKUP(B2097,DKC_Price!A:H,2,FALSE),\"\")","v":""},null,null,null,{"$f":"IFERROR(VLOOKUP(B2097,DKC_Price!A:H,3,FALSE),\"\")","v":""}]
[null,null,{"$f":"IFERROR(VLOOKUP(B2098,DKC_Price!A:H,2,FALSE),\"\")","v":""},null,null,null,{"$f":"IFERROR(VLOOKUP(B2098,DKC_Price!A:H,3,FALSE),\"\")","v":""}]
[null,null,{"$f":"IFERROR(VLOOKUP(B2099,DKC_Price!A:H,2,FALSE),\"\")","v":""},null,null,null,{"$f":"IFERROR(VLOOKUP(B2099,DKC_Price!A:H,3,FALSE),\"\")","v":""}]
[null,null,{"$f":"IFERROR(VLOOKUP(B2100,DKC_Price!A:H,2,FALSE),\"\")","v":""},null,null,null,{"$f":"IFERROR(VLOOKUP(B2100,DKC_Price!A:H,3,FALSE),\"\")","v":""}]
[null,null,{"$f":"IFERROR(VLOOKUP(B2101,DKC_Price!A:H,2,FALSE),\"\")","v":""},null,null,null,{"$f":"IFERROR(VLOOKUP(B2101,DKC_Price!A:H,3,FALSE),\"\")","v":""}]
[null,null,{"$f":"IFERROR(VLOOKUP(B2102,DKC_Price!A:H,2,FALSE),\"\")","v":""},null,null,null,{"$f":"IFERROR(VLOOKUP(B2102,DKC_Price!A:H,3,FALSE),\"\")","v":""}]
[null,null,{"$f":"IFERROR(VLOOKUP(B2103,DKC_Price!A:H,2,FALSE),\"\")","v":""},null,null,null,{"$f":"IFERROR(VLOOKUP(B2103,DKC_Price!A:H,3,FALSE),\"\")","v":""}]
[null,null,{"$f":"IFERROR(VLOOKUP(B2104,DKC_Price!A:H,2,FALSE),\"\")","v":""},null,null,null,{"$f":"IFERROR(VLOOKUP(B2104,DKC_Price!A:H,3,FALSE),\"\")","v":""}]
[null,null,{"$f":"IFERROR(VLOOKUP(B2105,DKC_Price!A:H,2,FALSE),\"\")","v":""},null,null,null,{"$f":"IFERROR(VLOOKUP(B2105,DKC_Price!A:H,3,FALSE),\"\")","v":""}]
[null,null,{"$f":"IFERROR(VLOOKUP(B2106,DKC_Price!A:H,2,FALSE),\"\")","v":""},null,null,null,{"$f":"IFERROR(VLOOKUP(B2106,DKC_Price!A:H,3,FALSE),\"\")","v":""}]
[null,null,{"$f":"IFERROR(VLOOKUP(B2107,DKC_Price!A:H,2,FALSE),\"\")","v":""},null,null,null,{"$f":"IFERROR(VLOOKUP(B2107,DKC_Price!A:H,3,FALSE),\"\")","v":""}]
[null,null,{"$f":"IFERROR(VLOOKUP(B2108,DKC_Price!A:H,2,FALSE),\"\")","v":""},null,null,null,{"$f":"IFERROR(VLOOKUP(B2108,DKC_Price!A:H,3,FALSE),\"\")","v":""}]
[null,null,{"$f":"IFERROR(VLOOKUP(B2109,DKC_Price!A:H,2,FALSE),\"\")","v":""},null,null,null,{"$f":"IFERROR(VLOOKUP(B2109,DKC_Price!A:H,3,FALSE),\"\")","v":""}]
[null,null,{"$f":"IFERROR(VLOOKUP(B2110,DKC_Price!A:H,2,FALSE),\"\")","v":""},null,null,null,{"$f":"IFERROR(VLOOKUP(B2110,DKC_Price!A:H,3,FALSE),\"\")","v":""}]
[null,null,{"$f":"IFERROR(VLOOKUP(B2111,DKC_Price!A:H,2,FALSE),\"\")","v":""},null,null,null,{"$f":"IFERROR(VLOOKUP(B2111,DKC_Price!A:H,3,FALSE),\"\")","v":""}]
[null,null,{"$f":"IFERROR(VLOOKUP(B2112,DKC_Price!A:H,2,FALSE),\"\")","v":""},null,null,null,{"$f":"IFERROR(VLOOKUP(B2112,DKC_Price!A:H,3,FALSE),\"\")","v":""}]
[null,null,{"$f":"IFERROR(VLOOKUP(B2113,DKC_Price!A:H,2,FALSE),\"\")","v":""},null,null,null,{"$f":"IFERROR(VLOOKUP(B2113,DKC_Price!A:H,3,FALSE),\"\")","v":""}]
[null,null,{"$f":"IFERROR(VLOOKUP(B2114,DKC_Price!A:H,2,FALSE),\"\")","v":""},null,null,null,{"$f":"IFERROR(VLOOKUP(B2114,DKC_Price!A:H,3,FALSE),\"\")","v":""}]
[null,null,{"$f":"IFERROR(VLOOKUP(B2115,DKC_Price!A:H,2,FALSE),\"\")","v":""},null,null,null,{"$f":"IFERROR(VLOOKUP(B2115,DKC_Price!A:H,3,FALSE),\"\")","v":""}]
[null,null,{"$f":"IFERROR(VLOOKUP(B2116,DKC_Price!A:H,2,FALSE),\"\")","v":""},null,null,null,{"$f":"IFERROR(VLOOKUP(B2116,DKC_Price!A:H,3,FALSE),\"\")","v":""}]
[null,null,{"$f":"IFERROR(VLOOKUP(B2117,DKC_Price!A:H,2,FALSE),\"\")","v":""},null,null,null,{"$f":"IFERROR(VLOOKUP(B2117,DKC_Price!A:H,3,FALSE),\"\")","v":""}]
[null,null,{"$f":"IFERROR(VLOOKUP(B2118,DKC_Price!A:H,2,FALSE),\"\")","v":""},null,null,null,{"$f":"IFERROR(VLOOKUP(B2118,DKC_Price!A:H,3,FALSE),\"\")","v":""}]
[null,null,{"$f":"IFERROR(VLOOKUP(B2119,DKC_Price!A:H,2,FALSE),\"\")","v":""},null,null,null,{"$f":"IFERROR(VLOOKUP(B2119,DKC_Price!A:H,3,FALSE),\"\")","v":""}]
[null,null,{"$f":"IFERROR(VLOOKUP(B2120,DKC_Price!A:H,2,FALSE),\"\")","v":""},null,null,null,{"$f":"IFERROR(VLOOKUP(B2120,DKC_Price!A:H,3,FALSE),\"\")","v":""}]
[null,null,{"$f":"IFERROR(VLOOKUP(B2121,DKC_Price!A:H,2,FALSE),\"\")","v":""},null,null,null,{"$f":"IFERROR(VLOOKUP(B2121,DKC_Price!A:H,3,FALSE),\"\")","v":""}]
[null,null,{"$f":"IFERROR(VLOOKUP(B2122,DKC_Price!A:H,2,FALSE),\"\")","v":""},null,null,null,{"$f":"IFERROR(VLOOKUP(B2122,DKC_Price!A:H,3,FALSE),\"\")","v":""}]
[null,null,{"$f":"IFERROR(VLOOKUP(B2123,DKC_Price!A:H,2,FALSE),\"\")","v":""},null,null,null,{"$f":"IFERROR(VLOOKUP(B2123,DKC_Price!A:H,3,FALSE),\"\")","v":""}]
[null,null,{"$f":"IFERROR(VLOOKUP(B2124,DKC_Price!A:H,2,FALSE),\"\")","v":""},null,null,null,{"$f":"IFERROR(VLOOKUP(B2124,DKC_Price!A:H,3,FALSE),\"\")","v":""}]
[null,null,{"$f":"IFERROR(VLOOKUP(B2125,DKC_Price!A:H,2,FALSE),\"\")","v":""},null,null,null,{"$f":"IFERROR(VLOOKUP(B2125,DKC_Price!A:H,3,FALSE),\"\")","v":""}]
[null,null,{"$f":"IFERROR(VLOOKUP(B2126,DKC_Price!A:H,2,FALSE),\"\")","v":""},null,null,null,{"$f":"IFERROR(VLOOKUP(B2126,DKC_Price!A:H,3,FALSE),\"\")","v":""}]
[null,null,{"$f":"IFERROR(VLOOKUP(B2127,DKC_Price!A:H,2,FALSE),\"\")","v":""},null,null,null,{"$f":"IFERROR(VLOOKUP(B2127,DKC_Price!A:H,3,FALSE),\"\")","v":""}]
[null,null,{"$f":"IFERROR(VLOOKUP(B2128,DKC_Price!A:H,2,FALSE),\"\")","v":""},null,null,null,{"$f":"IFERROR(VLOOKUP(B2128,DKC_Price!A:H,3,FALSE),\"\")","v":""}]
[null,null,{"$f":"IFERROR(VLOOKUP(B2129,DKC_Price!A:H,2,FALSE),\"\")","v":""},null,null,null,{"$f":"IFERROR(VLOOKUP(B2129,DKC_Price!A:H,3,FALSE),\"\")","v":""}]
[null,null,{"$f":"IFERROR(VLOOKUP(B2130,DKC_Price!A:H,2,FALSE),\"\")","v":""},null,null,null,{"$f":"IFERROR(VLOOKUP(B2130,DKC_Price!A:H,3,FALSE),\"\")","v":""}]
[null,null,{"$f":"IFERROR(VLOOKUP(B2131,DKC_Price!A:H,2,FALSE),\"\")","v":""},null,null,null,{"$f":"IFERROR(VLOOKUP(B2131,DKC_Price!A:H,3,FALSE),\"\")","v":""}]
[null,null,{"$f":"IFERROR(VLOOKUP(B2132,DKC_Price!A:H,2,FALSE),\"\")","v":""},null,null,null,{"$f":"IFERROR(VLOOKUP(B2132,DKC_Price!A:H,3,FALSE),\"\")","v":""}]
[null,null,{"$f":"IFERROR(VLOOKUP(B2133,DKC_Price!A:H,2,FALSE),\"\")","v":""},null,null,null,{"$f":"IFERROR(VLOOKUP(B2133,DKC_Price!A:H,3,FALSE),\"\")","v":""}]
[null,null,{"$f":"IFERROR(VLOOKUP(B2134,DKC_Price!A:H,2,FALSE),\"\")","v":""},null,null,null,{"$f":"IFERROR(VLOOKUP(B2134,DKC_Price!A:H,3,FALSE),\"\")","v":""}]
[null,null,{"$f":"IFERROR(VLOOKUP(B2135,DKC_Price!A:H,2,FALSE),\"\")","v":""},null,null,null,{"$f":"IFERROR(VLOOKUP(B2135,DKC_Price!A:H,3,FALSE),\"\")","v":""}]
[null,null,{"$f":"IFERROR(VLOOKUP(B2136,DKC_Price!A:H,2,FALSE),\"\")","v":""},null,null,null,{"$f":"IFERROR(VLOOKUP(B2136,DKC_Price!A:H,3,FALSE),\"\")","v":""}]
[null,null,{"$f":"IFERROR(VLOOKUP(B2137,DKC_Price!A:H,2,FALSE),\"\")","v":""},null,null,null,{"$f":"IFERROR(VLOOKUP(B2137,DKC_Price!A:H,3,FALSE),\"\")","v":""}]
[null,null,{"$f":"IFERROR(VLOOKUP(B2138,DKC_Price!A:H,2,FALSE),\"\")","v":""},null,null,null,{"$f":"IFERROR(VLOOKUP(B2138,DKC_Price!A:H,3,FALSE),\"\")","v":""}]
[null,null,{"$f":"IFERROR(VLOOKUP(B2139,DKC_Price!A:H,2,FALSE),\"\")","v":""},null,null,null,{"$f":"IFERROR(VLOOKUP(B2139,DKC_Price!A:H,3,FALSE),\"\")","v":""}]
[null,null,{"$f":"IFERROR(VLOOKUP(B2140,DKC_Price!A:H,2,FALSE),\"\")","v":""},null,null,null,{"$f":"IFERROR(VLOOKUP(B2140,DKC_Price!A:H,3,FALSE),\"\")","v":""}]
[null,null,{"$f":"IFERROR(VLOOKUP(B2141,DKC_Price!A:H,2,FALSE),\"\")","v":""},null,null,null,{"$f":"IFERROR(VLOOKUP(B2141,DKC_Price!A:H,3,FALSE),\"\")","v":""}]
[null,null,{"$f":"IFERROR(VLOOKUP(B2142,DKC_Price!A:H,2,FALSE),\"\")","v":""},null,null,null,{"$f":"IFERROR(VLOOKUP(B2142,DKC_Price!A:H,3,FALSE),\"\")","v":""}]
[null,null,{"$f":"IFERROR(VLOOKUP(B2143,DKC_Price!A:H,2,FALSE),\"\")","v":""},null,null,null,{"$f":"IFERROR(VLOOKUP(B2143,DKC_Price!A:H,3,FALSE),\"\")","v":""}]
[null,null,{"$f":"IFERROR(VLOOKUP(B2144,DKC_Price!A:H,2,FALSE),\"\")","v":""},null,null,null,{"$f":"IFERROR(VLOOKUP(B2144,DKC_Price!A:H,3,FALSE),\"\")","v":""}]
[null,null,{"$f":"IFERROR(VLOOKUP(B2145,DKC_Price!A:H,2,FALSE),\"\")","v":""},null,null,null,{"$f":"IFERROR(VLOOKUP(B2145,DKC_Price!A:H,3,FALSE),\"\")","v":""}]
[null,null,{"$f":"IFERROR(VLOOKUP(B2146,DKC_Price!A:H,2,FALSE),\"\")","v":""},null,null,null,{"$f":"IFERROR(VLOOKUP(B2146,DKC_Price!A:H,3,FALSE),\"\")","v":""}]
[null,null,{"$f":"IFERROR(VLOOKUP(B2147,DKC_Price!A:H,2,FALSE),\"\")","v":""},null,null,null,{"$f":"IFERROR(VLOOKUP(B2147,DKC_Price!A:H,3,FALSE),\"\")","v":""}]
[null,null,{"$f":"IFERROR(VLOOKUP(B2148,DKC_Price!A:H,2,FALSE),\"\")","v":""},null,null,null,{"$f":"IFERROR(VLOOKUP(B2148,DKC_Price!A:H,3,FALSE),\"\")","v":""}]
[null,null,{"$f":"IFERROR(VLOOKUP(B2149,DKC_Price!A:H,2,FALSE),\"\")","v":""},null,null,null,{"$f":"IFERROR(VLOOKUP(B2149,DKC_Price!A:H,3,FALSE),\"\")","v":""}]
[null,null,{"$f":"IFERROR(VLOOKUP(B2150,DKC_Price!A:H,2,FALSE),\"\")","v":""},null,null,null,{"$f":"IFERROR(VLOOKUP(B2150,DKC_Price!A:H,3,FALSE),\"\")","v":""}]
[null,null,{"$f":"IFERROR(VLOOKUP(B2151,DKC_Price!A:H,2,FALSE),\"\")","v":""},null,null,null,{"$f":"IFERROR(VLOOKUP(B2151,DKC_Price!A:H,3,FALSE),\"\")","v":""}]
[null,null,{"$f":"IFERROR(VLOOKUP(B2152,DKC_Price!A:H,2,FALSE),\"\")","v":""},null,null,null,{"$f":"IFERROR(VLOOKUP(B2152,DKC_Price!A:H,3,FALSE),\"\")","v":""}]
[null,null,{"$f":"IFERROR(VLOOKUP(B2153,DKC_Price!A:H,2,FALSE),\"\")","v":""},null,null,null,{"$f":"IFERROR(VLOOKUP(B2153,DKC_Price!A:H,3,FALSE),\"\")","v":""}]
[null,null,{"$f":"IFERROR(VLOOKUP(B2154,DKC_Price!A:H,2,FALSE),\"\")","v":""},null,null,null,{"$f":"IFERROR(VLOOKUP(B2154,DKC_Price!A:H,3,FALSE),\"\")","v":""}]
[null,null,{"$f":"IFERROR(VLOOKUP(B2155,DKC_Price!A:H,2,FALSE),\"\")","v":""},null,null,null,{"$f":"IFERROR(VLOOKUP(B2155,DKC_Price!A:H,3,FALSE),\"\")","v":""}]
[null,null,{"$f":"IFERROR(VLOOKUP(B2156,DKC_Price!A:H,2,FALSE),\"\")","v":""},null,null,null,{"$f":"IFERROR(VLOOKUP(B2156,DKC_Price!A:H,3,FALSE),\"\")","v":""}]
[null,null,{"$f":"IFERROR(VLOOKUP(B2157,DKC_Price!A:H,2,FALSE),\"\")","v":""},null,null,null,{"$f":"IFERROR(VLOOKUP(B2157,DKC_Price!A:H,3,FALSE),\"\")","v":""}]
[null,null,{"$f":"IFERROR(VLOOKUP(B2158,DKC_Price!A:H,2,FALSE),\"\")","v":""},null,null,null,{"$f":"IFERROR(VLOOKUP(B2158,DKC_Price!A:H,3,FALSE),\"\")","v":""}]
[null,null,{"$f":"IFERROR(VLOOKUP(B2159,DKC_Price!A:H,2,FALSE),\"\")","v":""},null,null,null,{"$f":"IFERROR(VLOOKUP(B2159,DKC_Price!A:H,3,FALSE),\"\")","v":""}]
[null,null,{"$f":"IFERROR(VLOOKUP(B2160,DKC_Price!A:H,2,FALSE),\"\")","v":""},null,null,null,{"$f":"IFERROR(VLOOKUP(B2160,DKC_Price!A:H,3,FALSE),\"\")","v":""}]
[null,null,{"$f":"IFERROR(VLOOKUP(B2161,DKC_Price!A:H,2,FALSE),\"\")","v":""},null,null,null,{"$f":"IFERROR(VLOOKUP(B2161,DKC_Price!A:H,3,FALSE),\"\")","v":""}]
[null,null,{"$f":"IFERROR(VLOOKUP(B2162,DKC_Price!A:H,2,FALSE),\"\")","v":""},null,null,null,{"$f":"IFERROR(VLOOKUP(B2162,DKC_Price!A:H,3,FALSE),\"\")","v":""}]
[null,null,{"$f":"IFERROR(VLOOKUP(B2163,DKC_Price!A:H,2,FALSE),\"\")","v":""},null,null,null,{"$f":"IFERROR(VLOOKUP(B2163,DKC_Price!A:H,3,FALSE),\"\")","v":""}]
[null,null,{"$f":"IFERROR(VLOOKUP(B2164,DKC_Price!A:H,2,FALSE),\"\")","v":""},null,null,null,{"$f":"IFERROR(VLOOKUP(B2164,DKC_Price!A:H,3,FALSE),\"\")","v":""}]
[null,null,{"$f":"IFERROR(VLOOKUP(B2165,DKC_Price!A:H,2,FALSE),\"\")","v":""},null,null,null,{"$f":"IFERROR(VLOOKUP(B2165,DKC_Price!A:H,3,FALSE),\"\")","v":""}]
[null,null,{"$f":"IFERROR(VLOOKUP(B2166,DKC_Price!A:H,2,FALSE),\"\")","v":""},null,null,null,{"$f":"IFERROR(VLOOKUP(B2166,DKC_Price!A:H,3,FALSE),\"\")","v":""}]
[null,null,{"$f":"IFERROR(VLOOKUP(B2167,DKC_Price!A:H,2,FALSE),\"\")","v":""},null,null,null,{"$f":"IFERROR(VLOOKUP(B2167,DKC_Price!A:H,3,FALSE),\"\")","v":""}]
[null,null,{"$f":"IFERROR(VLOOKUP(B2168,DKC_Price!A:H,2,FALSE),\"\")","v":""},null,null,null,{"$f":"IFERROR(VLOOKUP(B2168,DKC_Price!A:H,3,FALSE),\"\")","v":""}]
[null,null,{"$f":"IFERROR(VLOOKUP(B2169,DKC_Price!A:H,2,FALSE),\"\")","v":""},null,null,null,{"$f":"IFERROR(VLOOKUP(B2169,DKC_Price!A:H,3,FALSE),\"\")","v":""}]
[null,null,{"$f":"IFERROR(VLOOKUP(B2170,DKC_Price!A:H,2,FALSE),\"\")","v":""},null,null,null,{"$f":"IFERROR(VLOOKUP(B2170,DKC_Price!A:H,3,FALSE),\"\")","v":""}]
[null,null,{"$f":"IFERROR(VLOOKUP(B2171,DKC_Price!A:H,2,FALSE),\"\")","v":""},null,null,null,{"$f":"IFERROR(VLOOKUP(B2171,DKC_Price!A:H,3,FALSE),\"\")","v":""}]
[null,null,{"$f":"IFERROR(VLOOKUP(B2172,DKC_Price!A:H,2,FALSE),\"\")","v":""},null,null,null,{"$f":"IFERROR(VLOOKUP(B2172,DKC_Price!A:H,3,FALSE),\"\")","v":""}]
[null,null,{"$f":"IFERROR(VLOOKUP(B2173,DKC_Price!A:H,2,FALSE),\"\")","v":""},null,null,null,{"$f":"IFERROR(VLOOKUP(B2173,DKC_Price!A:H,3,FALSE),\"\")","v":""}]
[null,null,{"$f":"IFERROR(VLOOKUP(B2174,DKC_Price!A:H,2,FALSE),\"\")","v":""},null,null,null,{"$f":"IFERROR(VLOOKUP(B2174,DKC_Price!A:H,3,FALSE),\"\")","v":""}]
[null,null,{"$f":"IFERROR(VLOOKUP(B2175,DKC_Price!A:H,2,FALSE),\"\")","v":""},null,null,null,{"$f":"IFERROR(VLOOKUP(B2175,DKC_Price!A:H,3,FALSE),\"\")","v":""}]
[null,null,{"$f":"IFERROR(VLOOKUP(B2176,DKC_Price!A:H,2,FALSE),\"\")","v":""},null,null,null,{"$f":"IFERROR(VLOOKUP(B2176,DKC_Price!A:H,3,FALSE),\"\")","v":""}]
[null,null,{"$f":"IFERROR(VLOOKUP(B2177,DKC_Price!A:H,2,FALSE),\"\")","v":""},null,null,null,{"$f":"IFERROR(VLOOKUP(B2177,DKC_Price!A:H,3,FALSE),\"\")","v":""}]
[null,null,{"$f":"IFERROR(VLOOKUP(B2178,DKC_Price!A:H,2,FALSE),\"\")","v":""},null,null,null,{"$f":"IFERROR(VLOOKUP(B2178,DKC_Price!A:H,3,FALSE),\"\")","v":""}]
[null,null,{"$f":"IFERROR(VLOOKUP(B2179,DKC_Price!A:H,2,FALSE),\"\")","v":""},null,null,null,{"$f":"IFERROR(VLOOKUP(B2179,DKC_Price!A:H,3,FALSE),\"\")","v":""}]
[null,null,{"$f":"IFERROR(VLOOKUP(B2180,DKC_Price!A:H,2,FALSE),\"\")","v":""},null,null,null,{"$f":"IFERROR(VLOOKUP(B2180,DKC_Price!A:H,3,FALSE),\"\")","v":""}]
[null,null,{"$f":"IFERROR(VLOOKUP(B2181,DKC_Price!A:H,2,FALSE),\"\")","v":""},null,null,null,{"$f":"IFERROR(VLOOKUP(B2181,DKC_Price!A:H,3,FALSE),\"\")","v":""}]
[null,null,{"$f":"IFERROR(VLOOKUP(B2182,DKC_Price!A:H,2,FALSE),\"\")","v":""},null,null,null,{"$f":"IFERROR(VLOOKUP(B2182,DKC_Price!A:H,3,FALSE),\"\")","v":""}]
[null,null,{"$f":"IFERROR(VLOOKUP(B2183,DKC_Price!A:H,2,FALSE),\"\")","v":""},null,null,null,{"$f":"IFERROR(VLOOKUP(B2183,DKC_Price!A:H,3,FALSE),\"\")","v":""}]
[null,null,{"$f":"IFERROR(VLOOKUP(B2184,DKC_Price!A:H,2,FALSE),\"\")","v":""},null,null,null,{"$f":"IFERROR(VLOOKUP(B2184,DKC_Price!A:H,3,FALSE),\"\")","v":""}]
[null,null,{"$f":"IFERROR(VLOOKUP(B2185,DKC_Price!A:H,2,FALSE),\"\")","v":""},null,null,null,{"$f":"IFERROR(VLOOKUP(B2185,DKC_Price!A:H,3,FALSE),\"\")","v":""}]
[null,null,{"$f":"IFERROR(VLOOKUP(B2186,DKC_Price!A:H,2,FALSE),\"\")","v":""},null,null,null,{"$f":"IFERROR(VLOOKUP(B2186,DKC_Price!A:H,3,FALSE),\"\")","v":""}]
[null,null,{"$f":"IFERROR(VLOOKUP(B2187,DKC_Price!A:H,2,FALSE),\"\")","v":""},null,null,null,{"$f":"IFERROR(VLOOKUP(B2187,DKC_Price!A:H,3,FALSE),\"\")","v":""}]
[null,null,{"$f":"IFERROR(VLOOKUP(B2188,DKC_Price!A:H,2,FALSE),\"\")","v":""},null,null,null,{"$f":"IFERROR(VLOOKUP(B2188,DKC_Price!A:H,3,FALSE),\"\")","v":""}]
[null,null,{"$f":"IFERROR(VLOOKUP(B2189,DKC_Price!A:H,2,FALSE),\"\")","v":""},null,null,null,{"$f":"IFERROR(VLOOKUP(B2189,DKC_Price!A:H,3,FALSE),\"\")","v":""}]
[null,null,{"$f":"IFERROR(VLOOKUP(B2190,DKC_Price!A:H,2,FALSE),\"\")","v":""},null,null,null,{"$f":"IFERROR(VLOOKUP(B2190,DKC_Price!A:H,3,FALSE),\"\")","v":""}]
[null,null,{"$f":"IFERROR(VLOOKUP(B2191,DKC_Price!A:H,2,FALSE),\"\")","v":""},null,null,null,{"$f":"IFERROR(VLOOKUP(B2191,DKC_Price!A:H,3,FALSE),\"\")","v":""}]
[null,null,{"$f":"IFERROR(VLOOKUP(B2192,DKC_Price!A:H,2,FALSE),\"\")","v":""},null,null,null,{"$f":"IFERROR(VLOOKUP(B2192,DKC_Price!A:H,3,FALSE),\"\")","v":""}]
[null,null,{"$f":"IFERROR(VLOOKUP(B2193,DKC_Price!A:H,2,FALSE),\"\")","v":""},null,null,null,{"$f":"IFERROR(VLOOKUP(B2193,DKC_Price!A:H,3,FALSE),\"\")","v":""}]
[null,null,{"$f":"IFERROR(VLOOKUP(B2194,DKC_Price!A:H,2,FALSE),\"\")","v":""},null,null,null,{"$f":"IFERROR(VLOOKUP(B2194,DKC_Price!A:H,3,FALSE),\"\")","v":""}]
[null,null,{"$f":"IFERROR(VLOOKUP(B2195,DKC_Price!A:H,2,FALSE),\"\")","v":""},null,null,null,{"$f":"IFERROR(VLOOKUP(B2195,DKC_Price!A:H,3,FALSE),\"\")","v":""}]
[null,null,{"$f":"IFERROR(VLOOKUP(B2196,DKC_Price!A:H,2,FALSE),\"\")","v":""},null,null,null,{"$f":"IFERROR(VLOOKUP(B2196,DKC_Price!A:H,3,FALSE),\"\")","v":""}]
[null,null,{"$f":"IFERROR(VLOOKUP(B2197,DKC_Price!A:H,2,FALSE),\"\")","v":""},null,null,null,{"$f":"IFERROR(VLOOKUP(B2197,DKC_Price!A:H,3,FALSE),\"\")","v":""}]
[null,null,{"$f":"IFERROR(VLOOKUP(B2198,DKC_Price!A:H,2,FALSE),\"\")","v":""},null,null,null,{"$f":"IFERROR(VLOOKUP(B2198,DKC_Price!A:H,3,FALSE),\"\")","v":""}]
[null,null,{"$f":"IFERROR(VLOOKUP(B2199,DKC_Price!A:H,2,FALSE),\"\")","v":""},null,null,null,{"$f":"IFERROR(VLOOKUP(B2199,DKC_Price!A:H,3,FALSE),\"\")","v":""}]
[null,null,{"$f":"IFERROR(VLOOKUP(B2200,DKC_Price!A:H,2,FALSE),\"\")","v":""},null,null,null,{"$f":"IFERROR(VLOOKUP(B2200,DKC_Price!A:H,3,FALSE),\"\")","v":""}]
[null,null,{"$f":"IFERROR(VLOOKUP(B2201,DKC_Price!A:H,2,FALSE),\"\")","v":""},null,null,null,{"$f":"IFERROR(VLOOKUP(B2201,DKC_Price!A:H,3,FALSE),\"\")","v":""}]
[null,null,{"$f":"IFERROR(VLOOKUP(B2202,DKC_Price!A:H,2,FALSE),\"\")","v":""},null,null,null,{"$f":"IFERROR(VLOOKUP(B2202,DKC_Price!A:H,3,FALSE),\"\")","v":""}]
[null,null,{"$f":"IFERROR(VLOOKUP(B2203,DKC_Price!A:H,2,FALSE),\"\")","v":""},null,null,null,{"$f":"IFERROR(VLOOKUP(B2203,DKC_Price!A:H,3,FALSE),\"\")","v":""}]
[null,null,{"$f":"IFERROR(VLOOKUP(B2204,DKC_Price!A:H,2,FALSE),\"\")","v":""},null,null,null,{"$f":"IFERROR(VLOOKUP(B2204,DKC_Price!A:H,3,FALSE),\"\")","v":""}]
[null,null,{"$f":"IFERROR(VLOOKUP(B2205,DKC_Price!A:H,2,FALSE),\"\")","v":""},null,null,null,{"$f":"IFERROR(VLOOKUP(B2205,DKC_Price!A:H,3,FALSE),\"\")","v":""}]
[null,null,{"$f":"IFERROR(VLOOKUP(B2206,DKC_Price!A:H,2,FALSE),\"\")","v":""},null,null,null,{"$f":"IFERROR(VLOOKUP(B2206,DKC_Price!A:H,3,FALSE),\"\")","v":""}]
[null,null,{"$f":"IFERROR(VLOOKUP(B2207,DKC_Price!A:H,2,FALSE),\"\")","v":""},null,null,null,{"$f":"IFERROR(VLOOKUP(B2207,DKC_Price!A:H,3,FALSE),\"\")","v":""}]
[null,null,{"$f":"IFERROR(VLOOKUP(B2208,DKC_Price!A:H,2,FALSE),\"\")","v":""},null,null,null,{"$f":"IFERROR(VLOOKUP(B2208,DKC_Price!A:H,3,FALSE),\"\")","v":""}]
[null,null,{"$f":"IFERROR(VLOOKUP(B2209,DKC_Price!A:H,2,FALSE),\"\")","v":""},null,null,null,{"$f":"IFERROR(VLOOKUP(B2209,DKC_Price!A:H,3,FALSE),\"\")","v":""}]
[null,null,{"$f":"IFERROR(VLOOKUP(B2210,DKC_Price!A:H,2,FALSE),\"\")","v":""},null,null,null,{"$f":"IFERROR(VLOOKUP(B2210,DKC_Price!A:H,3,FALSE),\"\")","v":""}]
[null,null,{"$f":"IFERROR(VLOOKUP(B2211,DKC_Price!A:H,2,FALSE),\"\")","v":""},null,null,null,{"$f":"IFERROR(VLOOKUP(B2211,DKC_Price!A:H,3,FALSE),\"\")","v":""}]
[null,null,{"$f":"IFERROR(VLOOKUP(B2212,DKC_Price!A:H,2,FALSE),\"\")","v":""},null,null,null,{"$f":"IFERROR(VLOOKUP(B2212,DKC_Price!A:H,3,FALSE),\"\")","v":""}]
[null,null,{"$f":"IFERROR(VLOOKUP(B2213,DKC_Price!A:H,2,FALSE),\"\")","v":""},null,null,null,{"$f":"IFERROR(VLOOKUP(B2213,DKC_Price!A:H,3,FALSE),\"\")","v":""}]
[null,null,{"$f":"IFERROR(VLOOKUP(B2214,DKC_Price!A:H,2,FALSE),\"\")","v":""},null,null,null,{"$f":"IFERROR(VLOOKUP(B2214,DKC_Price!A:H,3,FALSE),\"\")","v":""}]
[null,null,{"$f":"IFERROR(VLOOKUP(B2215,DKC_Price!A:H,2,FALSE),\"\")","v":""},null,null,null,{"$f":"IFERROR(VLOOKUP(B2215,DKC_Price!A:H,3,FALSE),\"\")","v":""}]
[null,null,{"$f":"IFERROR(VLOOKUP(B2216,DKC_Price!A:H,2,FALSE),\"\")","v":""},null,null,null,{"$f":"IFERROR(VLOOKUP(B2216,DKC_Price!A:H,3,FALSE),\"\")","v":""}]
[null,null,{"$f":"IFERROR(VLOOKUP(B2217,DKC_Price!A:H,2,FALSE),\"\")","v":""},null,null,null,{"$f":"IFERROR(VLOOKUP(B2217,DKC_Price!A:H,3,FALSE),\"\")","v":""}]
[null,null,{"$f":"IFERROR(VLOOKUP(B2218,DKC_Price!A:H,2,FALSE),\"\")","v":""},null,null,null,{"$f":"IFERROR(VLOOKUP(B2218,DKC_Price!A:H,3,FALSE),\"\")","v":""}]
[null,null,{"$f":"IFERROR(VLOOKUP(B2219,DKC_Price!A:H,2,FALSE),\"\")","v":""},null,null,null,{"$f":"IFERROR(VLOOKUP(B2219,DKC_Price!A:H,3,FALSE),\"\")","v":""}]
[null,null,{"$f":"IFERROR(VLOOKUP(B2220,DKC_Price!A:H,2,FALSE),\"\")","v":""},null,null,null,{"$f":"IFERROR(VLOOKUP(B2220,DKC_Price!A:H,3,FALSE),\"\")","v":""}]
[null,null,{"$f":"IFERROR(VLOOKUP(B2221,DKC_Price!A:H,2,FALSE),\"\")","v":""},null,null,null,{"$f":"IFERROR(VLOOKUP(B2221,DKC_Price!A:H,3,FALSE),\"\")","v":""}]
[null,null,{"$f":"IFERROR(VLOOKUP(B2222,DKC_Price!A:H,2,FALSE),\"\")","v":""},null,null,null,{"$f":"IFERROR(VLOOKUP(B2222,DKC_Price!A:H,3,FALSE),\"\")","v":""}]
[null,null,{"$f":"IFERROR(VLOOKUP(B2223,DKC_Price!A:H,2,FALSE),\"\")","v":""},null,null,null,{"$f":"IFERROR(VLOOKUP(B2223,DKC_Price!A:H,3,FALSE),\"\")","v":""}]
[null,null,{"$f":"IFERROR(VLOOKUP(B2224,DKC_Price!A:H,2,FALSE),\"\")","v":""},null,null,null,{"$f":"IFERROR(VLOOKUP(B2224,DKC_Price!A:H,3,FALSE),\"\")","v":""}]
[null,null,{"$f":"IFERROR(VLOOKUP(B2225,DKC_Price!A:H,2,FALSE),\"\")","v":""},null,null,null,{"$f":"IFERROR(VLOOKUP(B2225,DKC_Price!A:H,3,FALSE),\"\")","v":""}]
[null,null,{"$f":"IFERROR(VLOOKUP(B2226,DKC_Price!A:H,2,FALSE),\"\")","v":""},null,null,null,{"$f":"IFERROR(VLOOKUP(B2226,DKC_Price!A:H,3,FALSE),\"\")","v":""}]
[null,null,{"$f":"IFERROR(VLOOKUP(B2227,DKC_Price!A:H,2,FALSE),\"\")","v":""},null,null,null,{"$f":"IFERROR(VLOOKUP(B2227,DKC_Price!A:H,3,FALSE),\"\")","v":""}]
[null,null,{"$f":"IFERROR(VLOOKUP(B2228,DKC_Price!A:H,2,FALSE),\"\")","v":""},null,null,null,{"$f":"IFERROR(VLOOKUP(B2228,DKC_Price!A:H,3,FALSE),\"\")","v":""}]
[null,null,{"$f":"IFERROR(VLOOKUP(B2229,DKC_Price!A:H,2,FALSE),\"\")","v":""},null,null,null,{"$f":"IFERROR(VLOOKUP(B2229,DKC_Price!A:H,3,FALSE),\"\")","v":""}]
[null,null,{"$f":"IFERROR(VLOOKUP(B2230,DKC_Price!A:H,2,FALSE),\"\")","v":""},null,null,null,{"$f":"IFERROR(VLOOKUP(B2230,DKC_Price!A:H,3,FALSE),\"\")","v":""}]
[null,null,{"$f":"IFERROR(VLOOKUP(B2231,DKC_Price!A:H,2,FALSE),\"\")","v":""},null,null,null,{"$f":"IFERROR(VLOOKUP(B2231,DKC_Price!A:H,3,FALSE),\"\")","v":""}]
[null,null,{"$f":"IFERROR(VLOOKUP(B2232,DKC_Price!A:H,2,FALSE),\"\")","v":""},null,null,null,{"$f":"IFERROR(VLOOKUP(B2232,DKC_Price!A:H,3,FALSE),\"\")","v":""}]
[null,null,{"$f":"IFERROR(VLOOKUP(B2233,DKC_Price!A:H,2,FALSE),\"\")","v":""},null,null,null,{"$f":"IFERROR(VLOOKUP(B2233,DKC_Price!A:H,3,FALSE),\"\")","v":""}]
[null,null,{"$f":"IFERROR(VLOOKUP(B2234,DKC_Price!A:H,2,FALSE),\"\")","v":""},null,null,null,{"$f":"IFERROR(VLOOKUP(B2234,DKC_Price!A:H,3,FALSE),\"\")","v":""}]
[null,null,{"$f":"IFERROR(VLOOKUP(B2235,DKC_Price!A:H,2,FALSE),\"\")","v":""},null,null,null,{"$f":"IFERROR(VLOOKUP(B2235,DKC_Price!A:H,3,FALSE),\"\")","v":""}]
[null,null,{"$f":"IFERROR(VLOOKUP(B2236,DKC_Price!A:H,2,FALSE),\"\")","v":""},null,null,null,{"$f":"IFERROR(VLOOKUP(B2236,DKC_Price!A:H,3,FALSE),\"\")","v":""}]
[null,null,{"$f":"IFERROR(VLOOKUP(B2237,DKC_Price!A:H,2,FALSE),\"\")","v":""},null,null,null,{"$f":"IFERROR(VLOOKUP(B2237,DKC_Price!A:H,3,FALSE),\"\")","v":""}]
[null,null,{"$f":"IFERROR(VLOOKUP(B2238,DKC_Price!A:H,2,FALSE),\"\")","v":""},null,null,null,{"$f":"IFERROR(VLOOKUP(B2238,DKC_Price!A:H,3,FALSE),\"\")","v":""}]
[null,null,{"$f":"IFERROR(VLOOKUP(B2239,DKC_Price!A:H,2,FALSE),\"\")","v":""},null,null,null,{"$f":"IFERROR(VLOOKUP(B2239,DKC_Price!A:H,3,FALSE),\"\")","v":""}]
[null,null,{"$f":"IFERROR(VLOOKUP(B2240,DKC_Price!A:H,2,FALSE),\"\")","v":""},null,null,null,{"$f":"IFERROR(VLOOKUP(B2240,DKC_Price!A:H,3,FALSE),\"\")","v":""}]
[null,null,{"$f":"IFERROR(VLOOKUP(B2241,DKC_Price!A:H,2,FALSE),\"\")","v":""},null,null,null,{"$f":"IFERROR(VLOOKUP(B2241,DKC_Price!A:H,3,FALSE),\"\")","v":""}]
[null,null,{"$f":"IFERROR(VLOOKUP(B2242,DKC_Price!A:H,2,FALSE),\"\")","v":""},null,null,null,{"$f":"IFERROR(VLOOKUP(B2242,DKC_Price!A:H,3,FALSE),\"\")","v":""}]
[null,null,{"$f":"IFERROR(VLOOKUP(B2243,DKC_Price!A:H,2,FALSE),\"\")","v":""},null,null,null,{"$f":"IFERROR(VLOOKUP(B2243,DKC_Price!A:H,3,FALSE),\"\")","v":""}]
[null,null,{"$f":"IFERROR(VLOOKUP(B2244,DKC_Price!A:H,2,FALSE),\"\")","v":""},null,null,null,{"$f":"IFERROR(VLOOKUP(B2244,DKC_Price!A:H,3,FALSE),\"\")","v":""}]
[null,null,{"$f":"IFERROR(VLOOKUP(B2245,DKC_Price!A:H,2,FALSE),\"\")","v":""},null,null,null,{"$f":"IFERROR(VLOOKUP(B2245,DKC_Price!A:H,3,FALSE),\"\")","v":""}]
[null,null,{"$f":"IFERROR(VLOOKUP(B2246,DKC_Price!A:H,2,FALSE),\"\")","v":""},null,null,null,{"$f":"IFERROR(VLOOKUP(B2246,DKC_Price!A:H,3,FALSE),\"\")","v":""}]
[null,null,{"$f":"IFERROR(VLOOKUP(B2247,DKC_Price!A:H,2,FALSE),\"\")","v":""},null,null,null,{"$f":"IFERROR(VLOOKUP(B2247,DKC_Price!A:H,3,FALSE),\"\")","v":""}]
[null,null,{"$f":"IFERROR(VLOOKUP(B2248,DKC_Price!A:H,2,FALSE),\"\")","v":""},null,null,null,{"$f":"IFERROR(VLOOKUP(B2248,DKC_Price!A:H,3,FALSE),\"\")","v":""}]
[null,null,{"$f":"IFERROR(VLOOKUP(B2249,DKC_Price!A:H,2,FALSE),\"\")","v":""},null,null,null,{"$f":"IFERROR(VLOOKUP(B2249,DKC_Price!A:H,3,FALSE),\"\")","v":""}]
[null,null,{"$f":"IFERROR(VLOOKUP(B2250,DKC_Price!A:H,2,FALSE),\"\")","v":""},null,null,null,{"$f":"IFERROR(VLOOKUP(B2250,DKC_Price!A:H,3,FALSE),\"\")","v":""}]
[null,null,{"$f":"IFERROR(VLOOKUP(B2251,DKC_Price!A:H,2,FALSE),\"\")","v":""},null,null,null,{"$f":"IFERROR(VLOOKUP(B2251,DKC_Price!A:H,3,FALSE),\"\")","v":""}]
[null,null,{"$f":"IFERROR(VLOOKUP(B2252,DKC_Price!A:H,2,FALSE),\"\")","v":""},null,null,null,{"$f":"IFERROR(VLOOKUP(B2252,DKC_Price!A:H,3,FALSE),\"\")","v":""}]
[null,null,{"$f":"IFERROR(VLOOKUP(B2253,DKC_Price!A:H,2,FALSE),\"\")","v":""},null,null,null,{"$f":"IFERROR(VLOOKUP(B2253,DKC_Price!A:H,3,FALSE),\"\")","v":""}]
[null,null,{"$f":"IFERROR(VLOOKUP(B2254,DKC_Price!A:H,2,FALSE),\"\")","v":""},null,null,null,{"$f":"IFERROR(VLOOKUP(B2254,DKC_Price!A:H,3,FALSE),\"\")","v":""}]
[null,null,{"$f":"IFERROR(VLOOKUP(B2255,DKC_Price!A:H,2,FALSE),\"\")","v":""},null,null,null,{"$f":"IFERROR(VLOOKUP(B2255,DKC_Price!A:H,3,FALSE),\"\")","v":""}]
[null,null,{"$f":"IFERROR(VLOOKUP(B2256,DKC_Price!A:H,2,FALSE),\"\")","v":""},null,null,null,{"$f":"IFERROR(VLOOKUP(B2256,DKC_Price!A:H,3,FALSE),\"\")","v":""}]
[null,null,{"$f":"IFERROR(VLOOKUP(B2257,DKC_Price!A:H,2,FALSE),\"\")","v":""},null,null,null,{"$f":"IFERROR(VLOOKUP(B2257,DKC_Price!A:H,3,FALSE),\"\")","v":""}]
[null,null,{"$f":"IFERROR(VLOOKUP(B2258,DKC_Price!A:H,2,FALSE),\"\")","v":""},null,null,null,{"$f":"IFERROR(VLOOKUP(B2258,DKC_Price!A:H,3,FALSE),\"\")","v":""}]
[null,null,{"$f":"IFERROR(VLOOKUP(B2259,DKC_Price!A:H,2,FALSE),\"\")","v":""},null,null,null,{"$f":"IFERROR(VLOOKUP(B2259,DKC_Price!A:H,3,FALSE),\"\")","v":""}]
[null,null,{"$f":"IFERROR(VLOOKUP(B2260,DKC_Price!A:H,2,FALSE),\"\")","v":""},null,null,null,{"$f":"IFERROR(VLOOKUP(B2260,DKC_Price!A:H,3,FALSE),\"\")","v":""}]
[null,null,{"$f":"IFERROR(VLOOKUP(B2261,DKC_Price!A:H,2,FALSE),\"\")","v":""},null,null,null,{"$f":"IFERROR(VLOOKUP(B2261,DKC_Price!A:H,3,FALSE),\"\")","v":""}]
[null,null,{"$f":"IFERROR(VLOOKUP(B2262,DKC_Price!A:H,2,FALSE),\"\")","v":""},null,null,null,{"$f":"IFERROR(VLOOKUP(B2262,DKC_Price!A:H,3,FALSE),\"\")","v":""}]
[null,null,{"$f":"IFERROR(VLOOKUP(B2263,DKC_Price!A:H,2,FALSE),\"\")","v":""},null,null,null,{"$f":"IFERROR(VLOOKUP(B2263,DKC_Price!A:H,3,FALSE),\"\")","v":""}]
[null,null,{"$f":"IFERROR(VLOOKUP(B2264,DKC_Price!A:H,2,FALSE),\"\")","v":""},null,null,null,{"$f":"IFERROR(VLOOKUP(B2264,DKC_Price!A:H,3,FALSE),\"\")","v":""}]
[null,null,{"$f":"IFERROR(VLOOKUP(B2265,DKC_Price!A:H,2,FALSE),\"\")","v":""},null,null,null,{"$f":"IFERROR(VLOOKUP(B2265,DKC_Price!A:H,3,FALSE),\"\")","v":""}]
[null,null,{"$f":"IFERROR(VLOOKUP(B2266,DKC_Price!A:H,2,FALSE),\"\")","v":""},null,null,null,{"$f":"IFERROR(VLOOKUP(B2266,DKC_Price!A:H,3,FALSE),\"\")","v":""}]
[null,null,{"$f":"IFERROR(VLOOKUP(B2267,DKC_Price!A:H,2,FALSE),\"\")","v":""},null,null,null,{"$f":"IFERROR(VLOOKUP(B2267,DKC_Price!A:H,3,FALSE),\"\")","v":""}]
[null,null,{"$f":"IFERROR(VLOOKUP(B2268,DKC_Price!A:H,2,FALSE),\"\")","v":""},null,null,null,{"$f":"IFERROR(VLOOKUP(B2268,DKC_Price!A:H,3,FALSE),\"\")","v":""}]
[null,null,{"$f":"IFERROR(VLOOKUP(B2269,DKC_Price!A:H,2,FALSE),\"\")","v":""},null,null,null,{"$f":"IFERROR(VLOOKUP(B2269,DKC_Price!A:H,3,FALSE),\"\")","v":""}]
[null,null,{"$f":"IFERROR(VLOOKUP(B2270,DKC_Price!A:H,2,FALSE),\"\")","v":""},null,null,null,{"$f":"IFERROR(VLOOKUP(B2270,DKC_Price!A:H,3,FALSE),\"\")","v":""}]
[null,null,{"$f":"IFERROR(VLOOKUP(B2271,DKC_Price!A:H,2,FALSE),\"\")","v":""},null,null,null,{"$f":"IFERROR(VLOOKUP(B2271,DKC_Price!A:H,3,FALSE),\"\")","v":""}]
[null,null,{"$f":"IFERROR(VLOOKUP(B2272,DKC_Price!A:H,2,FALSE),\"\")","v":""},null,null,null,{"$f":"IFERROR(VLOOKUP(B2272,DKC_Price!A:H,3,FALSE),\"\")","v":""}]
[null,null,{"$f":"IFERROR(VLOOKUP(B2273,DKC_Price!A:H,2,FALSE),\"\")","v":""},null,null,null,{"$f":"IFERROR(VLOOKUP(B2273,DKC_Price!A:H,3,FALSE),\"\")","v":""}]
[null,null,{"$f":"IFERROR(VLOOKUP(B2274,DKC_Price!A:H,2,FALSE),\"\")","v":""},null,null,null,{"$f":"IFERROR(VLOOKUP(B2274,DKC_Price!A:H,3,FALSE),\"\")","v":""}]
[null,null,{"$f":"IFERROR(VLOOKUP(B2275,DKC_Price!A:H,2,FALSE),\"\")","v":""},null,null,null,{"$f":"IFERROR(VLOOKUP(B2275,DKC_Price!A:H,3,FALSE),\"\")","v":""}]
[null,null,{"$f":"IFERROR(VLOOKUP(B2276,DKC_Price!A:H,2,FALSE),\"\")","v":""},null,null,null,{"$f":"IFERROR(VLOOKUP(B2276,DKC_Price!A:H,3,FALSE),\"\")","v":""}]
[null,null,{"$f":"IFERROR(VLOOKUP(B2277,DKC_Price!A:H,2,FALSE),\"\")","v":""},null,null,null,{"$f":"IFERROR(VLOOKUP(B2277,DKC_Price!A:H,3,FALSE),\"\")","v":""}]
[null,null,{"$f":"IFERROR(VLOOKUP(B2278,DKC_Price!A:H,2,FALSE),\"\")","v":""},null,null,null,{"$f":"IFERROR(VLOOKUP(B2278,DKC_Price!A:H,3,FALSE),\"\")","v":""}]
[null,null,{"$f":"IFERROR(VLOOKUP(B2279,DKC_Price!A:H,2,FALSE),\"\")","v":""},null,null,null,{"$f":"IFERROR(VLOOKUP(B2279,DKC_Price!A:H,3,FALSE),\"\")","v":""}]
[null,null,{"$f":"IFERROR(VLOOKUP(B2280,DKC_Price!A:H,2,FALSE),\"\")","v":""},null,null,null,{"$f":"IFERROR(VLOOKUP(B2280,DKC_Price!A:H,3,FALSE),\"\")","v":""}]
[null,null,{"$f":"IFERROR(VLOOKUP(B2281,DKC_Price!A:H,2,FALSE),\"\")","v":""},null,null,null,{"$f":"IFERROR(VLOOKUP(B2281,DKC_Price!A:H,3,FALSE),\"\")","v":""}]
[null,null,{"$f":"IFERROR(VLOOKUP(B2282,DKC_Price!A:H,2,FALSE),\"\")","v":""},null,null,null,{"$f":"IFERROR(VLOOKUP(B2282,DKC_Price!A:H,3,FALSE),\"\")","v":""}]
[null,null,{"$f":"IFERROR(VLOOKUP(B2283,DKC_Price!A:H,2,FALSE),\"\")","v":""},null,null,null,{"$f":"IFERROR(VLOOKUP(B2283,DKC_Price!A:H,3,FALSE),\"\")","v":""}]
[null,null,{"$f":"IFERROR(VLOOKUP(B2284,DKC_Price!A:H,2,FALSE),\"\")","v":""},null,null,null,{"$f":"IFERROR(VLOOKUP(B2284,DKC_Price!A:H,3,FALSE),\"\")","v":""}]
[null,null,{"$f":"IFERROR(VLOOKUP(B2285,DKC_Price!A:H,2,FALSE),\"\")","v":""},null,null,null,{"$f":"IFERROR(VLOOKUP(B2285,DKC_Price!A:H,3,FALSE),\"\")","v":""}]
[null,null,{"$f":"IFERROR(VLOOKUP(B2286,DKC_Price!A:H,2,FALSE),\"\")","v":""},null,null,null,{"$f":"IFERROR(VLOOKUP(B2286,DKC_Price!A:H,3,FALSE),\"\")","v":""}]
[null,null,{"$f":"IFERROR(VLOOKUP(B2287,DKC_Price!A:H,2,FALSE),\"\")","v":""},null,null,null,{"$f":"IFERROR(VLOOKUP(B2287,DKC_Price!A:H,3,FALSE),\"\")","v":""}]
[null,null,{"$f":"IFERROR(VLOOKUP(B2288,DKC_Price!A:H,2,FALSE),\"\")","v":""},null,null,null,{"$f":"IFERROR(VLOOKUP(B2288,DKC_Price!A:H,3,FALSE),\"\")","v":""}]
[null,null,{"$f":"IFERROR(VLOOKUP(B2289,DKC_Price!A:H,2,FALSE),\"\")","v":""},null,null,null,{"$f":"IFERROR(VLOOKUP(B2289,DKC_Price!A:H,3,FALSE),\"\")","v":""}]
[null,null,{"$f":"IFERROR(VLOOKUP(B2290,DKC_Price!A:H,2,FALSE),\"\")","v":""},null,null,null,{"$f":"IFERROR(VLOOKUP(B2290,DKC_Price!A:H,3,FALSE),\"\")","v":""}]
[null,null,{"$f":"IFERROR(VLOOKUP(B2291,DKC_Price!A:H,2,FALSE),\"\")","v":""},null,null,null,{"$f":"IFERROR(VLOOKUP(B2291,DKC_Price!A:H,3,FALSE),\"\")","v":""}]
[null,null,{"$f":"IFERROR(VLOOKUP(B2292,DKC_Price!A:H,2,FALSE),\"\")","v":""},null,null,null,{"$f":"IFERROR(VLOOKUP(B2292,DKC_Price!A:H,3,FALSE),\"\")","v":""}]
[null,null,{"$f":"IFERROR(VLOOKUP(B2293,DKC_Price!A:H,2,FALSE),\"\")","v":""},null,null,null,{"$f":"IFERROR(VLOOKUP(B2293,DKC_Price!A:H,3,FALSE),\"\")","v":""}]
[null,null,{"$f":"IFERROR(VLOOKUP(B2294,DKC_Price!A:H,2,FALSE),\"\")","v":""},null,null,null,{"$f":"IFERROR(VLOOKUP(B2294,DKC_Price!A:H,3,FALSE),\"\")","v":""}]
[null,null,{"$f":"IFERROR(VLOOKUP(B2295,DKC_Price!A:H,2,FALSE),\"\")","v":""},null,null,null,{"$f":"IFERROR(VLOOKUP(B2295,DKC_Price!A:H,3,FALSE),\"\")","v":""}]
[null,null,{"$f":"IFERROR(VLOOKUP(B2296,DKC_Price!A:H,2,FALSE),\"\")","v":""},null,null,null,{"$f":"IFERROR(VLOOKUP(B2296,DKC_Price!A:H,3,FALSE),\"\")","v":""}]
[null,null,{"$f":"IFERROR(VLOOKUP(B2297,DKC_Price!A:H,2,FALSE),\"\")","v":""},null,null,null,{"$f":"IFERROR(VLOOKUP(B2297,DKC_Price!A:H,3,FALSE),\"\")","v":""}]
[null,null,{"$f":"IFERROR(VLOOKUP(B2298,DKC_Price!A:H,2,FALSE),\"\")","v":""},null,null,null,{"$f":"IFERROR(VLOOKUP(B2298,DKC_Price!A:H,3,FALSE),\"\")","v":""}]
[null,null,{"$f":"IFERROR(VLOOKUP(B2299,DKC_Price!A:H,2,FALSE),\"\")","v":""},null,null,null,{"$f":"IFERROR(VLOOKUP(B2299,DKC_Price!A:H,3,FALSE),\"\")","v":""}]
[null,null,{"$f":"IFERROR(VLOOKUP(B2300,DKC_Price!A:H,2,FALSE),\"\")","v":""},null,null,null,{"$f":"IFERROR(VLOOKUP(B2300,DKC_Price!A:H,3,FALSE),\"\")","v":""}]
[null,null,{"$f":"IFERROR(VLOOKUP(B2301,DKC_Price!A:H,2,FALSE),\"\")","v":""},null,null,null,{"$f":"IFERROR(VLOOKUP(B2301,DKC_Price!A:H,3,FALSE),\"\")","v":""}]
[null,null,{"$f":"IFERROR(VLOOKUP(B2302,DKC_Price!A:H,2,FALSE),\"\")","v":""},null,null,null,{"$f":"IFERROR(VLOOKUP(B2302,DKC_Price!A:H,3,FALSE),\"\")","v":""}]
[null,null,{"$f":"IFERROR(VLOOKUP(B2303,DKC_Price!A:H,2,FALSE),\"\")","v":""},null,null,null,{"$f":"IFERROR(VLOOKUP(B2303,DKC_Price!A:H,3,FALSE),\"\")","v":""}]
[null,null,{"$f":"IFERROR(VLOOKUP(B2304,DKC_Price!A:H,2,FALSE),\"\")","v":""},null,null,null,{"$f":"IFERROR(VLOOKUP(B2304,DKC_Price!A:H,3,FALSE),\"\")","v":""}]
[null,null,{"$f":"IFERROR(VLOOKUP(B2305,DKC_Price!A:H,2,FALSE),\"\")","v":""},null,null,null,{"$f":"IFERROR(VLOOKUP(B2305,DKC_Price!A:H,3,FALSE),\"\")","v":""}]
[null,null,{"$f":"IFERROR(VLOOKUP(B2306,DKC_Price!A:H,2,FALSE),\"\")","v":""},null,null,null,{"$f":"IFERROR(VLOOKUP(B2306,DKC_Price!A:H,3,FALSE),\"\")","v":""}]
[null,null,{"$f":"IFERROR(VLOOKUP(B2307,DKC_Price!A:H,2,FALSE),\"\")","v":""},null,null,null,{"$f":"IFERROR(VLOOKUP(B2307,DKC_Price!A:H,3,FALSE),\"\")","v":""}]
[null,null,{"$f":"IFERROR(VLOOKUP(B2308,DKC_Price!A:H,2,FALSE),\"\")","v":""},null,null,null,{"$f":"IFERROR(VLOOKUP(B2308,DKC_Price!A:H,3,FALSE),\"\")","v":""}]
[null,null,{"$f":"IFERROR(VLOOKUP(B2309,DKC_Price!A:H,2,FALSE),\"\")","v":""},null,null,null,{"$f":"IFERROR(VLOOKUP(B2309,DKC_Price!A:H,3,FALSE),\"\")","v":""}]
[null,null,{"$f":"IFERROR(VLOOKUP(B2310,DKC_Price!A:H,2,FALSE),\"\")","v":""},null,null,null,{"$f":"IFERROR(VLOOKUP(B2310,DKC_Price!A:H,3,FALSE),\"\")","v":""}]
[null,null,{"$f":"IFERROR(VLOOKUP(B2311,DKC_Price!A:H,2,FALSE),\"\")","v":""},null,null,null,{"$f":"IFERROR(VLOOKUP(B2311,DKC_Price!A:H,3,FALSE),\"\")","v":""}]
[null,null,{"$f":"IFERROR(VLOOKUP(B2312,DKC_Price!A:H,2,FALSE),\"\")","v":""},null,null,null,{"$f":"IFERROR(VLOOKUP(B2312,DKC_Price!A:H,3,FALSE),\"\")","v":""}]
[null,null,{"$f":"IFERROR(VLOOKUP(B2313,DKC_Price!A:H,2,FALSE),\"\")","v":""},null,null,null,{"$f":"IFERROR(VLOOKUP(B2313,DKC_Price!A:H,3,FALSE),\"\")","v":""}]
[null,null,{"$f":"IFERROR(VLOOKUP(B2314,DKC_Price!A:H,2,FALSE),\"\")","v":""},null,null,null,{"$f":"IFERROR(VLOOKUP(B2314,DKC_Price!A:H,3,FALSE),\"\")","v":""}]
[null,null,{"$f":"IFERROR(VLOOKUP(B2315,DKC_Price!A:H,2,FALSE),\"\")","v":""},null,null,null,{"$f":"IFERROR(VLOOKUP(B2315,DKC_Price!A:H,3,FALSE),\"\")","v":""}]
[null,null,{"$f":"IFERROR(VLOOKUP(B2316,DKC_Price!A:H,2,FALSE),\"\")","v":""},null,null,null,{"$f":"IFERROR(VLOOKUP(B2316,DKC_Price!A:H,3,FALSE),\"\")","v":""}]
[null,null,{"$f":"IFERROR(VLOOKUP(B2317,DKC_Price!A:H,2,FALSE),\"\")","v":""},null,null,null,{"$f":"IFERROR(VLOOKUP(B2317,DKC_Price!A:H,3,FALSE),\"\")","v":""}]
[null,null,{"$f":"IFERROR(VLOOKUP(B2318,DKC_Price!A:H,2,FALSE),\"\")","v":""},null,null,null,{"$f":"IFERROR(VLOOKUP(B2318,DKC_Price!A:H,3,FALSE),\"\")","v":""}]
[null,null,{"$f":"IFERROR(VLOOKUP(B2319,DKC_Price!A:H,2,FALSE),\"\")","v":""},null,null,null,{"$f":"IFERROR(VLOOKUP(B2319,DKC_Price!A:H,3,FALSE),\"\")","v":""}]
[null,null,{"$f":"IFERROR(VLOOKUP(B2320,DKC_Price!A:H,2,FALSE),\"\")","v":""},null,null,null,{"$f":"IFERROR(VLOOKUP(B2320,DKC_Price!A:H,3,FALSE),\"\")","v":""}]
[null,null,{"$f":"IFERROR(VLOOKUP(B2321,DKC_Price!A:H,2,FALSE),\"\")","v":""},null,null,null,{"$f":"IFERROR(VLOOKUP(B2321,DKC_Price!A:H,3,FALSE),\"\")","v":""}]
[null,null,{"$f":"IFERROR(VLOOKUP(B2322,DKC_Price!A:H,2,FALSE),\"\")","v":""},null,null,null,{"$f":"IFERROR(VLOOKUP(B2322,DKC_Price!A:H,3,FALSE),\"\")","v":""}]
[null,null,{"$f":"IFERROR(VLOOKUP(B2323,DKC_Price!A:H,2,FALSE),\"\")","v":""},null,null,null,{"$f":"IFERROR(VLOOKUP(B2323,DKC_Price!A:H,3,FALSE),\"\")","v":""}]
[null,null,{"$f":"IFERROR(VLOOKUP(B2324,DKC_Price!A:H,2,FALSE),\"\")","v":""},null,null,null,{"$f":"IFERROR(VLOOKUP(B2324,DKC_Price!A:H,3,FALSE),\"\")","v":""}]
[null,null,{"$f":"IFERROR(VLOOKUP(B2325,DKC_Price!A:H,2,FALSE),\"\")","v":""},null,null,null,{"$f":"IFERROR(VLOOKUP(B2325,DKC_Price!A:H,3,FALSE),\"\")","v":""}]
[null,null,{"$f":"IFERROR(VLOOKUP(B2326,DKC_Price!A:H,2,FALSE),\"\")","v":""},null,null,null,{"$f":"IFERROR(VLOOKUP(B2326,DKC_Price!A:H,3,FALSE),\"\")","v":""}]
[null,null,{"$f":"IFERROR(VLOOKUP(B2327,DKC_Price!A:H,2,FALSE),\"\")","v":""},null,null,null,{"$f":"IFERROR(VLOOKUP(B2327,DKC_Price!A:H,3,FALSE),\"\")","v":""}]
[null,null,{"$f":"IFERROR(VLOOKUP(B2328,DKC_Price!A:H,2,FALSE),\"\")","v":""},null,null,null,{"$f":"IFERROR(VLOOKUP(B2328,DKC_Price!A:H,3,FALSE),\"\")","v":""}]
[null,null,{"$f":"IFERROR(VLOOKUP(B2329,DKC_Price!A:H,2,FALSE),\"\")","v":""},null,null,null,{"$f":"IFERROR(VLOOKUP(B2329,DKC_Price!A:H,3,FALSE),\"\")","v":""}]
[null,null,{"$f":"IFERROR(VLOOKUP(B2330,DKC_Price!A:H,2,FALSE),\"\")","v":""},null,null,null,{"$f":"IFERROR(VLOOKUP(B2330,DKC_Price!A:H,3,FALSE),\"\")","v":""}]
[null,null,{"$f":"IFERROR(VLOOKUP(B2331,DKC_Price!A:H,2,FALSE),\"\")","v":""},null,null,null,{"$f":"IFERROR(VLOOKUP(B2331,DKC_Price!A:H,3,FALSE),\"\")","v":""}]
[null,null,{"$f":"IFERROR(VLOOKUP(B2332,DKC_Price!A:H,2,FALSE),\"\")","v":""},null,null,null,{"$f":"IFERROR(VLOOKUP(B2332,DKC_Price!A:H,3,FALSE),\"\")","v":""}]
[null,null,{"$f":"IFERROR(VLOOKUP(B2333,DKC_Price!A:H,2,FALSE),\"\")","v":""},null,null,null,{"$f":"IFERROR(VLOOKUP(B2333,DKC_Price!A:H,3,FALSE),\"\")","v":""}]
[null,null,{"$f":"IFERROR(VLOOKUP(B2334,DKC_Price!A:H,2,FALSE),\"\")","v":""},null,null,null,{"$f":"IFERROR(VLOOKUP(B2334,DKC_Price!A:H,3,FALSE),\"\")","v":""}]
[null,null,{"$f":"IFERROR(VLOOKUP(B2335,DKC_Price!A:H,2,FALSE),\"\")","v":""},null,null,null,{"$f":"IFERROR(VLOOKUP(B2335,DKC_Price!A:H,3,FALSE),\"\")","v":""}]
[null,null,{"$f":"IFERROR(VLOOKUP(B2336,DKC_Price!A:H,2,FALSE),\"\")","v":""},null,null,null,{"$f":"IFERROR(VLOOKUP(B2336,DKC_Price!A:H,3,FALSE),\"\")","v":""}]
[null,null,{"$f":"IFERROR(VLOOKUP(B2337,DKC_Price!A:H,2,FALSE),\"\")","v":""},null,null,null,{"$f":"IFERROR(VLOOKUP(B2337,DKC_Price!A:H,3,FALSE),\"\")","v":""}]
[null,null,{"$f":"IFERROR(VLOOKUP(B2338,DKC_Price!A:H,2,FALSE),\"\")","v":""},null,null,null,{"$f":"IFERROR(VLOOKUP(B2338,DKC_Price!A:H,3,FALSE),\"\")","v":""}]
[null,null,{"$f":"IFERROR(VLOOKUP(B2339,DKC_Price!A:H,2,FALSE),\"\")","v":""},null,null,null,{"$f":"IFERROR(VLOOKUP(B2339,DKC_Price!A:H,3,FALSE),\"\")","v":""}]
[null,null,{"$f":"IFERROR(VLOOKUP(B2340,DKC_Price!A:H,2,FALSE),\"\")","v":""},null,null,null,{"$f":"IFERROR(VLOOKUP(B2340,DKC_Price!A:H,3,FALSE),\"\")","v":""}]
[null,null,{"$f":"IFERROR(VLOOKUP(B2341,DKC_Price!A:H,2,FALSE),\"\")","v":""},null,null,null,{"$f":"IFERROR(VLOOKUP(B2341,DKC_Price!A:H,3,FALSE),\"\")","v":""}]
[null,null,{"$f":"IFERROR(VLOOKUP(B2342,DKC_Price!A:H,2,FALSE),\"\")","v":""},null,null,null,{"$f":"IFERROR(VLOOKUP(B2342,DKC_Price!A:H,3,FALSE),\"\")","v":""}]
[null,null,{"$f":"IFERROR(VLOOKUP(B2343,DKC_Price!A:H,2,FALSE),\"\")","v":""},null,null,null,{"$f":"IFERROR(VLOOKUP(B2343,DKC_Price!A:H,3,FALSE),\"\")","v":""}]
[null,null,{"$f":"IFERROR(VLOOKUP(B2344,DKC_Price!A:H,2,FALSE),\"\")","v":""},null,null,null,{"$f":"IFERROR(VLOOKUP(B2344,DKC_Price!A:H,3,FALSE),\"\")","v":""}]
[null,null,{"$f":"IFERROR(VLOOKUP(B2345,DKC_Price!A:H,2,FALSE),\"\")","v":""},null,null,null,{"$f":"IFERROR(VLOOKUP(B2345,DKC_Price!A:H,3,FALSE),\"\")","v":""}]
[null,null,{"$f":"IFERROR(VLOOKUP(B2346,DKC_Price!A:H,2,FALSE),\"\")","v":""},null,null,null,{"$f":"IFERROR(VLOOKUP(B2346,DKC_Price!A:H,3,FALSE),\"\")","v":""}]
[null,null,{"$f":"IFERROR(VLOOKUP(B2347,DKC_Price!A:H,2,FALSE),\"\")","v":""},null,null,null,{"$f":"IFERROR(VLOOKUP(B2347,DKC_Price!A:H,3,FALSE),\"\")","v":""}]
[null,null,{"$f":"IFERROR(VLOOKUP(B2348,DKC_Price!A:H,2,FALSE),\"\")","v":""},null,null,null,{"$f":"IFERROR(VLOOKUP(B2348,DKC_Price!A:H,3,FALSE),\"\")","v":""}]
[null,null,{"$f":"IFERROR(VLOOKUP(B2349,DKC_Price!A:H,2,FALSE),\"\")","v":""},null,null,null,{"$f":"IFERROR(VLOOKUP(B2349,DKC_Price!A:H,3,FALSE),\"\")","v":""}]
[null,null,{"$f":"IFERROR(VLOOKUP(B2350,DKC_Price!A:H,2,FALSE),\"\")","v":""},null,null,null,{"$f":"IFERROR(VLOOKUP(B2350,DKC_Price!A:H,3,FALSE),\"\")","v":""}]
[null,null,{"$f":"IFERROR(VLOOKUP(B2351,DKC_Price!A:H,2,FALSE),\"\")","v":""},null,null,null,{"$f":"IFERROR(VLOOKUP(B2351,DKC_Price!A:H,3,FALSE),\"\")","v":""}]
[null,null,{"$f":"IFERROR(VLOOKUP(B2352,DKC_Price!A:H,2,FALSE),\"\")","v":""},null,null,null,{"$f":"IFERROR(VLOOKUP(B2352,DKC_Price!A:H,3,FALSE),\"\")","v":""}]
[null,null,{"$f":"IFERROR(VLOOKUP(B2353,DKC_Price!A:H,2,FALSE),\"\")","v":""},null,null,null,{"$f":"IFERROR(VLOOKUP(B2353,DKC_Price!A:H,3,FALSE),\"\")","v":""}]
[null,null,{"$f":"IFERROR(VLOOKUP(B2354,DKC_Price!A:H,2,FALSE),\"\")","v":""},null,null,null,{"$f":"IFERROR(VLOOKUP(B2354,DKC_Price!A:H,3,FALSE),\"\")","v":""}]
[null,null,{"$f":"IFERROR(VLOOKUP(B2355,DKC_Price!A:H,2,FALSE),\"\")","v":""},null,null,null,{"$f":"IFERROR(VLOOKUP(B2355,DKC_Price!A:H,3,FALSE),\"\")","v":""}]
[null,null,{"$f":"IFERROR(VLOOKUP(B2356,DKC_Price!A:H,2,FALSE),\"\")","v":""},null,null,null,{"$f":"IFERROR(VLOOKUP(B2356,DKC_Price!A:H,3,FALSE),\"\")","v":""}]
[null,null,{"$f":"IFERROR(VLOOKUP(B2357,DKC_Price!A:H,2,FALSE),\"\")","v":""},null,null,null,{"$f":"IFERROR(VLOOKUP(B2357,DKC_Price!A:H,3,FALSE),\"\")","v":""}]
[null,null,{"$f":"IFERROR(VLOOKUP(B2358,DKC_Price!A:H,2,FALSE),\"\")","v":""},null,null,null,{"$f":"IFERROR(VLOOKUP(B2358,DKC_Price!A:H,3,FALSE),\"\")","v":""}]
[null,null,{"$f":"IFERROR(VLOOKUP(B2359,DKC_Price!A:H,2,FALSE),\"\")","v":""},null,null,null,{"$f":"IFERROR(VLOOKUP(B2359,DKC_Price!A:H,3,FALSE),\"\")","v":""}]
[null,null,{"$f":"IFERROR(VLOOKUP(B2360,DKC_Price!A:H,2,FALSE),\"\")","v":""},null,null,null,{"$f":"IFERROR(VLOOKUP(B2360,DKC_Price!A:H,3,FALSE),\"\")","v":""}]
[null,null,{"$f":"IFERROR(VLOOKUP(B2361,DKC_Price!A:H,2,FALSE),\"\")","v":""},null,null,null,{"$f":"IFERROR(VLOOKUP(B2361,DKC_Price!A:H,3,FALSE),\"\")","v":""}]
[null,null,{"$f":"IFERROR(VLOOKUP(B2362,DKC_Price!A:H,2,FALSE),\"\")","v":""},null,null,null,{"$f":"IFERROR(VLOOKUP(B2362,DKC_Price!A:H,3,FALSE),\"\")","v":""}]
[null,null,{"$f":"IFERROR(VLOOKUP(B2363,DKC_Price!A:H,2,FALSE),\"\")","v":""},null,null,null,{"$f":"IFERROR(VLOOKUP(B2363,DKC_Price!A:H,3,FALSE),\"\")","v":""}]
[null,null,{"$f":"IFERROR(VLOOKUP(B2364,DKC_Price!A:H,2,FALSE),\"\")","v":""},null,null,null,{"$f":"IFERROR(VLOOKUP(B2364,DKC_Price!A:H,3,FALSE),\"\")","v":""}]
[null,null,{"$f":"IFERROR(VLOOKUP(B2365,DKC_Price!A:H,2,FALSE),\"\")","v":""},null,null,null,{"$f":"IFERROR(VLOOKUP(B2365,DKC_Price!A:H,3,FALSE),\"\")","v":""}]
[null,null,{"$f":"IFERROR(VLOOKUP(B2366,DKC_Price!A:H,2,FALSE),\"\")","v":""},null,null,null,{"$f":"IFERROR(VLOOKUP(B2366,DKC_Price!A:H,3,FALSE),\"\")","v":""}]
[null,null,{"$f":"IFERROR(VLOOKUP(B2367,DKC_Price!A:H,2,FALSE),\"\")","v":""},null,null,null,{"$f":"IFERROR(VLOOKUP(B2367,DKC_Price!A:H,3,FALSE),\"\")","v":""}]
[null,null,{"$f":"IFERROR(VLOOKUP(B2368,DKC_Price!A:H,2,FALSE),\"\")","v":""},null,null,null,{"$f":"IFERROR(VLOOKUP(B2368,DKC_Price!A:H,3,FALSE),\"\")","v":""}]
[null,null,{"$f":"IFERROR(VLOOKUP(B2369,DKC_Price!A:H,2,FALSE),\"\")","v":""},null,null,null,{"$f":"IFERROR(VLOOKUP(B2369,DKC_Price!A:H,3,FALSE),\"\")","v":""}]
[null,null,{"$f":"IFERROR(VLOOKUP(B2370,DKC_Price!A:H,2,FALSE),\"\")","v":""},null,null,null,{"$f":"IFERROR(VLOOKUP(B2370,DKC_Price!A:H,3,FALSE),\"\")","v":""}]
[null,null,{"$f":"IFERROR(VLOOKUP(B2371,DKC_Price!A:H,2,FALSE),\"\")","v":""},null,null,null,{"$f":"IFERROR(VLOOKUP(B2371,DKC_Price!A:H,3,FALSE),\"\")","v":""}]
[null,null,{"$f":"IFERROR(VLOOKUP(B2372,DKC_Price!A:H,2,FALSE),\"\")","v":""},null,null,null,{"$f":"IFERROR(VLOOKUP(B2372,DKC_Price!A:H,3,FALSE),\"\")","v":""}]
[null,null,{"$f":"IFERROR(VLOOKUP(B2373,DKC_Price!A:H,2,FALSE),\"\")","v":""},null,null,null,{"$f":"IFERROR(VLOOKUP(B2373,DKC_Price!A:H,3,FALSE),\"\")","v":""}]
[null,null,{"$f":"IFERROR(VLOOKUP(B2374,DKC_Price!A:H,2,FALSE),\"\")","v":""},null,null,null,{"$f":"IFERROR(VLOOKUP(B2374,DKC_Price!A:H,3,FALSE),\"\")","v":""}]
[null,null,{"$f":"IFERROR(VLOOKUP(B2375,DKC_Price!A:H,2,FALSE),\"\")","v":""},null,null,null,{"$f":"IFERROR(VLOOKUP(B2375,DKC_Price!A:H,3,FALSE),\"\")","v":""}]
[null,null,{"$f":"IFERROR(VLOOKUP(B2376,DKC_Price!A:H,2,FALSE),\"\")","v":""},null,null,null,{"$f":"IFERROR(VLOOKUP(B2376,DKC_Price!A:H,3,FALSE),\"\")","v":""}]
[null,null,{"$f":"IFERROR(VLOOKUP(B2377,DKC_Price!A:H,2,FALSE),\"\")","v":""},null,null,null,{"$f":"IFERROR(VLOOKUP(B2377,DKC_Price!A:H,3,FALSE),\"\")","v":""}]
[null,null,{"$f":"IFERROR(VLOOKUP(B2378,DKC_Price!A:H,2,FALSE),\"\")","v":""},null,null,null,{"$f":"IFERROR(VLOOKUP(B2378,DKC_Price!A:H,3,FALSE),\"\")","v":""}]
[null,null,{"$f":"IFERROR(VLOOKUP(B2379,DKC_Price!A:H,2,FALSE),\"\")","v":""},null,null,null,{"$f":"IFERROR(VLOOKUP(B2379,DKC_Price!A:H,3,FALSE),\"\")","v":""}]
[null,null,{"$f":"IFERROR(VLOOKUP(B2380,DKC_Price!A:H,2,FALSE),\"\")","v":""},null,null,null,{"$f":"IFERROR(VLOOKUP(B2380,DKC_Price!A:H,3,FALSE),\"\")","v":""}]
[null,null,{"$f":"IFERROR(VLOOKUP(B2381,DKC_Price!A:H,2,FALSE),\"\")","v":""},null,null,null,{"$f":"IFERROR(VLOOKUP(B2381,DKC_Price!A:H,3,FALSE),\"\")","v":""}]
[null,null,{"$f":"IFERROR(VLOOKUP(B2382,DKC_Price!A:H,2,FALSE),\"\")","v":""},null,null,null,{"$f":"IFERROR(VLOOKUP(B2382,DKC_Price!A:H,3,FALSE),\"\")","v":""}]
[null,null,{"$f":"IFERROR(VLOOKUP(B2383,DKC_Price!A:H,2,FALSE),\"\")","v":""},null,null,null,{"$f":"IFERROR(VLOOKUP(B2383,DKC_Price!A:H,3,FALSE),\"\")","v":""}]
[null,null,{"$f":"IFERROR(VLOOKUP(B2384,DKC_Price!A:H,2,FALSE),\"\")","v":""},null,null,null,{"$f":"IFERROR(VLOOKUP(B2384,DKC_Price!A:H,3,FALSE),\"\")","v":""}]
[null,null,{"$f":"IFERROR(VLOOKUP(B2385,DKC_Price!A:H,2,FALSE),\"\")","v":""},null,null,null,{"$f":"IFERROR(VLOOKUP(B2385,DKC_Price!A:H,3,FALSE),\"\")","v":""}]
[null,null,{"$f":"IFERROR(VLOOKUP(B2386,DKC_Price!A:H,2,FALSE),\"\")","v":""},null,null,null,{"$f":"IFERROR(VLOOKUP(B2386,DKC_Price!A:H,3,FALSE),\"\")","v":""}]
[null,null,{"$f":"IFERROR(VLOOKUP(B2387,DKC_Price!A:H,2,FALSE),\"\")","v":""},null,null,null,{"$f":"IFERROR(VLOOKUP(B2387,DKC_Price!A:H,3,FALSE),\"\")","v":""}]
[null,null,{"$f":"IFERROR(VLOOKUP(B2388,DKC_Price!A:H,2,FALSE),\"\")","v":""},null,null,null,{"$f":"IFERROR(VLOOKUP(B2388,DKC_Price!A:H,3,FALSE),\"\")","v":""}]
[null,null,{"$f":"IFERROR(VLOOKUP(B2389,DKC_Price!A:H,2,FALSE),\"\")","v":""},null,null,null,{"$f":"IFERROR(VLOOKUP(B2389,DKC_Price!A:H,3,FALSE),\"\")","v":""}]
[null,null,{"$f":"IFERROR(VLOOKUP(B2390,DKC_Price!A:H,2,FALSE),\"\")","v":""},null,null,null,{"$f":"IFERROR(VLOOKUP(B2390,DKC_Price!A:H,3,FALSE),\"\")","v":""}]
[null,null,{"$f":"IFERROR(VLOOKUP(B2391,DKC_Price!A:H,2,FALSE),\"\")","v":""},null,null,null,{"$f":"IFERROR(VLOOKUP(B2391,DKC_Price!A:H,3,FALSE),\"\")","v":""}]
[null,null,{"$f":"IFERROR(VLOOKUP(B2392,DKC_Price!A:H,2,FALSE),\"\")","v":""},null,null,null,{"$f":"IFERROR(VLOOKUP(B2392,DKC_Price!A:H,3,FALSE),\"\")","v":""}]
[null,null,{"$f":"IFERROR(VLOOKUP(B2393,DKC_Price!A:H,2,FALSE),\"\")","v":""},null,null,null,{"$f":"IFERROR(VLOOKUP(B2393,DKC_Price!A:H,3,FALSE),\"\")","v":""}]
[null,null,{"$f":"IFERROR(VLOOKUP(B2394,DKC_Price!A:H,2,FALSE),\"\")","v":""},null,null,null,{"$f":"IFERROR(VLOOKUP(B2394,DKC_Price!A:H,3,FALSE),\"\")","v":""}]
[null,null,{"$f":"IFERROR(VLOOKUP(B2395,DKC_Price!A:H,2,FALSE),\"\")","v":""},null,null,null,{"$f":"IFERROR(VLOOKUP(B2395,DKC_Price!A:H,3,FALSE),\"\")","v":""}]
[null,null,{"$f":"IFERROR(VLOOKUP(B2396,DKC_Price!A:H,2,FALSE),\"\")","v":""},null,null,null,{"$f":"IFERROR(VLOOKUP(B2396,DKC_Price!A:H,3,FALSE),\"\")","v":""}]
[null,null,{"$f":"IFERROR(VLOOKUP(B2397,DKC_Price!A:H,2,FALSE),\"\")","v":""},null,null,null,{"$f":"IFERROR(VLOOKUP(B2397,DKC_Price!A:H,3,FALSE),\"\")","v":""}]
[null,null,{"$f":"IFERROR(VLOOKUP(B2398,DKC_Price!A:H,2,FALSE),\"\")","v":""},null,null,null,{"$f":"IFERROR(VLOOKUP(B2398,DKC_Price!A:H,3,FALSE),\"\")","v":""}]
[null,null,{"$f":"IFERROR(VLOOKUP(B2399,DKC_Price!A:H,2,FALSE),\"\")","v":""},null,null,null,{"$f":"IFERROR(VLOOKUP(B2399,DKC_Price!A:H,3,FALSE),\"\")","v":""}]
[null,null,{"$f":"IFERROR(VLOOKUP(B2400,DKC_Price!A:H,2,FALSE),\"\")","v":""},null,null,null,{"$f":"IFERROR(VLOOKUP(B2400,DKC_Price!A:H,3,FALSE),\"\")","v":""}]
[null,null,{"$f":"IFERROR(VLOOKUP(B2401,DKC_Price!A:H,2,FALSE),\"\")","v":""},null,null,null,{"$f":"IFERROR(VLOOKUP(B2401,DKC_Price!A:H,3,FALSE),\"\")","v":""}]
[null,null,{"$f":"IFERROR(VLOOKUP(B2402,DKC_Price!A:H,2,FALSE),\"\")","v":""},null,null,null,{"$f":"IFERROR(VLOOKUP(B2402,DKC_Price!A:H,3,FALSE),\"\")","v":""}]
[null,null,{"$f":"IFERROR(VLOOKUP(B2403,DKC_Price!A:H,2,FALSE),\"\")","v":""},null,null,null,{"$f":"IFERROR(VLOOKUP(B2403,DKC_Price!A:H,3,FALSE),\"\")","v":""}]
[null,null,{"$f":"IFERROR(VLOOKUP(B2404,DKC_Price!A:H,2,FALSE),\"\")","v":""},null,null,null,{"$f":"IFERROR(VLOOKUP(B2404,DKC_Price!A:H,3,FALSE),\"\")","v":""}]
[null,null,{"$f":"IFERROR(VLOOKUP(B2405,DKC_Price!A:H,2,FALSE),\"\")","v":""},null,null,null,{"$f":"IFERROR(VLOOKUP(B2405,DKC_Price!A:H,3,FALSE),\"\")","v":""}]
[null,null,{"$f":"IFERROR(VLOOKUP(B2406,DKC_Price!A:H,2,FALSE),\"\")","v":""},null,null,null,{"$f":"IFERROR(VLOOKUP(B2406,DKC_Price!A:H,3,FALSE),\"\")","v":""}]
[null,null,{"$f":"IFERROR(VLOOKUP(B2407,DKC_Price!A:H,2,FALSE),\"\")","v":""},null,null,null,{"$f":"IFERROR(VLOOKUP(B2407,DKC_Price!A:H,3,FALSE),\"\")","v":""}]
[null,null,{"$f":"IFERROR(VLOOKUP(B2408,DKC_Price!A:H,2,FALSE),\"\")","v":""},null,null,null,{"$f":"IFERROR(VLOOKUP(B2408,DKC_Price!A:H,3,FALSE),\"\")","v":""}]
[null,null,{"$f":"IFERROR(VLOOKUP(B2409,DKC_Price!A:H,2,FALSE),\"\")","v":""},null,null,null,{"$f":"IFERROR(VLOOKUP(B2409,DKC_Price!A:H,3,FALSE),\"\")","v":""}]
[null,null,{"$f":"IFERROR(VLOOKUP(B2410,DKC_Price!A:H,2,FALSE),\"\")","v":""},null,null,null,{"$f":"IFERROR(VLOOKUP(B2410,DKC_Price!A:H,3,FALSE),\"\")","v":""}]
[null,null,{"$f":"IFERROR(VLOOKUP(B2411,DKC_Price!A:H,2,FALSE),\"\")","v":""},null,null,null,{"$f":"IFERROR(VLOOKUP(B2411,DKC_Price!A:H,3,FALSE),\"\")","v":""}]
[null,null,{"$f":"IFERROR(VLOOKUP(B2412,DKC_Price!A:H,2,FALSE),\"\")","v":""},null,null,null,{"$f":"IFERROR(VLOOKUP(B2412,DKC_Price!A:H,3,FALSE),\"\")","v":""}]
[null,null,{"$f":"IFERROR(VLOOKUP(B2413,DKC_Price!A:H,2,FALSE),\"\")","v":""},null,null,null,{"$f":"IFERROR(VLOOKUP(B2413,DKC_Price!A:H,3,FALSE),\"\")","v":""}]
[null,null,{"$f":"IFERROR(VLOOKUP(B2414,DKC_Price!A:H,2,FALSE),\"\")","v":""},null,null,null,{"$f":"IFERROR(VLOOKUP(B2414,DKC_Price!A:H,3,FALSE),\"\")","v":""}]
[null,null,{"$f":"IFERROR(VLOOKUP(B2415,DKC_Price!A:H,2,FALSE),\"\")","v":""},null,null,null,{"$f":"IFERROR(VLOOKUP(B2415,DKC_Price!A:H,3,FALSE),\"\")","v":""}]
[null,null,{"$f":"IFERROR(VLOOKUP(B2416,DKC_Price!A:H,2,FALSE),\"\")","v":""},null,null,null,{"$f":"IFERROR(VLOOKUP(B2416,DKC_Price!A:H,3,FALSE),\"\")","v":""}]
[null,null,{"$f":"IFERROR(VLOOKUP(B2417,DKC_Price!A:H,2,FALSE),\"\")","v":""},null,null,null,{"$f":"IFERROR(VLOOKUP(B2417,DKC_Price!A:H,3,FALSE),\"\")","v":""}]
[null,null,{"$f":"IFERROR(VLOOKUP(B2418,DKC_Price!A:H,2,FALSE),\"\")","v":""},null,null,null,{"$f":"IFERROR(VLOOKUP(B2418,DKC_Price!A:H,3,FALSE),\"\")","v":""}]
[null,null,{"$f":"IFERROR(VLOOKUP(B2419,DKC_Price!A:H,2,FALSE),\"\")","v":""},null,null,null,{"$f":"IFERROR(VLOOKUP(B2419,DKC_Price!A:H,3,FALSE),\"\")","v":""}]
[null,null,{"$f":"IFERROR(VLOOKUP(B2420,DKC_Price!A:H,2,FALSE),\"\")","v":""},null,null,null,{"$f":"IFERROR(VLOOKUP(B2420,DKC_Price!A:H,3,FALSE),\"\")","v":""}]
[null,null,{"$f":"IFERROR(VLOOKUP(B2421,DKC_Price!A:H,2,FALSE),\"\")","v":""},null,null,null,{"$f":"IFERROR(VLOOKUP(B2421,DKC_Price!A:H,3,FALSE),\"\")","v":""}]
[null,null,{"$f":"IFERROR(VLOOKUP(B2422,DKC_Price!A:H,2,FALSE),\"\")","v":""},null,null,null,{"$f":"IFERROR(VLOOKUP(B2422,DKC_Price!A:H,3,FALSE),\"\")","v":""}]
[null,null,{"$f":"IFERROR(VLOOKUP(B2423,DKC_Price!A:H,2,FALSE),\"\")","v":""},null,null,null,{"$f":"IFERROR(VLOOKUP(B2423,DKC_Price!A:H,3,FALSE),\"\")","v":""}]
[null,null,{"$f":"IFERROR(VLOOKUP(B2424,DKC_Price!A:H,2,FALSE),\"\")","v":""},null,null,null,{"$f":"IFERROR(VLOOKUP(B2424,DKC_Price!A:H,3,FALSE),\"\")","v":""}]
[null,null,{"$f":"IFERROR(VLOOKUP(B2425,DKC_Price!A:H,2,FALSE),\"\")","v":""},null,null,null,{"$f":"IFERROR(VLOOKUP(B2425,DKC_Price!A:H,3,FALSE),\"\")","v":""}]
[null,null,{"$f":"IFERROR(VLOOKUP(B2426,DKC_Price!A:H,2,FALSE),\"\")","v":""},null,null,null,{"$f":"IFERROR(VLOOKUP(B2426,DKC_Price!A:H,3,FALSE),\"\")","v":""}]
[null,null,{"$f":"IFERROR(VLOOKUP(B2427,DKC_Price!A:H,2,FALSE),\"\")","v":""},null,null,null,{"$f":"IFERROR(VLOOKUP(B2427,DKC_Price!A:H,3,FALSE),\"\")","v":""}]
[null,null,{"$f":"IFERROR(VLOOKUP(B2428,DKC_Price!A:H,2,FALSE),\"\")","v":""},null,null,null,{"$f":"IFERROR(VLOOKUP(B2428,DKC_Price!A:H,3,FALSE),\"\")","v":""}]
[null,null,{"$f":"IFERROR(VLOOKUP(B2429,DKC_Price!A:H,2,FALSE),\"\")","v":""},null,null,null,{"$f":"IFERROR(VLOOKUP(B2429,DKC_Price!A:H,3,FALSE),\"\")","v":""}]
[null,null,{"$f":"IFERROR(VLOOKUP(B2430,DKC_Price!A:H,2,FALSE),\"\")","v":""},null,null,null,{"$f":"IFERROR(VLOOKUP(B2430,DKC_Price!A:H,3,FALSE),\"\")","v":""}]
[null,null,{"$f":"IFERROR(VLOOKUP(B2431,DKC_Price!A:H,2,FALSE),\"\")","v":""},null,null,null,{"$f":"IFERROR(VLOOKUP(B2431,DKC_Price!A:H,3,FALSE),\"\")","v":""}]
[null,null,{"$f":"IFERROR(VLOOKUP(B2432,DKC_Price!A:H,2,FALSE),\"\")","v":""},null,null,null,{"$f":"IFERROR(VLOOKUP(B2432,DKC_Price!A:H,3,FALSE),\"\")","v":""}]
[null,null,{"$f":"IFERROR(VLOOKUP(B2433,DKC_Price!A:H,2,FALSE),\"\")","v":""},null,null,null,{"$f":"IFERROR(VLOOKUP(B2433,DKC_Price!A:H,3,FALSE),\"\")","v":""}]
[null,null,{"$f":"IFERROR(VLOOKUP(B2434,DKC_Price!A:H,2,FALSE),\"\")","v":""},null,null,null,{"$f":"IFERROR(VLOOKUP(B2434,DKC_Price!A:H,3,FALSE),\"\")","v":""}]
[null,null,{"$f":"IFERROR(VLOOKUP(B2435,DKC_Price!A:H,2,FALSE),\"\")","v":""},null,null,null,{"$f":"IFERROR(VLOOKUP(B2435,DKC_Price!A:H,3,FALSE),\"\")","v":""}]
[null,null,{"$f":"IFERROR(VLOOKUP(B2436,DKC_Price!A:H,2,FALSE),\"\")","v":""},null,null,null,{"$f":"IFERROR(VLOOKUP(B2436,DKC_Price!A:H,3,FALSE),\"\")","v":""}]
[null,null,{"$f":"IFERROR(VLOOKUP(B2437,DKC_Price!A:H,2,FALSE),\"\")","v":""},null,null,null,{"$f":"IFERROR(VLOOKUP(B2437,DKC_Price!A:H,3,FALSE),\"\")","v":""}]
[null,null,{"$f":"IFERROR(VLOOKUP(B2438,DKC_Price!A:H,2,FALSE),\"\")","v":""},null,null,null,{"$f":"IFERROR(VLOOKUP(B2438,DKC_Price!A:H,3,FALSE),\"\")","v":""}]
[null,null,{"$f":"IFERROR(VLOOKUP(B2439,DKC_Price!A:H,2,FALSE),\"\")","v":""},null,null,null,{"$f":"IFERROR(VLOOKUP(B2439,DKC_Price!A:H,3,FALSE),\"\")","v":""}]
[null,null,{"$f":"IFERROR(VLOOKUP(B2440,DKC_Price!A:H,2,FALSE),\"\")","v":""},null,null,null,{"$f":"IFERROR(VLOOKUP(B2440,DKC_Price!A:H,3,FALSE),\"\")","v":""}]
[null,null,{"$f":"IFERROR(VLOOKUP(B2441,DKC_Price!A:H,2,FALSE),\"\")","v":""},null,null,null,{"$f":"IFERROR(VLOOKUP(B2441,DKC_Price!A:H,3,FALSE),\"\")","v":""}]
[null,null,{"$f":"IFERROR(VLOOKUP(B2442,DKC_Price!A:H,2,FALSE),\"\")","v":""},null,null,null,{"$f":"IFERROR(VLOOKUP(B2442,DKC_Price!A:H,3,FALSE),\"\")","v":""}]
[null,null,{"$f":"IFERROR(VLOOKUP(B2443,DKC_Price!A:H,2,FALSE),\"\")","v":""},null,null,null,{"$f":"IFERROR(VLOOKUP(B2443,DKC_Price!A:H,3,FALSE),\"\")","v":""}]
[null,null,{"$f":"IFERROR(VLOOKUP(B2444,DKC_Price!A:H,2,FALSE),\"\")","v":""},null,null,null,{"$f":"IFERROR(VLOOKUP(B2444,DKC_Price!A:H,3,FALSE),\"\")","v":""}]
[null,null,{"$f":"IFERROR(VLOOKUP(B2445,DKC_Price!A:H,2,FALSE),\"\")","v":""},null,null,null,{"$f":"IFERROR(VLOOKUP(B2445,DKC_Price!A:H,3,FALSE),\"\")","v":""}]
[null,null,{"$f":"IFERROR(VLOOKUP(B2446,DKC_Price!A:H,2,FALSE),\"\")","v":""},null,null,null,{"$f":"IFERROR(VLOOKUP(B2446,DKC_Price!A:H,3,FALSE),\"\")","v":""}]
[null,null,{"$f":"IFERROR(VLOOKUP(B2447,DKC_Price!A:H,2,FALSE),\"\")","v":""},null,null,null,{"$f":"IFERROR(VLOOKUP(B2447,DKC_Price!A:H,3,FALSE),\"\")","v":""}]
[null,null,{"$f":"IFERROR(VLOOKUP(B2448,DKC_Price!A:H,2,FALSE),\"\")","v":""},null,null,null,{"$f":"IFERROR(VLOOKUP(B2448,DKC_Price!A:H,3,FALSE),\"\")","v":""}]
[null,null,{"$f":"IFERROR(VLOOKUP(B2449,DKC_Price!A:H,2,FALSE),\"\")","v":""},null,null,null,{"$f":"IFERROR(VLOOKUP(B2449,DKC_Price!A:H,3,FALSE),\"\")","v":""}]
[null,null,{"$f":"IFERROR(VLOOKUP(B2450,DKC_Price!A:H,2,FALSE),\"\")","v":""},null,null,null,{"$f":"IFERROR(VLOOKUP(B2450,DKC_Price!A:H,3,FALSE),\"\")","v":""}]
[null,null,{"$f":"IFERROR(VLOOKUP(B2451,DKC_Price!A:H,2,FALSE),\"\")","v":""},null,null,null,{"$f":"IFERROR(VLOOKUP(B2451,DKC_Price!A:H,3,FALSE),\"\")","v":""}]
[null,null,{"$f":"IFERROR(VLOOKUP(B2452,DKC_Price!A:H,2,FALSE),\"\")","v":""},null,null,null,{"$f":"IFERROR(VLOOKUP(B2452,DKC_Price!A:H,3,FALSE),\"\")","v":""}]
[null,null,{"$f":"IFERROR(VLOOKUP(B2453,DKC_Price!A:H,2,FALSE),\"\")","v":""},null,null,null,{"$f":"IFERROR(VLOOKUP(B2453,DKC_Price!A:H,3,FALSE),\"\")","v":""}]
[null,null,{"$f":"IFERROR(VLOOKUP(B2454,DKC_Price!A:H,2,FALSE),\"\")","v":""},null,null,null,{"$f":"IFERROR(VLOOKUP(B2454,DKC_Price!A:H,3,FALSE),\"\")","v":""}]
[null,null,{"$f":"IFERROR(VLOOKUP(B2455,DKC_Price!A:H,2,FALSE),\"\")","v":""},null,null,null,{"$f":"IFERROR(VLOOKUP(B2455,DKC_Price!A:H,3,FALSE),\"\")","v":""}]
[null,null,{"$f":"IFERROR(VLOOKUP(B2456,DKC_Price!A:H,2,FALSE),\"\")","v":""},null,null,null,{"$f":"IFERROR(VLOOKUP(B2456,DKC_Price!A:H,3,FALSE),\"\")","v":""}]
[null,null,{"$f":"IFERROR(VLOOKUP(B2457,DKC_Price!A:H,2,FALSE),\"\")","v":""},null,null,null,{"$f":"IFERROR(VLOOKUP(B2457,DKC_Price!A:H,3,FALSE),\"\")","v":""}]
[null,null,{"$f":"IFERROR(VLOOKUP(B2458,DKC_Price!A:H,2,FALSE),\"\")","v":""},null,null,null,{"$f":"IFERROR(VLOOKUP(B2458,DKC_Price!A:H,3,FALSE),\"\")","v":""}]
[null,null,{"$f":"IFERROR(VLOOKUP(B2459,DKC_Price!A:H,2,FALSE),\"\")","v":""},null,null,null,{"$f":"IFERROR(VLOOKUP(B2459,DKC_Price!A:H,3,FALSE),\"\")","v":""}]
[null,null,{"$f":"IFERROR(VLOOKUP(B2460,DKC_Price!A:H,2,FALSE),\"\")","v":""},null,null,null,{"$f":"IFERROR(VLOOKUP(B2460,DKC_Price!A:H,3,FALSE),\"\")","v":""}]
[null,null,{"$f":"IFERROR(VLOOKUP(B2461,DKC_Price!A:H,2,FALSE),\"\")","v":""},null,null,null,{"$f":"IFERROR(VLOOKUP(B2461,DKC_Price!A:H,3,FALSE),\"\")","v":""}]
[null,null,{"$f":"IFERROR(VLOOKUP(B2462,DKC_Price!A:H,2,FALSE),\"\")","v":""},null,null,null,{"$f":"IFERROR(VLOOKUP(B2462,DKC_Price!A:H,3,FALSE),\"\")","v":""}]
[null,null,{"$f":"IFERROR(VLOOKUP(B2463,DKC_Price!A:H,2,FALSE),\"\")","v":""},null,null,null,{"$f":"IFERROR(VLOOKUP(B2463,DKC_Price!A:H,3,FALSE),\"\")","v":""}]
[null,null,{"$f":"IFERROR(VLOOKUP(B2464,DKC_Price!A:H,2,FALSE),\"\")","v":""},null,null,null,{"$f":"IFERROR(VLOOKUP(B2464,DKC_Price!A:H,3,FALSE),\"\")","v":""}]
[null,null,{"$f":"IFERROR(VLOOKUP(B2465,DKC_Price!A:H,2,FALSE),\"\")","v":""},null,null,null,{"$f":"IFERROR(VLOOKUP(B2465,DKC_Price!A:H,3,FALSE),\"\")","v":""}]
[null,null,{"$f":"IFERROR(VLOOKUP(B2466,DKC_Price!A:H,2,FALSE),\"\")","v":""},null,null,null,{"$f":"IFERROR(VLOOKUP(B2466,DKC_Price!A:H,3,FALSE),\"\")","v":""}]
[null,null,{"$f":"IFERROR(VLOOKUP(B2467,DKC_Price!A:H,2,FALSE),\"\")","v":""},null,null,null,{"$f":"IFERROR(VLOOKUP(B2467,DKC_Price!A:H,3,FALSE),\"\")","v":""}]
[null,null,{"$f":"IFERROR(VLOOKUP(B2468,DKC_Price!A:H,2,FALSE),\"\")","v":""},null,null,null,{"$f":"IFERROR(VLOOKUP(B2468,DKC_Price!A:H,3,FALSE),\"\")","v":""}]
[null,null,{"$f":"IFERROR(VLOOKUP(B2469,DKC_Price!A:H,2,FALSE),\"\")","v":""},null,null,null,{"$f":"IFERROR(VLOOKUP(B2469,DKC_Price!A:H,3,FALSE),\"\")","v":""}]
[null,null,{"$f":"IFERROR(VLOOKUP(B2470,DKC_Price!A:H,2,FALSE),\"\")","v":""},null,null,null,{"$f":"IFERROR(VLOOKUP(B2470,DKC_Price!A:H,3,FALSE),\"\")","v":""}]
[null,null,{"$f":"IFERROR(VLOOKUP(B2471,DKC_Price!A:H,2,FALSE),\"\")","v":""},null,null,null,{"$f":"IFERROR(VLOOKUP(B2471,DKC_Price!A:H,3,FALSE),\"\")","v":""}]
[null,null,{"$f":"IFERROR(VLOOKUP(B2472,DKC_Price!A:H,2,FALSE),\"\")","v":""},null,null,null,{"$f":"IFERROR(VLOOKUP(B2472,DKC_Price!A:H,3,FALSE),\"\")","v":""}]
[null,null,{"$f":"IFERROR(VLOOKUP(B2473,DKC_Price!A:H,2,FALSE),\"\")","v":""},null,null,null,{"$f":"IFERROR(VLOOKUP(B2473,DKC_Price!A:H,3,FALSE),\"\")","v":""}]
[null,null,{"$f":"IFERROR(VLOOKUP(B2474,DKC_Price!A:H,2,FALSE),\"\")","v":""},null,null,null,{"$f":"IFERROR(VLOOKUP(B2474,DKC_Price!A:H,3,FALSE),\"\")","v":""}]
[null,null,{"$f":"IFERROR(VLOOKUP(B2475,DKC_Price!A:H,2,FALSE),\"\")","v":""},null,null,null,{"$f":"IFERROR(VLOOKUP(B2475,DKC_Price!A:H,3,FALSE),\"\")","v":""}]
[null,null,{"$f":"IFERROR(VLOOKUP(B2476,DKC_Price!A:H,2,FALSE),\"\")","v":""},null,null,null,{"$f":"IFERROR(VLOOKUP(B2476,DKC_Price!A:H,3,FALSE),\"\")","v":""}]
[null,null,{"$f":"IFERROR(VLOOKUP(B2477,DKC_Price!A:H,2,FALSE),\"\")","v":""},null,null,null,{"$f":"IFERROR(VLOOKUP(B2477,DKC_Price!A:H,3,FALSE),\"\")","v":""}]
[null,null,{"$f":"IFERROR(VLOOKUP(B2478,DKC_Price!A:H,2,FALSE),\"\")","v":""},null,null,null,{"$f":"IFERROR(VLOOKUP(B2478,DKC_Price!A:H,3,FALSE),\"\")","v":""}]
[null,null,{"$f":"IFERROR(VLOOKUP(B2479,DKC_Price!A:H,2,FALSE),\"\")","v":""},null,null,null,{"$f":"IFERROR(VLOOKUP(B2479,DKC_Price!A:H,3,FALSE),\"\")","v":""}]
[null,null,{"$f":"IFERROR(VLOOKUP(B2480,DKC_Price!A:H,2,FALSE),\"\")","v":""},null,null,null,{"$f":"IFERROR(VLOOKUP(B2480,DKC_Price!A:H,3,FALSE),\"\")","v":""}]
[null,null,{"$f":"IFERROR(VLOOKUP(B2481,DKC_Price!A:H,2,FALSE),\"\")","v":""},null,null,null,{"$f":"IFERROR(VLOOKUP(B2481,DKC_Price!A:H,3,FALSE),\"\")","v":""}]
[null,null,{"$f":"IFERROR(VLOOKUP(B2482,DKC_Price!A:H,2,FALSE),\"\")","v":""},null,null,null,{"$f":"IFERROR(VLOOKUP(B2482,DKC_Price!A:H,3,FALSE),\"\")","v":""}]
[null,null,{"$f":"IFERROR(VLOOKUP(B2483,DKC_Price!A:H,2,FALSE),\"\")","v":""},null,null,null,{"$f":"IFERROR(VLOOKUP(B2483,DKC_Price!A:H,3,FALSE),\"\")","v":""}]
[null,null,{"$f":"IFERROR(VLOOKUP(B2484,DKC_Price!A:H,2,FALSE),\"\")","v":""},null,null,null,{"$f":"IFERROR(VLOOKUP(B2484,DKC_Price!A:H,3,FALSE),\"\")","v":""}]
[null,null,{"$f":"IFERROR(VLOOKUP(B2485,DKC_Price!A:H,2,FALSE),\"\")","v":""},null,null,null,{"$f":"IFERROR(VLOOKUP(B2485,DKC_Price!A:H,3,FALSE),\"\")","v":""}]
[null,null,{"$f":"IFERROR(VLOOKUP(B2486,DKC_Price!A:H,2,FALSE),\"\")","v":""},null,null,null,{"$f":"IFERROR(VLOOKUP(B2486,DKC_Price!A:H,3,FALSE),\"\")","v":""}]
[null,null,{"$f":"IFERROR(VLOOKUP(B2487,DKC_Price!A:H,2,FALSE),\"\")","v":""},null,null,null,{"$f":"IFERROR(VLOOKUP(B2487,DKC_Price!A:H,3,FALSE),\"\")","v":""}]
[null,null,{"$f":"IFERROR(VLOOKUP(B2488,DKC_Price!A:H,2,FALSE),\"\")","v":""},null,null,null,{"$f":"IFERROR(VLOOKUP(B2488,DKC_Price!A:H,3,FALSE),\"\")","v":""}]
[null,null,{"$f":"IFERROR(VLOOKUP(B2489,DKC_Price!A:H,2,FALSE),\"\")","v":""},null,null,null,{"$f":"IFERROR(VLOOKUP(B2489,DKC_Price!A:H,3,FALSE),\"\")","v":""}]
[null,null,{"$f":"IFERROR(VLOOKUP(B2490,DKC_Price!A:H,2,FALSE),\"\")","v":""},null,null,null,{"$f":"IFERROR(VLOOKUP(B2490,DKC_Price!A:H,3,FALSE),\"\")","v":""}]
[null,null,{"$f":"IFERROR(VLOOKUP(B2491,DKC_Price!A:H,2,FALSE),\"\")","v":""},null,null,null,{"$f":"IFERROR(VLOOKUP(B2491,DKC_Price!A:H,3,FALSE),\"\")","v":""}]
[null,null,{"$f":"IFERROR(VLOOKUP(B2492,DKC_Price!A:H,2,FALSE),\"\")","v":""},null,null,null,{"$f":"IFERROR(VLOOKUP(B2492,DKC_Price!A:H,3,FALSE),\"\")","v":""}]
[null,null,{"$f":"IFERROR(VLOOKUP(B2493,DKC_Price!A:H,2,FALSE),\"\")","v":""},null,null,null,{"$f":"IFERROR(VLOOKUP(B2493,DKC_Price!A:H,3,FALSE),\"\")","v":""}]
[null,null,{"$f":"IFERROR(VLOOKUP(B2494,DKC_Price!A:H,2,FALSE),\"\")","v":""},null,null,null,{"$f":"IFERROR(VLOOKUP(B2494,DKC_Price!A:H,3,FALSE),\"\")","v":""}]
[null,null,{"$f":"IFERROR(VLOOKUP(B2495,DKC_Price!A:H,2,FALSE),\"\")","v":""},null,null,null,{"$f":"IFERROR(VLOOKUP(B2495,DKC_Price!A:H,3,FALSE),\"\")","v":""}]
[null,null,{"$f":"IFERROR(VLOOKUP(B2496,DKC_Price!A:H,2,FALSE),\"\")","v":""},null,null,null,{"$f":"IFERROR(VLOOKUP(B2496,DKC_Price!A:H,3,FALSE),\"\")","v":""}]
[null,null,{"$f":"IFERROR(VLOOKUP(B2497,DKC_Price!A:H,2,FALSE),\"\")","v":""},null,null,null,{"$f":"IFERROR(VLOOKUP(B2497,DKC_Price!A:H,3,FALSE),\"\")","v":""}]
[null,null,{"$f":"IFERROR(VLOOKUP(B2498,DKC_Price!A:H,2,FALSE),\"\")","v":""},null,null,null,{"$f":"IFERROR(VLOOKUP(B2498,DKC_Price!A:H,3,FALSE),\"\")","v":""}]
[null,null,{"$f":"IFERROR(VLOOKUP(B2499,DKC_Price!A:H,2,FALSE),\"\")","v":""},null,null,null,{"$f":"IFERROR(VLOOKUP(B2499,DKC_Price!A:H,3,FALSE),\"\")","v":""}]
[null,null,{"$f":"IFERROR(VLOOKUP(B2500,DKC_Price!A:H,2,FALSE),\"\")","v":""},null,null,null,{"$f":"IFERROR(VLOOKUP(B2500,DKC_Price!A:H,3,FALSE),\"\")","v":""}]
[null,null,{"$f":"IFERROR(VLOOKUP(B2501,DKC_Price!A:H,2,FALSE),\"\")","v":""},null,null,null,{"$f":"IFERROR(VLOOKUP(B2501,DKC_Price!A:H,3,FALSE),\"\")","v":""}]
[null,null,{"$f":"IFERROR(VLOOKUP(B2502,DKC_Price!A:H,2,FALSE),\"\")","v":""},null,null,null,{"$f":"IFERROR(VLOOKUP(B2502,DKC_Price!A:H,3,FALSE),\"\")","v":""}]
[null,null,{"$f":"IFERROR(VLOOKUP(B2503,DKC_Price!A:H,2,FALSE),\"\")","v":""},null,null,null,{"$f":"IFERROR(VLOOKUP(B2503,DKC_Price!A:H,3,FALSE),\"\")","v":""}]
[null,null,{"$f":"IFERROR(VLOOKUP(B2504,DKC_Price!A:H,2,FALSE),\"\")","v":""},null,null,null,{"$f":"IFERROR(VLOOKUP(B2504,DKC_Price!A:H,3,FALSE),\"\")","v":""}]
[null,null,{"$f":"IFERROR(VLOOKUP(B2505,DKC_Price!A:H,2,FALSE),\"\")","v":""},null,null,null,{"$f":"IFERROR(VLOOKUP(B2505,DKC_Price!A:H,3,FALSE),\"\")","v":""}]
[null,null,{"$f":"IFERROR(VLOOKUP(B2506,DKC_Price!A:H,2,FALSE),\"\")","v":""},null,null,null,{"$f":"IFERROR(VLOOKUP(B2506,DKC_Price!A:H,3,FALSE),\"\")","v":""}]
[null,null,{"$f":"IFERROR(VLOOKUP(B2507,DKC_Price!A:H,2,FALSE),\"\")","v":""},null,null,null,{"$f":"IFERROR(VLOOKUP(B2507,DKC_Price!A:H,3,FALSE),\"\")","v":""}]
[null,null,{"$f":"IFERROR(VLOOKUP(B2508,DKC_Price!A:H,2,FALSE),\"\")","v":""},null,null,null,{"$f":"IFERROR(VLOOKUP(B2508,DKC_Price!A:H,3,FALSE),\"\")","v":""}]
[null,null,{"$f":"IFERROR(VLOOKUP(B2509,DKC_Price!A:H,2,FALSE),\"\")","v":""},null,null,null,{"$f":"IFERROR(VLOOKUP(B2509,DKC_Price!A:H,3,FALSE),\"\")","v":""}]
[null,null,{"$f":"IFERROR(VLOOKUP(B2510,DKC_Price!A:H,2,FALSE),\"\")","v":""},null,null,null,{"$f":"IFERROR(VLOOKUP(B2510,DKC_Price!A:H,3,FALSE),\"\")","v":""}]
[null,null,{"$f":"IFERROR(VLOOKUP(B2511,DKC_Price!A:H,2,FALSE),\"\")","v":""},null,null,null,{"$f":"IFERROR(VLOOKUP(B2511,DKC_Price!A:H,3,FALSE),\"\")","v":""}]
[null,null,{"$f":"IFERROR(VLOOKUP(B2512,DKC_Price!A:H,2,FALSE),\"\")","v":""},null,null,null,{"$f":"IFERROR(VLOOKUP(B2512,DKC_Price!A:H,3,FALSE),\"\")","v":""}]
[null,null,{"$f":"IFERROR(VLOOKUP(B2513,DKC_Price!A:H,2,FALSE),\"\")","v":""},null,null,null,{"$f":"IFERROR(VLOOKUP(B2513,DKC_Price!A:H,3,FALSE),\"\")","v":""}]
[null,null,{"$f":"IFERROR(VLOOKUP(B2514,DKC_Price!A:H,2,FALSE),\"\")","v":""},null,null,null,{"$f":"IFERROR(VLOOKUP(B2514,DKC_Price!A:H,3,FALSE),\"\")","v":""}]
[null,null,{"$f":"IFERROR(VLOOKUP(B2515,DKC_Price!A:H,2,FALSE),\"\")","v":""},null,null,null,{"$f":"IFERROR(VLOOKUP(B2515,DKC_Price!A:H,3,FALSE),\"\")","v":""}]
[null,null,{"$f":"IFERROR(VLOOKUP(B2516,DKC_Price!A:H,2,FALSE),\"\")","v":""},null,null,null,{"$f":"IFERROR(VLOOKUP(B2516,DKC_Price!A:H,3,FALSE),\"\")","v":""}]
[null,null,{"$f":"IFERROR(VLOOKUP(B2517,DKC_Price!A:H,2,FALSE),\"\")","v":""},null,null,null,{"$f":"IFERROR(VLOOKUP(B2517,DKC_Price!A:H,3,FALSE),\"\")","v":""}]
[null,null,{"$f":"IFERROR(VLOOKUP(B2518,DKC_Price!A:H,2,FALSE),\"\")","v":""},null,null,null,{"$f":"IFERROR(VLOOKUP(B2518,DKC_Price!A:H,3,FALSE),\"\")","v":""}]
[null,null,{"$f":"IFERROR(VLOOKUP(B2519,DKC_Price!A:H,2,FALSE),\"\")","v":""},null,null,null,{"$f":"IFERROR(VLOOKUP(B2519,DKC_Price!A:H,3,FALSE),\"\")","v":""}]
[null,null,{"$f":"IFERROR(VLOOKUP(B2520,DKC_Price!A:H,2,FALSE),\"\")","v":""},null,null,null,{"$f":"IFERROR(VLOOKUP(B2520,DKC_Price!A:H,3,FALSE),\"\")","v":""}]
[null,null,{"$f":"IFERROR(VLOOKUP(B2521,DKC_Price!A:H,2,FALSE),\"\")","v":""},null,null,null,{"$f":"IFERROR(VLOOKUP(B2521,DKC_Price!A:H,3,FALSE),\"\")","v":""}]
[null,null,{"$f":"IFERROR(VLOOKUP(B2522,DKC_Price!A:H,2,FALSE),\"\")","v":""},null,null,null,{"$f":"IFERROR(VLOOKUP(B2522,DKC_Price!A:H,3,FALSE),\"\")","v":""}]
[null,null,{"$f":"IFERROR(VLOOKUP(B2523,DKC_Price!A:H,2,FALSE),\"\")","v":""},null,null,null,{"$f":"IFERROR(VLOOKUP(B2523,DKC_Price!A:H,3,FALSE),\"\")","v":""}]
[null,null,{"$f":"IFERROR(VLOOKUP(B2524,DKC_Price!A:H,2,FALSE),\"\")","v":""},null,null,null,{"$f":"IFERROR(VLOOKUP(B2524,DKC_Price!A:H,3,FALSE),\"\")","v":""}]
[null,null,{"$f":"IFERROR(VLOOKUP(B2525,DKC_Price!A:H,2,FALSE),\"\")","v":""},null,null,null,{"$f":"IFERROR(VLOOKUP(B2525,DKC_Price!A:H,3,FALSE),\"\")","v":""}]
[null,null,{"$f":"IFERROR(VLOOKUP(B2526,DKC_Price!A:H,2,FALSE),\"\")","v":""},null,null,null,{"$f":"IFERROR(VLOOKUP(B2526,DKC_Price!A:H,3,FALSE),\"\")","v":""}]
[null,null,{"$f":"IFERROR(VLOOKUP(B2527,DKC_Price!A:H,2,FALSE),\"\")","v":""},null,null,null,{"$f":"IFERROR(VLOOKUP(B2527,DKC_Price!A:H,3,FALSE),\"\")","v":""}]
[null,null,{"$f":"IFERROR(VLOOKUP(B2528,DKC_Price!A:H,2,FALSE),\"\")","v":""},null,null,null,{"$f":"IFERROR(VLOOKUP(B2528,DKC_Price!A:H,3,FALSE),\"\")","v":""}]
[null,null,{"$f":"IFERROR(VLOOKUP(B2529,DKC_Price!A:H,2,FALSE),\"\")","v":""},null,null,null,{"$f":"IFERROR(VLOOKUP(B2529,DKC_Price!A:H,3,FALSE),\"\")","v":""}]
[null,null,{"$f":"IFERROR(VLOOKUP(B2530,DKC_Price!A:H,2,FALSE),\"\")","v":""},null,null,null,{"$f":"IFERROR(VLOOKUP(B2530,DKC_Price!A:H,3,FALSE),\"\")","v":""}]
[null,null,{"$f":"IFERROR(VLOOKUP(B2531,DKC_Price!A:H,2,FALSE),\"\")","v":""},null,null,null,{"$f":"IFERROR(VLOOKUP(B2531,DKC_Price!A:H,3,FALSE),\"\")","v":""}]
[null,null,{"$f":"IFERROR(VLOOKUP(B2532,DKC_Price!A:H,2,FALSE),\"\")","v":""},null,null,null,{"$f":"IFERROR(VLOOKUP(B2532,DKC_Price!A:H,3,FALSE),\"\")","v":""}]
[null,null,{"$f":"IFERROR(VLOOKUP(B2533,DKC_Price!A:H,2,FALSE),\"\")","v":""},null,null,null,{"$f":"IFERROR(VLOOKUP(B2533,DKC_Price!A:H,3,FALSE),\"\")","v":""}]
[null,null,{"$f":"IFERROR(VLOOKUP(B2534,DKC_Price!A:H,2,FALSE),\"\")","v":""},null,null,null,{"$f":"IFERROR(VLOOKUP(B2534,DKC_Price!A:H,3,FALSE),\"\")","v":""}]
[null,null,{"$f":"IFERROR(VLOOKUP(B2535,DKC_Price!A:H,2,FALSE),\"\")","v":""},null,null,null,{"$f":"IFERROR(VLOOKUP(B2535,DKC_Price!A:H,3,FALSE),\"\")","v":""}]
[null,null,{"$f":"IFERROR(VLOOKUP(B2536,DKC_Price!A:H,2,FALSE),\"\")","v":""},null,null,null,{"$f":"IFERROR(VLOOKUP(B2536,DKC_Price!A:H,3,FALSE),\"\")","v":""}]
[null,null,{"$f":"IFERROR(VLOOKUP(B2537,DKC_Price!A:H,2,FALSE),\"\")","v":""},null,null,null,{"$f":"IFERROR(VLOOKUP(B2537,DKC_Price!A:H,3,FALSE),\"\")","v":""}]
[null,null,{"$f":"IFERROR(VLOOKUP(B2538,DKC_Price!A:H,2,FALSE),\"\")","v":""},null,null,null,{"$f":"IFERROR(VLOOKUP(B2538,DKC_Price!A:H,3,FALSE),\"\")","v":""}]
[null,null,{"$f":"IFERROR(VLOOKUP(B2539,DKC_Price!A:H,2,FALSE),\"\")","v":""},null,null,null,{"$f":"IFERROR(VLOOKUP(B2539,DKC_Price!A:H,3,FALSE),\"\")","v":""}]
[null,null,{"$f":"IFERROR(VLOOKUP(B2540,DKC_Price!A:H,2,FALSE),\"\")","v":""},null,null,null,{"$f":"IFERROR(VLOOKUP(B2540,DKC_Price!A:H,3,FALSE),\"\")","v":""}]
[null,null,{"$f":"IFERROR(VLOOKUP(B2541,DKC_Price!A:H,2,FALSE),\"\")","v":""},null,null,null,{"$f":"IFERROR(VLOOKUP(B2541,DKC_Price!A:H,3,FALSE),\"\")","v":""}]
[null,null,{"$f":"IFERROR(VLOOKUP(B2542,DKC_Price!A:H,2,FALSE),\"\")","v":""},null,null,null,{"$f":"IFERROR(VLOOKUP(B2542,DKC_Price!A:H,3,FALSE),\"\")","v":""}]
[null,null,{"$f":"IFERROR(VLOOKUP(B2543,DKC_Price!A:H,2,FALSE),\"\")","v":""},null,null,null,{"$f":"IFERROR(VLOOKUP(B2543,DKC_Price!A:H,3,FALSE),\"\")","v":""}]
[null,null,{"$f":"IFERROR(VLOOKUP(B2544,DKC_Price!A:H,2,FALSE),\"\")","v":""},null,null,null,{"$f":"IFERROR(VLOOKUP(B2544,DKC_Price!A:H,3,FALSE),\"\")","v":""}]
[null,null,{"$f":"IFERROR(VLOOKUP(B2545,DKC_Price!A:H,2,FALSE),\"\")","v":""},null,null,null,{"$f":"IFERROR(VLOOKUP(B2545,DKC_Price!A:H,3,FALSE),\"\")","v":""}]
[null,null,{"$f":"IFERROR(VLOOKUP(B2546,DKC_Price!A:H,2,FALSE),\"\")","v":""},null,null,null,{"$f":"IFERROR(VLOOKUP(B2546,DKC_Price!A:H,3,FALSE),\"\")","v":""}]
[null,null,{"$f":"IFERROR(VLOOKUP(B2547,DKC_Price!A:H,2,FALSE),\"\")","v":""},null,null,null,{"$f":"IFERROR(VLOOKUP(B2547,DKC_Price!A:H,3,FALSE),\"\")","v":""}]
[null,null,{"$f":"IFERROR(VLOOKUP(B2548,DKC_Price!A:H,2,FALSE),\"\")","v":""},null,null,null,{"$f":"IFERROR(VLOOKUP(B2548,DKC_Price!A:H,3,FALSE),\"\")","v":""}]
[null,null,{"$f":"IFERROR(VLOOKUP(B2549,DKC_Price!A:H,2,FALSE),\"\")","v":""},null,null,null,{"$f":"IFERROR(VLOOKUP(B2549,DKC_Price!A:H,3,FALSE),\"\")","v":""}]
[null,null,{"$f":"IFERROR(VLOOKUP(B2550,DKC_Price!A:H,2,FALSE),\"\")","v":""},null,null,null,{"$f":"IFERROR(VLOOKUP(B2550,DKC_Price!A:H,3,FALSE),\"\")","v":""}]
[null,null,{"$f":"IFERROR(VLOOKUP(B2551,DKC_Price!A:H,2,FALSE),\"\")","v":""},null,null,null,{"$f":"IFERROR(VLOOKUP(B2551,DKC_Price!A:H,3,FALSE),\"\")","v":""}]
[null,null,{"$f":"IFERROR(VLOOKUP(B2552,DKC_Price!A:H,2,FALSE),\"\")","v":""},null,null,null,{"$f":"IFERROR(VLOOKUP(B2552,DKC_Price!A:H,3,FALSE),\"\")","v":""}]
[null,null,{"$f":"IFERROR(VLOOKUP(B2553,DKC_Price!A:H,2,FALSE),\"\")","v":""},null,null,null,{"$f":"IFERROR(VLOOKUP(B2553,DKC_Price!A:H,3,FALSE),\"\")","v":""}]
[null,null,{"$f":"IFERROR(VLOOKUP(B2554,DKC_Price!A:H,2,FALSE),\"\")","v":""},null,null,null,{"$f":"IFERROR(VLOOKUP(B2554,DKC_Price!A:H,3,FALSE),\"\")","v":""}]
[null,null,{"$f":"IFERROR(VLOOKUP(B2555,DKC_Price!A:H,2,FALSE),\"\")","v":""},null,null,null,{"$f":"IFERROR(VLOOKUP(B2555,DKC_Price!A:H,3,FALSE),\"\")","v":""}]
[null,null,{"$f":"IFERROR(VLOOKUP(B2556,DKC_Price!A:H,2,FALSE),\"\")","v":""},null,null,null,{"$f":"IFERROR(VLOOKUP(B2556,DKC_Price!A:H,3,FALSE),\"\")","v":""}]
[null,null,{"$f":"IFERROR(VLOOKUP(B2557,DKC_Price!A:H,2,FALSE),\"\")","v":""},null,null,null,{"$f":"IFERROR(VLOOKUP(B2557,DKC_Price!A:H,3,FALSE),\"\")","v":""}]
[null,null,{"$f":"IFERROR(VLOOKUP(B2558,DKC_Price!A:H,2,FALSE),\"\")","v":""},null,null,null,{"$f":"IFERROR(VLOOKUP(B2558,DKC_Price!A:H,3,FALSE),\"\")","v":""}]
[null,null,{"$f":"IFERROR(VLOOKUP(B2559,DKC_Price!A:H,2,FALSE),\"\")","v":""},null,null,null,{"$f":"IFERROR(VLOOKUP(B2559,DKC_Price!A:H,3,FALSE),\"\")","v":""}]
[null,null,{"$f":"IFERROR(VLOOKUP(B2560,DKC_Price!A:H,2,FALSE),\"\")","v":""},null,null,null,{"$f":"IFERROR(VLOOKUP(B2560,DKC_Price!A:H,3,FALSE),\"\")","v":""}]
[null,null,{"$f":"IFERROR(VLOOKUP(B2561,DKC_Price!A:H,2,FALSE),\"\")","v":""},null,null,null,{"$f":"IFERROR(VLOOKUP(B2561,DKC_Price!A:H,3,FALSE),\"\")","v":""}]
[null,null,{"$f":"IFERROR(VLOOKUP(B2562,DKC_Price!A:H,2,FALSE),\"\")","v":""},null,null,null,{"$f":"IFERROR(VLOOKUP(B2562,DKC_Price!A:H,3,FALSE),\"\")","v":""}]
[null,null,{"$f":"IFERROR(VLOOKUP(B2563,DKC_Price!A:H,2,FALSE),\"\")","v":""},null,null,null,{"$f":"IFERROR(VLOOKUP(B2563,DKC_Price!A:H,3,FALSE),\"\")","v":""}]
[null,null,{"$f":"IFERROR(VLOOKUP(B2564,DKC_Price!A:H,2,FALSE),\"\")","v":""},null,null,null,{"$f":"IFERROR(VLOOKUP(B2564,DKC_Price!A:H,3,FALSE),\"\")","v":""}]
[null,null,{"$f":"IFERROR(VLOOKUP(B2565,DKC_Price!A:H,2,FALSE),\"\")","v":""},null,null,null,{"$f":"IFERROR(VLOOKUP(B2565,DKC_Price!A:H,3,FALSE),\"\")","v":""}]
[null,null,{"$f":"IFERROR(VLOOKUP(B2566,DKC_Price!A:H,2,FALSE),\"\")","v":""},null,null,null,{"$f":"IFERROR(VLOOKUP(B2566,DKC_Price!A:H,3,FALSE),\"\")","v":""}]
[null,null,{"$f":"IFERROR(VLOOKUP(B2567,DKC_Price!A:H,2,FALSE),\"\")","v":""},null,null,null,{"$f":"IFERROR(VLOOKUP(B2567,DKC_Price!A:H,3,FALSE),\"\")","v":""}]
[null,null,{"$f":"IFERROR(VLOOKUP(B2568,DKC_Price!A:H,2,FALSE),\"\")","v":""},null,null,null,{"$f":"IFERROR(VLOOKUP(B2568,DKC_Price!A:H,3,FALSE),\"\")","v":""}]
[null,null,{"$f":"IFERROR(VLOOKUP(B2569,DKC_Price!A:H,2,FALSE),\"\")","v":""},null,null,null,{"$f":"IFERROR(VLOOKUP(B2569,DKC_Price!A:H,3,FALSE),\"\")","v":""}]
[null,null,{"$f":"IFERROR(VLOOKUP(B2570,DKC_Price!A:H,2,FALSE),\"\")","v":""},null,null,null,{"$f":"IFERROR(VLOOKUP(B2570,DKC_Price!A:H,3,FALSE),\"\")","v":""}]
[null,null,{"$f":"IFERROR(VLOOKUP(B2571,DKC_Price!A:H,2,FALSE),\"\")","v":""},null,null,null,{"$f":"IFERROR(VLOOKUP(B2571,DKC_Price!A:H,3,FALSE),\"\")","v":""}]
[null,null,{"$f":"IFERROR(VLOOKUP(B2572,DKC_Price!A:H,2,FALSE),\"\")","v":""},null,null,null,{"$f":"IFERROR(VLOOKUP(B2572,DKC_Price!A:H,3,FALSE),\"\")","v":""}]
[null,null,{"$f":"IFERROR(VLOOKUP(B2573,DKC_Price!A:H,2,FALSE),\"\")","v":""},null,null,null,{"$f":"IFERROR(VLOOKUP(B2573,DKC_Price!A:H,3,FALSE),\"\")","v":""}]
[null,null,{"$f":"IFERROR(VLOOKUP(B2574,DKC_Price!A:H,2,FALSE),\"\")","v":""},null,null,null,{"$f":"IFERROR(VLOOKUP(B2574,DKC_Price!A:H,3,FALSE),\"\")","v":""}]
[null,null,{"$f":"IFERROR(VLOOKUP(B2575,DKC_Price!A:H,2,FALSE),\"\")","v":""},null,null,null,{"$f":"IFERROR(VLOOKUP(B2575,DKC_Price!A:H,3,FALSE),\"\")","v":""}]
[null,null,{"$f":"IFERROR(VLOOKUP(B2576,DKC_Price!A:H,2,FALSE),\"\")","v":""},null,null,null,{"$f":"IFERROR(VLOOKUP(B2576,DKC_Price!A:H,3,FALSE),\"\")","v":""}]
[null,null,{"$f":"IFERROR(VLOOKUP(B2577,DKC_Price!A:H,2,FALSE),\"\")","v":""},null,null,null,{"$f":"IFERROR(VLOOKUP(B2577,DKC_Price!A:H,3,FALSE),\"\")","v":""}]
[null,null,{"$f":"IFERROR(VLOOKUP(B2578,DKC_Price!A:H,2,FALSE),\"\")","v":""},null,null,null,{"$f":"IFERROR(VLOOKUP(B2578,DKC_Price!A:H,3,FALSE),\"\")","v":""}]
[null,null,{"$f":"IFERROR(VLOOKUP(B2579,DKC_Price!A:H,2,FALSE),\"\")","v":""},null,null,null,{"$f":"IFERROR(VLOOKUP(B2579,DKC_Price!A:H,3,FALSE),\"\")","v":""}]
[null,null,{"$f":"IFERROR(VLOOKUP(B2580,DKC_Price!A:H,2,FALSE),\"\")","v":""},null,null,null,{"$f":"IFERROR(VLOOKUP(B2580,DKC_Price!A:H,3,FALSE),\"\")","v":""}]
[null,null,{"$f":"IFERROR(VLOOKUP(B2581,DKC_Price!A:H,2,FALSE),\"\")","v":""},null,null,null,{"$f":"IFERROR(VLOOKUP(B2581,DKC_Price!A:H,3,FALSE),\"\")","v":""}]
[null,null,{"$f":"IFERROR(VLOOKUP(B2582,DKC_Price!A:H,2,FALSE),\"\")","v":""},null,null,null,{"$f":"IFERROR(VLOOKUP(B2582,DKC_Price!A:H,3,FALSE),\"\")","v":""}]
[null,null,{"$f":"IFERROR(VLOOKUP(B2583,DKC_Price!A:H,2,FALSE),\"\")","v":""},null,null,null,{"$f":"IFERROR(VLOOKUP(B2583,DKC_Price!A:H,3,FALSE),\"\")","v":""}]
[null,null,{"$f":"IFERROR(VLOOKUP(B2584,DKC_Price!A:H,2,FALSE),\"\")","v":""},null,null,null,{"$f":"IFERROR(VLOOKUP(B2584,DKC_Price!A:H,3,FALSE),\"\")","v":""}]
[null,null,{"$f":"IFERROR(VLOOKUP(B2585,DKC_Price!A:H,2,FALSE),\"\")","v":""},null,null,null,{"$f":"IFERROR(VLOOKUP(B2585,DKC_Price!A:H,3,FALSE),\"\")","v":""}]
[null,null,{"$f":"IFERROR(VLOOKUP(B2586,DKC_Price!A:H,2,FALSE),\"\")","v":""},null,null,null,{"$f":"IFERROR(VLOOKUP(B2586,DKC_Price!A:H,3,FALSE),\"\")","v":""}]
[null,null,{"$f":"IFERROR(VLOOKUP(B2587,DKC_Price!A:H,2,FALSE),\"\")","v":""},null,null,null,{"$f":"IFERROR(VLOOKUP(B2587,DKC_Price!A:H,3,FALSE),\"\")","v":""}]
[null,null,{"$f":"IFERROR(VLOOKUP(B2588,DKC_Price!A:H,2,FALSE),\"\")","v":""},null,null,null,{"$f":"IFERROR(VLOOKUP(B2588,DKC_Price!A:H,3,FALSE),\"\")","v":""}]
[null,null,{"$f":"IFERROR(VLOOKUP(B2589,DKC_Price!A:H,2,FALSE),\"\")","v":""},null,null,null,{"$f":"IFERROR(VLOOKUP(B2589,DKC_Price!A:H,3,FALSE),\"\")","v":""}]
[null,null,{"$f":"IFERROR(VLOOKUP(B2590,DKC_Price!A:H,2,FALSE),\"\")","v":""},null,null,null,{"$f":"IFERROR(VLOOKUP(B2590,DKC_Price!A:H,3,FALSE),\"\")","v":""}]
[null,null,{"$f":"IFERROR(VLOOKUP(B2591,DKC_Price!A:H,2,FALSE),\"\")","v":""},null,null,null,{"$f":"IFERROR(VLOOKUP(B2591,DKC_Price!A:H,3,FALSE),\"\")","v":""}]
[null,null,{"$f":"IFERROR(VLOOKUP(B2592,DKC_Price!A:H,2,FALSE),\"\")","v":""},null,null,null,{"$f":"IFERROR(VLOOKUP(B2592,DKC_Price!A:H,3,FALSE),\"\")","v":""}]
[null,null,{"$f":"IFERROR(VLOOKUP(B2593,DKC_Price!A:H,2,FALSE),\"\")","v":""},null,null,null,{"$f":"IFERROR(VLOOKUP(B2593,DKC_Price!A:H,3,FALSE),\"\")","v":""}]
[null,null,{"$f":"IFERROR(VLOOKUP(B2594,DKC_Price!A:H,2,FALSE),\"\")","v":""},null,null,null,{"$f":"IFERROR(VLOOKUP(B2594,DKC_Price!A:H,3,FALSE),\"\")","v":""}]
[null,null,{"$f":"IFERROR(VLOOKUP(B2595,DKC_Price!A:H,2,FALSE),\"\")","v":""},null,null,null,{"$f":"IFERROR(VLOOKUP(B2595,DKC_Price!A:H,3,FALSE),\"\")","v":""}]
[null,null,{"$f":"IFERROR(VLOOKUP(B2596,DKC_Price!A:H,2,FALSE),\"\")","v":""},null,null,null,{"$f":"IFERROR(VLOOKUP(B2596,DKC_Price!A:H,3,FALSE),\"\")","v":""}]
[null,null,{"$f":"IFERROR(VLOOKUP(B2597,DKC_Price!A:H,2,FALSE),\"\")","v":""},null,null,null,{"$f":"IFERROR(VLOOKUP(B2597,DKC_Price!A:H,3,FALSE),\"\")","v":""}]
[null,null,{"$f":"IFERROR(VLOOKUP(B2598,DKC_Price!A:H,2,FALSE),\"\")","v":""},null,null,null,{"$f":"IFERROR(VLOOKUP(B2598,DKC_Price!A:H,3,FALSE),\"\")","v":""}]
[null,null,{"$f":"IFERROR(VLOOKUP(B2599,DKC_Price!A:H,2,FALSE),\"\")","v":""},null,null,null,{"$f":"IFERROR(VLOOKUP(B2599,DKC_Price!A:H,3,FALSE),\"\")","v":""}]
[null,null,{"$f":"IFERROR(VLOOKUP(B2600,DKC_Price!A:H,2,FALSE),\"\")","v":""},null,null,null,{"$f":"IFERROR(VLOOKUP(B2600,DKC_Price!A:H,3,FALSE),\"\")","v":""}]
[null,null,{"$f":"IFERROR(VLOOKUP(B2601,DKC_Price!A:H,2,FALSE),\"\")","v":""},null,null,null,{"$f":"IFERROR(VLOOKUP(B2601,DKC_Price!A:H,3,FALSE),\"\")","v":""}]
[null,null,{"$f":"IFERROR(VLOOKUP(B2602,DKC_Price!A:H,2,FALSE),\"\")","v":""},null,null,null,{"$f":"IFERROR(VLOOKUP(B2602,DKC_Price!A:H,3,FALSE),\"\")","v":""}]
[null,null,{"$f":"IFERROR(VLOOKUP(B2603,DKC_Price!A:H,2,FALSE),\"\")","v":""},null,null,null,{"$f":"IFERROR(VLOOKUP(B2603,DKC_Price!A:H,3,FALSE),\"\")","v":""}]
[null,null,{"$f":"IFERROR(VLOOKUP(B2604,DKC_Price!A:H,2,FALSE),\"\")","v":""},null,null,null,{"$f":"IFERROR(VLOOKUP(B2604,DKC_Price!A:H,3,FALSE),\"\")","v":""}]
[null,null,{"$f":"IFERROR(VLOOKUP(B2605,DKC_Price!A:H,2,FALSE),\"\")","v":""},null,null,null,{"$f":"IFERROR(VLOOKUP(B2605,DKC_Price!A:H,3,FALSE),\"\")","v":""}]
[null,null,{"$f":"IFERROR(VLOOKUP(B2606,DKC_Price!A:H,2,FALSE),\"\")","v":""},null,null,null,{"$f":"IFERROR(VLOOKUP(B2606,DKC_Price!A:H,3,FALSE),\"\")","v":""}]
[null,null,{"$f":"IFERROR(VLOOKUP(B2607,DKC_Price!A:H,2,FALSE),\"\")","v":""},null,null,null,{"$f":"IFERROR(VLOOKUP(B2607,DKC_Price!A:H,3,FALSE),\"\")","v":""}]
[null,null,{"$f":"IFERROR(VLOOKUP(B2608,DKC_Price!A:H,2,FALSE),\"\")","v":""},null,null,null,{"$f":"IFERROR(VLOOKUP(B2608,DKC_Price!A:H,3,FALSE),\"\")","v":""}]
[null,null,{"$f":"IFERROR(VLOOKUP(B2609,DKC_Price!A:H,2,FALSE),\"\")","v":""},null,null,null,{"$f":"IFERROR(VLOOKUP(B2609,DKC_Price!A:H,3,FALSE),\"\")","v":""}]
[null,null,{"$f":"IFERROR(VLOOKUP(B2610,DKC_Price!A:H,2,FALSE),\"\")","v":""},null,null,null,{"$f":"IFERROR(VLOOKUP(B2610,DKC_Price!A:H,3,FALSE),\"\")","v":""}]
[null,null,{"$f":"IFERROR(VLOOKUP(B2611,DKC_Price!A:H,2,FALSE),\"\")","v":""},null,null,null,{"$f":"IFERROR(VLOOKUP(B2611,DKC_Price!A:H,3,FALSE),\"\")","v":""}]
[null,null,{"$f":"IFERROR(VLOOKUP(B2612,DKC_Price!A:H,2,FALSE),\"\")","v":""},null,null,null,{"$f":"IFERROR(VLOOKUP(B2612,DKC_Price!A:H,3,FALSE),\"\")","v":""}]
[null,null,{"$f":"IFERROR(VLOOKUP(B2613,DKC_Price!A:H,2,FALSE),\"\")","v":""},null,null,null,{"$f":"IFERROR(VLOOKUP(B2613,DKC_Price!A:H,3,FALSE),\"\")","v":""}]
[null,null,{"$f":"IFERROR(VLOOKUP(B2614,DKC_Price!A:H,2,FALSE),\"\")","v":""},null,null,null,{"$f":"IFERROR(VLOOKUP(B2614,DKC_Price!A:H,3,FALSE),\"\")","v":""}]
[null,null,{"$f":"IFERROR(VLOOKUP(B2615,DKC_Price!A:H,2,FALSE),\"\")","v":""},null,null,null,{"$f":"IFERROR(VLOOKUP(B2615,DKC_Price!A:H,3,FALSE),\"\")","v":""}]
[null,null,{"$f":"IFERROR(VLOOKUP(B2616,DKC_Price!A:H,2,FALSE),\"\")","v":""},null,null,null,{"$f":"IFERROR(VLOOKUP(B2616,DKC_Price!A:H,3,FALSE),\"\")","v":""}]
[null,null,{"$f":"IFERROR(VLOOKUP(B2617,DKC_Price!A:H,2,FALSE),\"\")","v":""},null,null,null,{"$f":"IFERROR(VLOOKUP(B2617,DKC_Price!A:H,3,FALSE),\"\")","v":""}]
[null,null,{"$f":"IFERROR(VLOOKUP(B2618,DKC_Price!A:H,2,FALSE),\"\")","v":""},null,null,null,{"$f":"IFERROR(VLOOKUP(B2618,DKC_Price!A:H,3,FALSE),\"\")","v":""}]
[null,null,{"$f":"IFERROR(VLOOKUP(B2619,DKC_Price!A:H,2,FALSE),\"\")","v":""},null,null,null,{"$f":"IFERROR(VLOOKUP(B2619,DKC_Price!A:H,3,FALSE),\"\")","v":""}]
[null,null,{"$f":"IFERROR(VLOOKUP(B2620,DKC_Price!A:H,2,FALSE),\"\")","v":""},null,null,null,{"$f":"IFERROR(VLOOKUP(B2620,DKC_Price!A:H,3,FALSE),\"\")","v":""}]
[null,null,{"$f":"IFERROR(VLOOKUP(B2621,DKC_Price!A:H,2,FALSE),\"\")","v":""},null,null,null,{"$f":"IFERROR(VLOOKUP(B2621,DKC_Price!A:H,3,FALSE),\"\")","v":""}]
[null,null,{"$f":"IFERROR(VLOOKUP(B2622,DKC_Price!A:H,2,FALSE),\"\")","v":""},null,null,null,{"$f":"IFERROR(VLOOKUP(B2622,DKC_Price!A:H,3,FALSE),\"\")","v":""}]
[null,null,{"$f":"IFERROR(VLOOKUP(B2623,DKC_Price!A:H,2,FALSE),\"\")","v":""},null,null,null,{"$f":"IFERROR(VLOOKUP(B2623,DKC_Price!A:H,3,FALSE),\"\")","v":""}]
[null,null,{"$f":"IFERROR(VLOOKUP(B2624,DKC_Price!A:H,2,FALSE),\"\")","v":""},null,null,null,{"$f":"IFERROR(VLOOKUP(B2624,DKC_Price!A:H,3,FALSE),\"\")","v":""}]
[null,null,{"$f":"IFERROR(VLOOKUP(B2625,DKC_Price!A:H,2,FALSE),\"\")","v":""},null,null,null,{"$f":"IFERROR(VLOOKUP(B2625,DKC_Price!A:H,3,FALSE),\"\")","v":""}]
[null,null,{"$f":"IFERROR(VLOOKUP(B2626,DKC_Price!A:H,2,FALSE),\"\")","v":""},null,null,null,{"$f":"IFERROR(VLOOKUP(B2626,DKC_Price!A:H,3,FALSE),\"\")","v":""}]
[null,null,{"$f":"IFERROR(VLOOKUP(B2627,DKC_Price!A:H,2,FALSE),\"\")","v":""},null,null,null,{"$f":"IFERROR(VLOOKUP(B2627,DKC_Price!A:H,3,FALSE),\"\")","v":""}]
[null,null,{"$f":"IFERROR(VLOOKUP(B2628,DKC_Price!A:H,2,FALSE),\"\")","v":""},null,null,null,{"$f":"IFERROR(VLOOKUP(B2628,DKC_Price!A:H,3,FALSE),\"\")","v":""}]
[null,null,{"$f":"IFERROR(VLOOKUP(B2629,DKC_Price!A:H,2,FALSE),\"\")","v":""},null,null,null,{"$f":"IFERROR(VLOOKUP(B2629,DKC_Price!A:H,3,FALSE),\"\")","v":""}]
[null,null,{"$f":"IFERROR(VLOOKUP(B2630,DKC_Price!A:H,2,FALSE),\"\")","v":""},null,null,null,{"$f":"IFERROR(VLOOKUP(B2630,DKC_Price!A:H,3,FALSE),\"\")","v":""}]
[null,null,{"$f":"IFERROR(VLOOKUP(B2631,DKC_Price!A:H,2,FALSE),\"\")","v":""},null,null,null,{"$f":"IFERROR(VLOOKUP(B2631,DKC_Price!A:H,3,FALSE),\"\")","v":""}]
[null,null,{"$f":"IFERROR(VLOOKUP(B2632,DKC_Price!A:H,2,FALSE),\"\")","v":""},null,null,null,{"$f":"IFERROR(VLOOKUP(B2632,DKC_Price!A:H,3,FALSE),\"\")","v":""}]
[null,null,{"$f":"IFERROR(VLOOKUP(B2633,DKC_Price!A:H,2,FALSE),\"\")","v":""},null,null,null,{"$f":"IFERROR(VLOOKUP(B2633,DKC_Price!A:H,3,FALSE),\"\")","v":""}]
[null,null,{"$f":"IFERROR(VLOOKUP(B2634,DKC_Price!A:H,2,FALSE),\"\")","v":""},null,null,null,{"$f":"IFERROR(VLOOKUP(B2634,DKC_Price!A:H,3,FALSE),\"\")","v":""}]
[null,null,{"$f":"IFERROR(VLOOKUP(B2635,DKC_Price!A:H,2,FALSE),\"\")","v":""},null,null,null,{"$f":"IFERROR(VLOOKUP(B2635,DKC_Price!A:H,3,FALSE),\"\")","v":""}]
[null,null,{"$f":"IFERROR(VLOOKUP(B2636,DKC_Price!A:H,2,FALSE),\"\")","v":""},null,null,null,{"$f":"IFERROR(VLOOKUP(B2636,DKC_Price!A:H,3,FALSE),\"\")","v":""}]
[null,null,{"$f":"IFERROR(VLOOKUP(B2637,DKC_Price!A:H,2,FALSE),\"\")","v":""},null,null,null,{"$f":"IFERROR(VLOOKUP(B2637,DKC_Price!A:H,3,FALSE),\"\")","v":""}]
[null,null,{"$f":"IFERROR(VLOOKUP(B2638,DKC_Price!A:H,2,FALSE),\"\")","v":""},null,null,null,{"$f":"IFERROR(VLOOKUP(B2638,DKC_Price!A:H,3,FALSE),\"\")","v":""}]
[null,null,{"$f":"IFERROR(VLOOKUP(B2639,DKC_Price!A:H,2,FALSE),\"\")","v":""},null,null,null,{"$f":"IFERROR(VLOOKUP(B2639,DKC_Price!A:H,3,FALSE),\"\")","v":""}]
[null,null,{"$f":"IFERROR(VLOOKUP(B2640,DKC_Price!A:H,2,FALSE),\"\")","v":""},null,null,null,{"$f":"IFERROR(VLOOKUP(B2640,DKC_Price!A:H,3,FALSE),\"\")","v":""}]
[null,null,{"$f":"IFERROR(VLOOKUP(B2641,DKC_Price!A:H,2,FALSE),\"\")","v":""},null,null,null,{"$f":"IFERROR(VLOOKUP(B2641,DKC_Price!A:H,3,FALSE),\"\")","v":""}]
[null,null,{"$f":"IFERROR(VLOOKUP(B2642,DKC_Price!A:H,2,FALSE),\"\")","v":""},null,null,null,{"$f":"IFERROR(VLOOKUP(B2642,DKC_Price!A:H,3,FALSE),\"\")","v":""}]
[null,null,{"$f":"IFERROR(VLOOKUP(B2643,DKC_Price!A:H,2,FALSE),\"\")","v":""},null,null,null,{"$f":"IFERROR(VLOOKUP(B2643,DKC_Price!A:H,3,FALSE),\"\")","v":""}]
[null,null,{"$f":"IFERROR(VLOOKUP(B2644,DKC_Price!A:H,2,FALSE),\"\")","v":""},null,null,null,{"$f":"IFERROR(VLOOKUP(B2644,DKC_Price!A:H,3,FALSE),\"\")","v":""}]
[null,null,{"$f":"IFERROR(VLOOKUP(B2645,DKC_Price!A:H,2,FALSE),\"\")","v":""},null,null,null,{"$f":"IFERROR(VLOOKUP(B2645,DKC_Price!A:H,3,FALSE),\"\")","v":""}]
[null,null,{"$f":"IFERROR(VLOOKUP(B2646,DKC_Price!A:H,2,FALSE),\"\")","v":""},null,null,null,{"$f":"IFERROR(VLOOKUP(B2646,DKC_Price!A:H,3,FALSE),\"\")","v":""}]
[null,null,{"$f":"IFERROR(VLOOKUP(B2647,DKC_Price!A:H,2,FALSE),\"\")","v":""},null,null,null,{"$f":"IFERROR(VLOOKUP(B2647,DKC_Price!A:H,3,FALSE),\"\")","v":""}]
[null,null,{"$f":"IFERROR(VLOOKUP(B2648,DKC_Price!A:H,2,FALSE),\"\")","v":""},null,null,null,{"$f":"IFERROR(VLOOKUP(B2648,DKC_Price!A:H,3,FALSE),\"\")","v":""}]
[null,null,{"$f":"IFERROR(VLOOKUP(B2649,DKC_Price!A:H,2,FALSE),\"\")","v":""},null,null,null,{"$f":"IFERROR(VLOOKUP(B2649,DKC_Price!A:H,3,FALSE),\"\")","v":""}]
[null,null,{"$f":"IFERROR(VLOOKUP(B2650,DKC_Price!A:H,2,FALSE),\"\")","v":""},null,null,null,{"$f":"IFERROR(VLOOKUP(B2650,DKC_Price!A:H,3,FALSE),\"\")","v":""}]
[null,null,{"$f":"IFERROR(VLOOKUP(B2651,DKC_Price!A:H,2,FALSE),\"\")","v":""},null,null,null,{"$f":"IFERROR(VLOOKUP(B2651,DKC_Price!A:H,3,FALSE),\"\")","v":""}]
[null,null,{"$f":"IFERROR(VLOOKUP(B2652,DKC_Price!A:H,2,FALSE),\"\")","v":""},null,null,null,{"$f":"IFERROR(VLOOKUP(B2652,DKC_Price!A:H,3,FALSE),\"\")","v":""}]
[null,null,{"$f":"IFERROR(VLOOKUP(B2653,DKC_Price!A:H,2,FALSE),\"\")","v":""},null,null,null,{"$f":"IFERROR(VLOOKUP(B2653,DKC_Price!A:H,3,FALSE),\"\")","v":""}]
[null,null,{"$f":"IFERROR(VLOOKUP(B2654,DKC_Price!A:H,2,FALSE),\"\")","v":""},null,null,null,{"$f":"IFERROR(VLOOKUP(B2654,DKC_Price!A:H,3,FALSE),\"\")","v":""}]
[null,null,{"$f":"IFERROR(VLOOKUP(B2655,DKC_Price!A:H,2,FALSE),\"\")","v":""},null,null,null,{"$f":"IFERROR(VLOOKUP(B2655,DKC_Price!A:H,3,FALSE),\"\")","v":""}]
[null,null,{"$f":"IFERROR(VLOOKUP(B2656,DKC_Price!A:H,2,FALSE),\"\")","v":""},null,null,null,{"$f":"IFERROR(VLOOKUP(B2656,DKC_Price!A:H,3,FALSE),\"\")","v":""}]
[null,null,{"$f":"IFERROR(VLOOKUP(B2657,DKC_Price!A:H,2,FALSE),\"\")","v":""},null,null,null,{"$f":"IFERROR(VLOOKUP(B2657,DKC_Price!A:H,3,FALSE),\"\")","v":""}]
[null,null,{"$f":"IFERROR(VLOOKUP(B2658,DKC_Price!A:H,2,FALSE),\"\")","v":""},null,null,null,{"$f":"IFERROR(VLOOKUP(B2658,DKC_Price!A:H,3,FALSE),\"\")","v":""}]
[null,null,{"$f":"IFERROR(VLOOKUP(B2659,DKC_Price!A:H,2,FALSE),\"\")","v":""},null,null,null,{"$f":"IFERROR(VLOOKUP(B2659,DKC_Price!A:H,3,FALSE),\"\")","v":""}]
[null,null,{"$f":"IFERROR(VLOOKUP(B2660,DKC_Price!A:H,2,FALSE),\"\")","v":""},null,null,null,{"$f":"IFERROR(VLOOKUP(B2660,DKC_Price!A:H,3,FALSE),\"\")","v":""}]
[null,null,{"$f":"IFERROR(VLOOKUP(B2661,DKC_Price!A:H,2,FALSE),\"\")","v":""},null,null,null,{"$f":"IFERROR(VLOOKUP(B2661,DKC_Price!A:H,3,FALSE),\"\")","v":""}]
[null,null,{"$f":"IFERROR(VLOOKUP(B2662,DKC_Price!A:H,2,FALSE),\"\")","v":""},null,null,null,{"$f":"IFERROR(VLOOKUP(B2662,DKC_Price!A:H,3,FALSE),\"\")","v":""}]
[null,null,{"$f":"IFERROR(VLOOKUP(B2663,DKC_Price!A:H,2,FALSE),\"\")","v":""},null,null,null,{"$f":"IFERROR(VLOOKUP(B2663,DKC_Price!A:H,3,FALSE),\"\")","v":""}]
[null,null,{"$f":"IFERROR(VLOOKUP(B2664,DKC_Price!A:H,2,FALSE),\"\")","v":""},null,null,null,{"$f":"IFERROR(VLOOKUP(B2664,DKC_Price!A:H,3,FALSE),\"\")","v":""}]
[null,null,{"$f":"IFERROR(VLOOKUP(B2665,DKC_Price!A:H,2,FALSE),\"\")","v":""},null,null,null,{"$f":"IFERROR(VLOOKUP(B2665,DKC_Price!A:H,3,FALSE),\"\")","v":""}]
[null,null,{"$f":"IFERROR(VLOOKUP(B2666,DKC_Price!A:H,2,FALSE),\"\")","v":""},null,null,null,{"$f":"IFERROR(VLOOKUP(B2666,DKC_Price!A:H,3,FALSE),\"\")","v":""}]
[null,null,{"$f":"IFERROR(VLOOKUP(B2667,DKC_Price!A:H,2,FALSE),\"\")","v":""},null,null,null,{"$f":"IFERROR(VLOOKUP(B2667,DKC_Price!A:H,3,FALSE),\"\")","v":""}]
[null,null,{"$f":"IFERROR(VLOOKUP(B2668,DKC_Price!A:H,2,FALSE),\"\")","v":""},null,null,null,{"$f":"IFERROR(VLOOKUP(B2668,DKC_Price!A:H,3,FALSE),\"\")","v":""}]
[null,null,{"$f":"IFERROR(VLOOKUP(B2669,DKC_Price!A:H,2,FALSE),\"\")","v":""},null,null,null,{"$f":"IFERROR(VLOOKUP(B2669,DKC_Price!A:H,3,FALSE),\"\")","v":""}]
[null,null,{"$f":"IFERROR(VLOOKUP(B2670,DKC_Price!A:H,2,FALSE),\"\")","v":""},null,null,null,{"$f":"IFERROR(VLOOKUP(B2670,DKC_Price!A:H,3,FALSE),\"\")","v":""}]
[null,null,{"$f":"IFERROR(VLOOKUP(B2671,DKC_Price!A:H,2,FALSE),\"\")","v":""},null,null,null,{"$f":"IFERROR(VLOOKUP(B2671,DKC_Price!A:H,3,FALSE),\"\")","v":""}]
[null,null,{"$f":"IFERROR(VLOOKUP(B2672,DKC_Price!A:H,2,FALSE),\"\")","v":""},null,null,null,{"$f":"IFERROR(VLOOKUP(B2672,DKC_Price!A:H,3,FALSE),\"\")","v":""}]
[null,null,{"$f":"IFERROR(VLOOKUP(B2673,DKC_Price!A:H,2,FALSE),\"\")","v":""},null,null,null,{"$f":"IFERROR(VLOOKUP(B2673,DKC_Price!A:H,3,FALSE),\"\")","v":""}]
[null,null,{"$f":"IFERROR(VLOOKUP(B2674,DKC_Price!A:H,2,FALSE),\"\")","v":""},null,null,null,{"$f":"IFERROR(VLOOKUP(B2674,DKC_Price!A:H,3,FALSE),\"\")","v":""}]
[null,null,{"$f":"IFERROR(VLOOKUP(B2675,DKC_Price!A:H,2,FALSE),\"\")","v":""},null,null,null,{"$f":"IFERROR(VLOOKUP(B2675,DKC_Price!A:H,3,FALSE),\"\")","v":""}]
[null,null,{"$f":"IFERROR(VLOOKUP(B2676,DKC_Price!A:H,2,FALSE),\"\")","v":""},null,null,null,{"$f":"IFERROR(VLOOKUP(B2676,DKC_Price!A:H,3,FALSE),\"\")","v":""}]
[null,null,{"$f":"IFERROR(VLOOKUP(B2677,DKC_Price!A:H,2,FALSE),\"\")","v":""},null,null,null,{"$f":"IFERROR(VLOOKUP(B2677,DKC_Price!A:H,3,FALSE),\"\")","v":""}]
[null,null,{"$f":"IFERROR(VLOOKUP(B2678,DKC_Price!A:H,2,FALSE),\"\")","v":""},null,null,null,{"$f":"IFERROR(VLOOKUP(B2678,DKC_Price!A:H,3,FALSE),\"\")","v":""}]
[null,null,{"$f":"IFERROR(VLOOKUP(B2679,DKC_Price!A:H,2,FALSE),\"\")","v":""},null,null,null,{"$f":"IFERROR(VLOOKUP(B2679,DKC_Price!A:H,3,FALSE),\"\")","v":""}]
[null,null,{"$f":"IFERROR(VLOOKUP(B2680,DKC_Price!A:H,2,FALSE),\"\")","v":""},null,null,null,{"$f":"IFERROR(VLOOKUP(B2680,DKC_Price!A:H,3,FALSE),\"\")","v":""}]
[null,null,{"$f":"IFERROR(VLOOKUP(B2681,DKC_Price!A:H,2,FALSE),\"\")","v":""},null,null,null,{"$f":"IFERROR(VLOOKUP(B2681,DKC_Price!A:H,3,FALSE),\"\")","v":""}]
[null,null,{"$f":"IFERROR(VLOOKUP(B2682,DKC_Price!A:H,2,FALSE),\"\")","v":""},null,null,null,{"$f":"IFERROR(VLOOKUP(B2682,DKC_Price!A:H,3,FALSE),\"\")","v":""}]
[null,null,{"$f":"IFERROR(VLOOKUP(B2683,DKC_Price!A:H,2,FALSE),\"\")","v":""},null,null,null,{"$f":"IFERROR(VLOOKUP(B2683,DKC_Price!A:H,3,FALSE),\"\")","v":""}]
[null,null,{"$f":"IFERROR(VLOOKUP(B2684,DKC_Price!A:H,2,FALSE),\"\")","v":""},null,null,null,{"$f":"IFERROR(VLOOKUP(B2684,DKC_Price!A:H,3,FALSE),\"\")","v":""}]
[null,null,{"$f":"IFERROR(VLOOKUP(B2685,DKC_Price!A:H,2,FALSE),\"\")","v":""},null,null,null,{"$f":"IFERROR(VLOOKUP(B2685,DKC_Price!A:H,3,FALSE),\"\")","v":""}]
[null,null,{"$f":"IFERROR(VLOOKUP(B2686,DKC_Price!A:H,2,FALSE),\"\")","v":""},null,null,null,{"$f":"IFERROR(VLOOKUP(B2686,DKC_Price!A:H,3,FALSE),\"\")","v":""}]
[null,null,{"$f":"IFERROR(VLOOKUP(B2687,DKC_Price!A:H,2,FALSE),\"\")","v":""},null,null,null,{"$f":"IFERROR(VLOOKUP(B2687,DKC_Price!A:H,3,FALSE),\"\")","v":""}]
[null,null,{"$f":"IFERROR(VLOOKUP(B2688,DKC_Price!A:H,2,FALSE),\"\")","v":""},null,null,null,{"$f":"IFERROR(VLOOKUP(B2688,DKC_Price!A:H,3,FALSE),\"\")","v":""}]
[null,null,{"$f":"IFERROR(VLOOKUP(B2689,DKC_Price!A:H,2,FALSE),\"\")","v":""},null,null,null,{"$f":"IFERROR(VLOOKUP(B2689,DKC_Price!A:H,3,FALSE),\"\")","v":""}]
[null,null,{"$f":"IFERROR(VLOOKUP(B2690,DKC_Price!A:H,2,FALSE),\"\")","v":""},null,null,null,{"$f":"IFERROR(VLOOKUP(B2690,DKC_Price!A:H,3,FALSE),\"\")","v":""}]
[null,null,{"$f":"IFERROR(VLOOKUP(B2691,DKC_Price!A:H,2,FALSE),\"\")","v":""},null,null,null,{"$f":"IFERROR(VLOOKUP(B2691,DKC_Price!A:H,3,FALSE),\"\")","v":""}]
[null,null,{"$f":"IFERROR(VLOOKUP(B2692,DKC_Price!A:H,2,FALSE),\"\")","v":""},null,null,null,{"$f":"IFERROR(VLOOKUP(B2692,DKC_Price!A:H,3,FALSE),\"\")","v":""}]
[null,null,{"$f":"IFERROR(VLOOKUP(B2693,DKC_Price!A:H,2,FALSE),\"\")","v":""},null,null,null,{"$f":"IFERROR(VLOOKUP(B2693,DKC_Price!A:H,3,FALSE),\"\")","v":""}]
[null,null,{"$f":"IFERROR(VLOOKUP(B2694,DKC_Price!A:H,2,FALSE),\"\")","v":""},null,null,null,{"$f":"IFERROR(VLOOKUP(B2694,DKC_Price!A:H,3,FALSE),\"\")","v":""}]
[null,null,{"$f":"IFERROR(VLOOKUP(B2695,DKC_Price!A:H,2,FALSE),\"\")","v":""},null,null,null,{"$f":"IFERROR(VLOOKUP(B2695,DKC_Price!A:H,3,FALSE),\"\")","v":""}]
[null,null,{"$f":"IFERROR(VLOOKUP(B2696,DKC_Price!A:H,2,FALSE),\"\")","v":""},null,null,null,{"$f":"IFERROR(VLOOKUP(B2696,DKC_Price!A:H,3,FALSE),\"\")","v":""}]
[null,null,{"$f":"IFERROR(VLOOKUP(B2697,DKC_Price!A:H,2,FALSE),\"\")","v":""},null,null,null,{"$f":"IFERROR(VLOOKUP(B2697,DKC_Price!A:H,3,FALSE),\"\")","v":""}]
[null,null,{"$f":"IFERROR(VLOOKUP(B2698,DKC_Price!A:H,2,FALSE),\"\")","v":""},null,null,null,{"$f":"IFERROR(VLOOKUP(B2698,DKC_Price!A:H,3,FALSE),\"\")","v":""}]
[null,null,{"$f":"IFERROR(VLOOKUP(B2699,DKC_Price!A:H,2,FALSE),\"\")","v":""},null,null,null,{"$f":"IFERROR(VLOOKUP(B2699,DKC_Price!A:H,3,FALSE),\"\")","v":""}]
[null,null,{"$f":"IFERROR(VLOOKUP(B2700,DKC_Price!A:H,2,FALSE),\"\")","v":""},null,null,null,{"$f":"IFERROR(VLOOKUP(B2700,DKC_Price!A:H,3,FALSE),\"\")","v":""}]
[null,null,{"$f":"IFERROR(VLOOKUP(B2701,DKC_Price!A:H,2,FALSE),\"\")","v":""},null,null,null,{"$f":"IFERROR(VLOOKUP(B2701,DKC_Price!A:H,3,FALSE),\"\")","v":""}]
[null,null,{"$f":"IFERROR(VLOOKUP(B2702,DKC_Price!A:H,2,FALSE),\"\")","v":""},null,null,null,{"$f":"IFERROR(VLOOKUP(B2702,DKC_Price!A:H,3,FALSE),\"\")","v":""}]
[null,null,{"$f":"IFERROR(VLOOKUP(B2703,DKC_Price!A:H,2,FALSE),\"\")","v":""},null,null,null,{"$f":"IFERROR(VLOOKUP(B2703,DKC_Price!A:H,3,FALSE),\"\")","v":""}]
[null,null,{"$f":"IFERROR(VLOOKUP(B2704,DKC_Price!A:H,2,FALSE),\"\")","v":""},null,null,null,{"$f":"IFERROR(VLOOKUP(B2704,DKC_Price!A:H,3,FALSE),\"\")","v":""}]
[null,null,{"$f":"IFERROR(VLOOKUP(B2705,DKC_Price!A:H,2,FALSE),\"\")","v":""},null,null,null,{"$f":"IFERROR(VLOOKUP(B2705,DKC_Price!A:H,3,FALSE),\"\")","v":""}]
[null,null,{"$f":"IFERROR(VLOOKUP(B2706,DKC_Price!A:H,2,FALSE),\"\")","v":""},null,null,null,{"$f":"IFERROR(VLOOKUP(B2706,DKC_Price!A:H,3,FALSE),\"\")","v":""}]
[null,null,{"$f":"IFERROR(VLOOKUP(B2707,DKC_Price!A:H,2,FALSE),\"\")","v":""},null,null,null,{"$f":"IFERROR(VLOOKUP(B2707,DKC_Price!A:H,3,FALSE),\"\")","v":""}]
[null,null,{"$f":"IFERROR(VLOOKUP(B2708,DKC_Price!A:H,2,FALSE),\"\")","v":""},null,null,null,{"$f":"IFERROR(VLOOKUP(B2708,DKC_Price!A:H,3,FALSE),\"\")","v":""}]
[null,null,{"$f":"IFERROR(VLOOKUP(B2709,DKC_Price!A:H,2,FALSE),\"\")","v":""},null,null,null,{"$f":"IFERROR(VLOOKUP(B2709,DKC_Price!A:H,3,FALSE),\"\")","v":""}]
[null,null,{"$f":"IFERROR(VLOOKUP(B2710,DKC_Price!A:H,2,FALSE),\"\")","v":""},null,null,null,{"$f":"IFERROR(VLOOKUP(B2710,DKC_Price!A:H,3,FALSE),\"\")","v":""}]
[null,null,{"$f":"IFERROR(VLOOKUP(B2711,DKC_Price!A:H,2,FALSE),\"\")","v":""},null,null,null,{"$f":"IFERROR(VLOOKUP(B2711,DKC_Price!A:H,3,FALSE),\"\")","v":""}]
[null,null,{"$f":"IFERROR(VLOOKUP(B2712,DKC_Price!A:H,2,FALSE),\"\")","v":""},null,null,null,{"$f":"IFERROR(VLOOKUP(B2712,DKC_Price!A:H,3,FALSE),\"\")","v":""}]
[null,null,{"$f":"IFERROR(VLOOKUP(B2713,DKC_Price!A:H,2,FALSE),\"\")","v":""},null,null,null,{"$f":"IFERROR(VLOOKUP(B2713,DKC_Price!A:H,3,FALSE),\"\")","v":""}]
[null,null,{"$f":"IFERROR(VLOOKUP(B2714,DKC_Price!A:H,2,FALSE),\"\")","v":""},null,null,null,{"$f":"IFERROR(VLOOKUP(B2714,DKC_Price!A:H,3,FALSE),\"\")","v":""}]
[null,null,{"$f":"IFERROR(VLOOKUP(B2715,DKC_Price!A:H,2,FALSE),\"\")","v":""},null,null,null,{"$f":"IFERROR(VLOOKUP(B2715,DKC_Price!A:H,3,FALSE),\"\")","v":""}]
[null,null,{"$f":"IFERROR(VLOOKUP(B2716,DKC_Price!A:H,2,FALSE),\"\")","v":""},null,null,null,{"$f":"IFERROR(VLOOKUP(B2716,DKC_Price!A:H,3,FALSE),\"\")","v":""}]
[null,null,{"$f":"IFERROR(VLOOKUP(B2717,DKC_Price!A:H,2,FALSE),\"\")","v":""},null,null,null,{"$f":"IFERROR(VLOOKUP(B2717,DKC_Price!A:H,3,FALSE),\"\")","v":""}]
[null,null,{"$f":"IFERROR(VLOOKUP(B2718,DKC_Price!A:H,2,FALSE),\"\")","v":""},null,null,null,{"$f":"IFERROR(VLOOKUP(B2718,DKC_Price!A:H,3,FALSE),\"\")","v":""}]
[null,null,{"$f":"IFERROR(VLOOKUP(B2719,DKC_Price!A:H,2,FALSE),\"\")","v":""},null,null,null,{"$f":"IFERROR(VLOOKUP(B2719,DKC_Price!A:H,3,FALSE),\"\")","v":""}]
[null,null,{"$f":"IFERROR(VLOOKUP(B2720,DKC_Price!A:H,2,FALSE),\"\")","v":""},null,null,null,{"$f":"IFERROR(VLOOKUP(B2720,DKC_Price!A:H,3,FALSE),\"\")","v":""}]
[null,null,{"$f":"IFERROR(VLOOKUP(B2721,DKC_Price!A:H,2,FALSE),\"\")","v":""},null,null,null,{"$f":"IFERROR(VLOOKUP(B2721,DKC_Price!A:H,3,FALSE),\"\")","v":""}]
[null,null,{"$f":"IFERROR(VLOOKUP(B2722,DKC_Price!A:H,2,FALSE),\"\")","v":""},null,null,null,{"$f":"IFERROR(VLOOKUP(B2722,DKC_Price!A:H,3,FALSE),\"\")","v":""}]
[null,null,{"$f":"IFERROR(VLOOKUP(B2723,DKC_Price!A:H,2,FALSE),\"\")","v":""},null,null,null,{"$f":"IFERROR(VLOOKUP(B2723,DKC_Price!A:H,3,FALSE),\"\")","v":""}]
[null,null,{"$f":"IFERROR(VLOOKUP(B2724,DKC_Price!A:H,2,FALSE),\"\")","v":""},null,null,null,{"$f":"IFERROR(VLOOKUP(B2724,DKC_Price!A:H,3,FALSE),\"\")","v":""}]
[null,null,{"$f":"IFERROR(VLOOKUP(B2725,DKC_Price!A:H,2,FALSE),\"\")","v":""},null,null,null,{"$f":"IFERROR(VLOOKUP(B2725,DKC_Price!A:H,3,FALSE),\"\")","v":""}]
[null,null,{"$f":"IFERROR(VLOOKUP(B2726,DKC_Price!A:H,2,FALSE),\"\")","v":""},null,null,null,{"$f":"IFERROR(VLOOKUP(B2726,DKC_Price!A:H,3,FALSE),\"\")","v":""}]
[null,null,{"$f":"IFERROR(VLOOKUP(B2727,DKC_Price!A:H,2,FALSE),\"\")","v":""},null,null,null,{"$f":"IFERROR(VLOOKUP(B2727,DKC_Price!A:H,3,FALSE),\"\")","v":""}]
[null,null,{"$f":"IFERROR(VLOOKUP(B2728,DKC_Price!A:H,2,FALSE),\"\")","v":""},null,null,null,{"$f":"IFERROR(VLOOKUP(B2728,DKC_Price!A:H,3,FALSE),\"\")","v":""}]
[null,null,{"$f":"IFERROR(VLOOKUP(B2729,DKC_Price!A:H,2,FALSE),\"\")","v":""},null,null,null,{"$f":"IFERROR(VLOOKUP(B2729,DKC_Price!A:H,3,FALSE),\"\")","v":""}]
[null,null,{"$f":"IFERROR(VLOOKUP(B2730,DKC_Price!A:H,2,FALSE),\"\")","v":""},null,null,null,{"$f":"IFERROR(VLOOKUP(B2730,DKC_Price!A:H,3,FALSE),\"\")","v":""}]
[null,null,{"$f":"IFERROR(VLOOKUP(B2731,DKC_Price!A:H,2,FALSE),\"\")","v":""},null,null,null,{"$f":"IFERROR(VLOOKUP(B2731,DKC_Price!A:H,3,FALSE),\"\")","v":""}]
[null,null,{"$f":"IFERROR(VLOOKUP(B2732,DKC_Price!A:H,2,FALSE),\"\")","v":""},null,null,null,{"$f":"IFERROR(VLOOKUP(B2732,DKC_Price!A:H,3,FALSE),\"\")","v":""}]
[null,null,{"$f":"IFERROR(VLOOKUP(B2733,DKC_Price!A:H,2,FALSE),\"\")","v":""},null,null,null,{"$f":"IFERROR(VLOOKUP(B2733,DKC_Price!A:H,3,FALSE),\"\")","v":""}]
[null,null,{"$f":"IFERROR(VLOOKUP(B2734,DKC_Price!A:H,2,FALSE),\"\")","v":""},null,null,null,{"$f":"IFERROR(VLOOKUP(B2734,DKC_Price!A:H,3,FALSE),\"\")","v":""}]
[null,null,{"$f":"IFERROR(VLOOKUP(B2735,DKC_Price!A:H,2,FALSE),\"\")","v":""},null,null,null,{"$f":"IFERROR(VLOOKUP(B2735,DKC_Price!A:H,3,FALSE),\"\")","v":""}]
[null,null,{"$f":"IFERROR(VLOOKUP(B2736,DKC_Price!A:H,2,FALSE),\"\")","v":""},null,null,null,{"$f":"IFERROR(VLOOKUP(B2736,DKC_Price!A:H,3,FALSE),\"\")","v":""}]
[null,null,{"$f":"IFERROR(VLOOKUP(B2737,DKC_Price!A:H,2,FALSE),\"\")","v":""},null,null,null,{"$f":"IFERROR(VLOOKUP(B2737,DKC_Price!A:H,3,FALSE),\"\")","v":""}]
[null,null,{"$f":"IFERROR(VLOOKUP(B2738,DKC_Price!A:H,2,FALSE),\"\")","v":""},null,null,null,{"$f":"IFERROR(VLOOKUP(B2738,DKC_Price!A:H,3,FALSE),\"\")","v":""}]
[null,null,{"$f":"IFERROR(VLOOKUP(B2739,DKC_Price!A:H,2,FALSE),\"\")","v":""},null,null,null,{"$f":"IFERROR(VLOOKUP(B2739,DKC_Price!A:H,3,FALSE),\"\")","v":""}]
[null,null,{"$f":"IFERROR(VLOOKUP(B2740,DKC_Price!A:H,2,FALSE),\"\")","v":""},null,null,null,{"$f":"IFERROR(VLOOKUP(B2740,DKC_Price!A:H,3,FALSE),\"\")","v":""}]
[null,null,{"$f":"IFERROR(VLOOKUP(B2741,DKC_Price!A:H,2,FALSE),\"\")","v":""},null,null,null,{"$f":"IFERROR(VLOOKUP(B2741,DKC_Price!A:H,3,FALSE),\"\")","v":""}]
[null,null,{"$f":"IFERROR(VLOOKUP(B2742,DKC_Price!A:H,2,FALSE),\"\")","v":""},null,null,null,{"$f":"IFERROR(VLOOKUP(B2742,DKC_Price!A:H,3,FALSE),\"\")","v":""}]
[null,null,{"$f":"IFERROR(VLOOKUP(B2743,DKC_Price!A:H,2,FALSE),\"\")","v":""},null,null,null,{"$f":"IFERROR(VLOOKUP(B2743,DKC_Price!A:H,3,FALSE),\"\")","v":""}]
[null,null,{"$f":"IFERROR(VLOOKUP(B2744,DKC_Price!A:H,2,FALSE),\"\")","v":""},null,null,null,{"$f":"IFERROR(VLOOKUP(B2744,DKC_Price!A:H,3,FALSE),\"\")","v":""}]
[null,null,{"$f":"IFERROR(VLOOKUP(B2745,DKC_Price!A:H,2,FALSE),\"\")","v":""},null,null,null,{"$f":"IFERROR(VLOOKUP(B2745,DKC_Price!A:H,3,FALSE),\"\")","v":""}]
[null,null,{"$f":"IFERROR(VLOOKUP(B2746,DKC_Price!A:H,2,FALSE),\"\")","v":""},null,null,null,{"$f":"IFERROR(VLOOKUP(B2746,DKC_Price!A:H,3,FALSE),\"\")","v":""}]
[null,null,{"$f":"IFERROR(VLOOKUP(B2747,DKC_Price!A:H,2,FALSE),\"\")","v":""},null,null,null,{"$f":"IFERROR(VLOOKUP(B2747,DKC_Price!A:H,3,FALSE),\"\")","v":""}]
[null,null,{"$f":"IFERROR(VLOOKUP(B2748,DKC_Price!A:H,2,FALSE),\"\")","v":""},null,null,null,{"$f":"IFERROR(VLOOKUP(B2748,DKC_Price!A:H,3,FALSE),\"\")","v":""}]
[null,null,{"$f":"IFERROR(VLOOKUP(B2749,DKC_Price!A:H,2,FALSE),\"\")","v":""},null,null,null,{"$f":"IFERROR(VLOOKUP(B2749,DKC_Price!A:H,3,FALSE),\"\")","v":""}]
[null,null,{"$f":"IFERROR(VLOOKUP(B2750,DKC_Price!A:H,2,FALSE),\"\")","v":""},null,null,null,{"$f":"IFERROR(VLOOKUP(B2750,DKC_Price!A:H,3,FALSE),\"\")","v":""}]
[null,null,{"$f":"IFERROR(VLOOKUP(B2751,DKC_Price!A:H,2,FALSE),\"\")","v":""},null,null,null,{"$f":"IFERROR(VLOOKUP(B2751,DKC_Price!A:H,3,FALSE),\"\")","v":""}]
[null,null,{"$f":"IFERROR(VLOOKUP(B2752,DKC_Price!A:H,2,FALSE),\"\")","v":""},null,null,null,{"$f":"IFERROR(VLOOKUP(B2752,DKC_Price!A:H,3,FALSE),\"\")","v":""}]
[null,null,{"$f":"IFERROR(VLOOKUP(B2753,DKC_Price!A:H,2,FALSE),\"\")","v":""},null,null,null,{"$f":"IFERROR(VLOOKUP(B2753,DKC_Price!A:H,3,FALSE),\"\")","v":""}]
[null,null,{"$f":"IFERROR(VLOOKUP(B2754,DKC_Price!A:H,2,FALSE),\"\")","v":""},null,null,null,{"$f":"IFERROR(VLOOKUP(B2754,DKC_Price!A:H,3,FALSE),\"\")","v":""}]
[null,null,{"$f":"IFERROR(VLOOKUP(B2755,DKC_Price!A:H,2,FALSE),\"\")","v":""},null,null,null,{"$f":"IFERROR(VLOOKUP(B2755,DKC_Price!A:H,3,FALSE),\"\")","v":""}]
[null,null,{"$f":"IFERROR(VLOOKUP(B2756,DKC_Price!A:H,2,FALSE),\"\")","v":""},null,null,null,{"$f":"IFERROR(VLOOKUP(B2756,DKC_Price!A:H,3,FALSE),\"\")","v":""}]
[null,null,{"$f":"IFERROR(VLOOKUP(B2757,DKC_Price!A:H,2,FALSE),\"\")","v":""},null,null,null,{"$f":"IFERROR(VLOOKUP(B2757,DKC_Price!A:H,3,FALSE),\"\")","v":""}]
[null,null,{"$f":"IFERROR(VLOOKUP(B2758,DKC_Price!A:H,2,FALSE),\"\")","v":""},null,null,null,{"$f":"IFERROR(VLOOKUP(B2758,DKC_Price!A:H,3,FALSE),\"\")","v":""}]
[null,null,{"$f":"IFERROR(VLOOKUP(B2759,DKC_Price!A:H,2,FALSE),\"\")","v":""},null,null,null,{"$f":"IFERROR(VLOOKUP(B2759,DKC_Price!A:H,3,FALSE),\"\")","v":""}]
[null,null,{"$f":"IFERROR(VLOOKUP(B2760,DKC_Price!A:H,2,FALSE),\"\")","v":""},null,null,null,{"$f":"IFERROR(VLOOKUP(B2760,DKC_Price!A:H,3,FALSE),\"\")","v":""}]
[null,null,{"$f":"IFERROR(VLOOKUP(B2761,DKC_Price!A:H,2,FALSE),\"\")","v":""},null,null,null,{"$f":"IFERROR(VLOOKUP(B2761,DKC_Price!A:H,3,FALSE),\"\")","v":""}]
[null,null,{"$f":"IFERROR(VLOOKUP(B2762,DKC_Price!A:H,2,FALSE),\"\")","v":""},null,null,null,{"$f":"IFERROR(VLOOKUP(B2762,DKC_Price!A:H,3,FALSE),\"\")","v":""}]
[null,null,{"$f":"IFERROR(VLOOKUP(B2763,DKC_Price!A:H,2,FALSE),\"\")","v":""},null,null,null,{"$f":"IFERROR(VLOOKUP(B2763,DKC_Price!A:H,3,FALSE),\"\")","v":""}]
[null,null,{"$f":"IFERROR(VLOOKUP(B2764,DKC_Price!A:H,2,FALSE),\"\")","v":""},null,null,null,{"$f":"IFERROR(VLOOKUP(B2764,DKC_Price!A:H,3,FALSE),\"\")","v":""}]
[null,null,{"$f":"IFERROR(VLOOKUP(B2765,DKC_Price!A:H,2,FALSE),\"\")","v":""},null,null,null,{"$f":"IFERROR(VLOOKUP(B2765,DKC_Price!A:H,3,FALSE),\"\")","v":""}]
[null,null,{"$f":"IFERROR(VLOOKUP(B2766,DKC_Price!A:H,2,FALSE),\"\")","v":""},null,null,null,{"$f":"IFERROR(VLOOKUP(B2766,DKC_Price!A:H,3,FALSE),\"\")","v":""}]
[null,null,{"$f":"IFERROR(VLOOKUP(B2767,DKC_Price!A:H,2,FALSE),\"\")","v":""},null,null,null,{"$f":"IFERROR(VLOOKUP(B2767,DKC_Price!A:H,3,FALSE),\"\")","v":""}]
[null,null,{"$f":"IFERROR(VLOOKUP(B2768,DKC_Price!A:H,2,FALSE),\"\")","v":""},null,null,null,{"$f":"IFERROR(VLOOKUP(B2768,DKC_Price!A:H,3,FALSE),\"\")","v":""}]
[null,null,{"$f":"IFERROR(VLOOKUP(B2769,DKC_Price!A:H,2,FALSE),\"\")","v":""},null,null,null,{"$f":"IFERROR(VLOOKUP(B2769,DKC_Price!A:H,3,FALSE),\"\")","v":""}]
[null,null,{"$f":"IFERROR(VLOOKUP(B2770,DKC_Price!A:H,2,FALSE),\"\")","v":""},null,null,null,{"$f":"IFERROR(VLOOKUP(B2770,DKC_Price!A:H,3,FALSE),\"\")","v":""}]
[null,null,{"$f":"IFERROR(VLOOKUP(B2771,DKC_Price!A:H,2,FALSE),\"\")","v":""},null,null,null,{"$f":"IFERROR(VLOOKUP(B2771,DKC_Price!A:H,3,FALSE),\"\")","v":""}]
[null,null,{"$f":"IFERROR(VLOOKUP(B2772,DKC_Price!A:H,2,FALSE),\"\")","v":""},null,null,null,{"$f":"IFERROR(VLOOKUP(B2772,DKC_Price!A:H,3,FALSE),\"\")","v":""}]
[null,null,{"$f":"IFERROR(VLOOKUP(B2773,DKC_Price!A:H,2,FALSE),\"\")","v":""},null,null,null,{"$f":"IFERROR(VLOOKUP(B2773,DKC_Price!A:H,3,FALSE),\"\")","v":""}]
[null,null,{"$f":"IFERROR(VLOOKUP(B2774,DKC_Price!A:H,2,FALSE),\"\")","v":""},null,null,null,{"$f":"IFERROR(VLOOKUP(B2774,DKC_Price!A:H,3,FALSE),\"\")","v":""}]
[null,null,{"$f":"IFERROR(VLOOKUP(B2775,DKC_Price!A:H,2,FALSE),\"\")","v":""},null,null,null,{"$f":"IFERROR(VLOOKUP(B2775,DKC_Price!A:H,3,FALSE),\"\")","v":""}]
[null,null,{"$f":"IFERROR(VLOOKUP(B2776,DKC_Price!A:H,2,FALSE),\"\")","v":""},null,null,null,{"$f":"IFERROR(VLOOKUP(B2776,DKC_Price!A:H,3,FALSE),\"\")","v":""}]
[null,null,{"$f":"IFERROR(VLOOKUP(B2777,DKC_Price!A:H,2,FALSE),\"\")","v":""},null,null,null,{"$f":"IFERROR(VLOOKUP(B2777,DKC_Price!A:H,3,FALSE),\"\")","v":""}]
[null,null,{"$f":"IFERROR(VLOOKUP(B2778,DKC_Price!A:H,2,FALSE),\"\")","v":""},null,null,null,{"$f":"IFERROR(VLOOKUP(B2778,DKC_Price!A:H,3,FALSE),\"\")","v":""}]
[null,null,{"$f":"IFERROR(VLOOKUP(B2779,DKC_Price!A:H,2,FALSE),\"\")","v":""},null,null,null,{"$f":"IFERROR(VLOOKUP(B2779,DKC_Price!A:H,3,FALSE),\"\")","v":""}]
[null,null,{"$f":"IFERROR(VLOOKUP(B2780,DKC_Price!A:H,2,FALSE),\"\")","v":""},null,null,null,{"$f":"IFERROR(VLOOKUP(B2780,DKC_Price!A:H,3,FALSE),\"\")","v":""}]
[null,null,{"$f":"IFERROR(VLOOKUP(B2781,DKC_Price!A:H,2,FALSE),\"\")","v":""},null,null,null,{"$f":"IFERROR(VLOOKUP(B2781,DKC_Price!A:H,3,FALSE),\"\")","v":""}]
[null,null,{"$f":"IFERROR(VLOOKUP(B2782,DKC_Price!A:H,2,FALSE),\"\")","v":""},null,null,null,{"$f":"IFERROR(VLOOKUP(B2782,DKC_Price!A:H,3,FALSE),\"\")","v":""}]
[null,null,{"$f":"IFERROR(VLOOKUP(B2783,DKC_Price!A:H,2,FALSE),\"\")","v":""},null,null,null,{"$f":"IFERROR(VLOOKUP(B2783,DKC_Price!A:H,3,FALSE),\"\")","v":""}]
[null,null,{"$f":"IFERROR(VLOOKUP(B2784,DKC_Price!A:H,2,FALSE),\"\")","v":""},null,null,null,{"$f":"IFERROR(VLOOKUP(B2784,DKC_Price!A:H,3,FALSE),\"\")","v":""}]
[null,null,{"$f":"IFERROR(VLOOKUP(B2785,DKC_Price!A:H,2,FALSE),\"\")","v":""},null,null,null,{"$f":"IFERROR(VLOOKUP(B2785,DKC_Price!A:H,3,FALSE),\"\")","v":""}]
[null,null,{"$f":"IFERROR(VLOOKUP(B2786,DKC_Price!A:H,2,FALSE),\"\")","v":""},null,null,null,{"$f":"IFERROR(VLOOKUP(B2786,DKC_Price!A:H,3,FALSE),\"\")","v":""}]
[null,null,{"$f":"IFERROR(VLOOKUP(B2787,DKC_Price!A:H,2,FALSE),\"\")","v":""},null,null,null,{"$f":"IFERROR(VLOOKUP(B2787,DKC_Price!A:H,3,FALSE),\"\")","v":""}]
[null,null,{"$f":"IFERROR(VLOOKUP(B2788,DKC_Price!A:H,2,FALSE),\"\")","v":""},null,null,null,{"$f":"IFERROR(VLOOKUP(B2788,DKC_Price!A:H,3,FALSE),\"\")","v":""}]
[null,null,{"$f":"IFERROR(VLOOKUP(B2789,DKC_Price!A:H,2,FALSE),\"\")","v":""},null,null,null,{"$f":"IFERROR(VLOOKUP(B2789,DKC_Price!A:H,3,FALSE),\"\")","v":""}]
[null,null,{"$f":"IFERROR(VLOOKUP(B2790,DKC_Price!A:H,2,FALSE),\"\")","v":""},null,null,null,{"$f":"IFERROR(VLOOKUP(B2790,DKC_Price!A:H,3,FALSE),\"\")","v":""}]
[null,null,{"$f":"IFERROR(VLOOKUP(B2791,DKC_Price!A:H,2,FALSE),\"\")","v":""},null,null,null,{"$f":"IFERROR(VLOOKUP(B2791,DKC_Price!A:H,3,FALSE),\"\")","v":""}]
[null,null,{"$f":"IFERROR(VLOOKUP(B2792,DKC_Price!A:H,2,FALSE),\"\")","v":""},null,null,null,{"$f":"IFERROR(VLOOKUP(B2792,DKC_Price!A:H,3,FALSE),\"\")","v":""}]
[null,null,{"$f":"IFERROR(VLOOKUP(B2793,DKC_Price!A:H,2,FALSE),\"\")","v":""},null,null,null,{"$f":"IFERROR(VLOOKUP(B2793,DKC_Price!A:H,3,FALSE),\"\")","v":""}]
[null,null,{"$f":"IFERROR(VLOOKUP(B2794,DKC_Price!A:H,2,FALSE),\"\")","v":""},null,null,null,{"$f":"IFERROR(VLOOKUP(B2794,DKC_Price!A:H,3,FALSE),\"\")","v":""}]
[null,null,{"$f":"IFERROR(VLOOKUP(B2795,DKC_Price!A:H,2,FALSE),\"\")","v":""},null,null,null,{"$f":"IFERROR(VLOOKUP(B2795,DKC_Price!A:H,3,FALSE),\"\")","v":""}]
[null,null,{"$f":"IFERROR(VLOOKUP(B2796,DKC_Price!A:H,2,FALSE),\"\")","v":""},null,null,null,{"$f":"IFERROR(VLOOKUP(B2796,DKC_Price!A:H,3,FALSE),\"\")","v":""}]
[null,null,{"$f":"IFERROR(VLOOKUP(B2797,DKC_Price!A:H,2,FALSE),\"\")","v":""},null,null,null,{"$f":"IFERROR(VLOOKUP(B2797,DKC_Price!A:H,3,FALSE),\"\")","v":""}]
[null,null,{"$f":"IFERROR(VLOOKUP(B2798,DKC_Price!A:H,2,FALSE),\"\")","v":""},null,null,null,{"$f":"IFERROR(VLOOKUP(B2798,DKC_Price!A:H,3,FALSE),\"\")","v":""}]
[null,null,{"$f":"IFERROR(VLOOKUP(B2799,DKC_Price!A:H,2,FALSE),\"\")","v":""},null,null,null,{"$f":"IFERROR(VLOOKUP(B2799,DKC_Price!A:H,3,FALSE),\"\")","v":""}]
[null,null,{"$f":"IFERROR(VLOOKUP(B2800,DKC_Price!A:H,2,FALSE),\"\")","v":""},null,null,null,{"$f":"IFERROR(VLOOKUP(B2800,DKC_Price!A:H,3,FALSE),\"\")","v":""}]
[null,null,{"$f":"IFERROR(VLOOKUP(B2801,DKC_Price!A:H,2,FALSE),\"\")","v":""},null,null,null,{"$f":"IFERROR(VLOOKUP(B2801,DKC_Price!A:H,3,FALSE),\"\")","v":""}]
[null,null,{"$f":"IFERROR(VLOOKUP(B2802,DKC_Price!A:H,2,FALSE),\"\")","v":""},null,null,null,{"$f":"IFERROR(VLOOKUP(B2802,DKC_Price!A:H,3,FALSE),\"\")","v":""}]
[null,null,{"$f":"IFERROR(VLOOKUP(B2803,DKC_Price!A:H,2,FALSE),\"\")","v":""},null,null,null,{"$f":"IFERROR(VLOOKUP(B2803,DKC_Price!A:H,3,FALSE),\"\")","v":""}]
[null,null,{"$f":"IFERROR(VLOOKUP(B2804,DKC_Price!A:H,2,FALSE),\"\")","v":""},null,null,null,{"$f":"IFERROR(VLOOKUP(B2804,DKC_Price!A:H,3,FALSE),\"\")","v":""}]
[null,null,{"$f":"IFERROR(VLOOKUP(B2805,DKC_Price!A:H,2,FALSE),\"\")","v":""},null,null,null,{"$f":"IFERROR(VLOOKUP(B2805,DKC_Price!A:H,3,FALSE),\"\")","v":""}]
[null,null,{"$f":"IFERROR(VLOOKUP(B2806,DKC_Price!A:H,2,FALSE),\"\")","v":""},null,null,null,{"$f":"IFERROR(VLOOKUP(B2806,DKC_Price!A:H,3,FALSE),\"\")","v":""}]
[null,null,{"$f":"IFERROR(VLOOKUP(B2807,DKC_Price!A:H,2,FALSE),\"\")","v":""},null,null,null,{"$f":"IFERROR(VLOOKUP(B2807,DKC_Price!A:H,3,FALSE),\"\")","v":""}]
[null,null,{"$f":"IFERROR(VLOOKUP(B2808,DKC_Price!A:H,2,FALSE),\"\")","v":""},null,null,null,{"$f":"IFERROR(VLOOKUP(B2808,DKC_Price!A:H,3,FALSE),\"\")","v":""}]
[null,null,{"$f":"IFERROR(VLOOKUP(B2809,DKC_Price!A:H,2,FALSE),\"\")","v":""},null,null,null,{"$f":"IFERROR(VLOOKUP(B2809,DKC_Price!A:H,3,FALSE),\"\")","v":""}]
[null,null,{"$f":"IFERROR(VLOOKUP(B2810,DKC_Price!A:H,2,FALSE),\"\")","v":""},null,null,null,{"$f":"IFERROR(VLOOKUP(B2810,DKC_Price!A:H,3,FALSE),\"\")","v":""}]
[null,null,{"$f":"IFERROR(VLOOKUP(B2811,DKC_Price!A:H,2,FALSE),\"\")","v":""},null,null,null,{"$f":"IFERROR(VLOOKUP(B2811,DKC_Price!A:H,3,FALSE),\"\")","v":""}]
[null,null,{"$f":"IFERROR(VLOOKUP(B2812,DKC_Price!A:H,2,FALSE),\"\")","v":""},null,null,null,{"$f":"IFERROR(VLOOKUP(B2812,DKC_Price!A:H,3,FALSE),\"\")","v":""}]
[null,null,{"$f":"IFERROR(VLOOKUP(B2813,DKC_Price!A:H,2,FALSE),\"\")","v":""},null,null,null,{"$f":"IFERROR(VLOOKUP(B2813,DKC_Price!A:H,3,FALSE),\"\")","v":""}]
[null,null,{"$f":"IFERROR(VLOOKUP(B2814,DKC_Price!A:H,2,FALSE),\"\")","v":""},null,null,null,{"$f":"IFERROR(VLOOKUP(B2814,DKC_Price!A:H,3,FALSE),\"\")","v":""}]
[null,null,{"$f":"IFERROR(VLOOKUP(B2815,DKC_Price!A:H,2,FALSE),\"\")","v":""},null,null,null,{"$f":"IFERROR(VLOOKUP(B2815,DKC_Price!A:H,3,FALSE),\"\")","v":""}]
[null,null,{"$f":"IFERROR(VLOOKUP(B2816,DKC_Price!A:H,2,FALSE),\"\")","v":""},null,null,null,{"$f":"IFERROR(VLOOKUP(B2816,DKC_Price!A:H,3,FALSE),\"\")","v":""}]
[null,null,{"$f":"IFERROR(VLOOKUP(B2817,DKC_Price!A:H,2,FALSE),\"\")","v":""},null,null,null,{"$f":"IFERROR(VLOOKUP(B2817,DKC_Price!A:H,3,FALSE),\"\")","v":""}]
[null,null,{"$f":"IFERROR(VLOOKUP(B2818,DKC_Price!A:H,2,FALSE),\"\")","v":""},null,null,null,{"$f":"IFERROR(VLOOKUP(B2818,DKC_Price!A:H,3,FALSE),\"\")","v":""}]
[null,null,{"$f":"IFERROR(VLOOKUP(B2819,DKC_Price!A:H,2,FALSE),\"\")","v":""},null,null,null,{"$f":"IFERROR(VLOOKUP(B2819,DKC_Price!A:H,3,FALSE),\"\")","v":""}]
[null,null,{"$f":"IFERROR(VLOOKUP(B2820,DKC_Price!A:H,2,FALSE),\"\")","v":""},null,null,null,{"$f":"IFERROR(VLOOKUP(B2820,DKC_Price!A:H,3,FALSE),\"\")","v":""}]
[null,null,{"$f":"IFERROR(VLOOKUP(B2821,DKC_Price!A:H,2,FALSE),\"\")","v":""},null,null,null,{"$f":"IFERROR(VLOOKUP(B2821,DKC_Price!A:H,3,FALSE),\"\")","v":""}]
[null,null,{"$f":"IFERROR(VLOOKUP(B2822,DKC_Price!A:H,2,FALSE),\"\")","v":""},null,null,null,{"$f":"IFERROR(VLOOKUP(B2822,DKC_Price!A:H,3,FALSE),\"\")","v":""}]
[null,null,{"$f":"IFERROR(VLOOKUP(B2823,DKC_Price!A:H,2,FALSE),\"\")","v":""},null,null,null,{"$f":"IFERROR(VLOOKUP(B2823,DKC_Price!A:H,3,FALSE),\"\")","v":""}]
[null,null,{"$f":"IFERROR(VLOOKUP(B2824,DKC_Price!A:H,2,FALSE),\"\")","v":""},null,null,null,{"$f":"IFERROR(VLOOKUP(B2824,DKC_Price!A:H,3,FALSE),\"\")","v":""}]
[null,null,{"$f":"IFERROR(VLOOKUP(B2825,DKC_Price!A:H,2,FALSE),\"\")","v":""},null,null,null,{"$f":"IFERROR(VLOOKUP(B2825,DKC_Price!A:H,3,FALSE),\"\")","v":""}]
[null,null,{"$f":"IFERROR(VLOOKUP(B2826,DKC_Price!A:H,2,FALSE),\"\")","v":""},null,null,null,{"$f":"IFERROR(VLOOKUP(B2826,DKC_Price!A:H,3,FALSE),\"\")","v":""}]
[null,null,{"$f":"IFERROR(VLOOKUP(B2827,DKC_Price!A:H,2,FALSE),\"\")","v":""},null,null,null,{"$f":"IFERROR(VLOOKUP(B2827,DKC_Price!A:H,3,FALSE),\"\")","v":""}]
[null,null,{"$f":"IFERROR(VLOOKUP(B2828,DKC_Price!A:H,2,FALSE),\"\")","v":""},null,null,null,{"$f":"IFERROR(VLOOKUP(B2828,DKC_Price!A:H,3,FALSE),\"\")","v":""}]
[null,null,{"$f":"IFERROR(VLOOKUP(B2829,DKC_Price!A:H,2,FALSE),\"\")","v":""},null,null,null,{"$f":"IFERROR(VLOOKUP(B2829,DKC_Price!A:H,3,FALSE),\"\")","v":""}]
[null,null,{"$f":"IFERROR(VLOOKUP(B2830,DKC_Price!A:H,2,FALSE),\"\")","v":""},null,null,null,{"$f":"IFERROR(VLOOKUP(B2830,DKC_Price!A:H,3,FALSE),\"\")","v":""}]
[null,null,{"$f":"IFERROR(VLOOKUP(B2831,DKC_Price!A:H,2,FALSE),\"\")","v":""},null,null,null,{"$f":"IFERROR(VLOOKUP(B2831,DKC_Price!A:H,3,FALSE),\"\")","v":""}]
[null,null,{"$f":"IFERROR(VLOOKUP(B2832,DKC_Price!A:H,2,FALSE),\"\")","v":""},null,null,null,{"$f":"IFERROR(VLOOKUP(B2832,DKC_Price!A:H,3,FALSE),\"\")","v":""}]
[null,null,{"$f":"IFERROR(VLOOKUP(B2833,DKC_Price!A:H,2,FALSE),\"\")","v":""},null,null,null,{"$f":"IFERROR(VLOOKUP(B2833,DKC_Price!A:H,3,FALSE),\"\")","v":""}]
[null,null,{"$f":"IFERROR(VLOOKUP(B2834,DKC_Price!A:H,2,FALSE),\"\")","v":""},null,null,null,{"$f":"IFERROR(VLOOKUP(B2834,DKC_Price!A:H,3,FALSE),\"\")","v":""}]
[null,null,{"$f":"IFERROR(VLOOKUP(B2835,DKC_Price!A:H,2,FALSE),\"\")","v":""},null,null,null,{"$f":"IFERROR(VLOOKUP(B2835,DKC_Price!A:H,3,FALSE),\"\")","v":""}]
[null,null,{"$f":"IFERROR(VLOOKUP(B2836,DKC_Price!A:H,2,FALSE),\"\")","v":""},null,null,null,{"$f":"IFERROR(VLOOKUP(B2836,DKC_Price!A:H,3,FALSE),\"\")","v":""}]
[null,null,{"$f":"IFERROR(VLOOKUP(B2837,DKC_Price!A:H,2,FALSE),\"\")","v":""},null,null,null,{"$f":"IFERROR(VLOOKUP(B2837,DKC_Price!A:H,3,FALSE),\"\")","v":""}]
[null,null,{"$f":"IFERROR(VLOOKUP(B2838,DKC_Price!A:H,2,FALSE),\"\")","v":""},null,null,null,{"$f":"IFERROR(VLOOKUP(B2838,DKC_Price!A:H,3,FALSE),\"\")","v":""}]
[null,null,{"$f":"IFERROR(VLOOKUP(B2839,DKC_Price!A:H,2,FALSE),\"\")","v":""},null,null,null,{"$f":"IFERROR(VLOOKUP(B2839,DKC_Price!A:H,3,FALSE),\"\")","v":""}]
[null,null,{"$f":"IFERROR(VLOOKUP(B2840,DKC_Price!A:H,2,FALSE),\"\")","v":""},null,null,null,{"$f":"IFERROR(VLOOKUP(B2840,DKC_Price!A:H,3,FALSE),\"\")","v":""}]
[null,null,{"$f":"IFERROR(VLOOKUP(B2841,DKC_Price!A:H,2,FALSE),\"\")","v":""},null,null,null,{"$f":"IFERROR(VLOOKUP(B2841,DKC_Price!A:H,3,FALSE),\"\")","v":""}]
[null,null,{"$f":"IFERROR(VLOOKUP(B2842,DKC_Price!A:H,2,FALSE),\"\")","v":""},null,null,null,{"$f":"IFERROR(VLOOKUP(B2842,DKC_Price!A:H,3,FALSE),\"\")","v":""}]
[null,null,{"$f":"IFERROR(VLOOKUP(B2843,DKC_Price!A:H,2,FALSE),\"\")","v":""},null,null,null,{"$f":"IFERROR(VLOOKUP(B2843,DKC_Price!A:H,3,FALSE),\"\")","v":""}]
[null,null,{"$f":"IFERROR(VLOOKUP(B2844,DKC_Price!A:H,2,FALSE),\"\")","v":""},null,null,null,{"$f":"IFERROR(VLOOKUP(B2844,DKC_Price!A:H,3,FALSE),\"\")","v":""}]
[null,null,{"$f":"IFERROR(VLOOKUP(B2845,DKC_Price!A:H,2,FALSE),\"\")","v":""},null,null,null,{"$f":"IFERROR(VLOOKUP(B2845,DKC_Price!A:H,3,FALSE),\"\")","v":""}]
[null,null,{"$f":"IFERROR(VLOOKUP(B2846,DKC_Price!A:H,2,FALSE),\"\")","v":""},null,null,null,{"$f":"IFERROR(VLOOKUP(B2846,DKC_Price!A:H,3,FALSE),\"\")","v":""}]
[null,null,{"$f":"IFERROR(VLOOKUP(B2847,DKC_Price!A:H,2,FALSE),\"\")","v":""},null,null,null,{"$f":"IFERROR(VLOOKUP(B2847,DKC_Price!A:H,3,FALSE),\"\")","v":""}]
[null,null,{"$f":"IFERROR(VLOOKUP(B2848,DKC_Price!A:H,2,FALSE),\"\")","v":""},null,null,null,{"$f":"IFERROR(VLOOKUP(B2848,DKC_Price!A:H,3,FALSE),\"\")","v":""}]
[null,null,{"$f":"IFERROR(VLOOKUP(B2849,DKC_Price!A:H,2,FALSE),\"\")","v":""},null,null,null,{"$f":"IFERROR(VLOOKUP(B2849,DKC_Price!A:H,3,FALSE),\"\")","v":""}]
[null,null,{"$f":"IFERROR(VLOOKUP(B2850,DKC_Price!A:H,2,FALSE),\"\")","v":""},null,null,null,{"$f":"IFERROR(VLOOKUP(B2850,DKC_Price!A:H,3,FALSE),\"\")","v":""}]
[null,null,{"$f":"IFERROR(VLOOKUP(B2851,DKC_Price!A:H,2,FALSE),\"\")","v":""},null,null,null,{"$f":"IFERROR(VLOOKUP(B2851,DKC_Price!A:H,3,FALSE),\"\")","v":""}]
[null,null,{"$f":"IFERROR(VLOOKUP(B2852,DKC_Price!A:H,2,FALSE),\"\")","v":""},null,null,null,{"$f":"IFERROR(VLOOKUP(B2852,DKC_Price!A:H,3,FALSE),\"\")","v":""}]
[null,null,{"$f":"IFERROR(VLOOKUP(B2853,DKC_Price!A:H,2,FALSE),\"\")","v":""},null,null,null,{"$f":"IFERROR(VLOOKUP(B2853,DKC_Price!A:H,3,FALSE),\"\")","v":""}]
[null,null,{"$f":"IFERROR(VLOOKUP(B2854,DKC_Price!A:H,2,FALSE),\"\")","v":""},null,null,null,{"$f":"IFERROR(VLOOKUP(B2854,DKC_Price!A:H,3,FALSE),\"\")","v":""}]
[null,null,{"$f":"IFERROR(VLOOKUP(B2855,DKC_Price!A:H,2,FALSE),\"\")","v":""},null,null,null,{"$f":"IFERROR(VLOOKUP(B2855,DKC_Price!A:H,3,FALSE),\"\")","v":""}]
[null,null,{"$f":"IFERROR(VLOOKUP(B2856,DKC_Price!A:H,2,FALSE),\"\")","v":""},null,null,null,{"$f":"IFERROR(VLOOKUP(B2856,DKC_Price!A:H,3,FALSE),\"\")","v":""}]
[null,null,{"$f":"IFERROR(VLOOKUP(B2857,DKC_Price!A:H,2,FALSE),\"\")","v":""},null,null,null,{"$f":"IFERROR(VLOOKUP(B2857,DKC_Price!A:H,3,FALSE),\"\")","v":""}]
[null,null,{"$f":"IFERROR(VLOOKUP(B2858,DKC_Price!A:H,2,FALSE),\"\")","v":""},null,null,null,{"$f":"IFERROR(VLOOKUP(B2858,DKC_Price!A:H,3,FALSE),\"\")","v":""}]
[null,null,{"$f":"IFERROR(VLOOKUP(B2859,DKC_Price!A:H,2,FALSE),\"\")","v":""},null,null,null,{"$f":"IFERROR(VLOOKUP(B2859,DKC_Price!A:H,3,FALSE),\"\")","v":""}]
[null,null,{"$f":"IFERROR(VLOOKUP(B2860,DKC_Price!A:H,2,FALSE),\"\")","v":""},null,null,null,{"$f":"IFERROR(VLOOKUP(B2860,DKC_Price!A:H,3,FALSE),\"\")","v":""}]
[null,null,{"$f":"IFERROR(VLOOKUP(B2861,DKC_Price!A:H,2,FALSE),\"\")","v":""},null,null,null,{"$f":"IFERROR(VLOOKUP(B2861,DKC_Price!A:H,3,FALSE),\"\")","v":""}]
[null,null,{"$f":"IFERROR(VLOOKUP(B2862,DKC_Price!A:H,2,FALSE),\"\")","v":""},null,null,null,{"$f":"IFERROR(VLOOKUP(B2862,DKC_Price!A:H,3,FALSE),\"\")","v":""}]
[null,null,{"$f":"IFERROR(VLOOKUP(B2863,DKC_Price!A:H,2,FALSE),\"\")","v":""},null,null,null,{"$f":"IFERROR(VLOOKUP(B2863,DKC_Price!A:H,3,FALSE),\"\")","v":""}]
[null,null,{"$f":"IFERROR(VLOOKUP(B2864,DKC_Price!A:H,2,FALSE),\"\")","v":""},null,null,null,{"$f":"IFERROR(VLOOKUP(B2864,DKC_Price!A:H,3,FALSE),\"\")","v":""}]
[null,null,{"$f":"IFERROR(VLOOKUP(B2865,DKC_Price!A:H,2,FALSE),\"\")","v":""},null,null,null,{"$f":"IFERROR(VLOOKUP(B2865,DKC_Price!A:H,3,FALSE),\"\")","v":""}]
[null,null,{"$f":"IFERROR(VLOOKUP(B2866,DKC_Price!A:H,2,FALSE),\"\")","v":""},null,null,null,{"$f":"IFERROR(VLOOKUP(B2866,DKC_Price!A:H,3,FALSE),\"\")","v":""}]
[null,null,{"$f":"IFERROR(VLOOKUP(B2867,DKC_Price!A:H,2,FALSE),\"\")","v":""},null,null,null,{"$f":"IFERROR(VLOOKUP(B2867,DKC_Price!A:H,3,FALSE),\"\")","v":""}]
[null,null,{"$f":"IFERROR(VLOOKUP(B2868,DKC_Price!A:H,2,FALSE),\"\")","v":""},null,null,null,{"$f":"IFERROR(VLOOKUP(B2868,DKC_Price!A:H,3,FALSE),\"\")","v":""}]
[null,null,{"$f":"IFERROR(VLOOKUP(B2869,DKC_Price!A:H,2,FALSE),\"\")","v":""},null,null,null,{"$f":"IFERROR(VLOOKUP(B2869,DKC_Price!A:H,3,FALSE),\"\")","v":""}]
[null,null,{"$f":"IFERROR(VLOOKUP(B2870,DKC_Price!A:H,2,FALSE),\"\")","v":""},null,null,null,{"$f":"IFERROR(VLOOKUP(B2870,DKC_Price!A:H,3,FALSE),\"\")","v":""}]
[null,null,{"$f":"IFERROR(VLOOKUP(B2871,DKC_Price!A:H,2,FALSE),\"\")","v":""},null,null,null,{"$f":"IFERROR(VLOOKUP(B2871,DKC_Price!A:H,3,FALSE),\"\")","v":""}]
[null,null,{"$f":"IFERROR(VLOOKUP(B2872,DKC_Price!A:H,2,FALSE),\"\")","v":""},null,null,null,{"$f":"IFERROR(VLOOKUP(B2872,DKC_Price!A:H,3,FALSE),\"\")","v":""}]
[null,null,{"$f":"IFERROR(VLOOKUP(B2873,DKC_Price!A:H,2,FALSE),\"\")","v":""},null,null,null,{"$f":"IFERROR(VLOOKUP(B2873,DKC_Price!A:H,3,FALSE),\"\")","v":""}]
[null,null,{"$f":"IFERROR(VLOOKUP(B2874,DKC_Price!A:H,2,FALSE),\"\")","v":""},null,null,null,{"$f":"IFERROR(VLOOKUP(B2874,DKC_Price!A:H,3,FALSE),\"\")","v":""}]
[null,null,{"$f":"IFERROR(VLOOKUP(B2875,DKC_Price!A:H,2,FALSE),\"\")","v":""},null,null,null,{"$f":"IFERROR(VLOOKUP(B2875,DKC_Price!A:H,3,FALSE),\"\")","v":""}]
[null,null,{"$f":"IFERROR(VLOOKUP(B2876,DKC_Price!A:H,2,FALSE),\"\")","v":""},null,null,null,{"$f":"IFERROR(VLOOKUP(B2876,DKC_Price!A:H,3,FALSE),\"\")","v":""}]
[null,null,{"$f":"IFERROR(VLOOKUP(B2877,DKC_Price!A:H,2,FALSE),\"\")","v":""},null,null,null,{"$f":"IFERROR(VLOOKUP(B2877,DKC_Price!A:H,3,FALSE),\"\")","v":""}]
[null,null,{"$f":"IFERROR(VLOOKUP(B2878,DKC_Price!A:H,2,FALSE),\"\")","v":""},null,null,null,{"$f":"IFERROR(VLOOKUP(B2878,DKC_Price!A:H,3,FALSE),\"\")","v":""}]
[null,null,{"$f":"IFERROR(VLOOKUP(B2879,DKC_Price!A:H,2,FALSE),\"\")","v":""},null,null,null,{"$f":"IFERROR(VLOOKUP(B2879,DKC_Price!A:H,3,FALSE),\"\")","v":""}]
[null,null,{"$f":"IFERROR(VLOOKUP(B2880,DKC_Price!A:H,2,FALSE),\"\")","v":""},null,null,null,{"$f":"IFERROR(VLOOKUP(B2880,DKC_Price!A:H,3,FALSE),\"\")","v":""}]
[null,null,{"$f":"IFERROR(VLOOKUP(B2881,DKC_Price!A:H,2,FALSE),\"\")","v":""},null,null,null,{"$f":"IFERROR(VLOOKUP(B2881,DKC_Price!A:H,3,FALSE),\"\")","v":""}]
[null,null,{"$f":"IFERROR(VLOOKUP(B2882,DKC_Price!A:H,2,FALSE),\"\")","v":""},null,null,null,{"$f":"IFERROR(VLOOKUP(B2882,DKC_Price!A:H,3,FALSE),\"\")","v":""}]
[null,null,{"$f":"IFERROR(VLOOKUP(B2883,DKC_Price!A:H,2,FALSE),\"\")","v":""},null,null,null,{"$f":"IFERROR(VLOOKUP(B2883,DKC_Price!A:H,3,FALSE),\"\")","v":""}]
[null,null,{"$f":"IFERROR(VLOOKUP(B2884,DKC_Price!A:H,2,FALSE),\"\")","v":""},null,null,null,{"$f":"IFERROR(VLOOKUP(B2884,DKC_Price!A:H,3,FALSE),\"\")","v":""}]
[null,null,{"$f":"IFERROR(VLOOKUP(B2885,DKC_Price!A:H,2,FALSE),\"\")","v":""},null,null,null,{"$f":"IFERROR(VLOOKUP(B2885,DKC_Price!A:H,3,FALSE),\"\")","v":""}]
[null,null,{"$f":"IFERROR(VLOOKUP(B2886,DKC_Price!A:H,2,FALSE),\"\")","v":""},null,null,null,{"$f":"IFERROR(VLOOKUP(B2886,DKC_Price!A:H,3,FALSE),\"\")","v":""}]
[null,null,{"$f":"IFERROR(VLOOKUP(B2887,DKC_Price!A:H,2,FALSE),\"\")","v":""},null,null,null,{"$f":"IFERROR(VLOOKUP(B2887,DKC_Price!A:H,3,FALSE),\"\")","v":""}]
[null,null,{"$f":"IFERROR(VLOOKUP(B2888,DKC_Price!A:H,2,FALSE),\"\")","v":""},null,null,null,{"$f":"IFERROR(VLOOKUP(B2888,DKC_Price!A:H,3,FALSE),\"\")","v":""}]
[null,null,{"$f":"IFERROR(VLOOKUP(B2889,DKC_Price!A:H,2,FALSE),\"\")","v":""},null,null,null,{"$f":"IFERROR(VLOOKUP(B2889,DKC_Price!A:H,3,FALSE),\"\")","v":""}]
[null,null,{"$f":"IFERROR(VLOOKUP(B2890,DKC_Price!A:H,2,FALSE),\"\")","v":""},null,null,null,{"$f":"IFERROR(VLOOKUP(B2890,DKC_Price!A:H,3,FALSE),\"\")","v":""}]
[null,null,{"$f":"IFERROR(VLOOKUP(B2891,DKC_Price!A:H,2,FALSE),\"\")","v":""},null,null,null,{"$f":"IFERROR(VLOOKUP(B2891,DKC_Price!A:H,3,FALSE),\"\")","v":""}]
[null,null,{"$f":"IFERROR(VLOOKUP(B2892,DKC_Price!A:H,2,FALSE),\"\")","v":""},null,null,null,{"$f":"IFERROR(VLOOKUP(B2892,DKC_Price!A:H,3,FALSE),\"\")","v":""}]
[null,null,{"$f":"IFERROR(VLOOKUP(B2893,DKC_Price!A:H,2,FALSE),\"\")","v":""},null,null,null,{"$f":"IFERROR(VLOOKUP(B2893,DKC_Price!A:H,3,FALSE),\"\")","v":""}]
[null,null,{"$f":"IFERROR(VLOOKUP(B2894,DKC_Price!A:H,2,FALSE),\"\")","v":""},null,null,null,{"$f":"IFERROR(VLOOKUP(B2894,DKC_Price!A:H,3,FALSE),\"\")","v":""}]
[null,null,{"$f":"IFERROR(VLOOKUP(B2895,DKC_Price!A:H,2,FALSE),\"\")","v":""},null,null,null,{"$f":"IFERROR(VLOOKUP(B2895,DKC_Price!A:H,3,FALSE),\"\")","v":""}]
[null,null,{"$f":"IFERROR(VLOOKUP(B2896,DKC_Price!A:H,2,FALSE),\"\")","v":""},null,null,null,{"$f":"IFERROR(VLOOKUP(B2896,DKC_Price!A:H,3,FALSE),\"\")","v":""}]
[null,null,{"$f":"IFERROR(VLOOKUP(B2897,DKC_Price!A:H,2,FALSE),\"\")","v":""},null,null,null,{"$f":"IFERROR(VLOOKUP(B2897,DKC_Price!A:H,3,FALSE),\"\")","v":""}]
[null,null,{"$f":"IFERROR(VLOOKUP(B2898,DKC_Price!A:H,2,FALSE),\"\")","v":""},null,null,null,{"$f":"IFERROR(VLOOKUP(B2898,DKC_Price!A:H,3,FALSE),\"\")","v":""}]
[null,null,{"$f":"IFERROR(VLOOKUP(B2899,DKC_Price!A:H,2,FALSE),\"\")","v":""},null,null,null,{"$f":"IFERROR(VLOOKUP(B2899,DKC_Price!A:H,3,FALSE),\"\")","v":""}]
[null,null,{"$f":"IFERROR(VLOOKUP(B2900,DKC_Price!A:H,2,FALSE),\"\")","v":""},null,null,null,{"$f":"IFERROR(VLOOKUP(B2900,DKC_Price!A:H,3,FALSE),\"\")","v":""}]
[null,null,{"$f":"IFERROR(VLOOKUP(B2901,DKC_Price!A:H,2,FALSE),\"\")","v":""},null,null,null,{"$f":"IFERROR(VLOOKUP(B2901,DKC_Price!A:H,3,FALSE),\"\")","v":""}]
[null,null,{"$f":"IFERROR(VLOOKUP(B2902,DKC_Price!A:H,2,FALSE),\"\")","v":""},null,null,null,{"$f":"IFERROR(VLOOKUP(B2902,DKC_Price!A:H,3,FALSE),\"\")","v":""}]
[null,null,{"$f":"IFERROR(VLOOKUP(B2903,DKC_Price!A:H,2,FALSE),\"\")","v":""},null,null,null,{"$f":"IFERROR(VLOOKUP(B2903,DKC_Price!A:H,3,FALSE),\"\")","v":""}]
[null,null,{"$f":"IFERROR(VLOOKUP(B2904,DKC_Price!A:H,2,FALSE),\"\")","v":""},null,null,null,{"$f":"IFERROR(VLOOKUP(B2904,DKC_Price!A:H,3,FALSE),\"\")","v":""}]
[null,null,{"$f":"IFERROR(VLOOKUP(B2905,DKC_Price!A:H,2,FALSE),\"\")","v":""},null,null,null,{"$f":"IFERROR(VLOOKUP(B2905,DKC_Price!A:H,3,FALSE),\"\")","v":""}]
[null,null,{"$f":"IFERROR(VLOOKUP(B2906,DKC_Price!A:H,2,FALSE),\"\")","v":""},null,null,null,{"$f":"IFERROR(VLOOKUP(B2906,DKC_Price!A:H,3,FALSE),\"\")","v":""}]
[null,null,{"$f":"IFERROR(VLOOKUP(B2907,DKC_Price!A:H,2,FALSE),\"\")","v":""},null,null,null,{"$f":"IFERROR(VLOOKUP(B2907,DKC_Price!A:H,3,FALSE),\"\")","v":""}]
[null,null,{"$f":"IFERROR(VLOOKUP(B2908,DKC_Price!A:H,2,FALSE),\"\")","v":""},null,null,null,{"$f":"IFERROR(VLOOKUP(B2908,DKC_Price!A:H,3,FALSE),\"\")","v":""}]
[null,null,{"$f":"IFERROR(VLOOKUP(B2909,DKC_Price!A:H,2,FALSE),\"\")","v":""},null,null,null,{"$f":"IFERROR(VLOOKUP(B2909,DKC_Price!A:H,3,FALSE),\"\")","v":""}]
[null,null,{"$f":"IFERROR(VLOOKUP(B2910,DKC_Price!A:H,2,FALSE),\"\")","v":""},null,null,null,{"$f":"IFERROR(VLOOKUP(B2910,DKC_Price!A:H,3,FALSE),\"\")","v":""}]
[null,null,{"$f":"IFERROR(VLOOKUP(B2911,DKC_Price!A:H,2,FALSE),\"\")","v":""},null,null,null,{"$f":"IFERROR(VLOOKUP(B2911,DKC_Price!A:H,3,FALSE),\"\")","v":""}]
[null,null,{"$f":"IFERROR(VLOOKUP(B2912,DKC_Price!A:H,2,FALSE),\"\")","v":""},null,null,null,{"$f":"IFERROR(VLOOKUP(B2912,DKC_Price!A:H,3,FALSE),\"\")","v":""}]
[null,null,{"$f":"IFERROR(VLOOKUP(B2913,DKC_Price!A:H,2,FALSE),\"\")","v":""},null,null,null,{"$f":"IFERROR(VLOOKUP(B2913,DKC_Price!A:H,3,FALSE),\"\")","v":""}]
[null,null,{"$f":"IFERROR(VLOOKUP(B2914,DKC_Price!A:H,2,FALSE),\"\")","v":""},null,null,null,{"$f":"IFERROR(VLOOKUP(B2914,DKC_Price!A:H,3,FALSE),\"\")","v":""}]
[null,null,{"$f":"IFERROR(VLOOKUP(B2915,DKC_Price!A:H,2,FALSE),\"\")","v":""},null,null,null,{"$f":"IFERROR(VLOOKUP(B2915,DKC_Price!A:H,3,FALSE),\"\")","v":""}]
[null,null,{"$f":"IFERROR(VLOOKUP(B2916,DKC_Price!A:H,2,FALSE),\"\")","v":""},null,null,null,{"$f":"IFERROR(VLOOKUP(B2916,DKC_Price!A:H,3,FALSE),\"\")","v":""}]
[null,null,{"$f":"IFERROR(VLOOKUP(B2917,DKC_Price!A:H,2,FALSE),\"\")","v":""},null,null,null,{"$f":"IFERROR(VLOOKUP(B2917,DKC_Price!A:H,3,FALSE),\"\")","v":""}]
[null,null,{"$f":"IFERROR(VLOOKUP(B2918,DKC_Price!A:H,2,FALSE),\"\")","v":""},null,null,null,{"$f":"IFERROR(VLOOKUP(B2918,DKC_Price!A:H,3,FALSE),\"\")","v":""}]
[null,null,{"$f":"IFERROR(VLOOKUP(B2919,DKC_Price!A:H,2,FALSE),\"\")","v":""},null,null,null,{"$f":"IFERROR(VLOOKUP(B2919,DKC_Price!A:H,3,FALSE),\"\")","v":""}]
[null,null,{"$f":"IFERROR(VLOOKUP(B2920,DKC_Price!A:H,2,FALSE),\"\")","v":""},null,null,null,{"$f":"IFERROR(VLOOKUP(B2920,DKC_Price!A:H,3,FALSE),\"\")","v":""}]
[null,null,{"$f":"IFERROR(VLOOKUP(B2921,DKC_Price!A:H,2,FALSE),\"\")","v":""},null,null,null,{"$f":"IFERROR(VLOOKUP(B2921,DKC_Price!A:H,3,FALSE),\"\")","v":""}]
[null,null,{"$f":"IFERROR(VLOOKUP(B2922,DKC_Price!A:H,2,FALSE),\"\")","v":""},null,null,null,{"$f":"IFERROR(VLOOKUP(B2922,DKC_Price!A:H,3,FALSE),\"\")","v":""}]
[null,null,{"$f":"IFERROR(VLOOKUP(B2923,DKC_Price!A:H,2,FALSE),\"\")","v":""},null,null,null,{"$f":"IFERROR(VLOOKUP(B2923,DKC_Price!A:H,3,FALSE),\"\")","v":""}]
[null,null,{"$f":"IFERROR(VLOOKUP(B2924,DKC_Price!A:H,2,FALSE),\"\")","v":""},null,null,null,{"$f":"IFERROR(VLOOKUP(B2924,DKC_Price!A:H,3,FALSE),\"\")","v":""}]
[null,null,{"$f":"IFERROR(VLOOKUP(B2925,DKC_Price!A:H,2,FALSE),\"\")","v":""},null,null,null,{"$f":"IFERROR(VLOOKUP(B2925,DKC_Price!A:H,3,FALSE),\"\")","v":""}]
[null,null,{"$f":"IFERROR(VLOOKUP(B2926,DKC_Price!A:H,2,FALSE),\"\")","v":""},null,null,null,{"$f":"IFERROR(VLOOKUP(B2926,DKC_Price!A:H,3,FALSE),\"\")","v":""}]
[null,null,{"$f":"IFERROR(VLOOKUP(B2927,DKC_Price!A:H,2,FALSE),\"\")","v":""},null,null,null,{"$f":"IFERROR(VLOOKUP(B2927,DKC_Price!A:H,3,FALSE),\"\")","v":""}]
[null,null,{"$f":"IFERROR(VLOOKUP(B2928,DKC_Price!A:H,2,FALSE),\"\")","v":""},null,null,null,{"$f":"IFERROR(VLOOKUP(B2928,DKC_Price!A:H,3,FALSE),\"\")","v":""}]
[null,null,{"$f":"IFERROR(VLOOKUP(B2929,DKC_Price!A:H,2,FALSE),\"\")","v":""},null,null,null,{"$f":"IFERROR(VLOOKUP(B2929,DKC_Price!A:H,3,FALSE),\"\")","v":""}]
[null,null,{"$f":"IFERROR(VLOOKUP(B2930,DKC_Price!A:H,2,FALSE),\"\")","v":""},null,null,null,{"$f":"IFERROR(VLOOKUP(B2930,DKC_Price!A:H,3,FALSE),\"\")","v":""}]
[null,null,{"$f":"IFERROR(VLOOKUP(B2931,DKC_Price!A:H,2,FALSE),\"\")","v":""},null,null,null,{"$f":"IFERROR(VLOOKUP(B2931,DKC_Price!A:H,3,FALSE),\"\")","v":""}]
[null,null,{"$f":"IFERROR(VLOOKUP(B2932,DKC_Price!A:H,2,FALSE),\"\")","v":""},null,null,null,{"$f":"IFERROR(VLOOKUP(B2932,DKC_Price!A:H,3,FALSE),\"\")","v":""}]
[null,null,{"$f":"IFERROR(VLOOKUP(B2933,DKC_Price!A:H,2,FALSE),\"\")","v":""},null,null,null,{"$f":"IFERROR(VLOOKUP(B2933,DKC_Price!A:H,3,FALSE),\"\")","v":""}]
[null,null,{"$f":"IFERROR(VLOOKUP(B2934,DKC_Price!A:H,2,FALSE),\"\")","v":""},null,null,null,{"$f":"IFERROR(VLOOKUP(B2934,DKC_Price!A:H,3,FALSE),\"\")","v":""}]
[null,null,{"$f":"IFERROR(VLOOKUP(B2935,DKC_Price!A:H,2,FALSE),\"\")","v":""},null,null,null,{"$f":"IFERROR(VLOOKUP(B2935,DKC_Price!A:H,3,FALSE),\"\")","v":""}]
[null,null,{"$f":"IFERROR(VLOOKUP(B2936,DKC_Price!A:H,2,FALSE),\"\")","v":""},null,null,null,{"$f":"IFERROR(VLOOKUP(B2936,DKC_Price!A:H,3,FALSE),\"\")","v":""}]
[null,null,{"$f":"IFERROR(VLOOKUP(B2937,DKC_Price!A:H,2,FALSE),\"\")","v":""},null,null,null,{"$f":"IFERROR(VLOOKUP(B2937,DKC_Price!A:H,3,FALSE),\"\")","v":""}]
[null,null,{"$f":"IFERROR(VLOOKUP(B2938,DKC_Price!A:H,2,FALSE),\"\")","v":""},null,null,null,{"$f":"IFERROR(VLOOKUP(B2938,DKC_Price!A:H,3,FALSE),\"\")","v":""}]
[null,null,{"$f":"IFERROR(VLOOKUP(B2939,DKC_Price!A:H,2,FALSE),\"\")","v":""},null,null,null,{"$f":"IFERROR(VLOOKUP(B2939,DKC_Price!A:H,3,FALSE),\"\")","v":""}]
[null,null,{"$f":"IFERROR(VLOOKUP(B2940,DKC_Price!A:H,2,FALSE),\"\")","v":""},null,null,null,{"$f":"IFERROR(VLOOKUP(B2940,DKC_Price!A:H,3,FALSE),\"\")","v":""}]
[null,null,{"$f":"IFERROR(VLOOKUP(B2941,DKC_Price!A:H,2,FALSE),\"\")","v":""},null,null,null,{"$f":"IFERROR(VLOOKUP(B2941,DKC_Price!A:H,3,FALSE),\"\")","v":""}]
[null,null,{"$f":"IFERROR(VLOOKUP(B2942,DKC_Price!A:H,2,FALSE),\"\")","v":""},null,null,null,{"$f":"IFERROR(VLOOKUP(B2942,DKC_Price!A:H,3,FALSE),\"\")","v":""}]
[null,null,{"$f":"IFERROR(VLOOKUP(B2943,DKC_Price!A:H,2,FALSE),\"\")","v":""},null,null,null,{"$f":"IFERROR(VLOOKUP(B2943,DKC_Price!A:H,3,FALSE),\"\")","v":""}]
[null,null,{"$f":"IFERROR(VLOOKUP(B2944,DKC_Price!A:H,2,FALSE),\"\")","v":""},null,null,null,{"$f":"IFERROR(VLOOKUP(B2944,DKC_Price!A:H,3,FALSE),\"\")","v":""}]
[null,null,{"$f":"IFERROR(VLOOKUP(B2945,DKC_Price!A:H,2,FALSE),\"\")","v":""},null,null,null,{"$f":"IFERROR(VLOOKUP(B2945,DKC_Price!A:H,3,FALSE),\"\")","v":""}]
[null,null,{"$f":"IFERROR(VLOOKUP(B2946,DKC_Price!A:H,2,FALSE),\"\")","v":""},null,null,null,{"$f":"IFERROR(VLOOKUP(B2946,DKC_Price!A:H,3,FALSE),\"\")","v":""}]
[null,null,{"$f":"IFERROR(VLOOKUP(B2947,DKC_Price!A:H,2,FALSE),\"\")","v":""},null,null,null,{"$f":"IFERROR(VLOOKUP(B2947,DKC_Price!A:H,3,FALSE),\"\")","v":""}]
[null,null,{"$f":"IFERROR(VLOOKUP(B2948,DKC_Price!A:H,2,FALSE),\"\")","v":""},null,null,null,{"$f":"IFERROR(VLOOKUP(B2948,DKC_Price!A:H,3,FALSE),\"\")","v":""}]
[null,null,{"$f":"IFERROR(VLOOKUP(B2949,DKC_Price!A:H,2,FALSE),\"\")","v":""},null,null,null,{"$f":"IFERROR(VLOOKUP(B2949,DKC_Price!A:H,3,FALSE),\"\")","v":""}]
[null,null,{"$f":"IFERROR(VLOOKUP(B2950,DKC_Price!A:H,2,FALSE),\"\")","v":""},null,null,null,{"$f":"IFERROR(VLOOKUP(B2950,DKC_Price!A:H,3,FALSE),\"\")","v":""}]
[null,null,{"$f":"IFERROR(VLOOKUP(B2951,DKC_Price!A:H,2,FALSE),\"\")","v":""},null,null,null,{"$f":"IFERROR(VLOOKUP(B2951,DKC_Price!A:H,3,FALSE),\"\")","v":""}]
[null,null,{"$f":"IFERROR(VLOOKUP(B2952,DKC_Price!A:H,2,FALSE),\"\")","v":""},null,null,null,{"$f":"IFERROR(VLOOKUP(B2952,DKC_Price!A:H,3,FALSE),\"\")","v":""}]
[null,null,{"$f":"IFERROR(VLOOKUP(B2953,DKC_Price!A:H,2,FALSE),\"\")","v":""},null,null,null,{"$f":"IFERROR(VLOOKUP(B2953,DKC_Price!A:H,3,FALSE),\"\")","v":""}]
[null,null,{"$f":"IFERROR(VLOOKUP(B2954,DKC_Price!A:H,2,FALSE),\"\")","v":""},null,null,null,{"$f":"IFERROR(VLOOKUP(B2954,DKC_Price!A:H,3,FALSE),\"\")","v":""}]
[null,null,{"$f":"IFERROR(VLOOKUP(B2955,DKC_Price!A:H,2,FALSE),\"\")","v":""},null,null,null,{"$f":"IFERROR(VLOOKUP(B2955,DKC_Price!A:H,3,FALSE),\"\")","v":""}]
[null,null,{"$f":"IFERROR(VLOOKUP(B2956,DKC_Price!A:H,2,FALSE),\"\")","v":""},null,null,null,{"$f":"IFERROR(VLOOKUP(B2956,DKC_Price!A:H,3,FALSE),\"\")","v":""}]
[null,null,{"$f":"IFERROR(VLOOKUP(B2957,DKC_Price!A:H,2,FALSE),\"\")","v":""},null,null,null,{"$f":"IFERROR(VLOOKUP(B2957,DKC_Price!A:H,3,FALSE),\"\")","v":""}]
[null,null,{"$f":"IFERROR(VLOOKUP(B2958,DKC_Price!A:H,2,FALSE),\"\")","v":""},null,null,null,{"$f":"IFERROR(VLOOKUP(B2958,DKC_Price!A:H,3,FALSE),\"\")","v":""}]
[null,null,{"$f":"IFERROR(VLOOKUP(B2959,DKC_Price!A:H,2,FALSE),\"\")","v":""},null,null,null,{"$f":"IFERROR(VLOOKUP(B2959,DKC_Price!A:H,3,FALSE),\"\")","v":""}]
[null,null,{"$f":"IFERROR(VLOOKUP(B2960,DKC_Price!A:H,2,FALSE),\"\")","v":""},null,null,null,{"$f":"IFERROR(VLOOKUP(B2960,DKC_Price!A:H,3,FALSE),\"\")","v":""}]
[null,null,{"$f":"IFERROR(VLOOKUP(B2961,DKC_Price!A:H,2,FALSE),\"\")","v":""},null,null,null,{"$f":"IFERROR(VLOOKUP(B2961,DKC_Price!A:H,3,FALSE),\"\")","v":""}]
[null,null,{"$f":"IFERROR(VLOOKUP(B2962,DKC_Price!A:H,2,FALSE),\"\")","v":""},null,null,null,{"$f":"IFERROR(VLOOKUP(B2962,DKC_Price!A:H,3,FALSE),\"\")","v":""}]
[null,null,{"$f":"IFERROR(VLOOKUP(B2963,DKC_Price!A:H,2,FALSE),\"\")","v":""},null,null,null,{"$f":"IFERROR(VLOOKUP(B2963,DKC_Price!A:H,3,FALSE),\"\")","v":""}]
[null,null,{"$f":"IFERROR(VLOOKUP(B2964,DKC_Price!A:H,2,FALSE),\"\")","v":""},null,null,null,{"$f":"IFERROR(VLOOKUP(B2964,DKC_Price!A:H,3,FALSE),\"\")","v":""}]
[null,null,{"$f":"IFERROR(VLOOKUP(B2965,DKC_Price!A:H,2,FALSE),\"\")","v":""},null,null,null,{"$f":"IFERROR(VLOOKUP(B2965,DKC_Price!A:H,3,FALSE),\"\")","v":""}]
[null,null,{"$f":"IFERROR(VLOOKUP(B2966,DKC_Price!A:H,2,FALSE),\"\")","v":""},null,null,null,{"$f":"IFERROR(VLOOKUP(B2966,DKC_Price!A:H,3,FALSE),\"\")","v":""}]
[null,null,{"$f":"IFERROR(VLOOKUP(B2967,DKC_Price!A:H,2,FALSE),\"\")","v":""},null,null,null,{"$f":"IFERROR(VLOOKUP(B2967,DKC_Price!A:H,3,FALSE),\"\")","v":""}]
[null,null,{"$f":"IFERROR(VLOOKUP(B2968,DKC_Price!A:H,2,FALSE),\"\")","v":""},null,null,null,{"$f":"IFERROR(VLOOKUP(B2968,DKC_Price!A:H,3,FALSE),\"\")","v":""}]
[null,null,{"$f":"IFERROR(VLOOKUP(B2969,DKC_Price!A:H,2,FALSE),\"\")","v":""},null,null,null,{"$f":"IFERROR(VLOOKUP(B2969,DKC_Price!A:H,3,FALSE),\"\")","v":""}]
[null,null,{"$f":"IFERROR(VLOOKUP(B2970,DKC_Price!A:H,2,FALSE),\"\")","v":""},null,null,null,{"$f":"IFERROR(VLOOKUP(B2970,DKC_Price!A:H,3,FALSE),\"\")","v":""}]
[null,null,{"$f":"IFERROR(VLOOKUP(B2971,DKC_Price!A:H,2,FALSE),\"\")","v":""},null,null,null,{"$f":"IFERROR(VLOOKUP(B2971,DKC_Price!A:H,3,FALSE),\"\")","v":""}]
[null,null,{"$f":"IFERROR(VLOOKUP(B2972,DKC_Price!A:H,2,FALSE),\"\")","v":""},null,null,null,{"$f":"IFERROR(VLOOKUP(B2972,DKC_Price!A:H,3,FALSE),\"\")","v":""}]
[null,null,{"$f":"IFERROR(VLOOKUP(B2973,DKC_Price!A:H,2,FALSE),\"\")","v":""},null,null,null,{"$f":"IFERROR(VLOOKUP(B2973,DKC_Price!A:H,3,FALSE),\"\")","v":""}]
[null,null,{"$f":"IFERROR(VLOOKUP(B2974,DKC_Price!A:H,2,FALSE),\"\")","v":""},null,null,null,{"$f":"IFERROR(VLOOKUP(B2974,DKC_Price!A:H,3,FALSE),\"\")","v":""}]
[null,null,{"$f":"IFERROR(VLOOKUP(B2975,DKC_Price!A:H,2,FALSE),\"\")","v":""},null,null,null,{"$f":"IFERROR(VLOOKUP(B2975,DKC_Price!A:H,3,FALSE),\"\")","v":""}]
[null,null,{"$f":"IFERROR(VLOOKUP(B2976,DKC_Price!A:H,2,FALSE),\"\")","v":""},null,null,null,{"$f":"IFERROR(VLOOKUP(B2976,DKC_Price!A:H,3,FALSE),\"\")","v":""}]
[null,null,{"$f":"IFERROR(VLOOKUP(B2977,DKC_Price!A:H,2,FALSE),\"\")","v":""},null,null,null,{"$f":"IFERROR(VLOOKUP(B2977,DKC_Price!A:H,3,FALSE),\"\")","v":""}]
[null,null,{"$f":"IFERROR(VLOOKUP(B2978,DKC_Price!A:H,2,FALSE),\"\")","v":""},null,null,null,{"$f":"IFERROR(VLOOKUP(B2978,DKC_Price!A:H,3,FALSE),\"\")","v":""}]
[null,null,{"$f":"IFERROR(VLOOKUP(B2979,DKC_Price!A:H,2,FALSE),\"\")","v":""},null,null,null,{"$f":"IFERROR(VLOOKUP(B2979,DKC_Price!A:H,3,FALSE),\"\")","v":""}]
[null,null,{"$f":"IFERROR(VLOOKUP(B2980,DKC_Price!A:H,2,FALSE),\"\")","v":""},null,null,null,{"$f":"IFERROR(VLOOKUP(B2980,DKC_Price!A:H,3,FALSE),\"\")","v":""}]
[null,null,{"$f":"IFERROR(VLOOKUP(B2981,DKC_Price!A:H,2,FALSE),\"\")","v":""},null,null,null,{"$f":"IFERROR(VLOOKUP(B2981,DKC_Price!A:H,3,FALSE),\"\")","v":""}]
[null,null,{"$f":"IFERROR(VLOOKUP(B2982,DKC_Price!A:H,2,FALSE),\"\")","v":""},null,null,null,{"$f":"IFERROR(VLOOKUP(B2982,DKC_Price!A:H,3,FALSE),\"\")","v":""}]
[null,null,{"$f":"IFERROR(VLOOKUP(B2983,DKC_Price!A:H,2,FALSE),\"\")","v":""},null,null,null,{"$f":"IFERROR(VLOOKUP(B2983,DKC_Price!A:H,3,FALSE),\"\")","v":""}]
[null,null,{"$f":"IFERROR(VLOOKUP(B2984,DKC_Price!A:H,2,FALSE),\"\")","v":""},null,null,null,{"$f":"IFERROR(VLOOKUP(B2984,DKC_Price!A:H,3,FALSE),\"\")","v":""}]
[null,null,{"$f":"IFERROR(VLOOKUP(B2985,DKC_Price!A:H,2,FALSE),\"\")","v":""},null,null,null,{"$f":"IFERROR(VLOOKUP(B2985,DKC_Price!A:H,3,FALSE),\"\")","v":""}]
[null,null,{"$f":"IFERROR(VLOOKUP(B2986,DKC_Price!A:H,2,FALSE),\"\")","v":""},null,null,null,{"$f":"IFERROR(VLOOKUP(B2986,DKC_Price!A:H,3,FALSE),\"\")","v":""}]
[null,null,{"$f":"IFERROR(VLOOKUP(B2987,DKC_Price!A:H,2,FALSE),\"\")","v":""},null,null,null,{"$f":"IFERROR(VLOOKUP(B2987,DKC_Price!A:H,3,FALSE),\"\")","v":""}]
[null,null,{"$f":"IFERROR(VLOOKUP(B2988,DKC_Price!A:H,2,FALSE),\"\")","v":""},null,null,null,{"$f":"IFERROR(VLOOKUP(B2988,DKC_Price!A:H,3,FALSE),\"\")","v":""}]
[null,null,{"$f":"IFERROR(VLOOKUP(B2989,DKC_Price!A:H,2,FALSE),\"\")","v":""},null,null,null,{"$f":"IFERROR(VLOOKUP(B2989,DKC_Price!A:H,3,FALSE),\"\")","v":""}]
[null,null,{"$f":"IFERROR(VLOOKUP(B2990,DKC_Price!A:H,2,FALSE),\"\")","v":""},null,null,null,{"$f":"IFERROR(VLOOKUP(B2990,DKC_Price!A:H,3,FALSE),\"\")","v":""}]
[null,null,{"$f":"IFERROR(VLOOKUP(B2991,DKC_Price!A:H,2,FALSE),\"\")","v":""},null,null,null,{"$f":"IFERROR(VLOOKUP(B2991,DKC_Price!A:H,3,FALSE),\"\")","v":""}]
[null,null,{"$f":"IFERROR(VLOOKUP(B2992,DKC_Price!A:H,2,FALSE),\"\")","v":""},null,null,null,{"$f":"IFERROR(VLOOKUP(B2992,DKC_Price!A:H,3,FALSE),\"\")","v":""}]
[null,null,{"$f":"IFERROR(VLOOKUP(B2993,DKC_Price!A:H,2,FALSE),\"\")","v":""},null,null,null,{"$f":"IFERROR(VLOOKUP(B2993,DKC_Price!A:H,3,FALSE),\"\")","v":""}]
[null,null,{"$f":"IFERROR(VLOOKUP(B2994,DKC_Price!A:H,2,FALSE),\"\")","v":""},null,null,null,{"$f":"IFERROR(VLOOKUP(B2994,DKC_Price!A:H,3,FALSE),\"\")","v":""}]
[null,null,{"$f":"IFERROR(VLOOKUP(B2995,DKC_Price!A:H,2,FALSE),\"\")","v":""},null,null,null,{"$f":"IFERROR(VLOOKUP(B2995,DKC_Price!A:H,3,FALSE),\"\")","v":""}]
[null,null,{"$f":"IFERROR(VLOOKUP(B2996,DKC_Price!A:H,2,FALSE),\"\")","v":""},null,null,null,{"$f":"IFERROR(VLOOKUP(B2996,DKC_Price!A:H,3,FALSE),\"\")","v":""}]
[null,null,{"$f":"IFERROR(VLOOKUP(B2997,DKC_Price!A:H,2,FALSE),\"\")","v":""},null,null,null,{"$f":"IFERROR(VLOOKUP(B2997,DKC_Price!A:H,3,FALSE),\"\")","v":""}]
[null,null,{"$f":"IFERROR(VLOOKUP(B2998,DKC_Price!A:H,2,FALSE),\"\")","v":""},null,null,null,{"$f":"IFERROR(VLOOKUP(B2998,DKC_Price!A:H,3,FALSE),\"\")","v":""}]
[null,null,{"$f":"IFERROR(VLOOKUP(B2999,DKC_Price!A:H,2,FALSE),\"\")","v":""},null,null,null,{"$f":"IFERROR(VLOOKUP(B2999,DKC_Price!A:H,3,FALSE),\"\")","v":""}]
[null,null,{"$f":"IFERROR(VLOOKUP(B3000,DKC_Price!A:H,2,FALSE),\"\")","v":""},null,null,null,{"$f":"IFERROR(VLOOKUP(B3000,DKC_Price!A:H,3,FALSE),\"\")","v":""}]

{"sheet":"DKC_Price","index":1,"n_rows":50000,"n_cols":10,"rows_kept":4500,"cut":true,"hidden":true,"merged":[],"bounds":{"rows_first":2000,"rows_last":500,"rows_between":2000,"halvings":0}}
["Прайс DKC"]
["Артикул","Наименование продукции","Единица измерения",null,"Тариф,   без НДС, руб (прайс)",null,"Тариф,   с НДС, руб (прайс)","Срок поставки","Группа оборудования"]
[]
[]
[]
["36008","Горизонтальный изменяемый угол СРО 0-45град. 100х50","Штука",null,1722.38,null,{"$f":"E6*1.2","v":2066.8560000000002}]
["36009","Горизонтальный изменяемый угол СРО 0-45град. 150х50","Штука",null,1942.6,null,{"$f":"E7*1.2","v":2331.12}]
["36010","Горизонтальный изменяемый угол СРО 0-45град. 200х50","Штука",null,2200.9899999999998,null,2641.1879999999996]
["36011","Горизонтальный изменяемый угол СРО 0-45град. 300х50","Штука",null,2874.25,null,3449.1]
["36012","Горизонтальный изменяемый угол СРО 0-45град. 80х80","Штука",null,1694.54,null,2033.4479999999999]
["36013","Горизонтальный изменяемый угол СРО 0-45град. 100х80","Штука",null,1799.27,null,2159.1239999999998]
["36014","Горизонтальный изменяемый угол СРО 0-45град. 150х80","Штука",null,2038.79,null,2446.5479999999998]
["36015","Горизонтальный изменяемый угол СРО 0-45град. 200х80","Штука",null,2301.77,null,2762.1239999999998]
["36016","Горизонтальный изменяемый угол СРО 0-45град. 300х80","Штука",null,2998.33,null,3597.9959999999996]
["36017","Горизонтальный изменяемый угол СРО 0-45град. 100х100","Штука",null,1818.15,null,2181.7800000000002]
["36018","Горизонтальный изменяемый угол СРО 0-45град. 150х100","Штука",null,2057.7199999999998,null,2469.2639999999997]
["36019","Горизонтальный изменяемый угол СРО 0-45град. 200х100","Штука",null,2317.44,null,2780.9279999999999]
["36020","Горизонтальный изменяемый угол СРО 0-45град. 300х100","Штука",null,3023.55,null,3628.26]
["360505","Горизонтальный изменяемый угол СРО 0-45град. 500х50","Штука",null,4892.25,null,5870.7]
["360408","Горизонтальный изменяемый угол CPO 0-45 град. 400х80","Штука",null,3877.88,null,4653.4560000000001]
["360405","Горизонтальный изменяемый угол CPO 0-45 град. 400х50","Штука",null,3767.94,null,4521.5280000000002]
["360410","Горизонтальный изменяемый угол СРО 0-45град. 400х100","Штука",null,4081.07,null,4897.2839999999997]
["360610","Горизонтальный изменяемый угол СРО 0-45град. 600х100","Штука",null,6898.16,null,8277.7919999999995]
["360605","Горизонтальный изменяемый угол СРО 0-45град. 600х50","Штука",null,6352.04,null,7622.4479999999994]
["360508","Горизонтальный  Изменяемый  угол СРО 0-45град. 500х80","Штука",null,4805.97,null,5767.1639999999998]
["360510","Горизонтальный  Изменяемый  угол СРО 0-45град. 500х100","Штука",null,4896.26,null,5875.5119999999997]
["360608","Горизонтальный  Изменяемый  угол СРО 0-45град. 600х80","Штука",null,5753.84,null,6904.6080000000002]
["35262600","Телескопическое расширение лотка 100х50 L600 мм","Штука",null,1428.88,null,1714.6560000000002]
["35263600","Телескопическое расширение лотка 150х50 L600 мм","Штука",null,1550.85,null,1861.0199999999998]
["35264600","Телескопическое расширение лотка 200х50 L600 мм","Штука",null,1766.31,null,2119.5719999999997]
["35265600","Телескопическое расширение лотка 300х50 L600 мм","Штука",null,2205.0500000000002,null,2646.06]
["35266600","Телескопическое расширение лотка 400х50 L600 мм","Штука",null,2620.9699999999998,null,3145.1639999999998]
["35267600","Телескопическое расширение лотка 500х50 L600 мм","Штука",null,3036.93,null,3644.3159999999998]
["35301600","Телескопическое расширение лотка 80х80 L600 мм","Штука",null,1387.88,null,1665.4560000000001]
["35302600","Телескопическое расширение лотка 100х80 L600 мм","Штука",null,1545.89,null,1855.068]
["35303600","Телескопическое расширение лотка 150х80 L600 мм","Штука",null,1635.32,null,1962.3839999999998]
["35304600","Телескопическое расширение лотка 200х80 L600 мм","Штука",null,1880.29,null,2256.348]
["35305600","Телескопическое расширение лотка 300х80 L600 мм","Штука",null,2319.0300000000002,null,2782.8360000000002]
["35306600","Телескопическое расширение лотка 400х80 L600 мм","Штука",null,2734.92,null,3281.904]
["35307600","Телескопическое расширение лотка 500х80 L600 мм","Штука",null,3122.75,null,3747.2999999999997]
["35341600","Телескопическое расширение лотка 100х100 L600 мм","Штука",null,1592.68,null,1911.2159999999999]
["35342600","Телескопическое расширение лотка 150х100 L600 мм","Штука",null,1709.31,null,2051.172]
["35343600","Телескопическое расширение лотка 200х100 L600 мм","Штука",null,1954.33,null,2345.1959999999999]
["35344600","Телескопическое расширение лотка 300х100 L600 мм","Штука",null,2381.15,null,2857.38]
["35345600","Телескопическое расширение лотка 400х100 L600 мм","Штука",null,2808.96,null,3370.752]
["35346600","Телескопическое расширение лотка 500х100 L600 мм","Штука",null,3224.93,null,3869.9159999999997]
["39000","Горизонтальный угол 90 50х50, глухой","Штука",null,2939.82,null,3527.7840000000001]
["39001","Угол вертикальный вверх 90 50х50, глухой","Штука",null,2939.82,null,3527.7840000000001]
["39002","Угол вертикальный вниз 90 50х50, глухой","Штука",null,2939.92,null,3527.904]
["39003","Ответвитель горизонтальный Т-образный 50х50, глухой","Штука",null,4200.1400000000003,null,5040.1680000000006]
["39004","Ответвитель горизонтальный Х-образный 50х50, глухой","Штука",null,6037.85,null,7245.42]
["39005","Разворот плоскости левый 50х50, глухой","Штука",null,2546.52,null,3055.8240000000001]
["39006","Разворот плоскости правый 50х50, глухой","Штука",null,2546.52,null,3055.8240000000001]
["38009","Крышка для угла горизонтального изменяемого угла CPO 0-45 осн.80","Штука",null,539.13,null,646.95600000000002]
["38010","Крышка для угла горизонтального изменяемого угла CPO 0-45 осн.100","Штука",null,671.5,null,805.8]
["38011","Крышка для угла горизонтального изменяемого угла CPO 0-45 осн.150","Штука",null,768,null,921.59999999999991]
["38012","Крышка для угла горизонтального изменяемого угла CPO 0-45 осн.200","Штука",null,901.68,null,1082.0159999999998]
["38013","Крышка для угла горизонтального изменяемого угла CPO 0-45 осн.300","Штука",null,1185.5999999999999,null,1422.7199999999998]
["38014","Крышка для угла горизонтального изменяемого угла CPO 0-45 осн.400","Штука",null,1515.59,null,1818.7079999999999]
["38015","Крышка для угла горизонтального изменяемого угла CPO 0-45 осн.500","Штука",null,1970.23,null,2364.2759999999998]
["38016","Крышка для угла горизонтального изменяемого угла CPO 0-45 осн.600","Штука",null,2462.79,null,2955.348]
["38001","Крышка на угол CPO 90 горизонтальный 90° осн.80","Штука",null,765.39,null,918.46799999999996]
["38002","Крышка на угол CPO 90 горизонтальный 90° осн.100","Штука",null,846.46,null,1015.752]
["38003","Крышка на угол CPO 90 горизонтальный 90° осн.150","Штука",null,971.51,null,1165.8119999999999]
["38004","Крышка на угол CPO 90 горизонтальный 90° осн.200","Штука",null,1196.6199999999999,null,1435.9439999999997]
["38005","Крышка на угол CPO 90 горизонтальный 90° осн.300","Штука",null,1679.42,null,2015.3040000000001]
["38006","Крышка на угол CPO 90 горизонтальный 90° осн.400","Штука",null,2369.9699999999998,null,2843.9639999999995]
["38007","Крышка на угол CPO 90 горизонтальный 90° осн.500","Штука",null,2916.38,null,3499.6559999999999]
["38008","Крышка на угол CPO 90 горизонтальный 90° осн.600","Штука",null,4419.6899999999996,null,5303.6279999999997]
["38020","Крышка на угол CPO 45 горизонтальный 45° осн.50","Штука",null,590.77,null,708.92399999999998]
["38021","Крышка на угол CPO 45 горизонтальный 45° осн.80","Штука",null,709.62,null,{"$f":"E71*1.2","v":851.54399999999998}]
["38022","Крышка на угол CPO 45 горизонтальный 45° осн.100","Штука",null,787.33,null,944.79600000000005]
["38023","Крышка CPO 45 на  угол горизонтальный 45° осн.150","Штука",null,923.36,null,1108.0319999999999]
["38024","Крышка на угол CPO 45 горизонтальный 45° осн.200","Штука",null,1123.05,null,1347.6599999999999]
["38025","Крышка на угол CPO 45 горизонтальный 45° осн.300","Штука",null,1523.85,null,1828.62]
["38026","Крышка на угол CPO 45 горизонтальный 45° осн.400","Штука",null,2184.48,null,2621.3759999999997]
["38027","Крышка на угол CPO 45 горизонтальный 45° осн.500","Штука",null,2639.06,null,3166.8719999999998]
["38028","Крышка на угол CPO 45 горизонтальный 45° осн.600","Штука",null,3886.58,null,4663.8959999999997]
["38041","Крышка на ответвитель DPT Т-образный горизонтальный осн.80","Штука",null,984.38,null,1181.2559999999999]
["38042","Крышка на ответвитель DPT Т-образный горизонтальный осн.100","Штука",null,1071.1600000000001,null,1285.3920000000001]
["38043","Крышка на ответвитель DPT Т-образный горизонтальный осн.150","Штука",null,1247.3599999999999,null,1496.8319999999999]
["38044","Крышка на ответвитель DPT Т-образный горизонтальный осн.200","Штука",null,1520.29,null,1824.348]
["38045","Крышка на ответвитель DPT Т-образный горизонтальный осн.300","Штука",null,2051.7800000000002,null,2462.136]
["38046","Крышка на ответвитель DPT Т-образный горизонтальный осн.400","Штука",null,2707.63,null,3249.1559999999999]
["38047","Крышка на ответвитель DPT Т-образный горизонтальный осн.500","Штука",null,3265.24,null,3918.2879999999996]
["38048","Крышка на ответвитель DPT Т-образный горизонтальный осн.600","Штука",null,4508.3100000000004,null,5409.9720000000007]
["38060","Крышка на ответвитель DPX крестообразный осн.50","Штука",null,1286.78,null,1544.136]
["38061","Крышка на ответвитель DPX крестообразный осн.80","Штука",null,1400.15,null,1680.18]
["38062","Крышка на ответвитель DPX крестообразный осн.100","Штука",null,1492.7,null,1791.24]
["38063","Крышка на ответвитель DPX крестообразный осн.150","Штука",null,1675.96,null,2011.152]
["38064","Крышка на ответвитель DPX крестообразный осн.200","Штука",null,1917.87,null,2301.444]
["38065","Крышка на ответвитель DPX крестообразный осн.300","Штука",null,2539,null,3046.7999999999997]
["38066","Крышка на ответвитель DPX крестообразный осн.400","Штука",null,3288.76,null,3946.5120000000002]
["38067","Крышка на ответвитель DPX крестообразный осн.500","Штука",null,3897.14,null,4676.5679999999993]
["38068","Крышка на ответвитель DPX крестообразный осн.600","Штука",null,5506.83,null,6608.1959999999999]
["38072","Крышка на переходник RRS левосторонний 600/300","Штука",null,2919.44,null,3503.328]
["38073","Крышка на переходник RRS левосторонний 600/400","Штука",null,2704.84,null,3245.808]
["38074","Крышка на переходник RRS левосторонний 600/500","Штука",null,2510.31,null,3012.3719999999998]
["38079","Крышка на переходник RRC симметричный 100/50","Штука",null,1030.77,null,1236.924]
["38081","Крышка на переходник RRC симметричный 150/80","Штука",null,1054.57,null,1265.4839999999999]
["38082","Крышка на переходник RRC симметричный 150/100","Штука",null,1063.76,null,1276.5119999999999]
["38083","Крышка на переходник RRC симметричный 200/80","Штука",null,1121.8399999999999,null,1346.2079999999999]
["38084","Крышка на переходник RRC симметричный 200/100","Штука",null,1125.8900000000001,null,1351.068]
["38085","Крышка на переходник RRC симметричный 200/150","Штука",null,1135.24,null,1362.288]
["38086","Крышка на переходник RRC симметричный 300/80","Штука",null,1150.73,null,1380.876]
["38087","Крышка на переходник RRC симметричный 300/100","Штука",null,1260.32,null,1512.3839999999998]
["38088","Крышка на переходник RRC симметричный 300/150","Штука",null,1245.8399999999999,null,1495.0079999999998]
["38089","Крышка на переходник RRC симметричный 300/200","Штука",null,1248.45,null,1498.14]
["38090","Крышка на переходник RRC симметричный 400/300","Штука",null,1460.03,null,1752.0359999999998]
["38091","Крышка на переходник RRC симметричный 500/300","Штука",null,1803.84,null,2164.6079999999997]
["38092","Крышка на переходник RRC симметричный 500/400","Штука",null,1803.84,null,2164.6079999999997]
["38093","Крышка на переходник RRC симметричный 500/200","Штука",null,1815.05,null,2178.06]
["38120","Крышка на переходник RRD правосторонний 100/50","Штука",null,881.48,null,1057.7760000000001]
["38121","Крышка на переходник RRD правосторонний 100/80","Штука",null,799.8,null,959.75999999999988]
["38122","Крышка на переходник RRD правосторонний 150/80","Штука",null,897.48,null,1076.9759999999999]
["38123","Крышка на переходник RRD правосторонний 150/100","Штука",null,897.48,null,1076.9759999999999]
["38124","Крышка на переходник RRD правосторонний 200/80","Штука",null,979.95,null,1175.94]
["38125","Крышка на переходник RRD правосторонний 200/100","Штука",null,985.89,null,1183.068]
["38126","Крышка на переходник RRD правосторонний 200/150","Штука",null,989.36,null,1187.232]
["38127","Крышка на переходник RRD правосторонний 300/80","Штука",null,1187.07,null,1424.4839999999999]
["38128","Крышка на переходник RRD правосторонний 300/100","Штука",null,1194.6400000000001,null,1433.568]
["38129","Крышка на переходник RRD правосторонний 300/150","Штука",null,1197.07,null,1436.4839999999999]
["38130","Крышка на переходник RRD правосторонний 300/200","Штука",null,1154.3399999999999,null,1385.2079999999999]
["38131","Крышка на переходник RRD правосторонний 400/300","Штука",null,1480.84,null,1777.0079999999998]
["38132","Крышка на переходник RRD правосторонний 500/300","Штука",null,1877.05,null,2252.46]
["38133","Крышка на переходник RRD правосторонний 500/400","Штука",null,2114.1,null,2536.9199999999996]
["38032","Крышка на переходник RRD правосторонний 600/300","Штука",null,2919.44,null,3503.328]
["38033","Крышка на переходник RRD правосторонний 600/400","Штука",null,2704.84,null,3245.808]
["38034","Крышка на переходник RRD правосторонний 600/500","Штука",null,2510.31,null,3012.3719999999998]
["38160","Крышка на переходник RRS левосторонний 100/50","Штука",null,881.48,null,1057.7760000000001]
["38161","Крышка на переходник RRS левосторонний 100/80","Штука",null,799.8,null,959.75999999999988]
["38162","Крышка на переходник RRS левосторонний 150/80","Штука",null,897.48,null,1076.9759999999999]
["38163","Крышка на переходник RRS левосторонний 150/100","Штука",null,897.48,null,1076.9759999999999]
["38164","Крышка на переходник RRS левосторонний 200/80","Штука",null,979.95,null,1175.94]
["38165","Крышка на переходник RRS левосторонний 200/100","Штука",null,985.89,null,{"$f":"E135*1.2","v":1183.068}]
["38166","Крышка на переходник RRS левосторонний 200/150","Штука",null,989.36,null,1187.232]
["38167","Крышка на переходник RRS левосторонний 300/80","Штука",null,1187.07,null,1424.4839999999999]
["38168","Крышка на переходник RRS левосторонний 300/100","Штука",null,1194.6400000000001,null,1433.568]
["38169","Крышка на переходник RRS левосторонний 300/150","Штука",null,1197.07,null,1436.4839999999999]
["38170","Крышка на переходник RRS левосторонний 300/200","Штука",null,1154.3399999999999,null,1385.2079999999999]
["38171","Крышка на переходник RRS левосторонний 400/300","Штука",null,1480.84,null,1777.0079999999998]
["38172","Крышка на переходник RRS левосторонний 500/300","Штука",null,1877.05,null,2252.46]
["38173","Крышка на переходник RRS левосторонний 500/400","Штука",null,2114.1,null,2536.9199999999996]
["38191","Крышка на переходник RRC симметричный 600/300","Штука",null,2594.4699999999998,null,3113.3639999999996]
["38192","Крышка на переходник RRC симметричный 600/400","Штука",null,2486.62,null,2983.944]
["38193","Крышка на переходник RRC симметричный 600/500","Штука",null,2334.4,null,2801.28]
["38200","Крышка на угол CS 90 вертикальный внутр. 90° осн.50","Штука",null,544.08000000000004,null,652.89600000000007]
["38201","Крышка на угол CS 90 вертикальный внутр. 90° осн.80","Штука",null,616.20000000000005,null,739.44]
["38202","Крышка на угол CS 90 вертикальный внутр. 90° осн.100","Штука",null,649.41999999999996,null,779.30399999999997]
["38203","Крышка на угол CS 90 вертикальный внутр. 90° осн.150","Штука",null,811.71,null,974.05200000000002]
["38204","Крышка на угол CS 90 вертикальный внутренний 90 градусов, осн.200","Штука",null,888.2,null,1065.8399999999999]
["38205","Крышка на угол CS 90 вертикальный внутр. 90° осн.300","Штука",null,1084.5899999999999,null,1301.5079999999998]
["38206","Крышка на угол CS 90 вертикальный внутр. 90° осн.400","Штука",null,1266.27,null,1519.5239999999999]
["38207","Крышка на угол CS 90 вертикальный внутр. 90° осн.500","Штука",null,1423.39,null,1708.068]
["38208","Крышка на угол CS 90 вертикальный внутр. 90° осн.600","Штука",null,1899.53,null,2279.4359999999997]
["38220","Крышка на угол CS 45 вертикальный внутр. 45° осн.50","Штука",null,538.5,null,646.19999999999993]
["38221","Крышка на угол CS 45 вертикальный внутр. 45° осн.80","Штука",null,591.95000000000005,null,710.34]
["38222","Крышка на угол CS 45 вертикальный внутр. 45° осн.100","Штука",null,622.05999999999995,null,746.47199999999987]
["38223","Крышка на угол CS 45 вертикальный внутр. 45° осн.150","Штука",null,770.79,null,924.94799999999987]
["38224","Крышка на угол CS 45 вертикальный внутр. 45° осн.200","Штука",null,867.01,null,1040.412]
["38225","Крышка на угол CS 45 вертикальный внутр. 45° осн.300","Штука",null,1077.51,null,1293.0119999999999]
["38226","Крышка на угол CS 45 вертикальный внутр. 45° осн.400","Штука",null,1199.6600000000001,null,1439.5920000000001]
["38227","Крышка на угол CS 45 вертикальный внутр. 45° осн.500","Штука",null,1367.86,null,1641.4319999999998]
["38228","Крышка на угол CS 45 вертикальный внутр. 45° осн.600","Штука",null,1776.23,null,2131.4760000000001]
["38240","Крышка на угол CD 90 вертикальный внеш. 90° осн.50","Штука",null,643.59,null,772.30799999999999]
["38241","Крышка на угол CD 90 вертикальный внеш. 90° осн.80","Штука",null,670.19,null,804.22800000000007]
["38242","Крышка на угол CD 90 вертикальный внеш. 90° осн.100","Штука",null,755.66,null,906.79199999999992]
["38243","Крышка на угол CD 90 вертикальный внеш. 90° осн.150","Штука",null,869.72,null,1043.664]
["38244","Крышка на угол CD 90 вертикальный внеш. 90° осн.200","Штука",null,927.69,null,1113.2280000000001]
["38245","Крышка на угол CD 90 вертикальный внеш. 90° осн.300","Штука",null,1142.48,null,1370.9759999999999]
["38246","Крышка на угол CD 90 вертикальный внеш. 90° осн.400","Штука",null,1372.51,null,1647.0119999999999]
["38247","Крышка на угол CD 90 вертикальный внеш. 90° осн.500","Штука",null,1674.03,null,2008.8359999999998]
["38248","Крышка на угол CD 90 вертикальный внеш. 90° осн.600","Штука",null,2296.6799999999998,null,2756.0159999999996]
["38260","Крышка на угол CD 45 вертикальный внеш. 45° осн.50","Штука",null,602.6,null,723.12]
["38261","Крышка на угол CD 45 вертикальный внеш. 45° осн.80","Штука",null,647.95000000000005,null,777.54000000000008]
["38262","Крышка на угол CD 45 вертикальный внеш. 45° осн.100","Штука",null,677.61,null,813.13199999999995]
["38263","Крышка на угол CD 45 вертикальный внеш. 45° осн.150","Штука",null,822.7,null,987.24]
["38264","Крышка на угол CD 45 вертикальный внеш. 45° осн.200","Штука",null,881.59,null,1057.9079999999999]
["38265","Крышка на угол CD 45 вертикальный внеш. 45° осн.300","Штука",null,993.42,null,1192.1039999999998]
["38266","Крышка на угол CD 45 вертикальный внеш. 45° осн.400","Штука",null,1285.17,null,1542.204]
["38267","Крышка на угол CD 45 вертикальный внеш. 45° осн.500","Штука",null,1521.15,null,1825.38]
["38268","Крышка на угол CD 45 вертикальный внеш. 45° осн.600","Штука",null,1901.44,null,2281.7280000000001]
["38281","Крышка на угол CDSD/CDSS/CDV 90 вертикальный внеш. переходник осн.80","Штука",null,924.43,null,1109.3159999999998]
["38282","Крышка на угол CDSD/CDSS 90 вертикальный внеш. переходник осн.100","Штука",null,1004.48,null,1205.376]
["38283","Крышка на угол CDSD/CDSS 90 вертикальный внеш. переходник осн.150","Штука",null,1185.01,null,1422.0119999999999]
["38284","Крышка на угол CDSD/CDSS 90 вертикальный внеш. переходник осн.200","Штука",null,1297.23,null,1556.6759999999999]
["38285","Крышка на угол CDSD/CDSS 90 вертикальный внеш. переходник осн.300","Штука",null,1656.44,null,1987.7280000000001]
["38286","Крышка на угол CDSD/CDSS 90 вертикальный внеш. переходник осн.400","Штука",null,1928.57,null,2314.2839999999997]
["38287","Крышка на угол CDSD/CDSS 90 вертикальный внеш. переходник осн.500","Штука",null,2250.91,null,2701.0919999999996]
["38288","Крышка на угол CDSD/CDSS 90 вертикальный внеш. переходник осн.600","Штука",null,2941.03,null,3529.2360000000003]
["38301","Крышка на ответвитель TD / TDS осн.80","Штука",null,842.31,null,1010.7719999999999]
["38302","Крышка на ответвитель TD осн.100 / ответвитель-переходник TDSR 100/80","Штука",null,1227.29,null,1472.7479999999998]
["38303","Крышка на ответвитель TD осн.150 / ответвитель-переходник TDSR 150/80","Штука",null,1414.67,null,1697.604]
["38304","Крышка на ответвитель TD осн.200 / ответвитель-переходник TDSR 200/80","Штука",null,1589.46,null,1907.3519999999999]
["38305","Крышка на ответвитель TD осн.300 / ответвитель-переходник TDSR 300/80","Штука",null,1755.33,null,2106.3959999999997]
["38306","Крышка на ответвитель TD осн.400","Штука",null,1995,null,2394]
["38307","Крышка на ответвитель TD осн.500","Штука",null,2293.38,null,2752.056]
["38308","Крышка на переходник RRC симметричный 400/200","Штука",null,1467.73,null,1761.2760000000001]
["38309","Крышка на ответвитель TD осн.600","Штука",null,2736.91,null,{"$f":"E199*1.2","v":3284.2919999999999}]
["38310","Крышка на переходник RRD правосторонний 400/200","Штука",null,1517.73,null,1821.2760000000001]
["38313","Крышка на переходник RRS левосторонний 400/200","Штука",null,1517.73,null,1821.2760000000001]
["38315","Крышка на переходник RRS левосторонний 500/200","Штука",null,2069.16,null,2482.9919999999997]
["38316","Крышка на переходник RRD правосторонний 500/200","Штука",null,1993.95,null,2392.7399999999998]
["38322","Крышка на ответвитель TDS Т-образный вертикальный ун. осн.100","Штука",null,1317.81,null,1581.3719999999998]
["38323","Крышка на ответвитель TDS Т-образный вертикальный ун. осн.150","Штука",null,1479.7,null,1775.64]
["38324","Крышка на ответвитель TDS Т-образный вертикальный ун. осн.200","Штука",null,1611.48,null,1933.7759999999998]
["38325","Крышка на ответвитель TDS Т-образный вертикальный ун. осн.300","Штука",null,1945.02,null,2334.0239999999999]
["38326","Крышка на ответвитель TDS Т-образный вертикальный ун. осн.400","Штука",null,2331.9299999999998,null,2798.3159999999998]
["38327","Крышка на ответвитель TDS Т-образный вертикальный ун. осн.500","Штука",null,2809.61,null,3371.5320000000002]
["38328","Крышка на ответвитель TDS Т-образный вертикальный ун. осн.600","Штука",null,3496.22,null,4195.4639999999999]
["38341","Крышка на угол CDV 90 вертикальный внеш. осн.100","Штука",null,987.58,null,1185.096]
["38342","Крышка на угол CDV 90 вертикальный внеш. осн.150","Штука",null,1179.81,null,1415.7719999999999]
["38343","Крышка на угол CDV 90 вертикальный внеш. осн.200","Штука",null,1277.3399999999999,null,1532.8079999999998]
["38344","Крышка на угол CDV 90 вертикальный внеш. осн.300","Штука",null,1645.6,null,1974.7199999999998]
["38345","Крышка на угол CDV 90 вертикальный внеш. осн.400","Штука",null,1743.15,null,2091.7800000000002]
["38346","Крышка на угол CDV 90 вертикальный внеш. осн.500","Штука",null,1949.69,null,2339.6280000000002]
["38347","Крышка CDV 90 на угол вертикальный внеш. осн. 600","Штука",null,2436.19,null,2923.4279999999999]
["38361","Крышка на ответвитель DL осн.50","Штука",null,900.7,null,1080.8399999999999]
["38362","Крышка на ответвитель DL осн.80","Штука",null,968.89,null,1162.6679999999999]
["38363","Крышка на ответвитель DL осн.100","Штука",null,1013.05,null,1215.6599999999999]
["38364","Крышка на ответвитель DL осн.150","Штука",null,1127.78,null,1353.336]
["38365","Крышка на ответвитель DL осн.200","Штука",null,1332.04,null,1598.4479999999999]
["38366","Крышка на ответвитель DL осн.300","Штука",null,1692.67,null,2031.204]
["38367","Крышка на ответвитель DL осн.400","Штука",null,2074.81,null,2489.7719999999999]
["38368","Крышка на ответвитель DL осн.500","Штука",null,2354.48,null,2825.3759999999997]
["38369","Крышка на ответвитель DL осн.600","Штука",null,2943.1,null,3531.72]
["38381","Крышка на ответвитель-переходник TDSA 80/100","Штука",null,848.49,null,1018.188]
["38382","Крышка на ответвитель-переходник TDSA 80/150","Штука",null,854.36,null,1025.232]
["38383","Крышка на ответвитель-переходник TDSA 80/200","Штука",null,905.61,null,1086.732]
["38384","Крышка на ответвитель-переходник TDSA 80/300","Штука",null,969.82,null,1163.7840000000001]
["38385","Крышка на ответвитель-переходник TDSA 100/150","Штука",null,1357.45,null,1628.94]
["38386","Крышка на ответвитель-переходник TDSA 100/200","Штука",null,1384.96,null,1661.952]
["38387","Крышка на ответвитель-переходник TDSA 100/300","Штука",null,1444.36,null,1733.2319999999997]
["38390","Крышка на ответвитель-переходник TDSA 150/200","Штука",null,1488.36,null,1786.0319999999999]
["38391","Крышка на ответвитель-переходник TDSA 150/300","Штука",null,1597.21,null,1916.652]
["38392","Крышка на ответвитель-переходник TDSA 150/400","Штука",null,1695.87,null,2035.0439999999999]
["38394","Крышка на ответвитель-переходник TDSA 200/300","Штука",null,1709.78,null,2051.7359999999999]
["38395","Крышка на ответвитель-переходник TDSA 200/400","Штука",null,1775.68,null,2130.8159999999998]
["38396","Крышка на ответвитель-переходник TDSA 200/500","Штука",null,1901.83,null,2282.1959999999999]
["38397","Крышка на ответвитель-переходник TDSA 300/400","Штука",null,2027.42,null,2432.904]
["38398","Крышка на ответвитель-переходник TDSA 300/500","Штука",null,2160.12,null,2592.1439999999998]
["38400","Крышка на ответвитель-переходник TDSR 150/100","Штука",null,1354.42,null,1625.3040000000001]
["38401","Крышка на ответвитель-переходник TDSR 200/100","Штука",null,1560.68,null,1872.816]
["38402","Крышка на ответвитель-переходник TDSR 200/150","Штука",null,1602.58,null,1923.0959999999998]
["38403","Крышка на ответвитель-переходник TDSR 300/100","Штука",null,1783.06,null,2139.672]
["38404","Крышка на ответвитель-переходник TDSR 300/150","Штука",null,1808.41,null,2170.0920000000001]
["38405","Крышка на ответвитель-переходник TDSR 300/200","Штука",null,1824.01,null,2188.8119999999999]
["38406","Крышка на ответвитель-переходник TDSR 400/100","Штука",null,2119.0500000000002,null,2542.86]
["38407","Крышка на ответвитель-переходник TDSR 400/150","Штука",null,2081.85,null,2498.2199999999998]
["38408","Крышка на ответвитель-переходник TDSR 400/200","Штука",null,2110.13,null,2532.1559999999999]
["38412","Крышка на ответвитель-переходник TDSR 500/200","Штука",null,2427.65,null,2913.18]
["38413","Крышка на ответвитель-переходник TDSR 500/300","Штука",null,2641.03,null,3169.2360000000003]
["38414","Крышка на ответвитель-переходник TDSR 500/400","Штука",null,2302.14,null,2762.5679999999998]
["38000","Крышка на угол CPO 90 горизонтальный 90° осн.50","Штука",null,638.16999999999996,null,765.80399999999997]
["38040","Крышка на ответвитель DPT Т-образный горизонтальный осн.50","Штука",null,910.36,null,1092.432]
[null,null,null,null,null,null,0]
["SEP2035","Перегородка SEP L2000 Н 35 мм","Метр",null,264.39,null,317.26799999999997]
["SEP3035","Перегородка SEP L3000 Н 35 мм","Метр",null,264.39,null,317.26799999999997]
["36470","Перегородка SEP L2000 Н50","Метр",null,335.72,null,402.86400000000003]
["36480","Перегородка SEP L3000 Н50","Метр",null,335.72,null,402.86400000000003]
["36490","Перегородка SEP L2000 H80","Метр",null,419.52,null,503.42399999999998]
["36500","Перегородка SEP L3000 H80","Метр",null,419.52,null,503.42399999999998]
["36510","Перегородка SEP L3000 H100","Метр",null,474.71,null,{"$f":"E263*1.2","v":569.65199999999993}]
["SPV00350K","Пластина крепежная GSV H35 в комплекте с крепежными элементами,необходимыми для монтажа","Упаковка",null,546.54999999999995,null,655.8599999999999]
["30013K","Пластина крепежная GSV H50 (4 шт.) в комплекте с метизами, необходимымидля монтажа","Упаковка",null,668.04,null,801.64799999999991]
["30014K","Пластина крепежная GSV H80  (4 шт.) в комплекте с метизами, необходимымидля монтажа","Упаковка",null,757.52,null,909.024]
["30015K","Пластина крепежная GSV H100 (4 шт.) в комплекте с метизами, необходимымидля монтажа","Упаковка",null,795.28,null,954.3359999999999]
["37501","Никелированная пластина для заземления PTCE","Штука",null,99.32,null,119.18399999999998]
["SC10L300K","Перемычка медная сеч. 10 мм2, с наконечниками под винт М6, в комплекте с метизами, L 300 мм","Упаковка",null,301.97000000000003,null,362.36400000000003]
["SC10L500K","Перемычка медная сеч. 10 мм2, с наконечниками под винт М6, в комплекте с метизами, L 500 мм","Упаковка",null,332.16,null,398.59200000000004]
["SC6L300K","Перемычка медная сеч. 6 мм2, с наконечниками под винт М6, в комплекте с метизами, L 300 мм","Упаковка",null,232.28,null,278.73599999999999]
["SC6L500K","Перемычка медная сеч. 6 мм2, с наконечниками под винт М6, в комплекте с метизами, L 500 мм","Упаковка",null,255.51,null,306.61199999999997]
["37301","Пластина соединительная GTO H50","Штука",null,81.86,null,98.231999999999999]
["37303","Пластина соединительная GTO H80","Штука",null,91.85,null,110.21999999999998]
["37305","Пластина соединительная GTO H100","Штука",null,107.04,null,128.44800000000001]
["SPG00350","Пластина крепежная GTO H35 мм","Штука",null,66.98,null,80.376000000000005]
["SPGM50","Пластина соединительная GTO H50 толщ. 1,5 мм","Штука",null,122.79,null,147.34800000000001]
["SPGM80","Пластина соединительная GTO H80 толщ. 1,5 мм","Штука",null,137.78,null,165.33599999999998]
["SPGM100","Пластина соединительная GTO H100 толщ 1,5 мм","Штука",null,160.56,null,192.672]
["SPGH50","Пластина соединительная GTO H50 толщ. 2,0 мм","Штука",null,163.72,null,196.464]
["SPGH80","Пластина соединительная GTO H80 толщ. 2,0 мм","Штука",null,183.7,null,220.43999999999997]
["SPGH100","Пластина соединительная GTO H100 толщ 2,0 мм","Штука",null,214.08,null,256.89600000000002]
["SIP00505","Комплект для обеспечения степени защиты IP44 в местах соединения секций лотков 50х50","Упаковка",null,712.07,null,854.48400000000004]
["SIP00510","Комплект для обеспечения степени защиты IP44 в местах соединения секций лотков 100х50","Упаковка",null,794.32,null,953.18399999999997]
["SIP00515","Комплект для обеспечения степени защиты IP44 в местах соединения секций лотков 150х50","Упаковка",null,918.56,null,1102.2719999999999]
["SIP00520","Комплект для обеспечения степени защиты IP44 в местах соединения секций лотков 200х50","Упаковка",null,1061.1199999999999,null,1273.3439999999998]
["SIP00530","Комплект для обеспечения степени защиты IP44 в местах соединения секций лотков 300х50","Упаковка",null,1284.0899999999999,null,1540.9079999999999]
["SIP00540","Комплект для обеспечения степени защиты IP44 в местах соединения секций лотков 400х50","Упаковка",null,1926.21,null,2311.4519999999998]
["SIP00550","Комплект для обеспечения степени защиты IP44 в местах соединения секций лотков  500х50","Упаковка",null,2342.94,null,2811.5279999999998]
["SIP00560","Комплект для обеспечения степени защиты IP44 в местах соединения секций лотков  600х50","Упаковка",null,2849.72,null,3419.6639999999998]
["SIP00808","Комплект для обеспечения степени защиты IP44 в местах соединения секций лотков 80х80","Упаковка",null,852.45,null,1022.94]
["SIP00810","Комплект для обеспечения степени защиты IP44 в местах соединения секций лотков 100х80","Упаковка",null,890.67,null,1068.8039999999999]
["SIP00815","Комплект для обеспечения степени защиты IP44 в местах соединения секций лотков 150х80","Упаковка",null,1014.88,null,1217.856]
["SIP00820","Комплект для обеспечения степени защиты IP44 в местах соединения секций лотков 200х80","Упаковка",null,1157.44,null,1388.9280000000001]
["SIP00830","Комплект для обеспечения степени защиты IP44 в местах соединения секций лотков 300х80","Упаковка",null,1380.41,null,1656.492]
["SIP00840","Комплект для обеспечения степени защиты IP44 в местах соединения секций лотков  400х80","Упаковка",null,2025.12,null,2430.1439999999998]
["SIP00850","Комплект для обеспечения степени защиты IP44 в местах соединения секций лотков  500х80","Упаковка",null,2441.79,null,2930.1479999999997]
["SIP00860","Комплект для обеспечения степени защиты IP44 в местах соединения секций лотков  600х80","Упаковка",null,2838.32,null,3405.9839999999999]
["SIP01010","Комплект для обеспечения степени защиты IP44 в местах соединения секций лотков 100х100","Упаковка",null,967.23,null,1160.6759999999999]
["SIP01015","Комплект для обеспечения степени защиты IP44 в местах соединения секций лотков 150х100","Упаковка",null,1091.48,null,1309.7760000000001]
["SIP01020","Комплект для обеспечения степени защиты IP44 в местах соединения секций лотков 200х100","Упаковка",null,1234.04,null,1480.848]
["SIP01030","Комплект для обеспечения степени защиты IP44 в местах соединения секций лотков 300х100","Упаковка",null,1457.01,null,1748.412]
["SIP01040","Комплект для обеспечения степени защиты IP44 в местах соединения секций лотков  400х100","Упаковка",null,2103.77,null,2524.5239999999999]
["SIP01050","Комплект для обеспечения степени защиты IP44 в местах соединения секций лотков  500х100","Упаковка",null,2520.48,null,3024.576]
["SIP01060","Комплект для обеспечения степени защиты IP44 в местах соединения секций лотков  600х100","Упаковка",null,2916.94,null,3500.328]
["37554","Клейкая лента 50х2 мм, неопрен","Метр",null,482.47,null,578.96400000000006]
["37555","Клейкая лента 100х2 мм, неопрен","Метр",null,964.92,null,1157.904]
["37556","Клейкая лента 150х2 мм, неопрен","Метр",null,1592.14,null,1910.568]
["37557","Клейкая бандажная лента IP44 на стык лотков","Метр",null,346.12,null,415.34399999999999]
["37558","Клейкая бандажная лента IP44 на борт лотка","Метр",null,186.18,null,223.416]
["37559","Профиль для защиты кромок лотка","Метр",null,579.54,null,695.44799999999998]
["30199","Уголок опорный FR H50","Штука",null,50.5,null,60.599999999999994]
["30189","Уголок опорный FR H80","Штука",null,66.12,null,79.344000000000008]
["30190","Уголок опорный FR H100","Штука",null,72.05,null,86.46]
["37240","Заглушка цельная ТС 50х50","Штука",null,195.29,null,234.34799999999998]
["30193","Заглушка сборная ТС 100х50","Штука",null,282.43,null,338.916]
["30194","Заглушка сборная ТС 150х50","Штука",null,303.7,null,364.44]
["30195","Заглушка сборная ТС 200х50","Штука",null,310.35000000000002,null,372.42]
["30196","Заглушка сборная ТС 300х50","Штука",null,353.66,null,424.392]
["30197","Заглушка сборная ТС 400х50","Штука",null,387.81,null,465.37199999999996]
["30198","Заглушка сборная ТС 500х50","Штука",null,426.59,null,511.90799999999996]
["37268","Заглушка сборная ТС 600х50","Штука",null,616.44000000000005,null,739.72800000000007]
["37261","Заглушка цельная ТС 80х80","Штука",null,261.54000000000002,null,313.84800000000001]
["37262","Заглушка цельная ТС 100х80","Штука",null,307.45,null,368.94]
["37263","Заглушка цельная ТС 150х80","Штука",null,386.38,null,463.65599999999995]
["37264","Заглушка цельная ТС 200х80","Штука",null,421.25,null,505.5]
["37265","Заглушка цельная ТС 300х80","Штука",null,507.71,null,{"$f":"E327*1.2","v":609.25199999999995}]
["37266","Заглушка цельная ТС 400х80","Штука",null,606.04999999999995,null,727.25999999999988]
["37267","Заглушка цельная ТС 500х80","Штука",null,704.24,null,845.08799999999997]
["37269","Заглушка сборная ТС 600х80","Штука",null,771.37,null,925.64400000000001]
["30265","Заглушка сборная TC 100х100","Штука",null,394.08,null,472.89599999999996]
["30266","Заглушка сборная ТС 150х100","Штука",null,413.38,null,496.05599999999998]
["30267","Заглушка сборная ТС 200х100","Штука",null,492.49,null,590.98799999999994]
["30268","Заглушка сборная ТС 300х100","Штука",null,555.80999999999995,null,666.97199999999987]
["30269","Заглушка сборная ТС 400х100","Штука",null,665.02,null,798.024]
["30270","Заглушка сборная ТС 500х100","Штука",null,739.07,null,886.88400000000001]
["37270","Заглушка сборная ТС 600х100","Штука",null,1255.44,null,1506.528]
["36542","Переходник по высоте H80-H50, осн.100","Штука",null,748.71,null,898.452]
["36543","Переходник по высоте H80-H50, осн.150","Штука",null,789.1,null,946.92]
["36544","Переходник по высоте H80-H50, осн.200","Штука",null,872.1,null,1046.52]
["36545","Переходник по высоте H80-H50, осн.300","Штука",null,993.53,null,1192.2359999999999]
["36546","Переходник по высоте H80-H50, осн.400","Штука",null,1113.93,null,1336.7160000000001]
["36547","Переходник по высоте H80-H50, осн.500","Штука",null,1204.23,null,1445.076]
["36548","Переходник по высоте Н100-Н50, осн.100 мм","Штука",null,823.23,null,987.87599999999998]
["36549","Переходник по высоте Н 100-Н 50, осн.150 мм","Штука",null,872.03,null,1046.4359999999999]
["36550","Переходник по высоте Н100-Н50, осн.200 мм","Штука",null,982.74,null,1179.288]
["36551","Переходник по высоте Н100-Н50, осн.300 мм","Штука",null,1061.51,null,1273.8119999999999]
["36552","Переходник по высоте Н100-Н50, осн.400 мм","Штука",null,1196.92,null,1436.3040000000001]
["36553","Переходник по высоте Н100-Н50, осн.500 мм","Штука",null,1294.4100000000001,null,1553.2920000000001]
["36554","Переходник по высоте Н100-Н80, осн.100 мм","Штука",null,704.05,null,844.8599999999999]
["36555","Переходник по высоте Н100-Н80, осн.150 мм","Штука",null,758.23,null,909.87599999999998]
["36556","Переходник по высоте Н100-Н80, осн.200 мм","Штука",null,812.41,null,974.89199999999994]
["36557","Переходник по высоте Н100-Н80, осн.300 мм","Штука",null,920.75,null,1104.8999999999999]
["36558","Переходник по высоте Н100-Н80, осн.400 мм","Штука",null,1029.0899999999999,null,1234.9079999999999]
["36559","Переходник по высоте Н100-Н80, осн.500 мм","Штука",null,1137.4000000000001,null,1364.88]
["36900","Защитный ограничитель RP осн.100","Штука",null,158.19999999999999,null,189.83999999999997]
["36910","Защитный ограничитель RP осн.150","Штука",null,161.15,null,193.38]
["36920","Защитный ограничитель RP осн.200","Штука",null,191.72,null,230.06399999999999]
["36940","Защитный ограничитель RP осн.300","Штука",null,229.5,null,275.39999999999998]
["37350","Накладка CGB для лотка осн.50","Штука",null,60.43,null,72.515999999999991]
["37351","Накладка CGB для лотка осн.80","Штука",null,70.77,null,84.923999999999992]
["37352","Накладка CGB для лотка осн.100","Штука",null,77.260000000000005,null,92.712000000000003]
["37353","Накладка CGB для лотка осн.150","Штука",null,83.59,null,100.30800000000001]
["37354","Накладка CGB для лотка осн.200","Штука",null,103.29,null,123.94800000000001]
["37355","Накладка CGB для лотка осн.300","Штука",null,131.41,null,157.69199999999998]
["37356","Накладка CGB для лотка осн.400","Штука",null,167.76,null,201.31199999999998]
["37357","Накладка CGB для лотка осн.500","Штука",null,211.09,null,253.30799999999999]
["37358","Накладка CGB для лотка осн.600","Штука",null,256.14,null,307.36799999999999]
["37390","Накладка CGC для крышки лотка осн.50","Штука",null,100.3,null,120.35999999999999]
["37391","Накладка CGC для крышки лотка осн.80","Штука",null,123.59,null,148.30799999999999]
["37392","Накладка CGC для крышки лотка осн.100","Штука",null,129.93,null,155.916]
["37393","Накладка CGC для крышки лотка осн.150","Штука",null,137.65,null,165.18]
["37394","Накладка CGC для крышки лотка осн.200","Штука",null,154.44999999999999,null,185.33999999999997]
["37395","Накладка CGC для крышки лотка осн.300","Штука",null,180.49,null,216.58799999999999]
["37396","Накладка CGC для крышки лотка осн.400","Штука",null,222.54,null,267.048]
["37397","Накладка CGC для крышки лотка осн.500","Штука",null,251.86,null,302.23200000000003]
["37398","Накладка CGC для крышки лотка осн.600","Штука",null,337.13,null,404.55599999999998]
["37410","Фланец соединительный FR 50/50","Штука",null,705.19,null,846.22800000000007]
["37431","Фланец соединительный FR 80/80","Штука",null,891.11,null,1069.3319999999999]
["37432","Фланец соединительный FR 100/80","Штука",null,951.93,null,1142.3159999999998]
["37433","Фланец соединительный FR 150/80","Штука",null,1146.07,null,1375.2839999999999]
["37434","Фланец соединительный FR 200/80","Штука",null,1334.39,null,1601.268]
["37435","Фланец соединительный FR 300/80","Штука",null,1523.78,null,1828.5359999999998]
["37436","Фланец соединительный FR 400/80","Штука",null,1875.12,null,2250.1439999999998]
["37437","Фланец соединительный FR 500/80","Штука",null,2081.33,null,2497.596]
["37561","Держатель кабеля TRC осн.80","Штука",null,75.010000000000005,null,90.012]
["37562","Держатель кабеля TRC осн.100","Штука",null,77.760000000000005,null,93.311999999999998]
["37563","Держатель кабеля TRC осн.150","Штука",null,77.760000000000005,null,93.311999999999998]
["37564","Держатель кабеля TRC осн.200","Штука",null,93.12,null,111.744]
["37565","Держатель кабеля TRC осн.300","Штука",null,108.44,null,130.12799999999999]
["36470RAL9010","Перегородка SEP L2000 Н50, RAL9010","Метр",null,453.22,null,{"$f":"E391*1.2","v":543.86400000000003}]
[null,null,null,null,null,null,0]
["SVM850K","Горизонтальный изменяемый угол СРО 0-45град. 80x500, 1,5мм, в комплекте с крепежными элементами необходимыми для монтажа","Упаковка",null,9315.74,null,11178.887999999999]
["SVN850K","Горизонтальный изменяемый угол СРО 0-45град. 80x500, 1,2мм, в комплекте с крепежными элементами необходимыми для монтажа","Упаковка",null,6407.96,null,7689.5519999999997]
["36060K","Угол CPO 45 горизонтальный 45° 50х50 в комплекте с крепежными элементами и соединительными пластинами, необходимыми для монтажа","Упаковка",null,1563.78,null,1876.5359999999998]
["36062K","Угол CPO 45 горизонтальный 45° 100х50 в комплекте с крепежными элементами и соединительными пластинами, необходимыми для монтажа","Упаковка",null,1747.58,null,2097.096]
["36063K","Угол CPO 45 горизонтальный 45° 150х50 в комплекте с крепежными элементами и соединительными пластинами, необходимыми для монтажа","Упаковка",null,1924.94,null,2309.9279999999999]
["36064K","Угол CPO 45 горизонтальный 45° 200х50 в комплекте с крепежными элементами и соединительными пластинами, необходимыми для монтажа","Упаковка",null,1995.64,null,2394.768]
["36065K","Угол CPO 45 горизонтальный 45° 300х50 в комплекте с крепежными элементами и соединительными пластинами, необходимыми для монтажа","Упаковка",null,2753.94,null,3304.7280000000001]
["36066K","Угол CPO 45 горизонтальный 45° 400х50 в комплекте с крепежными элементами и соединительными пластинами, необходимыми для монтажа","Упаковка",null,3405.44,null,4086.5279999999998]
["36067K","Угол CPO 45 горизонтальный 45° 500х50 в комплекте с крепежными элементами и соединительными пластинами, необходимыми для монтажа","Упаковка",null,4007.92,null,4809.5039999999999]
["36068K","Угол CPO 45 горизонтальный 45° 600х50 в комплекте с крепежными элементами и соединительными пластинами, необходимыми для монтажа","Упаковка",null,4413.96,null,5296.7519999999995]
["36081K","Угол CPO 45 горизонтальный 45° 80х80 в комплекте с крепежными элементами и соединительными пластинами, необходимыми для монтажа","Упаковка",null,1759.9,null,2111.88]
["36082K","Угол CPO 45 горизонтальный 45° 100х80 в комплекте с крепежными элементами и соединительными пластинами, необходимыми для монтажа","Упаковка",null,1922.84,null,2307.4079999999999]
["36083K","Угол CPO 45 горизонтальный 45° 150х80 в комплекте с крепежными элементами и соединительными пластинами, необходимыми для монтажа","Упаковка",null,2112.17,null,2534.6039999999998]
["36084K","Угол CPO 45 горизонтальный 45° 200х80 в комплекте с крепежными элементами и соединительными пластинами, необходимыми для монтажа","Упаковка",null,2286.12,null,2743.3439999999996]
["36085K","Угол CPO 45 горизонтальный 45° 300х80 в комплекте с крепежными элементами и соединительными пластинами, необходимыми для монтажа","Упаковка",null,2943.99,null,3532.7879999999996]
["36086K","Угол CPO 45 горизонтальный 45° 400х80 в комплекте с крепежными элементами и соединительными пластинами, необходимыми для монтажа","Упаковка",null,3633.63,null,4360.3559999999998]
["36087K","Угол CPO 45 горизонтальный 45° 500х80 в комплекте с крепежными элементами и соединительными пластинами, необходимыми для монтажа","Упаковка",null,4218.59,null,5062.308]
["36088K","Угол CPO 45 горизонтальный 45° 600х80 в комплекте с крепежными элементами и соединительными пластинами, необходимыми для монтажа","Упаковка",null,4603.33,null,5523.9960000000001]
["36101K","Угол CPO 45 горизонтальный 45° 100х100 в комплекте с крепежными элементами и соединительными пластинами, необходимыми для монтажа","Упаковка",null,2012.28,null,2414.7359999999999]
["36102K","Угол CPO 45 горизонтальный 45° 150х100 в комплекте с крепежными элементами и соединительными пластинами, необходимыми для монтажа","Упаковка",null,2209.41,null,2651.2919999999999]
["36103K","Угол CPO 45 горизонтальный 45° 200х100 в комплекте с крепежными элементами и соединительными пластинами, необходимыми для монтажа","Упаковка",null,2435.0500000000002,null,2922.06]
["36104K","Угол CPO 45 горизонтальный 45° 300х100 в комплекте с крепежными элементами и соединительными пластинами, необходимыми для монтажа","Упаковка",null,3059.6,null,3671.52]
["36105K","Угол CPO 45 горизонтальный 45° 400х100 в комплекте с крепежными элементами и соединительными пластинами, необходимыми для монтажа","Упаковка",null,3770.86,null,4525.0320000000002]
["36106K","Угол CPO 45 горизонтальный 45° 500х100 в комплекте с крепежными элементами и соединительными пластинами, необходимыми для монтажа","Упаковка",null,4372.8100000000004,null,5247.3720000000003]
["36107K","Угол CPO 45 горизонтальный 45° 600х100 в комплекте с крепежными элементами и соединительными пластинами, необходимыми для монтажа","Упаковка",null,4714.8900000000003,null,5657.8680000000004]
["36000K","Угол CPO 90 горизонтальный 90° 50х50 в комплекте с крепежными элементами и соединительными пластинами, необходимыми для монтажа","Упаковка",null,1583.82,null,1900.5839999999998]
["36001K","Угол CPO 90 горизонтальный 90° 600х50 в комплекте с крепежными элементами и соединительными пластинами, необходимыми для монтажа","Упаковка",null,4720.49,null,5664.5879999999997]
["36002K","Угол CPO 90 горизонтальный 90° 100х50 в комплекте с крепежными элементами и соединительными пластинами, необходимыми для монтажа","Упаковка",null,1736.85,null,2084.2199999999998]
["36003K","Угол CPO 90 горизонтальный 90° 150х50 в комплекте с крепежными элементами и соединительными пластинами, необходимыми для монтажа","Упаковка",null,1947.15,null,2336.58]
["36004K","Угол CPO 90 горизонтальный 90° 200х50 в комплекте с крепежными элементами и соединительными пластинами, необходимыми для монтажа","Упаковка",null,2183.7600000000002,null,2620.5120000000002]
["36005K","Угол CPO 90 горизонтальный 90° 300х50 в комплекте с крепежными элементами и соединительными пластинами, необходимыми для монтажа","Упаковка",null,2769.58,null,3323.4959999999996]
["36006K","Угол CPO 90 горизонтальный 90° 400х50 в комплекте с крепежными элементами и соединительными пластинами, необходимыми для монтажа","Упаковка",null,3420.4,null,4104.4799999999996]
["36007K","Угол CPO 90 горизонтальный 90° 500х50 в комплекте с крепежными элементами и соединительными пластинами, необходимыми для монтажа","Упаковка",null,4120.1099999999997,null,4944.1319999999996]
["36021K","Угол CPO 90 горизонтальный 90° 80х80 в комплекте с крепежными элементами и соединительными пластинами, необходимыми для монтажа","Упаковка",null,1740.05,null,2088.06]
["36022K","Угол CPO 90 горизонтальный 90° 100х80 в комплекте с крепежными элементами и соединительными пластинами, необходимыми для монтажа","Упаковка",null,1911.85,null,2294.2199999999998]
["36023K","Угол CPO 90 горизонтальный 90° 150х80 в комплекте с крепежными элементами и соединительными пластинами, необходимыми для монтажа","Упаковка",null,2115.81,null,2538.9719999999998]
["36024K","Угол CPO 90 горизонтальный 90° 200х80 в комплекте с крепежными элементами и соединительными пластинами, необходимыми для монтажа","Упаковка",null,2364.54,null,2837.4479999999999]
["36025K","Угол CPO 90 горизонтальный 90° 300х80 в комплекте с крепежными элементами и соединительными пластинами, необходимыми для монтажа","Упаковка",null,2980.22,null,3576.2639999999997]
["36026K","Угол CPO 90 горизонтальный 90° 400х80 в комплекте с крепежными элементами и соединительными пластинами, необходимыми для монтажа","Упаковка",null,3662.52,null,4395.0239999999994]
["36027K","Угол CPO 90 горизонтальный 90° 500х80 в комплекте с крепежными элементами и соединительными пластинами, необходимыми для монтажа","Упаковка",null,4328.3900000000003,null,5194.0680000000002]
["36028K","Угол CPO 90 горизонтальный 90° 600х80 в комплекте с крепежными элементами и соединительными пластинами, необходимыми для монтажа","Упаковка",null,4960.34,null,5952.4080000000004]
["36041K","Угол CPO 90 горизонтальный 90° 100х100 в комплекте с крепежными элементами и соединительными пластинами, необходимыми для монтажа","Упаковка",null,1992.47,null,2390.9639999999999]
["36042K","Угол CPO 90 горизонтальный 90° 150х100 в комплекте с крепежными элементами и соединительными пластинами, необходимыми для монтажа","Упаковка",null,2225.2399999999998,null,2670.2879999999996]
["36043K","Угол CPO 90 горизонтальный 90° 200х100 в комплекте с крепежными элементами и соединительными пластинами, необходимыми для монтажа","Упаковка",null,2485.3200000000002,null,2982.384]
["36044K","Угол CPO 90 горизонтальный 90° 300х100 в комплекте с крепежными элементами и соединительными пластинами, необходимыми для монтажа","Упаковка",null,3118.12,null,3741.7439999999997]
["36045K","Угол CPO 90 горизонтальный 90° 400х100 в комплекте с крепежными элементами и соединительными пластинами, необходимыми для монтажа","Упаковка",null,3831.84,null,4598.2079999999996]
["36046K","Угол CPO 90 горизонтальный 90° 500х100 в комплекте с крепежными элементами и соединительными пластинами, необходимыми для монтажа","Упаковка",null,4412.75,null,5295.3]
["36047K","Угол CPO 90 горизонтальный 90° 600х100 в комплекте с крепежными элементами и соединительными пластинами, необходимыми для монтажа","Упаковка",null,5263.67,null,6316.4039999999995]
["36120K","Ответвитель DPT Т-образный горизонтальный 50х50 в комплекте с крепежными элементами и соединительными пластинами, необходимыми длямонтажа","Упаковка",null,2598.9,null,3118.68]
["36122K","Ответвитель DPT Т-образный горизонтальный 100х50 в комплекте с крепежными элементами и соединительными пластинами, необходимыми длямонтажа","Упаковка",null,2830.36,null,3396.4320000000002]
["36123K","Ответвитель DPT Т-образный горизонтальный 150х50 в комплекте с крепежными элементами и соединительными пластинами, необходимыми длямонтажа","Упаковка",null,2989.43,null,3587.3159999999998]
["36124K","Ответвитель DPT Т-образный горизонтальный 200х50 в комплекте с крепежными элементами и соединительными пластинами, необходимыми длямонтажа","Упаковка",null,3274.86,null,3929.8319999999999]
["36125K","Ответвитель DPT Т-образный горизонтальный 300х50 в комплекте с крепежными элементами и соединительными пластинами, необходимыми длямонтажа","Упаковка",null,3953.68,null,4744.4159999999993]
["36126K","Ответвитель DPT Т-образный горизонтальный 400х50 в комплекте с крепежными элементами и соединительными пластинами, необходимыми длямонтажа","Упаковка",null,4439.6400000000003,null,5327.5680000000002]
["36127K","Ответвитель DPT Т-образный горизонтальный 500х50 в комплекте с крепежными элементами и соединительными пластинами, необходимыми длямонтажа","Упаковка",null,4840.1000000000004,null,5808.12]
["36128K","Ответвитель DPT Т-образный горизонтальный 600х50 в комплекте с крепежными элементами и соединительными пластинами, необходимыми для","Упаковка",null,5677.7,null,6813.24]
["36141K","Ответвитель DPT Т-образный горизонтальный 80х80 в комплекте с крепежными элементами и соединительными пластинами, необходимыми длямонтажа","Упаковка",null,2923.79,null,3508.5479999999998]
["36142K","Ответвитель DPT Т-образный горизонтальный 100х80 в комплекте с крепежными элементами и соединительными пластинами, необходимыми длямонтажа","Упаковка",null,3013,null,3615.6]
["36144K","Ответвитель DPT Т-образный горизонтальный 200х80 в комплекте с крепежными элементами и соединительными пластинами, необходимыми длямонтажа","Упаковка",null,3550.46,null,4260.5519999999997]
["36143K","Ответвитель DPT Т-образный горизонтальный 150х80 в комплекте с крепежными элементами и соединительными пластинами, необходимыми длямонтажа","Упаковка",null,3255.14,null,3906.1679999999997]
["36145K","Ответвитель DPT Т-образный горизонтальный 300х80 в комплекте с крепежными элементами и соединительными пластинами, необходимыми длямонтажа","Упаковка",null,4237.71,null,5085.2519999999995]
["36146K","Ответвитель DPT Т-образный горизонтальный 400х80 в комплекте с крепежными элементами и соединительными пластинами, необходимыми для","Упаковка",null,4748.38,null,5698.0559999999996]
["36147K","Ответвитель DPT Т-образный горизонтальный 500х80 в комплекте с крепежными элементами и соединительными пластинами, необходимыми для","Упаковка",null,5236.46,null,{"$f":"E455*1.2","v":6283.7519999999995}]
["36148K","Ответвитель DPT Т-образный горизонтальный 600х80 в комплекте с крепежными элементами и соединительными пластинами, необходимыми для","Упаковка",null,5927.66,null,7113.192]
["36161K","Ответвитель DPT T-образный горизонтальный 100х100 в комплекте с крепежными элементами и соединительными пластинами, необходимымидля монтажа","Упаковка",null,3156.06,null,3787.2719999999999]
["36162K","Ответвитель DPT T-образный горизонтальный 150х100 в комплекте с крепежными элементами и соединительными пластинами, необходимыми для","Упаковка",null,3399.17,null,4079.0039999999999]
["36163K","Ответвитель DPT T-образный горизонтальный 200х100 в комплекте с крепежными элементами и соединительными пластинами, необходимымидля монтажа","Упаковка",null,3730.2,null,4476.24]
["36164K","Ответвитель DPT T-образный горизонтальный 300х100 в комплекте с крепежными элементами и соединительными пластинами, необходимымидля монтажа","Упаковка",null,4410.38,null,5292.4560000000001]
["36165K","Ответвитель DPT T-образный горизонтальный 400х100 в комплекте с крепежными элементами и соединительными пластинами, необходимымидля монтажа","Упаковка",null,4937.22,null,5924.6639999999998]
["36166K","Ответвитель DPT T-образный горизонтальный 500х100 в комплекте с крепежными элементами и соединительными пластинами, необходимыми для","Упаковка",null,5440.27,null,6528.3240000000005]
["36167K","Ответвитель DPT T-образный горизонтальный 600х100 в комплекте с крепежными элементами и соединительными пластинами, необходимыми для","Упаковка",null,6146.05,null,7375.26]
["36180K","Ответвитель DPX крестообразный 50х50 в комплекте с крепежными элементами и соединительными пластинами, необходимыми для монтажа","Упаковка",null,3644.74,null,4373.6879999999992]
["36182K","Ответвитель DPX крестообразный 100х50 в комплекте с крепежными элементами и соединительными пластинами, необходимыми для монтажа","Упаковка",null,3787.25,null,4544.7]
["36183K","Ответвитель DPX крестообразный 150х50 в комплекте с крепежными элементами и соединительными пластинами, необходимыми для монтажа","Упаковка",null,4063.96,null,4876.7519999999995]
["36184K","Ответвитель DPX крестообразный 200х50 в комплекте с крепежными элементами и соединительными пластинами, необходимыми для монтажа","Упаковка",null,4124.18,null,4949.0160000000005]
["36185K","Ответвитель DPX крестообразный 300х50 в комплекте с крепежными элементами и соединительными пластинами, необходимыми для монтажа","Упаковка",null,4805.08,null,5766.0959999999995]
["36186K","Ответвитель DPX крестообразный 400х50 в комплекте с крепежными элементами и соединительными пластинами, необходимыми для монтажа","Упаковка",null,5426.03,null,6511.2359999999999]
["36187K","Ответвитель DPX крестообразный 500х50 в комплекте с крепежными элементами и соединительными пластинами, необходимыми для монтажа","Упаковка",null,5861.19,null,7033.427999999999]
["36188K","Ответвитель DPX крестообразный 600х50 в комплекте с крепежными элементами и соединительными пластинами, необходимыми для монтажа","Упаковка",null,6512.72,null,7815.2640000000001]
["36201K","Ответвитель DPX крестообразный 80х80 в комплекте с крепежными элементами и соединительными пластинами, необходимыми для монтажа","Упаковка",null,4045.92,null,4855.1040000000003]
["36202K","Ответвитель DPX крестообразный 100х80 в комплекте с крепежными элементами и соединительными пластинами, необходимыми для монтажа","Упаковка",null,4131.8,null,4958.16]
["36203K","Ответвитель DPX крестообразный 150х80 в комплекте с крепежными элементами и соединительными пластинами, необходимыми для монтажа","Упаковка",null,4394.9399999999996,null,5273.927999999999]
["36204K","Ответвитель DPX крестообразный 200х80 в комплекте с крепежными элементами и соединительными пластинами, необходимыми для монтажа","Упаковка",null,4465.18,null,5358.2160000000003]
["36205K","Ответвитель DPX крестообразный 300х80 в комплекте с крепежными элементами и соединительными пластинами, необходимыми для монтажа","Упаковка",null,5319.34,null,6383.2079999999996]
["36206K","Ответвитель DPX крестообразный 400х80 в комплекте с крепежными элементами и соединительными пластинами, необходимыми для монтажа","Упаковка",null,5703.45,null,6844.1399999999994]
["36207K","Ответвитель DPX крестообразный 500х80 в комплекте с крепежными элементами и соединительными пластинами, необходимыми для монтажа","Упаковка",null,6245.24,null,7494.2879999999996]
["36208K","Ответвитель DPX крестообразный 600х80 в комплекте с крепежными элементами и соединительными пластинами, необходимыми для монтажа","Упаковка",null,6886.24,null,8263.4879999999994]
["36221K","Ответвитель DPX крестообразный 100х100 в комплекте с крепежными элементами и соединительными пластинами, необходимыми для монтажа","Упаковка",null,4325.16,null,5190.192]
["36222K","Ответвитель DPX крестообразный 150х100 в комплекте с крепежными элементами и соединительными пластинами, необходимыми для монтажа","Упаковка",null,4591.57,null,5509.8839999999991]
["36223K","Ответвитель DPX крестообразный 200х100 в комплекте с крепежными элементами и соединительными пластинами, необходимыми для монтажа","Упаковка",null,4910.5,null,5892.5999999999995]
["36224K","Ответвитель DPX крестообразный 300х100 в комплекте с крепежными элементами и соединительными пластинами, необходимыми для монтажа","Упаковка",null,5359.04,null,6430.848]
["36225K","Ответвитель DPX крестообразный 400х100 в комплекте с крепежными элементами и соединительными пластинами, необходимыми для монтажа","Упаковка",null,5901.12,null,7081.3440000000001]
["36226K","Ответвитель DPX крестообразный 500х100 в комплекте с крепежными элементами и соединительными пластинами, необходимыми для монтажа","Упаковка",null,6453.43,null,7744.116]
["36227K","Ответвитель DPX крестообразный 600х100 в комплекте с крепежными элементами и соединительными пластинами, необходимыми для монтажа","Упаковка",null,7066.9,null,8480.2799999999988]
["36233K","Ответвитель DL 50х50 в комплекте с крепежными элементами и соединительными пластинами, необходимыми для монтажа","Упаковка",null,1828.49,null,2194.1880000000001]
["36235K","Ответвитель DL 100х50 в комплекте с крепежными элементами и соединительными пластинами, необходимыми для монтажа","Упаковка",null,2023.1,null,2427.7199999999998]
["36236K","Ответвитель DL 150х50 в комплекте с крепежными элементами и соединительными пластинами, необходимыми для монтажа","Упаковка",null,2223.69,null,2668.4279999999999]
["36237K","Ответвитель DL 200х50 в комплекте с крепежными элементами и соединительными пластинами, необходимыми для монтажа","Упаковка",null,2488.92,null,2986.7040000000002]
["36238K","Ответвитель DL 300х50 в комплекте с крепежными элементами и соединительными пластинами, необходимыми для монтажа","Упаковка",null,3059.31,null,3671.172]
["36239K","Ответвитель DL 400х50 в комплекте с крепежными элементами и соединительными пластинами, необходимыми для монтажа","Упаковка",null,3397.02,null,4076.424]
["36240K","Ответвитель DL 500х50 в комплекте с крепежными элементами и соединительными пластинами, необходимыми для монтажа","Упаковка",null,3638.13,null,4365.7560000000003]
["36241K","Ответвитель DL 600х50 в комплекте с крепежными элементами и соединительными пластинами, необходимыми для монтажа","Упаковка",null,3799.45,null,4559.3399999999992]
["36249K","Ответвитель DL 80х80 в комплекте с крепежными элементами и соединительными пластинами, необходимыми для монтажа","Упаковка",null,2064.75,null,2477.6999999999998]
["36250K","Ответвитель DL 100х80 в комплекте с крепежными элементами и соединительными пластинами, необходимыми для монтажа","Упаковка",null,2178.67,null,2614.404]
["36251K","Ответвитель DL 150х80 в комплекте с крепежными элементами и соединительными пластинами, необходимыми для монтажа","Упаковка",null,2371.34,null,2845.6080000000002]
["36252K","Ответвитель DL 200х80 в комплекте с крепежными элементами и соединительными пластинами, необходимыми для монтажа","Упаковка",null,2652.32,null,3182.7840000000001]
["36253K","Ответвитель DL 300х80 в комплекте с крепежными элементами и соединительными пластинами, необходимыми для монтажа","Упаковка",null,3226.8,null,3872.16]
["36254K","Ответвитель DL 400х80 в комплекте с крепежными элементами и соединительными пластинами, необходимыми для монтажа","Упаковка",null,3568.66,null,4282.3919999999998]
["36255K","Ответвитель DL 500х80 в комплекте с крепежными элементами и соединительными пластинами, необходимыми для монтажа","Упаковка",null,3803.57,null,4564.2839999999997]
["36256K","Ответвитель DL 600х80 в комплекте с крепежными элементами и соединительными пластинами, необходимыми для монтажа","Упаковка",null,3932.72,null,4719.2639999999992]
["36263K","Ответвитель DL 100х100 в комплекте с крепежными элементами и соединительными пластинами, необходимыми для монтажа","Упаковка",null,2278.56,null,2734.2719999999999]
["36264K","Ответвитель DL 150х100 в комплекте с крепежными элементами и соединительными пластинами, необходимыми для монтажа","Упаковка",null,2480.08,null,2976.096]
["36265K","Ответвитель DL 200х100 в комплекте с крепежными элементами и соединительными пластинами, необходимыми для монтажа","Упаковка",null,2728.61,null,3274.3319999999999]
["36266K","Ответвитель DL 300х100 в комплекте с крепежными элементами и соединительными пластинами, необходимыми для монтажа","Упаковка",null,3357.57,null,4029.0839999999998]
["36267K","Ответвитель DL 400х100 в комплекте с крепежными элементами и соединительными пластинами, необходимыми для монтажа","Упаковка",null,3645.58,null,4374.6959999999999]
["36268K","Ответвитель DL 500х100 в комплекте с крепежными элементами и соединительными пластинами, необходимыми для монтажа","Упаковка",null,3891.78,null,4670.1360000000004]
["36269K","Ответвитель DL 600х100 в комплекте с крепежными элементами и соединительными пластинами, необходимыми для монтажа","Упаковка",null,4207.49,null,5048.9879999999994]
["36660K","Угол CS 90 вертикальный внутр. 90° 50/50 в комплекте с крепежными элементами и соединительными пластинами, необходимыми для монтажа","Упаковка",null,1957.4,null,2348.88]
["36662K","Угол CS 90 вертикальный внутр. 90° 100/50 в комплекте с крепежными элементами и соединительными пластинами, необходимыми для монтажа","Упаковка",null,1998.7,null,2398.44]
["36663K","Угол CS 90 вертикальный внутр. 90° 150/50 в комплекте с крепежными элементами и соединительными пластинами, необходимыми для монтажа","Упаковка",null,2251.71,null,2702.0520000000001]
["36664K","Угол CS 90 вертикальный внутр. 90° 200/50 в комплекте с крепежными элементами и соединительными пластинами, необходимыми для монтажа","Упаковка",null,2492.5500000000002,null,2991.06]
["36665K","Угол CS 90 вертикальный внутр. 90° 300/50 в комплекте с крепежными элементами и соединительными пластинами, необходимыми для монтажа","Упаковка",null,2944.77,null,3533.7239999999997]
["36666K","Угол CS 90 вертикальный внутр. 90° 400/50 в комплекте с крепежными элементами и соединительными пластинами, необходимыми для монтажа","Упаковка",null,3266.08,null,3919.2959999999998]
["36667K","Угол CS 90 вертикальный внутр. 90° 500/50 в комплекте с крепежными элементами и соединительными пластинами, необходимыми для монтажа","Упаковка",null,3738.79,null,4486.5479999999998]
["36668K","Угол CS 90 вертикальный внутр. 90° 600/50 в комплекте с крепежными элементами и соединительными пластинами, необходимыми для монтажа","Упаковка",null,3998.38,null,4798.0559999999996]
["36681K","Угол CS 90 вертикальный внутр. 90° 80/80 в комплекте с крепежными элементами и соединительными пластинами, необходимыми для монтажа","Упаковка",null,2113.1,null,2535.7199999999998]
["36682K","Угол CS 90 вертикальный внутр. 90° 100/80 в комплекте с крепежными элементами и соединительными пластинами, необходимыми для монтажа","Упаковка",null,2181.25,null,{"$f":"E519*1.2","v":2617.5}]
["36683K","Угол CS 90 вертикальный внутр. 90° 150/80 в комплекте с крепежными элементами и соединительными пластинами, необходимыми для монтажа","Упаковка",null,2447.3000000000002,null,2936.76]
["36684K","Угол CS 90 вертикальный внутр. 90° 200/80 в комплекте с крепежными элементами и соединительными пластинами, необходимыми для монтажа","Упаковка",null,2686.07,null,3223.2840000000001]
["36685K","Угол CS 90 вертикальный внутр. 90° 300/80 в комплекте с крепежными элементами и соединительными пластинами, необходимыми для монтажа","Упаковка",null,3185.44,null,3822.5279999999998]
["36686K","Угол CS 90 вертикальный внутр. 90° 400/80 в комплекте с крепежными элементами и соединительными пластинами, необходимыми для монтажа","Упаковка",null,3481.76,null,4178.1120000000001]
["36687K","Угол CS 90 вертикальный внутр. 90° 500/80 в комплекте с крепежными элементами и соединительными пластинами, необходимыми для монтажа","Упаковка",null,3937.87,null,4725.4439999999995]
["36688K","Угол CS 90 вертикальный внутр. 90° 600/80 в комплекте с крепежными элементами и соединительными пластинами, необходимыми для монтажа","Упаковка",null,4438.16,null,5325.7919999999995]
["36701K","Угол CS 90 вертикальный внутр. 90° 100/100 в комплекте с крепежными элементами и соединительными пластинами, необходимыми для монтаж","Упаковка",null,2270.5,null,2724.6]
["36702K","Угол CS 90 вертикальный внутр. 90° 150/100 в комплекте с крепежными элементами и соединительными пластинами, необходимыми для монтаж","Упаковка",null,2536.54,null,3043.848]
["36703K","Угол CS 90 вертикальный внутр. 90° 200/100 в комплекте с крепежными элементами и соединительными пластинами, необходимыми для монтаж","Упаковка",null,2784.16,null,3340.9919999999997]
["36704K","Угол CS 90 вертикальный внутр. 90° 300/100 в комплекте с крепежными элементами и соединительными пластинами, необходимыми для монтаж","Упаковка",null,3301.15,null,3961.38]
["36705K","Угол CS 90 вертикальный внутр. 90° 400/100 в комплекте с крепежными элементами и соединительными пластинами, необходимыми для монтаж","Упаковка",null,3568.36,null,4282.0320000000002]
["36706K","Угол CS 90 вертикальный внутр. 90° 500/100 в комплекте с крепежными элементами и соединительными пластинами, необходимыми для монтаж","Упаковка",null,4018.94,null,4822.7280000000001]
["36707K","Угол CS 90 вертикальный внутр. 90° 600/100 в комплекте с крепежными элементами и соединительными пластинами, необходимыми для монтаж","Упаковка",null,4561.8500000000004,null,5474.22]
["36720K","Угол CS 45 вертикальный внутр. 45° 50/50 в комплекте с крепежными элементами и соединительными пластинами, необходимыми для монтажа","Упаковка",null,1798.54,null,2158.248]
["36722K","Угол CS 45 вертикальный внутр. 45° 100/50 в комплекте с крепежными элементами и соединительными пластинами, необходимыми для монтажа","Упаковка",null,1888.58,null,2266.2959999999998]
["36723K","Угол CS 45 вертикальный внутр. 45° 150/50 в комплекте с крепежными элементами и соединительными пластинами, необходимыми для монтажа","Упаковка",null,2056.9899999999998,null,2468.3879999999995]
["36724K","Угол CS 45 вертикальный внутр. 45° 200/50 в комплекте с крепежными элементами и соединительными пластинами, необходимыми для монтажа","Упаковка",null,2327.87,null,2793.444]
["36725K","Угол CS 45 вертикальный внутр. 45° 300/50 в комплекте с крепежными элементами и соединительными пластинами, необходимыми для монтажа","Упаковка",null,2648.2,null,3177.8399999999997]
["36726K","Угол CS 45 вертикальный внутр. 45° 400/50 в комплекте с крепежными элементами и соединительными пластинами, необходимыми для монтажа","Упаковка",null,2958.93,null,3550.7159999999999]
["36727K","Угол CS 45 вертикальный внутр. 45° 500/50 в комплекте с крепежнымиэлементами и соединительными пластинами, необходимыми для монтажа","Упаковка",null,3426.77,null,4112.1239999999998]
["36728K","Угол CS 45 вертикальный внутр. 45° 600/50 в комплекте с крепежнымиэлементами и соединительными пластинами, необходимыми для монтажа","Упаковка",null,3781.71,null,4538.0519999999997]
["36741K","Угол CS 45 вертикальный внутр. 45° 80/80 в комплекте с крепежными элементами и соединительными пластинами, необходимыми для монтажа","Упаковка",null,2044.88,null,2453.8560000000002]
["36742K","Угол CS 45 вертикальный внутр. 45° 100/80 в комплекте с крепежными элементами и соединительными пластинами, необходимыми для монтажа","Упаковка",null,2101.6,null,2521.9199999999996]
["36743K","Угол CS 45 вертикальный внутр. 45° 150/80 в комплекте с крепежными элементами и соединительными пластинами, необходимыми для монтажа","Упаковка",null,2248.7800000000002,null,2698.5360000000001]
["36744K","Угол CS 45 вертикальный внутр. 45° 200/80 в комплекте с крепежными элементами и соединительными пластинами, необходимыми для монтажа","Упаковка",null,2518.19,null,3021.828]
["36745K","Угол CS 45 вертикальный внутр. 45° 300/80 в комплекте с крепежными элементами и соединительными пластинами, необходимыми для монтажа","Упаковка",null,2963.01,null,3555.6120000000001]
["36746K","Угол CS 45 вертикальный внутр. 45° 400/80 в комплекте с крепежными элементами и соединительными пластинами, необходимыми для монтажа","Упаковка",null,3176.2,null,3811.4399999999996]
["36747K","Угол CS 45 вертикальный внутр. 45° 500/80 в комплекте с крепежными элементами и соединительными пластинами, необходимыми для монтажа","Упаковка",null,3631.27,null,4357.5239999999994]
["36748K","Угол CS 45 вертикальный внутр. 45° 600/80 в комплекте с крепежными элементами и соединительными пластинами, необходимыми для монтажа","Упаковка",null,4064.63,null,4877.5559999999996]
["36761K","Угол CS 45 вертикальный внутр. 45° 100/100 в комплекте с крепежными элементами и соединительными пластинами, необходимыми для монтаж","Упаковка",null,2209.15,null,2650.98]
["36762K","Угол CS 45 вертикальный внутр. 45° 150/100 в комплекте с крепежными элементами и соединительными пластинами, необходимыми для монтаж","Упаковка",null,2332.29,null,2798.748]
["36763K","Угол CS 45 вертикальный внутр. 45° 200/100 в комплекте с крепежными элементами и соединительными пластинами, необходимыми для монтаж","Упаковка",null,2604.48,null,3125.3759999999997]
["36764K","Угол CS 45 вертикальный внутр. 45° 300/100 в комплекте с крепежными элементами и соединительными пластинами, необходимыми для монтаж","Упаковка",null,3056.52,null,3667.8240000000001]
["36765K","Угол CS 45 вертикальный внутр. 45° 400/100 в комплекте с крепежными элементами и соединительными пластинами, необходимыми для монтаж","Упаковка",null,3243.96,null,3892.752]
["36766K","Угол CS 45 вертикальный внутр. 45° 500/100 в комплекте с крепежными элементами и соединительными пластинами, необходимыми для монтаж","Упаковка",null,3723.12,null,4467.7439999999997]
["36767K","Угол CS 45 вертикальный внутр. 45° 600/100 в комплекте с крепежными элементами и соединительными пластинами, необходимыми для монтаж","Упаковка",null,4201.07,null,5041.2839999999997]
["36780K","Угол CD 90 вертикальный внеш. 90° 50/50 в комплекте с крепежными элементами и соединительными пластинами, необходимыми для монтажа","Упаковка",null,1968.99,null,2362.788]
["36782K","Угол CD 90 вертикальный внеш. 90° 100/50 в комплекте с крепежными элементами и соединительными пластинами, необходимыми для монтажа","Упаковка",null,2058.89,null,2470.6679999999997]
["36783K","Угол CD 90 вертикальный внеш. 90° 150/50 в комплекте с крепежными элементами и соединительными пластинами, необходимыми для монтажа","Упаковка",null,2303.94,null,2764.7280000000001]
["36784K","Угол CD 90 вертикальный внеш. 90° 200/50 в комплекте с крепежными элементами и соединительными пластинами, необходимыми для монтажа","Упаковка",null,2541.31,null,3049.5719999999997]
["36785K","Угол CD 90 вертикальный внеш. 90° 300/50 в комплекте с крепежными элементами и соединительными пластинами, необходимыми для монтажа","Упаковка",null,2963.96,null,3556.752]
["36786K","Угол CD 90 вертикальный внеш. 90° 400/50 в комплекте с крепежными элементами и соединительными пластинами, необходимыми для монтажа","Упаковка",null,3260.67,null,3912.8040000000001]
["36787K","Угол CD 90 вертикальный внеш. 90° 500/50 в комплекте с крепежными элементами и соединительными пластинами, необходимыми для монтажа","Упаковка",null,3733.28,null,4479.9359999999997]
["36788K","Угол CD 90 вертикальный внеш. 90° 600/50 в комплекте с крепежными элементами и соединительными пластинами, необходимыми для монтажа","Упаковка",null,4142.26,null,4970.7120000000004]
["36801K","Угол CD 90 вертикальный внеш. 90° 80/80 в комплекте с крепежными элементами и соединительными пластинами, необходимыми для монтажа","Упаковка",null,2194.71,null,2633.652]
["36802K","Угол CD 90 вертикальный внеш. 90° 100/80 в комплекте с крепежными элементами и соединительными пластинами, необходимыми для монтажа","Упаковка",null,2219.3200000000002,null,2663.1840000000002]
["36803K","Угол CD 90 вертикальный внеш. 90° 150/80 в комплекте с крепежными элементами и соединительными пластинами, необходимыми для монтажа","Упаковка",null,2479.35,null,2975.22]
["36804K","Угол CD 90 вертикальный внеш. 90° 200/80 в комплекте с крепежными элементами и соединительными пластинами, необходимыми для монтажа","Упаковка",null,2722.61,null,3267.1320000000001]
["36805K","Угол CD 90 вертикальный внеш. 90° 300/80 в комплекте с крепежными элементами и соединительными пластинами, необходимыми для монтажа","Упаковка",null,3191.04,null,3829.2479999999996]
["36806K","Угол CD 90 вертикальный внеш. 90° 400/80 в комплекте с крепежными элементами и соединительными пластинами, необходимыми для монтажа","Упаковка",null,3469.61,null,4163.5320000000002]
["36807K","Угол CD 90 вертикальный внеш. 90° 500/80 в комплекте с крепежными элементами и соединительными пластинами, необходимыми для монтажа","Упаковка",null,3950.17,null,4740.2039999999997]
["36808K","Угол CD 90 вертикальный внеш. 90° 600/80 в комплекте с крепежными элементами и соединительными пластинами, необходимыми для монтажа","Упаковка",null,4394.55,null,5273.46]
["36821K","Угол CD 90 вертикальный внеш. 90° 100/100 в комплекте с крепежными элементами и соединительными пластинами, необходимыми для монтажа","Упаковка",null,2345.92,null,2815.1039999999998]
["36822K","Угол CD 90 вертикальный внеш. 90° 150/100 в комплекте с крепежными элементами и соединительными пластинами, необходимыми для монтажа","Упаковка",null,2616.42,null,3139.7040000000002]
["36823K","Угол CD 90 вертикальный внеш. 90° 200/100 в комплекте с крепежными элементами и соединительными пластинами, необходимыми для монтажа","Упаковка",null,2873.25,null,3447.9]
["36824K","Угол CD 90 вертикальный внеш. 90° 300/100 в комплекте с крепежными элементами и соединительными пластинами, необходимыми для монтажа","Упаковка",null,3321.21,null,3985.4519999999998]
["36825K","Угол CD 90 вертикальный внеш. 90° 400/100 в комплекте с крепежными элементами и соединительными пластинами, необходимыми для монтажа","Упаковка",null,3597.39,null,4316.8679999999995]
["36826K","Угол CD 90 вертикальный внеш. 90° 500/100 в комплекте с крепежными элементами и соединительными пластинами, необходимыми для монтажа","Упаковка",null,4054.7,null,4865.6399999999994]
["36827K","Угол CD 90 вертикальный внеш. 90° 600/100 в комплекте с крепежными элементами и соединительными пластинами, необходимыми для монтажа","Упаковка",null,4739.63,null,5687.5559999999996]
["36840K","Угол CD 45 вертикальный внеш. 45° 50х50 в комплекте с крепежными элементами и соединительными пластинами, необходимыми для монтажа","Упаковка",null,1869.55,null,2243.46]
["36842K","Угол CD 45 вертикальный внеш. 45° 100х50 в комплекте с крепежными элементами и соединительными пластинами, необходимыми для монтажа","Упаковка",null,1883.02,null,2259.6239999999998]
["36843K","Угол CD 45 вертикальный внеш. 45° 150х50 в комплекте с крепежными элементами и соединительными пластинами, необходимыми для монтажа","Упаковка",null,2030.18,null,2436.2159999999999]
["36844K","Угол CD 45 вертикальный внеш. 45° 200х50 в комплекте с крепежными элементами и соединительными пластинами, необходимыми для монтажа","Упаковка",null,2291.02,null,2749.2239999999997]
["36845K","Угол CD 45 вертикальный внеш. 45° 300х50 в комплекте с крепежными элементами и соединительными пластинами, необходимыми для монтажа","Упаковка",null,2668,null,{"$f":"E583*1.2","v":3201.6}]
["36846K","Угол CD 45 вертикальный внеш. 45° 400х50 в комплекте с крепежными элементами и соединительными пластинами, необходимыми для монтажа","Упаковка",null,2975.15,null,3570.18]
["36847K","Угол CD 45 вертикальный внеш. 45° 500х50 в комплекте с крепежными элементами и соединительными пластинами, необходимыми для монтажа","Упаковка",null,3424.58,null,4109.4960000000001]
["36848K","Угол CD 45 вертикальный внеш. 45° 600х50 в комплекте с крепежными элементами и соединительными пластинами, необходимыми для монтажа","Упаковка",null,3816.61,null,4579.9319999999998]
["36861K","Угол CD 45 вертикальный внеш. 45° 80х80 в комплекте с крепежными элементами и соединительными пластинами, необходимыми для монтажа","Упаковка",null,2063.9699999999998,null,2476.7639999999997]
["36862K","Угол CD 45 вертикальный внеш. 45° 100х80 в комплекте с крепежными элементами и соединительными пластинами, необходимыми для монтажа","Упаковка",null,2116.84,null,2540.2080000000001]
["36863K","Угол CD 45 вертикальный внеш. 45° 150х80 в комплекте с крепежными элементами и соединительными пластинами, необходимыми для монтажа","Упаковка",null,2237.9699999999998,null,2685.5639999999999]
["36864K","Угол CD 45 вертикальный внеш. 45° 200х80 в комплекте с крепежными элементами и соединительными пластинами, необходимыми для монтажа","Упаковка",null,2521.5100000000002,null,3025.8120000000004]
["36865K","Угол CD 45 вертикальный внеш. 45° 300х80 в комплекте с крепежными элементами и соединительными пластинами, необходимыми для монтажа","Упаковка",null,2882.77,null,3459.3240000000001]
["36866K","Угол CD 45 вертикальный внеш. 45° 400х80 в комплекте с крепежными элементами и соединительными пластинами, необходимыми для монтажа","Упаковка",null,3181.71,null,3818.0519999999997]
["36867K","Угол CD 45 вертикальный внеш. 45° 500х80 в комплекте с крепежными элементами и соединительными пластинами, необходимыми для монтажа","Упаковка",null,3480.67,null,4176.8040000000001]
["36868K","Угол CD 45 вертикальный внеш. 45° 600х80 в комплекте с крепежными элементами и соединительными пластинами, необходимыми для монтажа","Упаковка",null,3956.04,null,4747.2479999999996]
["36881K","Угол CD 45 вертикальный внеш. 45° 100х100 в комплекте с крепежными элементами и соединительными пластинами, необходимыми для монтажа","Упаковка",null,2225.7800000000002,null,2670.9360000000001]
["36882K","Угол CD 45 вертикальный внеш. 45° 150х100 в комплекте с крепежными элементами и соединительными пластинами, необходимыми для монтажа","Упаковка",null,2337.7399999999998,null,2805.2879999999996]
["36883K","Угол CD 45 вертикальный внеш. 45° 200х100 в комплекте с крепежными элементами и соединительными пластинами, необходимыми для монтажа","Упаковка",null,2633.62,null,3160.3439999999996]
["36884K","Угол CD 45 вертикальный внеш. 45° 300х100 в комплекте с крепежными элементами и соединительными пластинами, необходимыми для монтажа","Упаковка",null,2997.96,null,3597.5520000000001]
["36885K","Угол CD 45 вертикальный внеш. 45° 400х100 в комплекте с крепежными элементами и соединительными пластинами, необходимыми для монтажа","Упаковка",null,3289.18,null,3947.0159999999996]
["36886K","Угол CD 45 вертикальный внеш. 45° 500х100 в комплекте с крепежными элементами и соединительными пластинами, необходимыми для монтажа","Упаковка",null,3645.68,null,4374.8159999999998]
["36887K","Угол CD 45 вертикальный внеш. 45° 600х100 в комплекте с крепежными элементами и соединительными пластинами, необходимыми для монтажа","Упаковка",null,4038.69,null,4846.4279999999999]
["SSC40500K","Перегородка SEP для углов CS 45, H50, в комплекте с крепежными элементами и необходимыми для монтажа","Упаковка",null,198.06,null,237.672]
["SSC40800K","Перегородка SEP для углов CS 45, H80 в комплекте с крепежными элементами и необходимыми для монтажа","Упаковка",null,211.29,null,253.54799999999997]
["SSC41000K","Перегородка SEP для углов CS 45, H100, в комплекте с крепежными элементами и необходимыми для монтажа","Упаковка",null,225.18,null,270.21600000000001]
["SSC90500K","Перегородка SEP для угла CS90 H50,в комплекте с крепежными элементами,необходимыми для монтажа","Упаковка",null,226.26,null,271.512]
["SSC90800K","Перегородка SEP для угла CS90 H80, в комплекте с крепежными элементами и необходимыми для монтажа","Упаковка",null,245.32,null,294.38399999999996]
["SSC91000K","Перегородка SEP для угла CS90 H100, в комплекте с крепежными элементами и необходимыми для монтажа","Упаковка",null,257.13,null,308.55599999999998]
["SSD40500K","Перегородка SEP для углов CD 45 H50, в комплекте с крепежными элементами и необходимыми для монтажа","Упаковка",null,198.06,null,237.672]
["SSD40800K","Перегородка SEP для углов CD 45 H80, в комплекте с крепежными элементами и необходимыми для монтажа","Упаковка",null,211.29,null,253.54799999999997]
["SSD41000K","Перегородка SEP для углов CD 45 H100, в комплекте с крепежными элементами и необходимыми для монтажа","Упаковка",null,225.18,null,270.21600000000001]
["SSD90500K","Перегородка SEP для углов CD 90 H50, в комплекте с крепежными элементами и необходимыми для монтажа","Упаковка",null,226.26,null,271.512]
["SSD90800K","Перегородка SEP для углов CD 90 H80, в комплекте с крепежными элементами и необходимыми для монтажа","Упаковка",null,245.32,null,294.38399999999996]
["SSD91000K","Перегородка SEP для углов CD 90 H100, в комплекте с крепежными элементами и необходимыми для монтажа","Упаковка",null,257.13,null,308.55599999999998]
["SSG00500K","Перегородка SEP для угла CPO H50, в комплекте с крепежными элементами и необходимыми для монтажа","Упаковка",null,701.3,null,841.56]
["SSG00800K","Перегородка SEP для угла CPO H80, в комплекте с крепежными элементами и необходимыми для монтажа","Упаковка",null,923.41,null,1108.0919999999999]
["SSG01000K","Перегородка SEP для угла CPO H100, в комплекте с крепежными элементами и необходимыми для монтажа","Упаковка",null,1261.6099999999999,null,1513.9319999999998]
["37519K","Ответвитель TD Т-образный вертикальный основанием 100, H50 в комплекте с крепежными элементами и соединительными пластинами,необходимыми для монтажа","Упаковка",null,5016.49,null,6019.7879999999996]
["37513K","Ответвитель TD Т-образный вертикальный осн.150 H50 в комплекте с крепежными элементами и соединительными пластинами, необходимыми дл","Упаковка",null,5157.8599999999997,null,6189.4319999999998]
["37514K","Ответвитель TD Т-образный вертикальный осн.200 H50 в комплекте с крепежными элементами и соединительными пластинами, необходимыми дл","Упаковка",null,5645.64,null,6774.768]
["37515K","Ответвитель TD Т-образный вертикальный осн.300 H50 в комплекте с крепежными элементами и соединительными пластинами, необходимыми дл","Упаковка",null,6015.37,null,7218.4439999999995]
["37516K","Ответвитель TD Т-образный вертикальный осн.400 H50 в комплекте с крепежными элементами и соединительными пластинами, необходимыми дл","Упаковка",null,6377.79,null,7653.348]
["37517K","Ответвитель TD Т-образный вертикальный осн.500 H50 в комплекте с крепежными элементами и соединительными пластинами, необходимыми дл","Упаковка",null,6853.93,null,8224.7160000000003]
["37518K","Ответвитель TD Т-образный вертикальный осн.600 H50 в комплекте с крепежными элементами и соединительными пластинами, необходимыми дл","Упаковка",null,6761.86,null,8114.2319999999991]
["37532K","Крышка-ответвитель TSS осн.100 H50 в комплекте с крепежными элементами и соединительными пластинами, необходимыми для монтажа","Упаковка",null,5887.19,null,7064.6279999999997]
["37539K","Крышка-ответвитель TSS осн.150 H50 в комплекте с крепежными элементами и соединительными пластинами, необходимыми для монтажа","Упаковка",null,6639.87,null,7967.8439999999991]
["37534K","Крышка-ответвитель TSS осн.200 H50 в комплекте с крепежными элементами и соединительными пластинами, необходимыми для монтажа","Упаковка",null,6963.09,null,8355.7080000000005]
["37535K","Крышка-ответвитель TSS осн.300 H50 в комплекте с крепежными элементами и соединительными пластинами, необходимыми для монтажа","Упаковка",null,8010.69,null,9612.8279999999995]
["37536K","Крышка-ответвитель TSS осн.400 H50 в комплекте с крепежными элементами и соединительными пластинами, необходимыми для монтажа","Упаковка",null,9378.0499999999993,null,11253.659999999998]
["37537K","Крышка-ответвитель TSS осн.500 H50 в комплекте с крепежными элементами и соединительными пластинами, необходимыми для монтажа","Упаковка",null,10292.27,null,12350.724]
["37538K","Крышка-ответвитель TSS осн.600 H50 в комплекте с крепежными элементами и соединительными пластинами, необходимыми для монтажа","Упаковка",null,10541.59,null,12649.907999999999]
["37572K","Угол CDV 90 вертикальный внеш. осн.100 H50 в комплекте с крепежными элементами и соединительными пластинами, необходимыми для монтаж","Упаковка",null,3978.71,null,4774.4520000000002]
["37573K","Угол CDV 90 вертикальный внеш. осн.150 H50 в комплекте с крепежными элементами и соединительными пластинами, необходимыми для монтаж","Упаковка",null,4239.1899999999996,null,5087.0279999999993]
["37574K","Угол CDV 90 вертикальный внеш. осн.200 H50 в комплекте с крепежными элементами и соединительными пластинами, необходимыми для монтаж","Упаковка",null,4693.1099999999997,null,5631.7319999999991]
["37575K","Угол CDV 90 вертикальный внеш. осн.300 H50 в комплекте с крепежными элементами и соединительными пластинами, необходимыми для монтаж","Упаковка",null,5023.1000000000004,null,6027.72]
["37576K","Угол CDV 90 вертикальный внеш. осн.400 H50 в комплекте с крепежными элементами и соединительными пластинами, необходимыми для монтаж","Упаковка",null,5470.72,null,6564.8640000000005]
["37577K","Угол CDV 90 вертикальный внеш. осн.500 H50 в комплекте с крепежными элементами и соединительными пластинами, необходимыми для монтаж","Упаковка",null,5934.37,null,7121.2439999999997]
["37578K","Угол CDV 90 вертикальный внеш. осн.600 H50 в комплекте с крепежными элементами и соединительными пластинами, необходимыми для монтаж","Упаковка",null,6249.89,null,7499.8680000000004]
["37371K","Угол CDV 90 вертикальный внеш. осн.80 H80 в комплекте с крепежными элементами и соединительными пластинами, необходимыми для монтажа","Упаковка",null,3462.54,null,4155.0479999999998]
["37372K","Угол CDV 90 вертикальный внеш. осн.100 H80 в комплекте с крепежными элементами и соединительными пластинами, необходимыми для монтаж","Упаковка",null,4128.3900000000003,null,4954.0680000000002]
["37373K","Угол CDV 90 вертикальный внеш. осн.150 H80 в комплекте с крепежными элементами и соединительными пластинами, необходимыми для монтаж","Упаковка",null,4445.4399999999996,null,5334.5279999999993]
["37374K","Угол CDV 90 вертикальный внеш. осн.200 H80 в комплекте с крепежными элементами и соединительными пластинами, необходимыми для монтаж","Упаковка",null,4910.97,null,5893.1639999999998]
["37375K","Угол CDV 90 вертикальный внеш. осн.300 H80 в комплекте с крепежными элементами и соединительными пластинами, необходимыми для монтаж","Упаковка",null,5491.27,null,6589.5240000000003]
["37376K","Угол CDV 90 вертикальный внеш. осн.400 H80 в комплекте с крепежными элементами и соединительными пластинами, необходимыми для монтаж","Упаковка",null,5700.75,null,6840.9]
["37377K","Угол CDV 90 вертикальный внеш. осн.500 H80 в комплекте с крепежными элементами и соединительными пластинами, необходимыми для монтаж","Упаковка",null,6175.61,null,7410.7319999999991]
["37370K","Угол CDV 90 вертикальный внеш. осн.600 H80 в комплекте с крепежными элементами и соединительными пластинами, необходимыми для монтаж","Упаковка",null,6718.23,null,8061.8759999999993]
["37472K","Угол CDV 90 вертикальный внеш. осн.100 H100 в комплекте с крепежными элементами и соединительными пластинами, необходимыми для монта","Упаковка",null,4311.71,null,5174.0519999999997]
["37473K","Угол CDV 90 вертикальный внеш. осн.150 H100 в комплекте с крепежными элементами и соединительными пластинами, необходимыми для монта","Упаковка",null,4608.66,null,{"$f":"E647*1.2","v":5530.3919999999998}]
["37474K","Угол CDV 90 вертикальный внеш. осн.200 H100 в комплекте с крепежными элементами и соединительными пластинами, необходимыми для монта","Упаковка",null,5087.1099999999997,null,6104.5319999999992]
["37475K","Угол CDV 90 вертикальный внеш. осн.300 H100 в комплекте с крепежными элементами и соединительными пластинами, необходимыми для монта","Упаковка",null,6583.11,null,7899.7319999999991]
["37476K","Угол CDV 90 вертикальный внеш. осн.400 H100 в комплекте с крепежными элементами и соединительными пластинами, необходимыми для монта","Упаковка",null,7412.11,null,8894.5319999999992]
["37477K","Угол CDV 90 вертикальный внеш. осн.500 H100 в комплекте с крепежными элементами и соединительными пластинами, необходимыми для монта","Упаковка",null,8045.24,null,9654.2879999999986]
["37478K","Угол CDV 90 вертикальный внеш. осн.600 H100 в комплекте с крепежными элементами и соединительными пластинами, необходимыми для монта","Упаковка",null,8407.0300000000007,null,10088.436]
["37582K","Ответвитель TDS T-образный вертикальный ун. осн.100 H50 в комплекте с крепежными элементами и соединительными пластинами, необходимы","Упаковка",null,7033.75,null,8440.5]
["37583K","Ответвитель TDS T-образный вертикальный ун. осн.150 H50 в комплекте с крепежными элементами и соединительными пластинами, необходимы","Упаковка",null,7595.32,null,9114.384]
["37584K","Ответвитель TDS T-образный вертикальный ун. осн.200 H50 в комплекте с крепежными элементами и соединительными пластинами, необходимы","Упаковка",null,7909.11,null,9490.9319999999989]
["37585K","Ответвитель TDS T-образный вертикальный ун. осн.300 H50 в комплекте с крепежными элементами и соединительными пластинами, необходимы","Упаковка",null,9510.32,null,11412.384]
["37586K","Ответвитель TDS T-образный вертикальный ун. осн.400 H50 в комплекте с крепежными элементами и соединительными пластинами, необходимы","Упаковка",null,9865.7999999999993,null,11838.96]
["37587K","Ответвитель TDS T-образный вертикальный ун. осн.500 H50 в комплекте с крепежными элементами и соединительными пластинами, необходимы","Упаковка",null,11295.52,null,13554.624]
["37588K","Ответвитель TDS T-образный вертикальный ун. осн.600 H50 в комплекте с крепежными элементами и соединительными пластинами, необходимы","Упаковка",null,11662,null,13994.4]
["37601K","Ответвитель-переходник TDSA Т-обр. вертикальный 80/100 в комплекте с крепежными элементами и соединительными пластинами, необходимым","Упаковка",null,4811.3999999999996,null,5773.6799999999994]
["37602K","Ответвитель-переходник TDSA Т-обр. вертикальный 80/150 в комплекте с крепежными элементами и соединительными пластинами, необходимым","Упаковка",null,4938.96,null,5926.7519999999995]
["37603K","Ответвитель-переходник TDSA Т-обр. вертикальный 80/200 в комплекте с крепежными элементами и соединительными пластинами, необходимым","Упаковка",null,5058.59,null,6070.308]
["37604K","Ответвитель-переходник TDSA Т-обр. вертикальный 80/300 в комплекте с крепежными элементами и соединительными пластинами, необходимым","Упаковка",null,5406.95,null,6488.3399999999992]
["37605K","Ответвитель-переходник TDSA Т-обр. вертикальный 100/150 в комплекте с крепежными элементами и соединительными пластинами, необходимы","Упаковка",null,5197.99,null,6237.5879999999997]
["37606K","Ответвитель-переходник TDSA Т-обр. вертикальный 100/200 в комплекте с крепежными элементами и соединительными пластинами, необходимы","Упаковка",null,5317.57,null,6381.0839999999998]
["37607K","Ответвитель-переходник TDSA Т-обр. вертикальный 100/300 в комплекте с крепежными элементами и соединительными пластинами, необходимы","Упаковка",null,5663.26,null,6795.9120000000003]
["37608K","Ответвитель-переходник TDSA Т-обр. вертикальный 100/400 в комплекте с крепежными элементами и соединительными пластинами, необходимы","Упаковка",null,6262.72,null,7515.2640000000001]
["37609K","Ответвитель-переходник TDSA Т-обр. вертикальный 100/500 в комплекте с крепежными элементами и соединительными пластинами, необходимы","Упаковка",null,7188.56,null,8626.2720000000008]
["37610K","Ответвитель-переходник TDSA Т-обр. вертикальный 150/200 в комплекте с крепежными элементами и соединительными пластинами, необходимы","Упаковка",null,5505.48,null,6606.5759999999991]
["37611K","Ответвитель-переходник TDSA Т-обр. вертикальный 150/300 в комплекте с крепежными элементами и соединительными пластинами, необходимы","Упаковка",null,6252.66,null,7503.1919999999991]
["37612K","Ответвитель-переходник TDSA Т-обр. вертикальный 150/400 в комплекте с крепежными элементами и соединительными пластинами, необходимы","Упаковка",null,6945.77,null,8334.9240000000009]
["37613K","Ответвитель-переходник TDSA Т-обр. вертикальный 150/500 в комплекте с крепежными элементами и соединительными пластинами, необходимы","Упаковка",null,7629.55,null,9155.4599999999991]
["37614K","Ответвитель-переходник TDSA Т-обр. вертикальный 200/300 в комплекте с крепежными элементами и соединительными пластинами, необходимы","Упаковка",null,6475.11,null,7770.1319999999996]
["37615K","Ответвитель-переходник TDSA Т-обр. вертикальный 200/400 в комплекте с крепежными элементами и соединительными пластинами, необходимы","Упаковка",null,7329.86,null,8795.8319999999985]
["37616K","Ответвитель-переходник TDSA Т-обр. вертикальный 200/500 в комплекте с крепежными элементами и соединительными пластинами, необходимы","Упаковка",null,7600.68,null,9120.8160000000007]
["37617K","Ответвитель-переходник TDSA Т-обр. вертикальный 300/400 в комплекте с крепежными элементами и соединительными пластинами, необходимы","Упаковка",null,7682.53,null,9219.0360000000001]
["37618K","Ответвитель-переходник TDSA Т-обр. вертикальный 300/500 в комплекте с крепежными элементами и соединительными пластинами, необходимы","Упаковка",null,7948.91,null,9538.6919999999991]
["37619K","Ответвитель-переходник TDSA Т-обр. вертикальный 400/500 в комплекте с крепежными элементами и соединительными пластинами, необходимы","Упаковка",null,8528.89,null,10234.668]
["37620K","Ответвитель-переходник TDSR T-обр. вертикальный 100/80 в комплекте с крепежными элементами и соединительными пластинами, необходимым","Упаковка",null,5302.76,null,6363.3119999999999]
["37621K","Ответвитель-переходник TDSR T-обр. вертикальный 150/80 в комплекте с крепежными элементами и соединительными пластинами, необходимым","Упаковка",null,5701.75,null,6842.0999999999995]
["37622K","Ответвитель-переходник TDSR T-обр. вертикальный 150/100 в комплекте с крепежными элементами и соединительными пластинами, необходимы","Упаковка",null,5813.3,null,6975.96]
["37623K","Ответвитель-переходник TDSR T-обр. вертикальный 200/80 в комплекте с крепежными элементами и соединительными пластинами, необходимым","Упаковка",null,5941.41,null,7129.692]
["37624K","Ответвитель-переходник TDSR T-обр. вертикальный 200/100 в комплекте с крепежными элементами и соединительными пластинами, необходимы","Упаковка",null,6057.32,null,7268.7839999999997]
["37625K","Ответвитель-переходник TDSR T-обр. вертикальный 200/150 в комплекте с крепежными элементами и соединительными пластинами, необходимы","Упаковка",null,5601.44,null,6721.7279999999992]
["37626K","Ответвитель-переходник TDSR T-обр. вертикальный 300/80 в комплекте с крепежными элементами и соединительными пластинами, необходимым","Упаковка",null,6313.4,null,7576.079999999999]
["37627K","Ответвитель-переходник TDSR T-обр. вертикальный 300/100 в комплекте с крепежными элементами и соединительными пластинами, необходимы","Упаковка",null,6381.78,null,7658.1359999999995]
["37628K","Ответвитель-переходник TDSR T-обр. вертикальный 300/150 в комплекте с крепежными элементами и соединительными пластинами, необходимы","Упаковка",null,6564.96,null,7877.9519999999993]
["37629K","Ответвитель-переходник TDSR T-обр. вертикальный 300/200 в комплекте с крепежными элементами и соединительными пластинами, необходимы","Упаковка",null,6661.6,null,7993.92]
["37632K","Ответвитель-переходник TDSR T-обр. вертикальный 400/150 в комплекте с крепежными элементами и соединительными пластинами, необходимы","Упаковка",null,7071.41,null,8485.6919999999991]
["37633K","Ответвитель-переходник TDSR T-обр. вертикальный 400/200 в комплекте с крепежными элементами и соединительными пластинами, необходимы","Упаковка",null,6913.13,null,8295.7559999999994]
["37634K","Ответвитель-переходник TDSR T-обр. вертикальный 400/300 в комплекте с крепежными элементами и соединительными пластинами, необходимы","Упаковка",null,7917.58,null,9501.0959999999995]
["37635K","Ответвитель-переходник TDSR T-обр. вертикальный 500/80 в комплекте с крепежными элементами и соединительными пластинами, необходимым","Упаковка",null,7832.2,null,9398.64]
["37636K","Ответвитель-переходник TDSR T-обр. вертикальный 500/100 в комплекте с крепежными элементами и соединительными пластинами, необходимы","Упаковка",null,8100.28,null,9720.3359999999993]
["37637K","Ответвитель-переходник TDSR T-обр. вертикальный 500/150 в комплекте с крепежными элементами и соединительными пластинами, необходимы","Упаковка",null,8256.01,null,9907.2119999999995]
["37638K","Ответвитель-переходник TDSR T-обр. вертикальный 500/200 в комплекте с крепежными элементами и соединительными пластинами, необходимы","Упаковка",null,8835.7999999999993,null,10602.96]
["37639K","Ответвитель-переходник TDSR T-обр. вертикальный 500/300 в комплекте с крепежными элементами и соединительными пластинами, необходимы","Упаковка",null,8204.9500000000007,null,9845.94]
["37640K","Ответвитель-переходник TDSR T-обр. вертикальный 500/400 в комплекте с крепежными элементами и соединительными пластинами, необходимы","Упаковка",null,8633.5499999999993,null,10360.259999999998]
["36308K","Переходник RRC симметричный 100/50 H50 в комплекте с крепежными элементами и соединительными пластинами, необходимыми для монтажа","Упаковка",null,2240.48,null,2688.576]
["36309K","Переходник RRC симметричный 150/100 H50 в комплекте с крепежными элементами и соединительными пластинами, необходимыми для монтажа","Упаковка",null,2297.59,null,2757.1080000000002]
["36310K","Переходник RRC симметричный 200/100 H50 в комплекте с крепежными элементами и соединительными пластинами, необходимыми для монтажа","Упаковка",null,2598.11,null,3117.732]
["36311K","Переходник RRC симметричный 200/150 H50 в комплекте с крепежными элементами и соединительными пластинами, необходимыми для монтажа","Упаковка",null,2604.84,null,3125.808]
["36312K","Переходник RRC симметричный 300/100 H50 в комплекте с крепежными элементами и соединительными пластинами, необходимыми для монтажа","Упаковка",null,2921.12,null,3505.3439999999996]
["36313K","Переходник RRC симметричный 300/150 H50 в комплекте с крепежными элементами и соединительными пластинами, необходимыми для монтажа","Упаковка",null,2918.7,null,3502.4399999999996]
["36314K","Переходник RRC симметричный 300/200 H50 в комплекте с крепежными элементами и соединительными пластинами, необходимыми для монтажа","Упаковка",null,2911.36,null,3493.6320000000001]
["36315K","Переходник RRC симметричный 400/200 H50 в комплекте с крепежными элементами и соединительными пластинами, необходимыми для монтажа","Упаковка",null,3553.77,null,4264.5239999999994]
["36316K","Переходник RRC симметричный 400/300 H50 в комплекте с крепежными элементами и соединительными пластинами, необходимыми для монтажа","Упаковка",null,3443.84,null,4132.6080000000002]
["36317K","Переходник RRC симметричный 500/200 H50 в комплекте с крепежными элементами и соединительными пластинами, необходимыми для монтажа","Упаковка",null,3652.83,null,4383.3959999999997]
["36318K","Переходник RRC симметричный 500/300 H50 в комплекте с крепежными элементами и соединительными пластинами, необходимыми для монтажа","Упаковка",null,3616.32,null,4339.5839999999998]
["36319K","Переходник RRC симметричный 500/400 H50 в комплекте с крепежными элементами и соединительными пластинами, необходимыми для монтажа","Упаковка",null,3587.77,null,4305.3239999999996]
["36421K","Переходник RRC симметричный 600/400 H50 в комплекте с крепежными элементами и соединительными пластинами, необходимыми для монтажа","Упаковка",null,4416.12,null,5299.3440000000001]
["36422K","Переходник RRC симметричный 600/500 H50 в комплекте с крепежными элементами и соединительными пластинами, необходимыми для монтажа","Упаковка",null,4356.78,null,{"$f":"E711*1.2","v":5228.1359999999995}]
["36280K","Переходник RRC симметричный 100/80 H80 в комплекте с крепежными элементами и соединительными пластинами, необходимыми для монтажа","Упаковка",null,2639.82,null,3167.7840000000001]
["36281K","Переходник RRC симметричный 150/80 H80 в комплекте с крепежными элементами и соединительными пластинами, необходимыми для монтажа","Упаковка",null,2652.16,null,3182.5919999999996]
["36282K","Переходник RRC симметричный 150/100 H80 в комплекте с крепежными элементами и соединительными пластинами, необходимыми для монтажа","Упаковка",null,2652.16,null,3182.5919999999996]
["36283K","Переходник RRC симметричный 200/80 H80 в комплекте с крепежными элементами и соединительными пластинами, необходимыми для монтажа","Упаковка",null,3041.04,null,3649.248]
["36284K","Переходник RRC симметричный 200/100 H80 в комплекте с крепежными элементами и соединительными пластинами, необходимыми для монтажа","Упаковка",null,3041.04,null,3649.248]
["36285K","Переходник RRC симметричный 200/150 H80 в комплекте с крепежными элементами и соединительными пластинами, необходимыми для монтажа","Упаковка",null,2884.3,null,3461.1600000000003]
["36286K","Переходник RRC симметричный 300/80 H80 в комплекте с крепежными элементами и соединительными пластинами, необходимыми для монтажа","Упаковка",null,3374.52,null,4049.424]
["36287K","Переходник RRC симметричный 300/100 H80 в комплекте с крепежными элементами и соединительными пластинами, необходимыми для монтажа","Упаковка",null,3378.03,null,4053.636]
["36288K","Переходник RRC симметричный 300/150 H80 в комплекте с крепежными элементами и соединительными пластинами, необходимыми для монтажа","Упаковка",null,3387.4,null,4064.88]
["36289K","Переходник RRC симметричный 300/200 H80 в комплекте с крепежными элементами и соединительными пластинами, необходимыми для монтажа","Упаковка",null,3395.66,null,4074.7919999999995]
["36290K","Переходник RRC симметричный 400/300 H80 в комплекте с крепежными элементами и соединительными пластинами, необходимыми для монтажа","Упаковка",null,4011.93,null,4814.3159999999998]
["36420K","Переходник RRC симметричный 600/300 H50 в комплекте с крепежными элементами и соединительными пластинами, необходимыми для монтажа","Упаковка",null,4537.04,null,5444.4479999999994]
["36291K","Переходник RRC симметричный 500/300 H80 в комплекте с крепежными элементами и соединительными пластинами, необходимыми для монтажа","Упаковка",null,4149.76,null,4979.7120000000004]
["36292K","Переходник RRC симметричный 500/400 H80 в комплекте с крепежными элементами и соединительными пластинами, необходимыми для монтажа","Упаковка",null,4149.76,null,4979.7120000000004]
["36293K","Переходник RRC симметричный 500/200 H 80 в комплекте с крепежными элементами и соединительными пластинами, необходимыми для монтажа","Упаковка",null,4149.76,null,4979.7120000000004]
["36294K","Переходник RRC симметричный 600/300 H80 в комплекте с крепежными элементами и соединительными пластинами, необходимыми для монтажа","Упаковка",null,4611.37,null,5533.6439999999993]
["36295K","Переходник RRC симметричный 600/400 H80 в комплекте с крепежными элементами и соединительными пластинами, необходимыми для монтажа","Упаковка",null,4549.83,null,5459.7959999999994]
["36296K","Переходник RRC симметричный 600/500 H80 в комплекте с крепежными элементами и соединительными пластинами, необходимыми для монтажа","Упаковка",null,4362.97,null,5235.5640000000003]
["36299K","Переходник RRC симметричный 400/200 H80 в комплекте с крепежными элементами и соединительными пластинами, необходимыми для монтажа","Упаковка",null,3500.53,null,4200.6360000000004]
["36320K","Переходник RRC симметричный 150/100 H100 в комплекте с крепежными элементами и соединительными пластинами, необходимыми для монтажа","Упаковка",null,2554.14,null,3064.9679999999998]
["36321K","Переходник RRC симметричный 200/100 H100 в комплекте с крепежными элементами и соединительными пластинами, необходимыми для монтажа","Упаковка",null,2754.68,null,3305.6159999999995]
["36322K","Переходник RRC симметричный 200/150 H100 в комплекте с крепежными элементами и соединительными пластинами, необходимыми для монтажа","Упаковка",null,2817.82,null,3381.384]
["36323K","Переходник RRC симметричный 300/100 H100 в комплекте с крепежными элементами и соединительными пластинами, необходимыми для монтажа","Упаковка",null,3045.01,null,3654.0120000000002]
["36324K","Переходник RRC симметричный 300/150 H100 в комплекте с крепежными элементами и соединительными пластинами, необходимыми для монтажа","Упаковка",null,3030.88,null,3637.056]
["36325K","Переходник RRC симметричный 300/200 H100 в комплекте с крепежными элементами и соединительными пластинами, необходимыми для монтажа","Упаковка",null,3011.2,null,3613.4399999999996]
["36326K","Переходник RRC симметричный 400/200 H100 в комплекте с крепежными элементами и соединительными пластинами, необходимыми для монтажа","Упаковка",null,3637.57,null,4365.0839999999998]
["36327K","Переходник RRC симметричный 400/300 H100 в комплекте с крепежными элементами и соединительными пластинами, необходимыми для монтажа","Упаковка",null,3512.01,null,4214.4120000000003]
["36328K","Переходник RRC симметричный 500/200 H100 в комплекте с крепежными элементами и соединительными пластинами, необходимыми для монтажа","Упаковка",null,3757,null,4508.3999999999996]
["36329K","Переходник RRC симметричный 500/300 H100 в комплекте с крепежными элементами и соединительными пластинами, необходимыми для монтажа","Упаковка",null,3698.86,null,4438.6319999999996]
["36330K","Переходник RRC симметричный 500/400 H100 в комплекте с крепежными элементами и соединительными пластинами, необходимыми для монтажа","Упаковка",null,3639.4,null,4367.28]
["36431K","Переходник RRC симметричный 600/300 H100 в комплекте с крепежными элементами и соединительными пластинами, необходимыми для монтажа","Упаковка",null,4579.2299999999996,null,5495.0759999999991]
["36432K","Переходник RRC симметричный 600/400 H100 в комплекте с крепежными элементами и соединительными пластинами, необходимыми для монтажа","Упаковка",null,4454.8999999999996,null,5345.8799999999992]
["36433K","Переходник RRC симметричный 600/500 H100 в комплекте с крепежными элементами и соединительными пластинами, необходимыми для монтажа","Упаковка",null,4424.08,null,5308.8959999999997]
["36331K","Переходник RRD правосторонний 100/50 H50 в комплекте с крепежными элементами и соединительными пластинами, необходимыми для монтажа","Упаковка",null,2022.51,null,2427.0119999999997]
["36332K","Переходник RRD правосторонний 150/100 H50 в комплекте с крепежными элементами и соединительными пластинами, необходимыми для монтажа","Упаковка",null,2190.81,null,2628.9719999999998]
["36333K","Переходник RRD правосторонний 200/100 H50 в комплекте с крепежными элементами и соединительными пластинами, необходимыми для монтажа","Упаковка",null,2468.35,null,2962.02]
["36334K","Переходник RRD правосторонний 200/150 H50 в комплекте с крепежными элементами и соединительными пластинами, необходимыми для монтажа","Упаковка",null,2568.77,null,3082.5239999999999]
["36335K","Переходник RRD правосторонний 300/100 H50 в комплекте с крепежными элементами и соединительными пластинами, необходимыми для монтажа","Упаковка",null,2790.08,null,3348.096]
["36336K","Переходник RRD правосторонний 300/150 H50 в комплекте с крепежными элементами и соединительными пластинами, необходимыми для монтажа","Упаковка",null,2777.62,null,3333.1439999999998]
["36337K","Переходник RRD правосторонний 300/200 H50 в комплекте с крепежными элементами и соединительными пластинами, необходимыми для монтажа","Упаковка",null,2724.21,null,3269.0520000000001]
["36338K","Переходник RRD правосторонний 400/200 H50 в комплекте с крепежными элементами и соединительными пластинами, необходимыми для монтажа","Упаковка",null,3334.42,null,4001.3040000000001]
["36339K","Переходник RRD правосторонний 400/300 H50 в комплекте с крепежными элементами и соединительными пластинами, необходимыми для монтажа","Упаковка",null,3211.4,null,3853.68]
["36340K","Переходник RRD правосторонний 500/200 H50 в комплекте с крепежными элементами и соединительными пластинами, необходимыми для монтажа","Упаковка",null,3587.37,null,4304.8440000000001]
["36341K","Переходник RRD правосторонний 500/300 H50 в комплекте с крепежными элементами и соединительными пластинами, необходимыми для монтажа","Упаковка",null,3518.73,null,4222.4759999999997]
["36342K","Переходник RRD правосторонний 500/400 H50 в комплекте с крепежными элементами и соединительными пластинами, необходимыми для монтажа","Упаковка",null,3444.59,null,4133.5079999999998]
["36343K","Переходник RRD правосторонний 150/100 H100 в комплекте с крепежными элементами и соединительными пластинами, необходимыми для монтаж","Упаковка",null,2423.31,null,2907.9719999999998]
["36344K","Переходник RRD правосторонний 200/100 H100 в комплекте с крепежными элементами и соединительными пластинами, необходимыми для монтаж","Упаковка",null,2733.22,null,3279.8639999999996]
["36345K","Переходник RRD правосторонний 200/150 H100 в комплекте с крепежными элементами и соединительными пластинами, необходимыми для монтаж","Упаковка",null,2706.28,null,3247.5360000000001]
["36346K","Переходник RRD правосторонний 300/100 H100 в комплекте с крепежными элементами и соединительными пластинами, необходимыми для монтаж","Упаковка",null,3097.78,null,3717.3360000000002]
["36347K","Переходник RRD правосторонний 300/150 H100 в комплекте с крепежными элементами и соединительными пластинами, необходимыми для монтаж","Упаковка",null,3108.23,null,3729.8759999999997]
["36348K","Переходник RRD правосторонний 300/200 H100 в комплекте с крепежными элементами и соединительными пластинами, необходимыми для монтаж","Упаковка",null,3033.73,null,3640.4760000000001]
["36349K","Переходник RRD правосторонний 400/200 H100 в комплекте с крепежными элементами и соединительными пластинами, необходимыми для монтаж","Упаковка",null,3701.89,null,4442.268]
["36350K","Переходник RRD правосторонний 400/300 H100 в комплекте с крепежными элементами и соединительными пластинами, необходимыми для монтаж","Упаковка",null,3535.67,null,4242.8040000000001]
["36351K","Переходник RRD правосторонний 500/200 H100 в комплекте с крепежными элементами и соединительными пластинами, необходимыми для монтаж","Упаковка",null,3930.8,null,4716.96]
["36352K","Переходник RRD правосторонний 500/300 H100 в комплекте с крепежными элементами и соединительными пластинами, необходимыми для монтаж","Упаковка",null,3897.13,null,4676.5559999999996]
["36353K","Переходник RRD правосторонний 500/400 H100 в комплекте с крепежными элементами и соединительными пластинами, необходимыми для монтаж","Упаковка",null,3914.22,null,4697.0639999999994]
["36377K","Переходник RRD правосторонний 500/200 H80 в комплекте с крепежными элементами и соединительными пластинами, необходимыми для монтажа","Упаковка",null,4165.68,null,4998.8159999999998]
["36401K","Переходник RRD правосторонний 100/80 Н80 в комплекте с крепежными элементами и соединительными пластинами, необходимыми для монтажа","Упаковка",null,2453.0700000000002,null,2943.6840000000002]
["36402K","Переходник RRD правосторонний 150/80 H80 в комплекте с крепежными элементами и соединительными пластинами, необходимыми для монтажа","Упаковка",null,2652.16,null,3182.5919999999996]
["36403K","Переходник RRD правосторонний 150/100 H80 в комплекте с крепежными элементами и соединительными пластинами, необходимыми для монтажа","Упаковка",null,2652.16,null,3182.5919999999996]
["36404K","Переходник RRD правосторонний 200/80 H80 в комплекте с крепежными элементами и соединительными пластинами, необходимыми для монтажа","Упаковка",null,3028.09,null,3633.7080000000001]
["36405K","Переходник RRD правосторонний 200/100 Н80 в комплекте с крепежными элементами и соединительными пластинами, необходимыми для монтажа","Упаковка",null,3031.59,null,3637.9079999999999]
["36406K","Переходник RRD правосторонний 200/150 H80 в комплекте с крепежными элементами и соединительными пластинами, необходимыми для монтажа","Упаковка",null,3041.04,null,3649.248]
["36407K","Переходник RRD правосторонний 300/80 H80 в комплекте с крепежными элементами и соединительными пластинами, необходимыми для монтажа","Упаковка",null,3349.68,null,{"$f":"E775*1.2","v":4019.6159999999995}]
["36408K","Переходник RRD правосторонний 300/100 Н80 в комплекте с крепежными элементами и соединительными пластинами, необходимыми для монтажа","Упаковка",null,3353.25,null,4023.8999999999996]
["36409K","Переходник RRD правосторонний 300/150 Н80 в комплекте с крепежными элементами и соединительными пластинами, необходимыми для монтажа","Упаковка",null,3365.08,null,4038.0959999999995]
["36410K","Переходник RRD правосторонний 300/200 H80 в комплекте с крепежными элементами и соединительными пластинами, необходимыми для монтажа","Упаковка",null,3378.03,null,4053.636]
["36301K","Переходник RRD правосторонний 400/200 H80 в комплекте с крепежными элементами и соединительными пластинами, необходимыми для монтажа","Упаковка",null,3532.05,null,4238.46]
["36411K","Переходник RRD правосторонний 400/300 H80 в комплекте с крепежными элементами и соединительными пластинами, необходимыми для монтажа","Упаковка",null,3996.61,null,4795.9319999999998]
["36412K","Переходник RRD правосторонний 500/300 H80 в комплекте с крепежными элементами и соединительными пластинами, необходимыми для монтажа","Упаковка",null,4109.66,null,4931.5919999999996]
["36413K","Переходник RRD правосторонний 500/400 H 80 в комплекте с крепежными элементами и соединительными пластинами, необходимыми для монтаж","Упаковка",null,3949.66,null,4739.5919999999996]
["36414K","Переходник RRD правосторонний 600/300 H80 в комплекте с крепежными элементами и соединительными пластинами, необходимыми для монтажа","Упаковка",null,4434.78,null,5321.7359999999999]
["36415K","Переходник RRD правосторонний 600/400 H80 в комплекте с крепежными элементами и соединительными пластинами, необходимыми для монтажа","Упаковка",null,4191.92,null,5030.3040000000001]
["36416K","Переходник RRD правосторонний 600/500 H80 в комплекте с крепежными элементами и соединительными пластинами, необходимыми для монтажа","Упаковка",null,4092.37,null,4910.8440000000001]
["36443K","Переходник RRD правосторонний 600/300 H50 в комплекте с крепежными элементами и соединительными пластинами, необходимыми для монтажа","Упаковка",null,4253.1400000000003,null,5103.768]
["36444K","Переходник RRD правосторонний 600/400 H50 в комплекте с крепежными элементами и соединительными пластинами, необходимыми для монтажа","Упаковка",null,4339.95,null,5207.9399999999996]
["36445K","Переходник RRD правосторонний 600/500 H50 в комплекте с крепежными элементами и соединительными пластинами, необходимыми для монтажа","Упаковка",null,4117.2299999999996,null,4940.6759999999995]
["36454K","Переходник RRD правосторонний 600/300 H100 в комплекте с крепежными элементами и соединительными пластинами, необходимыми для монтаж","Упаковка",null,4578.26,null,5493.9120000000003]
["36455K","Переходник RRD правосторонний 600/400 H100 в комплекте с крепежными элементами и соединительными пластинами, необходимыми для монтаж","Упаковка",null,4555.71,null,5466.8519999999999]
["36456K","Переходник RRD правосторонний 600/500 H100 в комплекте с крепежными элементами и соединительными пластинами, необходимыми для монтаж","Упаковка",null,4393.79,null,5272.5479999999998]
["36354K","Переходник RRS левосторонний 100/50 H50 в комплекте с крепежными элементами и соединительными пластинами, необходимыми для монтажа","Упаковка",null,2022.51,null,2427.0119999999997]
["36355K","Переходник RRS левосторонний 150/100  H 50 в комплекте с крепежными элементами и соединительными пластинами, необходимыми для монтаж","Упаковка",null,2190.81,null,2628.9719999999998]
["36356K","Переходник RRS левосторонний 200/100 H50 в комплекте с крепежными элементами и соединительными пластинами, необходимыми для монтажа","Упаковка",null,2468.35,null,2962.02]
["36357K","Переходник RRS левосторонний 200/150 H50 в комплекте с крепежными элементами и соединительными пластинами, необходимыми для монтажа","Упаковка",null,2568.77,null,3082.5239999999999]
["36358K","Переходник RRS левосторонний 300/100 H50 в комплекте с крепежными элементами и соединительными пластинами, необходимыми для монтажа","Упаковка",null,2790.08,null,3348.096]
["36359K","Переходник RRS левосторонний 300/150 H50 в комплекте с крепежными элементами и соединительными пластинами, необходимыми для монтажа","Упаковка",null,2777.62,null,3333.1439999999998]
["36360K","Переходник RRS левосторонний 300/200 H50 в комплекте с крепежными элементами и соединительными пластинами, необходимыми для монтажа","Упаковка",null,2724.21,null,3269.0520000000001]
["36361K","Переходник RRS левосторонний 400/200 H50 в комплекте с крепежными элементами и соединительными пластинами, необходимыми для монтажа","Упаковка",null,3334.42,null,4001.3040000000001]
["36362K","Переходник RRS левосторонний 400/300 H50 в комплекте с крепежными элементами и соединительными пластинами, необходимыми для монтажа","Упаковка",null,3211.4,null,3853.68]
["36363K","Переходник RRS левосторонний 500/200 H50 в комплекте с крепежными элементами и соединительными пластинами, необходимыми для монтажа","Упаковка",null,3587.37,null,4304.8440000000001]
["36364K","Переходник RRS левосторонний 500/300 H50 в комплекте с крепежными элементами и соединительными пластинами, необходимыми для монтажа","Упаковка",null,3387.71,null,4065.252]
["36365K","Переходник RRS левосторонний 500/400 H50 в комплекте с крепежными элементами и соединительными пластинами, необходимыми для монтажа","Упаковка",null,3316.92,null,3980.3040000000001]
["36466K","Переходник RRS левосторонний 600/300 H50 в комплекте с крепежными элементами и соединительными пластинами, необходимыми для монтажа","Упаковка",null,4252.87,null,5103.4439999999995]
["36467K","Переходник RRS левосторонний 600/400 H50 в комплекте с крепежными элементами и соединительными пластинами, необходимыми для монтажа","Упаковка",null,4088.77,null,4906.5239999999994]
["36468K","Переходник RRS левосторонний 600/500 H50 в комплекте с крепежными элементами и соединительными пластинами, необходимыми для монтажа","Упаковка",null,3710.61,null,4452.732]
["36521K","Переходник RRS левосторонний 100/80 H80 в комплекте с крепежными элементами и соединительными пластинами, необходимыми для монтажа","Упаковка",null,2453.0700000000002,null,2943.6840000000002]
["36522K","Переходник RRS левосторонний 150/80 H80 в комплекте с крепежными элементами и соединительными пластинами, необходимыми для монтажа","Упаковка",null,2652.16,null,3182.5919999999996]
["36523K","Переходник RRS левосторонний 150/100 H80 в комплекте с крепежными элементами и соединительными пластинами, необходимыми для монтажа","Упаковка",null,2652.16,null,3182.5919999999996]
["36524K","Переходник RRS левосторонний 200/80 H80 в комплекте с крепежными элементами и соединительными пластинами, необходимыми для монтажа","Упаковка",null,3028.09,null,3633.7080000000001]
["36525K","Переходник RRS левосторонний 200/100 H80 в комплекте с крепежными элементами и соединительными пластинами, необходимыми для монтажа","Упаковка",null,3031.59,null,3637.9079999999999]
["36526K","Переходник RRS левосторонний 200/150 H80 в комплекте с крепежными элементами и соединительными пластинами, необходимыми для монтажа","Упаковка",null,3041.04,null,3649.248]
["36527K","Переходник RRS левосторонний 300/80 H80 в комплекте с крепежными элементами и соединительными пластинами, необходимыми для монтажа","Упаковка",null,3349.68,null,4019.6159999999995]
["36528K","Переходник RRS левосторонний 300/100 H80 в комплекте с крепежными элементами и соединительными пластинами, необходимыми для монтажа","Упаковка",null,3353.25,null,4023.8999999999996]
["36529K","Переходник RRS левосторонний 300/150 H80 в комплекте с крепежными элементами и соединительными пластинами, необходимыми для монтажа","Упаковка",null,3365.08,null,4038.0959999999995]
["36530K","Переходник RRS левосторонний 300/200 H80 в комплекте с крепежными элементами и соединительными пластинами, необходимыми для монтажа","Упаковка",null,3378.03,null,4053.636]
["36305K","Переходник RRS левосторонний 400/200 H80 в комплекте с крепежными элементами и соединительными пластинами, необходимыми для монтажа","Упаковка",null,3531.98,null,4238.3760000000002]
["36307K","Переходник RRS левосторонний 500/400 H80 в комплекте с крепежными элементами и соединительными пластинами, необходимыми для монтажа","Упаковка",null,3622.32,null,4346.7839999999997]
["36531K","Переходник RRS левосторонний 400/300 H80 в комплекте с крепежными элементами и соединительными пластинами, необходимыми для монтажа","Упаковка",null,3996.61,null,4795.9319999999998]
["36532K","Переходник RRS левосторонний 500/300 H80 в комплекте с крепежными элементами и соединительными пластинами, необходимыми для монтажа","Упаковка",null,4109.66,null,4931.5919999999996]
["36533K","Переходник RRS левосторонний 500/200 H 80 в комплекте с крепежными элементами и соединительными пластинами, необходимыми для монтажа","Упаковка",null,3804.08,null,4564.8959999999997]
["36608K","Переходник RRS левосторонний 600/300 H80 в комплекте с крепежными элементами и соединительными пластинами, необходимыми для монтажа","Упаковка",null,4434.78,null,5321.7359999999999]
["36609K","Переходник RRS левосторонний 600/400 H80 в комплекте с крепежными элементами и соединительными пластинами, необходимыми для монтажа","Упаковка",null,4191.92,null,5030.3040000000001]
["36610K","Переходник RRS левосторонний 600/500 H80 в комплекте с крепежными элементами и соединительными пластинами, необходимыми для монтажа","Упаковка",null,4092.37,null,4910.8440000000001]
["36366K","Переходник RRS левосторонний 150/100 H100 в комплекте с крепежными элементами и соединительными пластинами, необходимыми для монтажа","Упаковка",null,2423.31,null,2907.9719999999998]
["36367K","Переходник RRS левосторонний 200/100 H100 в комплекте с крепежными элементами и соединительными пластинами, необходимыми для монтажа","Упаковка",null,2733.22,null,3279.8639999999996]
["36368K","Переходник RRS левосторонний 200/150 H100 в комплекте с крепежными элементами и соединительными пластинами, необходимыми для монтажа","Упаковка",null,2706.28,null,3247.5360000000001]
["36369K","Переходник RRS левосторонний 300/100 H100 в комплекте с крепежными элементами и соединительными пластинами, необходимыми для монтажа","Упаковка",null,3097.78,null,3717.3360000000002]
["36370K","Переходник RRS левосторонний 300/150 H100 в комплекте с крепежными элементами и соединительными пластинами, необходимыми для монтажа","Упаковка",null,3108.23,null,3729.8759999999997]
["36371K","Переходник RRS левосторонний 300/200 H100 в комплекте с крепежными элементами и соединительными пластинами, необходимыми для монтажа","Упаковка",null,3033.73,null,3640.4760000000001]
["36372K","Переходник RRS левосторонний 400/200 H100 в комплекте с крепежными элементами и соединительными пластинами, необходимыми для монтажа","Упаковка",null,3701.89,null,4442.268]
["36373K","Переходник RRS левосторонний 400/300 H100 в комплекте с крепежными элементами и соединительными пластинами, необходимыми для монтажа","Упаковка",null,3535.67,null,4242.8040000000001]
["36374K","Переходник RRS левосторонний 500/200 H100 в комплекте с крепежными элементами и соединительными пластинами, необходимыми для монтажа","Упаковка",null,3930.8,null,4716.96]
["36375K","Переходник RRS левосторонний 500/300 H100 в комплекте с крепежными элементами и соединительными пластинами, необходимыми для монтажа","Упаковка",null,3756.85,null,4508.2199999999993]
["36376K","Переходник RRS левосторонний 500/400 H100 в комплекте с крепежными элементами и соединительными пластинами, необходимыми для монтажа","Упаковка",null,3644.35,null,4373.2199999999993]
["36477K","Переходник RRS левосторонний 600/300 H100 в комплекте с крепежными элементами и соединительными пластинами, необходимыми для монтажа","Упаковка",null,4578.26,null,5493.9120000000003]
["36478K","Переходник RRS левосторонний 600/400 H100 в комплекте с крепежными элементами и соединительными пластинами, необходимыми для монтажа","Упаковка",null,4555.71,null,5466.8519999999999]
["36479K","Переходник RRS левосторонний 600/500 H100 в комплекте с крепежными элементами и соединительными пластинами, необходимыми для монтажа","Упаковка",null,4129.1899999999996,null,4955.0279999999993]
["37502K","Угол  вертикальный  внешний CDSD 90  осн.100 H50 в комплекте с крепежными элементами и соединительными пластинами","Упаковка",null,4880.96,null,{"$f":"E839*1.2","v":5857.152}]
["37503K","Угол  вертикальный  внешний CDSD 90  осн.150 H50 в комплекте с крепежными элементами и соединительными пластинами","Упаковка",null,5198.88,null,6238.6559999999999]
["37504K","Угол  вертикальный  внешний CDSD 90  осн.200 H50 в комплекте с крепежными элементами и соединительными пластинами","Упаковка",null,5709.64,null,6851.5680000000002]
["37505K","Угол  вертикальный  внешний CDSD 90  осн.300 H50 в комплекте с крепежными элементами и соединительными пластинами","Упаковка",null,6909.41,null,8291.2919999999995]
["37506K","Угол  вертикальный  внешний CDSD 90  осн.400 H50 в комплекте с крепежными элементами и соединительными пластинами","Упаковка",null,8855.94,null,10627.128000000001]
["37507K","Угол  вертикальный  внешний CDSD 90  осн.500 H50 в комплекте с крепежными элементами и соединительными пластинами","Упаковка",null,9737.66,null,11685.191999999999]
["37508K","Угол  вертикальный  внешний CDSD 90  осн.600 H50 в комплекте с крепежными элементами и соединительными пластинами","Упаковка",null,10518.26,null,12621.912]
["37001K","Угол  вертикальный  внешний CDSD 90 осн.80 H80 в комплекте с крепежными элементами и соединительными пластинами","Упаковка",null,3984.68,null,4781.616]
["37002K","Угол  вертикальный  внешний CDSD 90  осн.100 H80 в комплекте с крепежными элементами и соединительными пластинами","Упаковка",null,5043.21,null,6051.8519999999999]
["37003K","Угол  вертикальный  внешний CDSD 90  осн.150 H80 в комплекте с крепежными элементами и соединительными пластинами","Упаковка",null,5717.56,null,6861.0720000000001]
["37004K","Угол  вертикальный  внешний CDSD 90  осн.200 H80 в комплекте с крепежными элементами и соединительными пластинами","Упаковка",null,6164.05,null,7396.86]
["37005K","Угол  вертикальный  внешний CDSD 90  осн.300 H80 в комплекте с крепежными элементами и соединительными пластинами","Упаковка",null,7618.1,null,9141.7199999999993]
["37006K","Угол  вертикальный  внешний CDSD 90  осн.400 H80 в комплекте с крепежными элементами и соединительными пластинами","Упаковка",null,9552.89,null,11463.467999999999]
["37007K","Угол  вертикальный  внешний CDSD 90  осн.500 H80 в комплекте с крепежными элементами и соединительными пластинами","Упаковка",null,9964.7800000000007,null,11957.736000000001]
["37008K","Угол  вертикальный  внешний CDSD 90  осн.600 H80 в комплекте с крепежными элементами и соединительными пластинами","Упаковка",null,11053.81,null,13264.571999999998]
["37012K","Угол  вертикальный  внешний CDSD 90  осн.100 H100 в комплекте с крепежными элементами и соединительными пластинами","Упаковка",null,5749.36,null,6899.2319999999991]
["37013K","Угол  вертикальный  внешний CDSD 90  осн.150 H100 в комплекте с крепежными элементами и соединительными пластинами","Упаковка",null,6219.69,null,7463.6279999999988]
["37014K","Угол  вертикальный  внешний CDSD 90  осн.200 H100 в комплекте с крепежными элементами и соединительными пластинами","Упаковка",null,6892.95,null,8271.5399999999991]
["37015K","Угол  вертикальный  внешний CDSD 90  осн.300 H100 в комплекте с крепежными элементами и соединительными пластинами","Упаковка",null,8517.7800000000007,null,10221.336000000001]
["37016K","Угол  вертикальный  внешний CDSD 90  осн.400 H100 в комплекте с крепежными элементами и соединительными пластинами","Упаковка",null,10641.4,null,12769.679999999998]
["37017K","Угол  вертикальный  внешний CDSD 90  осн.500 H100 в комплекте с крепежными элементами и соединительными пластинами","Упаковка",null,11427.96,null,13713.551999999998]
["37018K","Угол  вертикальный  внешний CDSD 90  осн.600 H100 в комплекте с крепежными элементами и соединительными пластинами","Упаковка",null,12489.82,null,14987.784]
["37021K","Угол вертикальный  внешний CDSS 90  осн.80 H80 в комплекте с крепежными элементами и соединительными пластинами","Упаковка",null,3984.68,null,4781.616]
["37022K","Угол вертикальный  внешний CDSS 90  осн.100 H80 в комплекте с крепежными элементами и соединительными пластинами","Упаковка",null,5043.21,null,6051.8519999999999]
["37023K","Угол вертикальный  внешний CDSS 90  осн.150 H80 в комплекте с крепежными элементами и соединительными пластинами","Упаковка",null,5717.56,null,6861.0720000000001]
["37024K","Угол вертикальный  внешний CDSS 90  осн.200 H80 в комплекте с крепежными элементами и соединительными пластинами","Упаковка",null,6164.05,null,7396.86]
["37025K","Угол вертикальный  внешний CDSS 90  осн.300 H80 в комплекте с крепежными элементами и соединительными пластинами","Упаковка",null,7618.1,null,9141.7199999999993]
["37026K","Угол вертикальный  внешний CDSS 90  осн.400 H80 в комплекте с крепежными элементами и соединительными пластинами","Упаковка",null,9552.89,null,11463.467999999999]
["37027K","Угол вертикальный  внешний CDSS 90  осн.500 H80 в комплекте с крепежными элементами и соединительными пластинами","Упаковка",null,9964.7800000000007,null,11957.736000000001]
["37028K","Угол вертикальный  внешний CDSS 90  осн.600 H80 в комплекте с крепежными элементами и соединительными пластинами","Упаковка",null,11053.81,null,13264.571999999998]
["37122K","Угол вертикальный  внешний CDSS 90  осн.100 H100 в комплекте с крепежными элементами и соединительными пластинами","Упаковка",null,5749.36,null,6899.2319999999991]
["37123K","Угол вертикальный  внешний CDSS 90  осн.150 H100 в комплекте с крепежными элементами и соединительными пластинами","Упаковка",null,6219.69,null,7463.6279999999988]
["37124K","Угол вертикальный  внешний CDSS 90  осн.200 H100 в комплекте с крепежными элементами и соединительными пластинами","Упаковка",null,6892.95,null,8271.5399999999991]
["37125K","Угол вертикальный  внешний CDSS 90  осн.300 H100 в комплекте с крепежными элементами и соединительными пластинами","Упаковка",null,8517.7800000000007,null,10221.336000000001]
["37126K","Угол вертикальный  внешний CDSS 90  осн.400 H100 в комплекте с крепежными элементами и соединительными пластинами","Упаковка",null,10360.48,null,12432.575999999999]
["37127K","Угол вертикальный  внешний CDSS 90  осн.500 H100 в комплекте с крепежными элементами и соединительными пластинами","Упаковка",null,11427.96,null,13713.551999999998]
["37128K","Угол вертикальный  внешний CDSS 90  осн.600 H100 в комплекте с крепежными элементами и соединительными пластинами","Упаковка",null,12489.82,null,14987.784]
["37651K","Угол вертикальный  внешний CDSS 90  осн.100 H50 в комплекте с крепежными элементами и соединительными пластинами","Упаковка",null,4880.96,null,5857.152]
["37652K","Угол вертикальный  внешний CDSS 90  осн.150 H50 в комплекте с крепежными элементами и соединительными пластинами","Упаковка",null,5198.88,null,6238.6559999999999]
["37653K","Угол вертикальный  внешний CDSS 90  осн.200 H50 в комплекте с крепежными элементами и соединительными пластинами","Упаковка",null,5709.64,null,6851.5680000000002]
["37654K","Угол вертикальный  внешний CDSS 90  осн.300 H50 в комплекте с крепежными элементами и соединительными пластинами","Упаковка",null,6909.41,null,8291.2919999999995]
["37655K","Угол вертикальный  внешний CDSS 90  осн.400 H50 в комплекте с крепежными элементами и соединительными пластинами","Упаковка",null,8855.94,null,10627.128000000001]
["37656K","Угол вертикальный  внешний CDSS 90  осн.500 H50 в комплекте с крепежными элементами и соединительными пластинами","Упаковка",null,9737.66,null,11685.191999999999]
["37657K","Угол вертикальный  внешний CDSS 90  осн.600 H50 в комплекте с крепежными элементами и соединительными пластинами","Упаковка",null,10518.26,null,12621.912]
["37661K","Угол  вертикальный внутренний, переходник CSSD 90 осн.100 H50 в комплекте с крепежными элементами и соединительными пластинами","Упаковка",null,4773.55,null,5728.26]
["37662K","Угол  вертикальный внутренний, переходник CSSD 90 осн.150 H50 в комплекте с крепежными элементами и соединительными пластинами","Упаковка",null,5319.28,null,6383.1359999999995]
["37663K","Угол  вертикальный внутренний, переходник CSSD 90 осн.200 H50 в комплекте с крепежными элементами и соединительными пластинами","Упаковка",null,5836.05,null,7003.26]
["37664K","Угол  вертикальный внутренний, переходник CSSD 90 осн.300 H50 в комплекте с крепежными элементами и соединительными пластинами","Упаковка",null,7370.13,null,8844.155999999999]
["37665K","Угол  вертикальный внутренний, переходник CSSD 90 осн.400 H50 в комплекте с крепежными элементами и соединительными пластинами","Упаковка",null,7917.89,null,9501.4680000000008]
["37666K","Угол  вертикальный внутренний, переходник CSSD 90 осн.500 H50 в комплекте с крепежными элементами и соединительными пластинами","Упаковка",null,9260.66,null,11112.791999999999]
["37667K","Угол  вертикальный внутренний, переходник CSSD 90 осн.600 H50 в комплекте с крепежными элементами и соединительными пластинами","Упаковка",null,10909.24,null,13091.088]
["37041K","Угол  вертикальный внутренний, переходник CSSD 90 осн. 80 H80 в комплекте с крепежными элементами и соединительными пластинами","Упаковка",null,4459.16,null,5350.9919999999993]
["37042K","Угол  вертикальный внутренний, переходник CSSD 90 осн. 100 H80 в комплекте с крепежными элементами и соединительными пластинами","Упаковка",null,5080.91,null,6097.0919999999996]
["37043K","Угол  вертикальный внутренний, переходник CSSD 90 осн. 150 H80 в комплекте с крепежными элементами и соединительными пластинами","Упаковка",null,5652.29,null,6782.7479999999996]
["37044K","Угол  вертикальный внутренний, переходник CSSD 90 осн. 200 H80 в комплекте с крепежными элементами и соединительными пластинами","Упаковка",null,6193.31,null,7431.9719999999998]
["37045K","Угол  вертикальный внутренний, переходник CSSD 90 осн. 300 H80 в комплекте с крепежными элементами и соединительными пластинами","Упаковка",null,7799.22,null,9359.0640000000003]
["37046K","Угол  вертикальный внутренний, переходник CSSD 90 осн. 400 H80 в комплекте с крепежными элементами и соединительными пластинами","Упаковка",null,8695.48,null,10434.575999999999]
["37047K","Угол  вертикальный внутренний, переходник CSSD 90 осн. 500 H80 в комплекте с крепежными элементами и соединительными пластинами","Упаковка",null,10064.85,null,12077.82]
["37048K","Угол  вертикальный внутренний, переходник CSSD 90 осн. 600 H80 в комплекте с крепежными элементами и соединительными пластинами","Упаковка",null,11434.33,null,13721.196]
["37142K","Угол  вертикальный внутренний, переходник CSSD 90 осн.100 H100 в комплекте с крепежными элементами и соединительными пластинами","Упаковка",null,4958.38,null,5950.0559999999996]
["37143K","Угол  вертикальный внутренний, переходник CSSD 90 осн.150 H100 в комплекте с крепежными элементами и соединительными пластинами","Упаковка",null,6169.97,null,7403.9639999999999]
["37144K","Угол  вертикальный внутренний, переходник CSSD 90 осн.200 H100 в комплекте с крепежными элементами и соединительными пластинами","Упаковка",null,6761.33,null,8113.5959999999995]
["37145K","Угол  вертикальный внутренний, переходник CSSD 90 осн.300 H100 в комплекте с крепежными элементами и соединительными пластинами","Упаковка",null,8516.9699999999993,null,10220.364]
["37146K","Угол  вертикальный внутренний, переходник CSSD 90 осн.400 H100 в комплекте с крепежными элементами и соединительными пластинами","Упаковка",null,8940.25,null,10728.3]
["37147K","Угол  вертикальный внутренний, переходник CSSD 90 осн.500 H100 в комплекте с крепежными элементами и соединительными пластинами","Упаковка",null,11209.97,null,{"$f":"E903*1.2","v":13451.963999999998}]
["37148K","Угол  вертикальный внутренний, переходник CSSD 90 осн.600 H100 в комплекте с крепежными элементами и соединительными пластинами","Упаковка",null,12657.1,null,15188.52]
["37061K","Угол вертикальный внутренний, переходник CSSS 90 осн. 80 H80 в комплекте с крепежными элементами и соединительными пластинами","Упаковка",null,4459.16,null,5350.9919999999993]
["37062K","Угол вертикальный внутренний, переходник CSSS 90 осн. 100 H80 в комплекте с крепежными элементами и соединительными пластинами","Упаковка",null,5080.91,null,6097.0919999999996]
["37063K","Угол вертикальный внутренний, переходник CSSS 90 осн. 150 H80 в комплекте с крепежными элементами и соединительными пластинами","Упаковка",null,5652.29,null,6782.7479999999996]
["37064K","Угол вертикальный внутренний, переходник CSSS 90 осн. 200 H80 в комплекте с крепежными элементами и соединительными пластинами","Упаковка",null,6193.31,null,7431.9719999999998]
["37065K","Угол вертикальный внутренний, переходник CSSS 90 осн. 300 H80 в комплекте с крепежными элементами и соединительными пластинами","Упаковка",null,7799.22,null,9359.0640000000003]
["37066K","Угол вертикальный внутренний, переходник CSSS 90 осн. 400 H80 в комплекте с крепежными элементами и соединительными пластинами","Упаковка",null,8695.48,null,10434.575999999999]
["37067K","Угол вертикальный внутренний, переходник CSSS 90 осн. 500 H80 в комплекте с крепежными элементами и соединительными пластинами","Упаковка",null,10064.85,null,12077.82]
["37068K","Угол вертикальный внутренний, переходник CSSS 90 осн. 600 H80 в комплекте с крепежными элементами и соединительными пластинами","Упаковка",null,10000.379999999999,null,12000.455999999998]
["37072K","Угол вертикальный внутренний, переходник CSSS 90 осн.100 H100 в комплекте с крепежными элементами и соединительными пластинами","Упаковка",null,4958.38,null,5950.0559999999996]
["37073K","Угол вертикальный внутренний, переходник CSSS 90 осн.150 H100 в комплекте с крепежными элементами и соединительными пластинами","Упаковка",null,6169.97,null,7403.9639999999999]
["37074K","Угол вертикальный внутренний, переходник CSSS 90 осн. 200 H100 в комплекте с крепежными элементами и соединительными пластинами","Упаковка",null,6761.33,null,8113.5959999999995]
["37075K","Угол вертикальный внутренний, переходник CSSS 90 осн. 300 H100 в комплекте с крепежными элементами и соединительными пластинами","Упаковка",null,8516.9699999999993,null,10220.364]
["37076K","Угол вертикальный внутренний, переходник CSSS 90 осн. 400 H100 в комплекте с крепежными элементами и соединительными пластинами","Упаковка",null,8940.25,null,10728.3]
["37077K","Угол вертикальный внутренний, переходник CSSS 90 осн. 500 H100 в комплекте с крепежными элементами и соединительными пластинами","Упаковка",null,11209.97,null,13451.963999999998]
["37078K","Угол вертикальный внутренний, переходник CSSS 90 осн. 600 H100 в комплекте с крепежными элементами и соединительными пластинами","Упаковка",null,12657.1,null,15188.52]
["37592K","Угол вертикальный внутренний, переходник CSSS 90 осн. 100 H50 в комплекте с крепежными элементами и соединительными пластинами","Упаковка",null,4773.55,null,5728.26]
["37593K","Угол вертикальный внутренний, переходник CSSS 90  осн. 150 H50 в комплекте с крепежными элементами и соединительными пластинами","Упаковка",null,5319.28,null,6383.1359999999995]
["37594K","Угол вертикальный внутренний, переходник CSSS 90 осн. 200 H50 в комплекте с крепежными элементами и соединительными пластинами","Упаковка",null,5836.05,null,7003.26]
["37595K","Угол вертикальный внутренний, переходник CSSS 90 осн. 300 H50 в комплекте с крепежными элементами и соединительными пластинами","Упаковка",null,7370.13,null,8844.155999999999]
["37596K","Угол вертикальный внутренний, переходник CSSS 90 осн. 400 H50 в комплекте с крепежными элементами и соединительными пластинами","Упаковка",null,7917.89,null,9501.4680000000008]
["37597K","Угол вертикальный внутренний, переходник CSSS 90 осн. 500 H50 в комплекте с крепежными элементами и соединительными пластинами","Упаковка",null,9260.66,null,11112.791999999999]
["37598K","Угол вертикальный внутренний, переходник CSSS 90 осн. 600 H50 в комплекте с крепежными элементами и соединительными пластинами","Упаковка",null,10909.24,null,13091.088]
["37101K","Ответвитель TD Т-образный вертикальный осн.80 в комплекте с крепежными элементами и соединительными пластинами, необходимыми для мон","Упаковка",null,3796.99,null,4556.3879999999999]
["37102K","Ответвитель TD Т-образный вертикальный осн.100 в комплекте с крепежными элементами и соединительными пластинами, необходимыми для мо","Упаковка",null,5226.16,null,6271.3919999999998]
["37103K","Ответвитель TD Т-образный вертикальный осн.150 в комплекте с крепежными элементами и соединительными пластинами, необходимыми для мо","Упаковка",null,5521.84,null,6626.2079999999996]
["37104K","Ответвитель TD Т-образный вертикальный осн.200 в комплекте с крепежными элементами и соединительными пластинами, необходимыми для мо","Упаковка",null,5869.77,null,7043.7240000000002]
["37105K","Ответвитель TD Т-образный вертикальный осн.300 в комплекте с крепежными элементами и соединительными пластинами, необходимыми для мо","Упаковка",null,6337.12,null,7604.5439999999999]
["37106K","Ответвитель TD Т-образный вертикальный осн.400 в комплекте с крепежными элементами и соединительными пластинами, необходимыми для мо","Упаковка",null,6788.1,null,8145.72]
["37107K","Ответвитель TD Т-образный вертикальный осн.500 в комплекте с крепежными элементами и соединительными пластинами, необходимыми для мо","Упаковка",null,7272.65,null,8727.1799999999985]
["37108K","Ответвитель TD Т-образный вертикальный осн.600 Н80 в комплекте с крепежными элементами и соединительными пластинами, необходимыми дл","Упаковка",null,7286.6,null,8743.92]
["37112K","Ответвитель TD Т-образный вертикальный осн.100 H100 в комплекте с крепежными элементами и соединительными пластинами, необходимымидля монтажа","Упаковка",null,5476.52,null,6571.8240000000005]
["37113K","Ответвитель TD Т-образный вертикальный осн.150 H100 в комплекте с крепежными элементами и соединительными пластинами, необходимыми д","Упаковка",null,5792.33,null,6950.7959999999994]
["37114K","Ответвитель TD Т-образный вертикальный осн.200 H100 в комплекте с крепежными элементами и соединительными пластинами, необходимыми д","Упаковка",null,6169.73,null,7403.6759999999995]
["37115K","Ответвитель TD Т-образный вертикальный осн.300 H100 в комплекте с крепежными элементами и соединительными пластинами, необходимыми д","Упаковка",null,7053.07,null,8463.6839999999993]
["37116K","Ответвитель TD Т-образный вертикальный осн.400 H100 в комплекте с крепежными элементами и соединительными пластинами, необходимыми д","Упаковка",null,8096.53,null,9715.8359999999993]
["37117K","Ответвитель TD Т-образный вертикальный осн.500 H100 в комплекте с крепежными элементами и соединительными пластинами, необходимыми д","Упаковка",null,9040.8799999999992,null,10849.055999999999]
["37118K","Ответвитель TD Т-образный вертикальный осн.600 H100 в комплекте с крепежными элементами и соединительными пластинами, необходимыми д","Упаковка",null,9432.1200000000008,null,11318.544]
["37161K","Ответвитель TDS Т-образный вертикальный ун. осн. 80 H80 в комплекте с крепежными элементами и соединительными пластинами, необходимы","Упаковка",null,5506.88,null,6608.2560000000003]
["37162K","Ответвитель TDS T-образный вертикальный ун. осн. 100 H80 в комплекте с крепежными элементами и соединительными пластинами, необходим","Упаковка",null,7397.39,null,8876.8680000000004]
["37163K","Ответвитель TDS Т-образный вертикальный ун. осн. 150 H80 в комплекте с крепежными элементами и соединительными пластинами, необходим","Упаковка",null,7647.44,null,9176.9279999999999]
["37164K","Ответвитель TDS T-образный вертикальный ун. осн. 200 H80 в комплекте с крепежными элементами и соединительными пластинами, необходим","Упаковка",null,8403.74,null,10084.487999999999]
["37165K","Ответвитель TDS T-образный вертикальный ун. осн. 300 H80 в комплекте с крепежными элементами и соединительными пластинами, необходим","Упаковка",null,10102.42,null,12122.904]
["37166K","Ответвитель TDS Т-образный вертикальный ун. осн. 400 H80 в комплекте с крепежными элементами и соединительными пластинами, необходим","Упаковка",null,10603.9,null,12724.679999999998]
["37167K","Ответвитель TDS Т-образный вертикальный ун. осн. 500 H80 в комплекте с крепежными элементами и соединительными пластинами, необходим","Упаковка",null,11838.47,null,14206.163999999999]
["37168K","Ответвитель TDS Т-образный вертикальный ун. осн. 600 H80 в комплекте с крепежными элементами и соединительными пластинами, необходим","Упаковка",null,12283.63,null,14740.355999999998]
["37172K","Ответвитель TDS T-образный вертикальный ун. осн.100 H100 в комплекте с крепежными элементами и соединительными пластинами, необходим","Упаковка",null,7547.15,null,9056.58]
["37173K","Ответвитель TDS T-образный вертикальный ун. осн.150 H100 в комплекте с крепежными элементами и соединительными пластинами, необходим","Упаковка",null,8022.48,null,9626.9759999999987]
["37174K","Ответвитель TDS T-образный вертикальный ун. осн.200 H100 в комплекте с крепежными элементами и соединительными пластинами, необходим","Упаковка",null,8811.64,null,10573.967999999999]
["37175K","Ответвитель TDS T-образный вертикальный ун. осн.300 H100 в комплекте с крепежными элементами и соединительными пластинами, необходим","Упаковка",null,10584.14,null,12700.967999999999]
["37176K","Ответвитель TDS T-образный вертикальный ун. осн.400 H100 в комплекте с крепежными элементами и соединительными пластинами, необходим","Упаковка",null,13133.05,null,15759.659999999998]
["37177K","Ответвитель TDS T-образный вертикальный ун. осн.500 H100 в комплекте с крепежными элементами и соединительными пластинами, необходим","Упаковка",null,13913.97,null,16696.763999999999]
["37178K","Ответвитель TDS T-образный вертикальный ун. осн.600 H100 в комплекте с крепежными элементами и соединительными пластинами, необходим","Упаковка",null,15778.39,null,18934.067999999999]
["37201K","Т-Ответвитель вверх TS осн.80 в комплекте с крепежными элементами и соединительными пластинами, необходимыми для монтажа","Упаковка",null,4401.2299999999996,null,5281.4759999999997]
["37202K","Т-Ответвитель вверх TS осн.100 в комплекте с крепежными элементами и соединительными пластинами, необходимыми для монтажа","Упаковка",null,4708.8599999999997,null,5650.6319999999996]
["37203K","Т-Ответвитель вверх TS осн.150 в комплекте с крепежными элементами и соединительными пластинами, необходимыми для монтажа","Упаковка",null,5129.53,null,6155.4359999999997]
["37204K","Т-Ответвитель вверх TS осн.200 в комплекте с крепежными элементами и соединительными пластинами, необходимыми для монтажа","Упаковка",null,5584.47,null,6701.3640000000005]
["37205K","Т-Ответвитель вверх TS осн.300 в комплекте с крепежными элементами и соединительными пластинами, необходимыми для монтажа","Упаковка",null,6469.14,null,7762.9679999999998]
["37252K","Крышка-ответвитель TS осн.100 H50 в комплекте с крепежными элементами и соединительными пластинами, необходимыми для монтажа","Упаковка",null,4142.22,null,4970.6639999999998]
["37253K","Крышка-ответвитель TS осн.150 H50 в комплекте с крепежными элементами и соединительными пластинами, необходимыми для монтажа","Упаковка",null,4330.4799999999996,null,5196.5759999999991]
["37254K","Крышка-ответвитель TS осн.200 H50 в комплекте с крепежными элементами и соединительными пластинами, необходимыми для монтажа","Упаковка",null,5038.0600000000004,null,6045.6720000000005]
["37255K","Крышка-ответвитель TS осн.300 H50 в комплекте с крепежными элементами и соединительными пластинами, необходимыми для монтажа","Упаковка",null,6177.39,null,7412.8680000000004]
["37256K","Крышка-ответвитель TS осн.400 H50 в комплекте с крепежными элементами и соединительными пластинами, необходимыми для монтажа","Упаковка",null,6320.98,null,7585.1759999999995]
["37257K","Крышка-ответвитель TS осн.500 H50 в комплекте с крепежными элементами и соединительными пластинами, необходимыми для монтажа","Упаковка",null,6663.32,null,{"$f":"E967*1.2","v":7995.9839999999995}]
["37258K","Крышка-ответвитель TS осн.600 H50 в комплекте с крепежными элементами и соединительными пластинами, необходимыми для монтажа","Упаковка",null,7003.76,null,8404.5120000000006]
["37206K","Крышка-ответвитель TS осн.400 H80 в комплекте с крепежными элементами и соединительными пластинами, необходимыми для монтажа","Упаковка",null,6238.93,null,7486.7160000000003]
["37207K","Крышка-ответвитель TS осн.500 H80 в комплекте с крепежными элементами и соединительными пластинами, необходимыми для монтажа","Упаковка",null,7140.27,null,8568.3240000000005]
["37242K","Крышка-ответвитель TS осн.100 H80 в комплекте с крепежными элементами и соединительными пластинами, необходимыми для монтажа","Упаковка",null,4335.38,null,5202.4560000000001]
["37243K","Крышка-ответвитель TS осн.150 H80 в комплекте с крепежными элементами и соединительными пластинами, необходимыми для монтажа","Упаковка",null,4836.87,null,5804.2439999999997]
["37244K","Крышка-ответвитель TS осн.200 H80 в комплекте с крепежными элементами и соединительными пластинами, необходимыми для монтажа","Упаковка",null,5197.92,null,6237.5039999999999]
["37245K","Крышка-ответвитель TS осн.300 H80 в комплекте с крепежными элементами и соединительными пластинами, необходимыми для монтажа","Упаковка",null,5374.93,null,6449.9160000000002]
["37342K","Крышка-ответвитель TS осн.100 H100 в комплекте с крепежными элементами и соединительными пластинами, необходимыми для монтажа","Упаковка",null,4557.34,null,5468.808]
["37343K","Крышка-ответвитель TS осн.150 H100 в комплекте с крепежными элементами и соединительными пластинами, необходимыми для монтажа","Упаковка",null,5198.22,null,6237.8640000000005]
["37344K","Крышка-ответвитель TS осн.200 H100 в комплекте с крепежными элементами и соединительными пластинами, необходимыми для монтажа","Упаковка",null,5557.87,null,6669.4439999999995]
["37345K","Крышка-ответвитель TS осн.300 H100 в комплекте с крепежными элементами и соединительными пластинами, необходимыми для монтажа","Упаковка",null,6098.41,null,7318.0919999999996]
["37346K","Крышка-ответвитель TS осн.400 H100 в комплекте с крепежными элементами и соединительными пластинами, необходимыми для монтажа","Упаковка",null,6567.02,null,7880.424]
["37347K","Крышка-ответвитель TS осн.500 H100 в комплекте с крепежными элементами и соединительными пластинами, необходимыми для монтажа","Упаковка",null,7297.89,null,8757.4680000000008]
["37348K","Крышка-ответвитель TS осн.600 H100 в комплекте с крепежными элементами и соединительными пластинами, необходимыми для монтажа","Упаковка",null,8028.73,null,9634.4759999999987]
["37221K","Ответвитель вверх TSS осн.80 в комплекте с крепежными элементами и соединительными пластинами, необходимыми для монтажа","Упаковка",null,4738.54,null,5686.2479999999996]
["37222K","Ответвитель вверх TSS осн.100 в комплекте с крепежными элементами и соединительными пластинами, необходимыми для монтажа","Упаковка",null,5127.2,null,6152.6399999999994]
["37223K","Ответвитель вверх TSS осн.150 в комплекте с крепежными элементами и соединительными пластинами, необходимыми для монтажа","Упаковка",null,5472.41,null,6566.8919999999998]
["37224K","Ответвитель вверх TSS осн.200 в комплекте с крепежными элементами и соединительными пластинами, необходимыми для монтажа","Упаковка",null,5754.78,null,6905.7359999999999]
["37225K","Ответвитель вверх TSS осн.300 в комплекте с крепежными элементами и соединительными пластинами, необходимыми для монтажа","Упаковка",null,6167.43,null,7400.9160000000002]
["37226K","Крышка-ответвитель TSS осн.400 в комплекте с крепежными элементами и соединительными пластинами, необходимыми для монтажа","Упаковка",null,9720.85,null,11665.02]
["37227K","Крышка-ответвитель TSS осн.500 в комплекте с крепежными элементами и соединительными пластинами, необходимыми для монтажа","Упаковка",null,10861.8,null,13034.159999999998]
["37228K","Крышка-ответвитель TSS осн.600 в комплекте с крепежными элементами и соединительными пластинами, необходимыми для монтажа","Упаковка",null,11240.79,null,13488.948]
["37232K","Крышка-ответвитель TSS осн.100 в комплекте с крепежными элементами и соединительными пластинами, необходимыми для монтажа","Упаковка",null,6222.65,null,7467.1799999999994]
["37233K","Крышка-ответвитель TSS осн.150 в комплекте с крепежными элементами и соединительными пластинами, необходимыми для монтажа","Упаковка",null,7018.37,null,8422.0439999999999]
["37234K","Крышка-ответвитель TSS осн.200 в комплекте с крепежными элементами и соединительными пластинами, необходимыми для монтажа","Упаковка",null,7292.44,null,8750.9279999999999]
["37235K","Крышка-ответвитель TSS осн.300 в комплекте с крепежными элементами и соединительными пластинами, необходимыми для монтажа","Упаковка",null,8025.28,null,9630.3359999999993]
["37332K","Крышка-ответвитель TSS осн.100 Н100 в комплекте с крепежными элементами и соединительными пластинами, необходимыми для монтажа","Упаковка",null,6485.18,null,7782.2160000000003]
["37333K","Крышка-ответвитель TSS осн. 150 H100 в комплекте с крепежными элементами и соединительными пластинами, необходимыми для монтажа","Упаковка",null,7148.39,null,8578.0679999999993]
["37334K","Крышка-ответвитель TSS осн. 200 H100 в комплекте с крепежными элементами и соединительными пластинами, необходимыми для монтажа","Упаковка",null,7719.79,null,9263.7479999999996]
["37335K","Крышка-ответвитель TSS осн. 300 H100 в комплекте с крепежными элементами и соединительными пластинами, необходимыми для монтажа","Упаковка",null,8669.9699999999993,null,10403.963999999998]
["37336K","Крышка-ответвитель TSS осн. 400 H100 в комплекте с крепежными элементами и соединительными пластинами, необходимыми для монтажа","Упаковка",null,10129.23,null,12155.075999999999]
["37337K","Крышка-ответвитель TSS осн. 500 H100 в комплекте с крепежными элементами и соединительными пластинами, необходимыми для монтажа","Упаковка",null,11545.54,null,13854.648000000001]
["37338K","Крышка-ответвитель TSS осн. 600 H100 в комплекте с крепежными элементами и соединительными пластинами, необходимыми для монтажа","Упаковка",null,12631.37,null,15157.644]
["36562K","Ответвитель-крышка  DDT 100/100 в комплекте с крепежными элементами исоединительными пластинами, необходимыми для монтажа","Упаковка",null,4155.6899999999996,null,4986.8279999999995]
["36563K","Ответвитель-крышка Т-обр-переходник DDT 150/100 в комплекте с крепежнымиэлементами и соединительными пластинами, необходимыми для монтажа","Упаковка",null,4747.66,null,5697.192]
["36566K","Ответвитель-крышка Т-обр-переходник DDT 200/100 в комплекте с крепежнымиэлементами и соединительными пластинами, необходимыми для монтажа","Упаковка",null,5120.57,null,6144.6839999999993]
["36567K","Ответвитель-крышка Т-обр-переходник DDT 200/150 в комплекте с крепежнымиэлементами и соединительными пластинами, необходимыми для монтажа","Упаковка",null,5884.25,null,7061.0999999999995]
["36570K","Ответвитель-крышка Т-обр-переходник DDT 300/100 в комплекте с крепежнымиэлементами и соединительными пластинами, необходимыми для монтажа","Упаковка",null,6091.42,null,7309.7039999999997]
["36571K","Ответвитель-крышка Т-обр-переходник DDT 300/150 в комплекте с крепежнымиэлементами и соединительными пластинами, необходимыми для монтажа","Упаковка",null,6813.71,null,8176.4519999999993]
["36572K","Ответвитель-крышка Т-обр-переходник DDT 300/200 в комплекте с крепежнымиэлементами и соединительными пластинами, необходимыми для монтажа","Упаковка",null,7760.89,null,9313.0679999999993]
["37378K","Ответвитель-крышка Т-обр. вертикальный вниз DDS 100/50 в комплекте скрепежными элементами и соединительными пластинами, необходимыми длямонтажа","Упаковка",null,4636.2299999999996,null,5563.4759999999997]
["37379K","Ответвитель-крышка Т-обр. вертикальный вниз DDS 150/50 в комплекте скрепежными элементами и соединительными пластинами, необходимыми длямонтажа","Упаковка",null,5157.1400000000003,null,6188.5680000000002]
["37380K","Ответвитель-крышка Т-обр. вертикальный вниз DDS 200/50 в комплекте скрепежными элементами и соединительными пластинами, необходимыми длямонтажа","Упаковка",null,5476.89,null,6572.268]
["37381K","Ответвитель-крышка Т-обр. вертикальный вниз DDS 200/100 в комплекте скрепежными элементами и соединительными пластинами, необходимыми длямонтажа","Упаковка",null,5790.56,null,6948.6720000000005]
["37382K","Ответвитель-крышка Т-обр. вертикальный вниз DDS 300/50 в комплекте скрепежными элементами и соединительными пластинами, необходимыми длямонтажа","Упаковка",null,6323.41,null,7588.0919999999996]
["37383K","Ответвитель-крышка Т-обр. вертикальный вниз DDS 300/100 в комплекте скрепежными элементами и соединительными пластинами, необходимыми длямонтажа","Упаковка",null,6678.67,null,8014.4039999999995]
["37384K","Ответвитель-крышка Т-обр. вертикальный вниз DDS 300/150 в комплекте скрепежными элементами и соединительными пластинами, необходимыми длямонтажа","Упаковка",null,6974.56,null,8369.4719999999998]
[null,null,null,null,null,null,0]
[null,null,null,null,null,null,0]
["35510","Крышка с заземлением на лоток осн.50 L2000","Метр",null,213,null,255.6]
["35511","Крышка с заземлением на лоток осн.80 L2000","Метр",null,237.84,null,285.40800000000002]
["35512","Крышка с заземлением на лоток осн.100 L2000","Метр",null,280.39999999999998,null,336.47999999999996]
["35513","Крышка с заземлением на лоток осн.150 L2000","Метр",null,358.58,null,430.29599999999999]
["35514","Крышка с заземлением на лоток осн.200 L2000","Метр",null,465.18,null,558.21600000000001]
["35515","Крышка с заземлением на лоток осн.300 L2000","Метр",null,649.73,null,779.67600000000004]
["35516","Крышка с заземлением на лоток осн.400 L2000","Метр",null,1072.0999999999999,null,1286.5199999999998]
["35517","Крышка с заземлением на лоток осн.500 L2000","Метр",null,1427.93,null,1713.5160000000001]
[null,null,null,null,null,null,0]
["35520","Крышка с заземлением на лоток осн.50 L3000","Метр",null,213,null,255.6]
["35521","Крышка с заземлением на лоток осн.80 L3000","Метр",null,237.84,null,285.40800000000002]
["35522","Крышка с заземлением на лоток осн.100 L3000","Метр",null,280.39999999999998,null,336.47999999999996]
["35523","Крышка с заземлением на лоток осн.150 L3000","Метр",null,358.58,null,430.29599999999999]
["35524","Крышка с заземлением на лоток осн.200 L3000","Метр",null,465.18,null,558.21600000000001]
["35525","Крышка с заземлением на лоток осн.300 L3000","Метр",null,649.73,null,{"$f":"E1031*1.2","v":779.67600000000004}]
["35526","Крышка с заземлением на лоток осн.400 L3000","Метр",null,1072.0999999999999,null,1286.5199999999998]
["35527","Крышка с заземлением на лоток осн.500 L3000","Метр",null,1427.93,null,1713.5160000000001]
["35528","Крышка с заземлением на лоток осн.600 L3000","Метр",null,1901.11,null,2281.3319999999999]
[null,null,null,null,null,null,0]
[null,null,null,null,null,null,0]
["SNS23510","Лоток 100х35 L2000","Метр",null,436.63,null,523.95600000000002]
["SNS23520","Лоток 200х35 L2000","Метр",null,634.02,null,760.82399999999996]
["SNS23530","Лоток 300х35 L2000","Метр",null,758.78,null,910.53599999999994]
["SNS23540","Лоток 400х35 L2000","Метр",null,1124.22,null,1349.0640000000001]
["SNS23550","Лоток 500х35 L2000","Метр",null,1406.36,null,1687.6319999999998]
["35010","Лоток 50х50 L2000","Метр",null,382.12,null,458.54399999999998]
["35012","Лоток 100х50 L2000","Метр",null,485.15,null,582.17999999999995]
["35013","Лоток 150х50 L2000","Метр",null,571.07000000000005,null,685.28399999999999]
["35014","Лоток 200х50 L2000","Метр",null,768.5,null,922.19999999999993]
["35015","Лоток 300x50 L2000","Метр",null,919.73,null,1103.6759999999999]
["35016","Лоток 400х50 L2000","Метр",null,1362.71,null,1635.252]
["35017","Лоток 500х50 L2000","Метр",null,1704.66,null,2045.5920000000001]
["35018","Лоток 600х50 L2000","Метр",null,2556.2399999999998,null,3067.4879999999998]
["35051","Лоток 80х80 L2000","Метр",null,708.42,null,850.10399999999993]
["35052","Лоток 100х80 L2000","Метр",null,793.69,null,952.428]
["35053","Лоток 150х80 L2000","Метр",null,964.37,null,1157.2439999999999]
["35054","Лоток 200х80 L2000","Метр",null,1095.3599999999999,null,1314.4319999999998]
["35055","Лоток 300х80 L2000","Метр",null,1341.36,null,1609.6319999999998]
["35056","Лоток 400х80 L2000","Метр",null,1805.87,null,2167.0439999999999]
["35057","Лоток 500х80 L2000","Метр",null,2381.38,null,2857.6559999999999]
["35058","Лоток 600х80 L2000","Метр",null,3037.91,null,3645.4919999999997]
["35111","Лоток 100х100 L2000","Метр",null,910.8,null,1092.9599999999998]
["35112","Лоток 150х100 L2000","Метр",null,1193.76,null,1432.5119999999999]
["35113","Лоток 200х100 L2000","Метр",null,1360.27,null,1632.3239999999998]
["35114","Лоток 300х100 L2000","Метр",null,2054.6799999999998,null,2465.6159999999995]
["35115","Лоток 400х100 L2000","Метр",null,2688.44,null,3226.1280000000002]
["35116","Лоток 500х100 L2000","Метр",null,2790.86,null,3349.0320000000002]
["35117","Лоток 600х100 L2000","Метр",null,3104.6,null,3725.5199999999995]
[null,null,null,null,null,null,0]
["SNS33510","Лоток 100х35 L3000","Метр",null,436.63,null,523.95600000000002]
["SNS33520","Лоток 200х35 L3000","Метр",null,634.02,null,760.82399999999996]
["SNS33530","Лоток 300х35 L3000","Метр",null,758.78,null,910.53599999999994]
["SNS33540","Лоток 400х35 L3000","Метр",null,1124.22,null,1349.0640000000001]
["SNS33550","Лоток 500х35 L3000","Метр",null,1406.36,null,1687.6319999999998]
["35020","Лоток 50х50 L3000","Метр",null,382.12,null,458.54399999999998]
["35022","Лоток 100х50 L3000","Метр",null,485.15,null,582.17999999999995]
["35023","Лоток 150х50 L3000","Метр",null,571.07000000000005,null,685.28399999999999]
["35024","Лоток 200х50 L3000","Метр",null,768.5,null,922.19999999999993]
["35025","Лоток 300х50 L3000","Метр",null,919.73,null,1103.6759999999999]
["35026","Лоток 400х50 L3000","Метр",null,1362.71,null,1635.252]
["35027","Лоток 500х50 L3000","Метр",null,1704.66,null,2045.5920000000001]
["35028","Лоток 600х50 L3000","Метр",null,2556.2399999999998,null,3067.4879999999998]
["35061","Лоток 80х80 L3000","Метр",null,708.42,null,850.10399999999993]
["35062","Лоток 100х80 L3000","Метр",null,793.69,null,952.428]
["35063","Лоток 150х80 L3000","Метр",null,964.37,null,1157.2439999999999]
["35064","Лоток 200х80 L3000","Метр",null,1095.3599999999999,null,1314.4319999999998]
["35065","Лоток 300х80 L3000","Метр",null,1341.36,null,1609.6319999999998]
["35066","Лоток 400х80 L3000","Метр",null,1805.87,null,2167.0439999999999]
["35067","Лоток 500х80 L3000","Метр",null,2381.38,null,2857.6559999999999]
["35068","Лоток 600х80 L3000","Метр",null,3037.91,null,3645.4919999999997]
["35101","Лоток 100х100 L3000","Метр",null,910.8,null,1092.9599999999998]
["35102","Лоток 150х100 L3000","Метр",null,1193.76,null,1432.5119999999999]
["35103","Лоток 200х100 L3000","Метр",null,1360.27,null,1632.3239999999998]
["35104","Лоток 300х100 L3000","Метр",null,2054.6799999999998,null,2465.6159999999995]
["35105","Лоток 400х100 L3000","Метр",null,2688.44,null,3226.1280000000002]
["35106","Лоток 500х100 L3000","Метр",null,2790.86,null,3349.0320000000002]
["35107","Лоток 600х100 L3000","Метр",null,3104.6,null,3725.5199999999995]
[null,null,null,null,null,null,0]
[null,null,null,null,null,null,{"$f":"E1095*1.2","v":0}]
["35260","Лоток перфорированный 50х50 L3000","Метр",null,382.12,null,458.54399999999998]
["35262","Лоток перфорированный 100х50 L3000","Метр",null,485.15,null,582.17999999999995]
["35263","Лоток перфорированный 150х50 L3000","Метр",null,571.07000000000005,null,685.28399999999999]
["35264","Лоток перфорированный 200х50 L3000","Метр",null,768.5,null,922.19999999999993]
["35265","Лоток перфорированный 300х50 L3000","Метр",null,919.73,null,1103.6759999999999]
["35266","Лоток перфорированный 400х50 L3000","Метр",null,1362.71,null,1635.252]
["35267","Лоток перфорированный 500х50 L3000","Метр",null,1704.66,null,2045.5920000000001]
["35268","Лоток перфорированный 600х50 L3000","Метр",null,2556.2399999999998,null,3067.4879999999998]
["35301","Лоток перфорированный 80х80 L3000","Метр",null,708.42,null,850.10399999999993]
["35302","Лоток перфорированный 100х80 L3000","Метр",null,793.69,null,952.428]
["35303","Лоток перфорированный 150х80 L3000","Метр",null,964.37,null,1157.2439999999999]
["35304","Лоток перфорированный 200х80 L3000","Метр",null,1095.3599999999999,null,1314.4319999999998]
["35305","Лоток перфорированный 300х80 L3000","Метр",null,1341.36,null,1609.6319999999998]
["35306","Лоток перфорированный 400х80 L3000","Метр",null,1805.87,null,2167.0439999999999]
["35307","Лоток перфорированный 500х80 L3000","Метр",null,2381.38,null,2857.6559999999999]
["35308","Лоток перфорированный 600х80 L3000","Метр",null,3037.91,null,3645.4919999999997]
["35341","Лоток перфорированный 100х100 L3000","Метр",null,910.8,null,1092.9599999999998]
["35342","Лоток перфорированный 150х100 L3000","Метр",null,1193.76,null,1432.5119999999999]
["35343","Лоток перфорированный 200х100 L3000","Метр",null,1360.27,null,1632.3239999999998]
["35344","Лоток перфорированный 300х100 L3000","Метр",null,2054.6799999999998,null,2465.6159999999995]
["35345","Лоток перфорированный 400х100 L3000","Метр",null,2688.44,null,3226.1280000000002]
["35346","Лоток перфорированный 500х100 L3000","Метр",null,2790.86,null,3349.0320000000002]
["35347","Лоток перфорированный 600х100 L3000","Метр",null,3104.6,null,3725.5199999999995]
[null,null,null,null,null,null,0]
["35250","Лоток перфорированный 50х50 L2000","Метр",null,382.12,null,458.54399999999998]
["35252","Лоток перфорированный 100х50 L2000","Метр",null,485.15,null,582.17999999999995]
["35253","Лоток перфорированный 150х50 L2000","Метр",null,571.07000000000005,null,685.28399999999999]
["35254","Лоток перфорированный 200х50 L2000","Метр",null,768.5,null,922.19999999999993]
["35255","Лоток перфорированный 300х50 L2000","Метр",null,919.73,null,1103.6759999999999]
["35256","Лоток перфорированный 400х50 L2000","Метр",null,1362.71,null,1635.252]
["35257","Лоток перфорированный 500х50 L2000","Метр",null,1704.66,null,2045.5920000000001]
["35258","Лоток перфор 600х50 L2000","Метр",null,2556.2399999999998,null,3067.4879999999998]
["35311","Лоток перфорированный 80х80 L2000","Метр",null,708.42,null,850.10399999999993]
["35312","Лоток перфорированный 100х80 L2000","Метр",null,793.69,null,952.428]
["35313","Лоток перфорированный 150х80 L2000","Метр",null,964.37,null,1157.2439999999999]
["35314","Лоток перфорированный 200х80 L2000","Метр",null,1095.3599999999999,null,1314.4319999999998]
["35315","Лоток перфорированный 300х80 L2000","Метр",null,1341.36,null,1609.6319999999998]
["35316","Лоток перфорированный 400х80 L 2000","Метр",null,1805.87,null,2167.0439999999999]
["35317","Лоток перфорированный 500х80, L2000","Метр",null,2381.38,null,2857.6559999999999]
["35318","Лоток перфорированный 600х80 L2000","Метр",null,3037.91,null,3645.4919999999997]
["35331","Лоток перфорированный 100х100 L2000","Метр",null,910.8,null,1092.9599999999998]
["35332","Лоток перфорированный 150х100 L2000","Метр",null,1193.76,null,1432.5119999999999]
["35333","Лоток перфорированный 200х100 L2000","Метр",null,1360.27,null,1632.3239999999998]
["35334","Лоток перфорированный 300х100 L2000","Метр",null,2054.6799999999998,null,2465.6159999999995]
["35335","Лоток перфорированный 400х100 L2000","Метр",null,2688.44,null,3226.1280000000002]
["35336","Лоток перфорированный 500х100 L2000","Метр",null,2790.86,null,3349.0320000000002]
[null,null,null,null,null,null,0]
[null,null,null,null,null,null,0]
[null,null,null,null,null,null,0]
["ASCM505K","Угол горизонтальный 45 градусов 50х50, 1,5 мм, алюминий, в комплекте с крепежными элементами и соединительными пластинами,необходимыми для монтажа","Упаковка",null,5499.41,null,6599.2919999999995]
["ASCM510K","Угол горизонтальный 45 градусов 50х100, 1,5 мм, алюминий, в комплекте с крепежными элементами и соединительными пластинами,необходимыми для монтажа","Упаковка",null,6041.91,null,7250.2919999999995]
["ASCM515K","Угол горизонтальный 45 градусов 50х150, 1,5 мм, алюминий, в комплекте с крепежными элементами и соединительными пластинами,необходимыми для монтажа","Упаковка",null,6565.48,null,7878.5759999999991]
["ASCM520K","Угол горизонтальный 45 градусов 50х200, 1,5 мм, алюминий, в комплекте с крепежными элементами и соединительными пластинами,необходимыми для монтажа","Упаковка",null,7042.05,null,8450.4599999999991]
["ASCM530K","Угол горизонтальный 45 градусов 50х300, 1,5 мм, алюминий, в комплекте с крепежными элементами и соединительными пластинами,необходимыми для монтажа","Упаковка",null,8714.6,null,10457.52]
["ASCM808K","Угол горизонтальный 45 градусов 80х80, 1,5 мм, алюминий, в комплекте с крепежными элементами и соединительными пластинами,необходимыми для монтажа","Упаковка",null,6035.63,null,7242.7560000000003]
["ASCM810K","Угол горизонтальный 45 градусов 80х100, 1,5 мм, алюминий, в комплекте с крепежными элементами и соединительными пластинами,необходимыми для монтажа","Упаковка",null,6502.48,null,7802.9759999999987]
["ASCM815K","Угол горизонтальный 45 градусов 80х150, 1,5 мм, алюминий, в комплекте с крепежными элементами и соединительными пластинами,необходимыми для монтажа","Упаковка",null,7022.99,null,8427.5879999999997]
["ASCM820K","Угол горизонтальный 45 градусов 80х200, 1,5 мм, алюминий, в комплекте с крепежными элементами и соединительными пластинами,необходимыми для монтажа","Упаковка",null,7543.52,null,9052.2240000000002]
["ASCM830K","Угол горизонтальный 45 градусов 80х300, 1,5 мм, алюминий, в комплекте с крепежными элементами и соединительными пластинами,необходимыми для монтажа","Упаковка",null,9245.48,null,11094.575999999999]
["ASCM1010K","Угол горизонтальный 45 градусов 100х100, 1,5 мм, алюминий, в комплекте с крепежными элементами и соединительными пластинами,необходимыми для монтажа","Упаковка",null,6944.61,null,8333.5319999999992]
["ASCM1015K","Угол горизонтальный 45 градусов 100х150, 1,5 мм, алюминий, в комплекте с крепежными элементами и соединительными пластинами,необходимыми для монтажа","Упаковка",null,7509.23,null,9011.0759999999991]
["ASCM1020K","Угол горизонтальный 45 градусов 100х200, 1,5 мм, алюминий, в комплекте с крепежными элементами и соединительными пластинами,необходимыми для монтажа","Упаковка",null,8020.31,null,9624.3719999999994]
["ASCM1030K","Угол горизонтальный 45 градусов 100х300, 1,5 мм, алюминий, в комплекте с крепежными элементами и соединительными пластинами,необходимыми для монтажа","Упаковка",null,9758.07,null,11709.683999999999]
["ASDM505K","Угол горизонтальный 90 градусов 50х50, 1,5 мм, алюминий, в комплекте с крепежными элементами и соединительными пластинами,необходимыми для монтажа","Упаковка",null,5477.31,null,{"$f":"E1159*1.2","v":6572.7719999999999}]
["ASDM510K","Угол горизонтальный 90 градусов 50х100, 1,5 мм, алюминий, в комплекте с крепежными элементами и соединительными пластинами,необходимыми для монтажа","Упаковка",null,6010.44,null,7212.5279999999993]
["ASDM515K","Угол горизонтальный 90 градусов 50х150, 1,5 мм, алюминий, в комплекте с крепежными элементами и соединительными пластинами,необходимыми для монтажа","Упаковка",null,6894.01,null,8272.8119999999999]
["ASDM520K","Угол горизонтальный 90 градусов 50х200, 1,5 мм, алюминий, в комплекте с крепежными элементами и соединительными пластинами,необходимыми для монтажа","Упаковка",null,7407.48,null,8888.9759999999987]
["ASDM530K","Угол горизонтальный 90 градусов 50х300, 1,5 мм, алюминий, в комплекте с крепежными элементами и соединительными пластинами,необходимыми для монтажа","Упаковка",null,9166.24,null,10999.487999999999]
["ASDM808K","Угол горизонтальный 90 градусов 80х80, 1,5 мм, алюминий, в комплекте с крепежными элементами и соединительными пластинами,необходимыми для монтажа","Упаковка",null,5978.76,null,7174.5119999999997]
["ASDM810K","Угол горизонтальный 90 градусов 80х100, 1,5 мм, алюминий, в комплекте с крепежными элементами и соединительными пластинами,необходимыми для монтажа","Упаковка",null,6470.93,null,7765.116]
["ASDM815K","Угол горизонтальный 90 градусов 80х150, 1,5 мм, алюминий, в комплекте с крепежными элементами и соединительными пластинами,необходимыми для монтажа","Упаковка",null,7182.25,null,8618.6999999999989]
["ASDM820K","Угол горизонтальный 90 градусов 80х200, 1,5 мм, алюминий, в комплекте с крепежными элементами и соединительными пластинами,необходимыми для монтажа","Упаковка",null,7893.56,null,9472.2720000000008]
["ASDM830K","Угол горизонтальный 90 градусов 80х300, 1,5 мм, алюминий, в комплекте с крепежными элементами и соединительными пластинами,необходимыми для монтажа","Упаковка",null,9705.5300000000007,null,11646.636]
["ASDM1010K","Угол горизонтальный 90 градусов 100х100, 1,5 мм, алюминий, в комплекте с крепежными элементами и соединительными пластинами,необходимыми для монтажа","Упаковка",null,6887.83,null,8265.3959999999988]
["ASDM1015K","Угол горизонтальный 90 градусов 100х150, 1,5 мм, алюминий, в комплекте с крепежными элементами и соединительными пластинами,необходимыми для монтажа","Упаковка",null,7830.3,null,9396.36]
["ASDM1020K","Угол горизонтальный 90 градусов 100х200, 1,5 мм, алюминий, в комплекте с крепежными элементами и соединительными пластинами,необходимыми для монтажа","Упаковка",null,8382.1200000000008,null,10058.544]
["ASDM1030K","Угол горизонтальный 90 градусов 100х300, 1,5 мм, алюминий, в комплекте с крепежными элементами и соединительными пластинами,необходимыми для монтажа","Упаковка",null,10226.58,null,12271.895999999999]
["ASFM505K","Ответвитель универсальный 50х50, 1,5 мм, алюминий, в комплекте с крепежными элементами и соединительными пластинами, необходимымидля монтажа","Упаковка",null,6178.89,null,7414.6679999999997]
["ASFM510K","Ответвитель универсальный 50х100, 1,5 мм, алюминий, в комплекте с крепежными элементами и соединительными пластинами, необходимымидля монтажа","Упаковка",null,6497.22,null,7796.6639999999998]
["ASFM515K","Ответвитель универсальный 50х150, 1,5 мм, алюминий, в комплекте с крепежными элементами и соединительными пластинами, необходимымидля монтажа","Упаковка",null,6911.1,null,8293.32]
["ASFM520K","Ответвитель универсальный 50х200, 1,5 мм, алюминий, в комплекте с крепежными элементами и соединительными пластинами, необходимымидля монтажа","Упаковка",null,7484.34,null,8981.2080000000005]
["ASFM530K","Ответвитель универсальный 50х300, 1,5 мм, алюминий, в комплекте с крепежными элементами и соединительными пластинами, необходимымидля монтажа","Упаковка",null,9074.68,null,10889.616]
["ASFM808K","Ответвитель универсальный 80х80, 1,5 мм, алюминий, в комплекте с крепежными элементами и соединительными пластинами, необходимымидля монтажа","Упаковка",null,6785.56,null,8142.6720000000005]
["ASFM810K","Ответвитель универсальный 80х100, 1,5 мм, алюминий, в комплекте с крепежными элементами и соединительными пластинами, необходимымидля монтажа","Упаковка",null,6979.26,null,8375.1119999999992]
["ASFM815K","Ответвитель универсальный 80х150, 1,5 мм, алюминий, в комплекте с крепежными элементами и соединительными пластинами, необходимымидля монтажа","Упаковка",null,7507.33,null,9008.7960000000003]
["ASFM820K","Ответвитель универсальный 80х200, 1,5 мм, алюминий, в комплекте с крепежными элементами и соединительными пластинами, необходимымидля монтажа","Упаковка",null,8035.35,null,9642.42]
["ASFM830K","Ответвитель универсальный 80х300, 1,5 мм, алюминий, в комплекте с крепежными элементами и соединительными пластинами, необходимымидля монтажа","Упаковка",null,9635.07,null,11562.083999999999]
["ASFM1010K","Ответвитель универсальный 100х100, 1,5 мм, алюминий, в комплекте с крепежными элементами и соединительными пластинами, необходимымидля монтажа","Упаковка",null,8494.9,null,10193.879999999999]
["ASFM1015K","Ответвитель универсальный 100х150, 1,5 мм, алюминий, в комплекте с крепежными элементами и соединительными пластинами, необходимымидля монтажа","Упаковка",null,9055.43,null,10866.516]
["ASFM1020K","Ответвитель универсальный 100х200, 1,5 мм, алюминий, в комплекте с крепежными элементами и соединительными пластинами, необходимымидля монтажа","Упаковка",null,9864.7900000000009,null,11837.748000000001]
["ASFM1030K","Ответвитель универсальный 100х300, 1,5 мм, алюминий, в комплекте с крепежными элементами и соединительными пластинами, необходимымидля монтажа","Упаковка",null,10780.75,null,12936.9]
["ASIM505K","Угол вертикальный внутренний 90 градусов 50х50, 1,5 мм, алюминий, в комплекте с крепежными элементами и соединительными пластинами,необходимыми для монтажа","Упаковка",null,6440.58,null,7728.6959999999999]
["ASIM510K","Угол вертикальный внутренний 90 градусов 50х100, 1,5 мм, алюминий, в комплекте с крепежными элементами и соединительнымипластинами, необходимыми для монтажа","Упаковка",null,6555.51,null,7866.6120000000001]
["ASIM515K","Угол вертикальный внутренний 90 градусов 50х150, 1,5 мм, алюминий, в комплекте с крепежными элементами и соединительнымипластинами, необходимыми для монтажа","Упаковка",null,7260.16,null,8712.1919999999991]
["ASIM520K","Угол вертикальный внутренний 90 градусов 50х200, 1,5 мм, алюминий, в комплекте с крепежными элементами и соединительнымипластинами, необходимыми для монтажа","Упаковка",null,7882.13,null,9458.5560000000005]
["ASIM530K","Угол вертикальный внутренний 90 градусов 50х300, 1,5 мм, алюминий, в комплекте с крепежными элементами и соединительнымипластинами, необходимыми для монтажа","Упаковка",null,9377.1200000000008,null,11252.544]
["ASIM808K","Угол вертикальный внутренний 90 градусов 80х80, 1,5 мм, алюминий, в комплекте с крепежными элементами и соединительными пластинами,необходимыми для монтажа","Упаковка",null,6933.99,null,8320.7879999999986]
["ASIM810K","Угол вертикальный внутренний 90 градусов 80х100, 1,5 мм, алюминий, в комплекте с крепежными элементами и соединительнымипластинами, необходимыми для монтажа","Упаковка",null,7010.69,null,8412.8279999999995]
["ASIM815K","Угол вертикальный внутренний 90 градусов 80х150, 1,5 мм, алюминий, в комплекте с крепежными элементами и соединительнымипластинами, необходимыми для монтажа","Упаковка",null,7693.17,null,9231.8040000000001]
["ASIM820K","Угол вертикальный внутренний 90 градусов 80х200, 1,5 мм, алюминий, в комплекте с крепежными элементами и соединительнымипластинами, необходимыми для монтажа","Упаковка",null,8375.65,null,10050.779999999999]
["ASIM830K","Угол вертикальный внутренний 90 градусов 80х300, 1,5 мм, алюминий, в комплекте с крепежными элементами и соединительнымипластинами, необходимыми для монтажа","Упаковка",null,9917.36,null,11900.832]
["ASIM1010K","Угол вертикальный внутренний 90 градусов 100х100, 1,5 мм, алюминий, в комплекте с крепежными элементами и соединительнымипластинами, необходимыми для монтажа","Упаковка",null,7447.51,null,8937.0120000000006]
["ASIM1015K","Угол вертикальный внутренний 90 градусов 100х150, 1,5 мм, алюминий, в комплекте с крепежными элементами и соединительнымипластинами, необходимыми для монтажа","Упаковка",null,8166.83,null,9800.1959999999999]
["ASIM1020K","Угол вертикальный внутренний 90 градусов 100х200, 1,5 мм, алюминий, в комплекте с крепежными элементами и соединительнымипластинами, необходимыми для монтажа","Упаковка",null,8836.0499999999993,null,10603.259999999998]
["ASIM1030K","Угол вертикальный внутренний 90 градусов 100х300, 1,5 мм, алюминий, в комплекте с крепежными элементами и соединительнымипластинами, необходимыми для монтажа","Упаковка",null,10429.950000000001,null,12515.94]
["ASKM505K","Угол вертикальный внутренний 45 градусов 50х50, 1,5 мм, алюминий, в комплекте с крепежными элементами и соединительными пластинами,необходимыми для монтажа","Упаковка",null,6125.14,null,7350.1680000000006]
["ASKM510K","Угол вертикальный внутренний 45 градусов 50х100, 1,5 мм, алюминий, в комплекте с крепежными элементами и соединительнымипластинами, необходимыми для монтажа","Упаковка",null,6248.82,null,7498.5839999999989]
["ASKM515K","Угол вертикальный внутренний 45 градусов 50х150, 1,5 мм, алюминий, в комплекте с крепежными элементами и соединительнымипластинами, необходимыми для монтажа","Упаковка",null,6717.66,null,8061.1919999999991]
["ASKM520K","Угол вертикальный внутренний 45 градусов 50х200, 1,5 мм, алюминий, в комплекте с крепежными элементами и соединительнымипластинами, необходимыми для монтажа","Упаковка",null,7428.19,null,8913.8279999999995]
["ASKM530K","Угол вертикальный внутренний 45 градусов 50х300, 1,5 мм, алюминий, в комплекте с крепежными элементами и соединительнымипластинами, необходимыми для монтажа","Упаковка",null,8584.02,null,10300.824000000001]
["ASKM808K","Угол вертикальный внутренний 45 градусов 80х80, 1,5 мм, алюминий, в комплекте с крепежными элементами и соединительными пластинами,необходимыми для монтажа","Упаковка",null,6591.51,null,7909.8119999999999]
["ASKM810K","Угол вертикальный внутренний 45 градусов 80х100, 1,5 мм, алюминий, в комплекте с крепежными элементами и соединительнымипластинами, необходимыми для монтажа","Упаковка",null,6795.39,null,8154.4679999999998]
["ASKM815K","Угол вертикальный внутренний 45 градусов 80х150, 1,5 мм, алюминий, в комплекте с крепежными элементами и соединительнымипластинами, необходимыми для монтажа","Упаковка",null,7358.46,null,8830.152]
["ASKM820K","Угол вертикальный внутренний 45 градусов 80х200, 1,5 мм, алюминий, в комплекте с крепежными элементами и соединительнымипластинами, необходимыми для монтажа","Упаковка",null,7921.56,null,9505.8719999999994]
["ASKM830K","Угол вертикальный внутренний 45 градусов 80х300, 1,5 мм, алюминий, в комплекте с крепежными элементами и соединительнымипластинами, необходимыми для монтажа","Упаковка",null,9124.2199999999993,null,10949.063999999998]
["ASKM1010K","Угол вертикальный внутренний 45 градусов 100х100, 1,5 мм, алюминий, в комплекте с крепежными элементами и соединительнымипластинами, необходимыми для монтажа","Упаковка",null,7317.74,null,8781.2879999999986]
["ASKM1015K","Угол вертикальный внутренний 45 градусов 100х150, 1,5 мм, алюминий, в комплекте с крепежными элементами и соединительнымипластинами, необходимыми для монтажа","Упаковка",null,7653.82,null,9184.5839999999989]
["ASKM1020K","Угол вертикальный внутренний 45 градусов 100х200, 1,5 мм, алюминий, в комплекте с крепежными элементами и соединительнымипластинами, необходимыми для монтажа","Упаковка",null,8396.68,null,10076.016]
["ASKM1030K","Угол вертикальный внутренний 45 градусов 100х300, 1,5 мм, алюминий, в комплекте с крепежными элементами и соединительнымипластинами, необходимыми для монтажа","Упаковка",null,9630.58,null,11556.696]
["ASOM505K","Угол вертикальный внешний 90 градусов 50х50, 1,5 мм, алюминий, в комплекте с крепежными элементами и соединительными пластинами,необходимыми для монтажа","Упаковка",null,6508.26,null,7809.9120000000003]
["ASOM510K","Угол вертикальный внешний 90 градусов 50х100, 1,5 мм, алюминий, в комплекте с крепежными элементами и соединительными пластинами,необходимыми для монтажа","Упаковка",null,6579.15,null,7894.98]
["ASOM515K","Угол вертикальный внешний 90 градусов 50х150, 1,5 мм, алюминий, в комплекте с крепежными элементами и соединительными пластинами,необходимыми для монтажа","Упаковка",null,7236.56,null,8683.8719999999994]
["ASOM520K","Угол вертикальный внешний 90 градусов 50х200, 1,5 мм, алюминий, в комплекте с крепежными элементами и соединительными пластинами,необходимыми для монтажа","Упаковка",null,7873.35,null,9448.02]
["ASOM530K","Угол вертикальный внешний 90 градусов 50х300, 1,5 мм, алюминий, в комплекте с крепежными элементами и соединительными пластинами,необходимыми для монтажа","Упаковка",null,9367.82,null,11241.384]
["ASOM808K","Угол вертикальный внешний 90 градусов 80х80, 1,5 мм, алюминий, в комплекте с крепежными элементами и соединительными пластинами,необходимыми для монтажа","Упаковка",null,7010.69,null,8412.8279999999995]
["ASOM810K","Угол вертикальный внешний 90 градусов 80х100, 1,5 мм, алюминий, в комплекте с крепежными элементами и соединительными пластинами,необходимыми для монтажа","Упаковка",null,7040.05,null,8448.06]
["ASOM815K","Угол вертикальный внешний 90 градусов 80х150, 1,5 мм, алюминий, в комплекте с крепежными элементами и соединительными пластинами,необходимыми для монтажа","Упаковка",null,7707.83,null,9249.3959999999988]
["ASOM820K","Угол вертикальный внешний 90 градусов 80х200, 1,5 мм, алюминий, в комплекте с крепежными элементами и соединительными пластинами,необходимыми для монтажа","Упаковка",null,8375.65,null,{"$f":"E1223*1.2","v":10050.779999999999}]
["ASOM830K","Угол вертикальный внешний 90 градусов 80х300, 1,5 мм, алюминий, в комплекте с крепежными элементами и соединительными пластинами,необходимыми для монтажа","Упаковка",null,9932.91,null,11919.492]
["ASOM1010K","Угол вертикальный внешний 90 градусов 100х100, 1,5 мм, алюминий, в комплекте с крепежными элементами и соединительными пластинами,необходимыми для монтажа","Упаковка",null,7500.44,null,9000.5279999999984]
["ASOM1015K","Угол вертикальный внешний 90 градусов 100х150, 1,5 мм, алюминий, в комплекте с крепежными элементами и соединительными пластинами,необходимыми для монтажа","Упаковка",null,8205.0300000000007,null,9846.0360000000001]
["ASOM1020K","Угол вертикальный внешний 90 градусов 100х200, 1,5 мм, алюминий, в комплекте с крепежными элементами и соединительными пластинами,необходимыми для монтажа","Упаковка",null,8874.33,null,10649.196]
["ASOM1030K","Угол вертикальный внешний 90 градусов 100х300, 1,5 мм, алюминий, в комплекте с крепежными элементами и соединительными пластинами,необходимыми для монтажа","Упаковка",null,10485.89,null,12583.067999999999]
["ASPM505K","Угол вертикальный внешний 45 градусов 50х50, 1,5 мм, алюминий, в комплекте с крепежными элементами и соединительными пластинами,необходимыми для монтажа","Упаковка",null,6296.04,null,7555.2479999999996]
["ASPM510K","Угол вертикальный внешний 45 градусов 50х100, 1,5 мм, алюминий, в комплекте с крепежными элементами и соединительными пластинами,необходимыми для монтажа","Упаковка",null,6334.38,null,7601.2559999999994]
["ASPM515K","Угол вертикальный внешний 45 градусов 50х150, 1,5 мм, алюминий, в комплекте с крепежными элементами и соединительными пластинами,необходимыми для монтажа","Упаковка",null,6717.66,null,8061.1919999999991]
["ASPM520K","Угол вертикальный внешний 45 градусов 50х200, 1,5 мм, алюминий, в комплекте с крепежными элементами и соединительными пластинами,необходимыми для монтажа","Упаковка",null,7413.42,null,8896.1039999999994]
["ASPM530K","Угол вертикальный внешний 45 градусов 50х300, 1,5 мм, алюминий, в комплекте с крепежными элементами и соединительными пластинами,необходимыми для монтажа","Упаковка",null,8584.02,null,10300.824000000001]
["ASPM808K","Угол вертикальный внешний 45 градусов 80х80, 1,5 мм, алюминий, в комплекте с крепежными элементами и соединительными пластинами,необходимыми для монтажа","Упаковка",null,6665.95,null,7999.1399999999994]
["ASPM810K","Угол вертикальный внешний 45 градусов 80х100, 1,5 мм, алюминий, в комплекте с крепежными элементами и соединительными пластинами,необходимыми для монтажа","Упаковка",null,6872.08,null,8246.4959999999992]
["ASPM815K","Угол вертикальный внешний 45 градусов 80х150, 1,5 мм, алюминий, в комплекте с крепежными элементами и соединительными пластинами,необходимыми для монтажа","Упаковка",null,7401.29,null,8881.5479999999989]
["ASPM820K","Угол вертикальный внешний 45 градусов 80х200, 1,5 мм, алюминий, в комплекте с крепежными элементами и соединительными пластинами,необходимыми для монтажа","Упаковка",null,7930.46,null,9516.5519999999997]
["ASPM830K","Угол вертикальный внешний 45 градусов 80х300, 1,5 мм, алюминий, в комплекте с крепежными элементами и соединительными пластинами,необходимыми для монтажа","Упаковка",null,9133.5499999999993,null,10960.259999999998]
["ASPM1010K","Угол вертикальный внешний 45 градусов 100х100, 1,5 мм, алюминий, в комплекте с крепежными элементами и соединительными пластинами,необходимыми для монтажа","Упаковка",null,7400.21,null,8880.2520000000004]
["ASPM1015K","Угол вертикальный внешний 45 градусов 100х150, 1,5 мм, алюминий, в комплекте с крепежными элементами и соединительными пластинами,необходимыми для монтажа","Упаковка",null,7668.55,null,9202.26]
["ASPM1020K","Угол вертикальный внешний 45 градусов 100х200, 1,5 мм, алюминий, в комплекте с крепежными элементами и соединительными пластинами,необходимыми для монтажа","Упаковка",null,8429.2000000000007,null,10115.040000000001]
["ASPM1030K","Угол вертикальный внешний 45 градусов 100х300, 1,5 мм, алюминий, в комплекте с крепежными элементами и соединительными пластинами,необходимыми для монтажа","Упаковка",null,9646.15,null,11575.38]
["ASTM505K","Ответвитель Т-образный 50х50, 1,5 мм, алюминий, в комплекте с крепежными элементами и соединительными пластинами, необходимыми длямонтажа","Упаковка",null,8996.6,null,10795.92]
["ASTM510K","Ответвитель Т-образный 50х100, 1,5 мм, алюминий, в комплекте с крепежными элементами и соединительными пластинами, необходимыми длямонтажа","Упаковка",null,9416.1299999999992,null,11299.355999999998]
["ASTM515K","Ответвитель Т-образный 50х150, 1,5 мм, алюминий, в комплекте с крепежными элементами и соединительными пластинами, необходимыми длямонтажа","Упаковка",null,9974.56,null,11969.472]
["ASTM520K","Ответвитель Т-образный 50х200, 1,5 мм, алюминий, в комплекте с крепежными элементами и соединительными пластинами, необходимыми длямонтажа","Упаковка",null,10728.4,null,12874.08]
["ASTM530K","Ответвитель Т-образный 50х300, 1,5 мм, алюминий, в комплекте с крепежными элементами и соединительными пластинами, необходимыми длямонтажа","Упаковка",null,12821.83,null,15386.196]
["ASTM808K","Ответвитель Т-образный 80х80, 1,5 мм, алюминий, в комплекте с крепежными элементами и соединительными пластинами, необходимыми длямонтажа","Упаковка",null,9867.11,null,11840.532000000001]
["ASTM810K","Ответвитель Т-образный 80х100, 1,5 мм, алюминий, в комплекте с крепежными элементами и соединительными пластинами, необходимыми длямонтажа","Упаковка",null,10122.709999999999,null,12147.251999999999]
["ASTM815K","Ответвитель Т-образный 80х150, 1,5 мм, алюминий, в комплекте с крепежными элементами и соединительными пластинами, необходимыми длямонтажа","Упаковка",null,10696.92,null,12836.304]
["ASTM820K","Ответвитель Т-образный 80х200, 1,5 мм, алюминий, в комплекте с крепежными элементами и соединительными пластинами, необходимыми длямонтажа","Упаковка",null,11526.61,null,13831.932000000001]
["ASTM830K","Ответвитель Т-образный 80х300, 1,5 мм, алюминий, в комплекте с крепежными элементами и соединительными пластинами, необходимыми длямонтажа","Упаковка",null,13632.3,null,16358.759999999998]
["ASTM1010K","Ответвитель Т-образный 100х100, 1,5 мм, алюминий, в комплекте с крепежными элементами и соединительными пластинами, необходимымидля монтажа","Упаковка",null,10811.19,null,12973.428]
["ASTM1015K","Ответвитель Т-образный 100х150, 1,5 мм, алюминий, в комплекте с крепежными элементами и соединительными пластинами, необходимымидля монтажа","Упаковка",null,11385.37,null,13662.444000000001]
["ASTM1020K","Ответвитель Т-образный 100х200, 1,5 мм, алюминий, в комплекте с крепежными элементами и соединительными пластинами, необходимымидля монтажа","Упаковка",null,12246.47,null,14695.763999999999]
["ASTM1030K","Ответвитель Т-образный 100х300, 1,5 мм, алюминий, в комплекте с крепежными элементами и соединительными пластинами, необходимымидля монтажа","Упаковка",null,14405.56,null,17286.671999999999]
["ASVM505K","Горизонтальный изменяемый угол СРО 0-45град. 50х50, 1,5 мм, алюминий, в комплекте с крепежными элементами необходимыми для монтажа","Упаковка",null,3817.8,null,4581.3599999999997]
["ASVM510K","Горизонтальный изменяемый угол СРО 0-45град. 50х100, 1,5 мм, алюминий, в комплекте с крепежными элементами необходимыми для монтажа","Упаковка",null,5010.55,null,6012.66]
["ASVM515K","Горизонтальный изменяемый угол СРО 0-45град. 50х150, 1,5 мм, алюминий, в комплекте с крепежными элементами необходимыми для монтажа","Упаковка",null,6163.59,null,7396.308]
["ASVM520K","Горизонтальный изменяемый угол СРО 0-45град. 50х200, 1,5 мм, алюминий, в комплекте с крепежными элементами необходимыми для монтажа","Упаковка",null,6983.22,null,8379.8639999999996]
["ASVM530K","Горизонтальный изменяемый угол СРО 0-45град. 50х300, 1,5 мм, алюминий, в комплекте с крепежными элементами необходимыми для монтажа","Упаковка",null,9119.31,null,10943.171999999999]
["ASVM808K","Горизонтальный изменяемый угол СРО 0-45град. 80х80, 1,5 мм, алюминий, в комплекте с крепежными элементами необходимыми для монтажа","Упаковка",null,5219.8500000000004,null,6263.8200000000006]
["ASVM810K","Горизонтальный изменяемый угол СРО 0-45град. 80x100, 1,5мм, алюминий, в комплекте с крепежными элементами необходимыми для монтажа","Упаковка",null,5542.25,null,6650.7]
["ASVM815K","Горизонтальный изменяемый угол СРО 0-45град. 80x150, 1,5мм, алюминий, в комплекте с крепежными элементами необходимыми для монтажа","Упаковка",null,6280.13,null,7536.1559999999999]
["ASVM820K","Горизонтальный изменяемый угол СРО 0-45град. 80x200, 1,5мм, алюминий, в комплекте с крепежными элементами необходимыми для монтажа","Упаковка",null,7090.29,null,8508.348]
["ASVM830K","Горизонтальный изменяемый угол СРО 0-45град. 80x300, 1,5мм, алюминий, в комплекте с крепежными элементами необходимыми для монтажа","Упаковка",null,9235.7900000000009,null,11082.948]
["ASVM1010K","Горизонтальный изменяемый угол СРО 0-45град. 100x100, 1,5мм, алюминий, в комплекте с крепежными элементами необходимыми для монтажа","Упаковка",null,5600.52,null,6720.6240000000007]
["ASVM1015K","Горизонтальный изменяемый угол СРО 0-45град. 100x150, 1,5мм, алюминий, в комплекте с крепежными элементами необходимыми для монтажа","Упаковка",null,6338.51,null,7606.2119999999995]
["ASVM1020K","Горизонтальный изменяемый угол СРО 0-45град. 100x200, 1,5мм, алюминий, в комплекте с крепежными элементами необходимыми для монтажа","Упаковка",null,7138.57,null,8566.2839999999997]
["ASVM1030K","Горизонтальный изменяемый угол СРО 0-45град. 100x300, 1,5мм, алюминий, в комплекте с крепежными элементами необходимыми для монтажа","Упаковка",null,9313.52,null,11176.224]
["ASXM505K","Ответвитель Х-образный 50х50, 1,5 мм, алюминий, в комплекте с крепежными элементами и соединительными пластинами, необходимыми длямонтажа","Упаковка",null,12525.52,null,15030.624]
["ASXM510K","Ответвитель Х-образный 50х100, 1,5 мм, алюминий, в комплекте с крепежными элементами и соединительными пластинами, необходимыми длямонтажа","Упаковка",null,12872.5,null,15447]
["ASXM515K","Ответвитель Х-образный 50х150, 1,5 мм, алюминий, в комплекте с крепежными элементами и соединительными пластинами, необходимыми длямонтажа","Упаковка",null,13601.16,null,16321.392]
["ASXM520K","Ответвитель Х-образный 50х200, 1,5 мм, алюминий, в комплекте с крепежными элементами и соединительными пластинами, необходимыми длямонтажа","Упаковка",null,13616.91,null,16340.291999999999]
["ASXM530K","Ответвитель Х-образный 50х300, 1,5 мм, алюминий, в комплекте с крепежными элементами и соединительными пластинами, необходимыми длямонтажа","Упаковка",null,15646.76,null,18776.112000000001]
["ASXM808K","Ответвитель Х-образный 80х80, 1,5 мм, алюминий, в комплекте с крепежными элементами и соединительными пластинами, необходимыми длямонтажа","Упаковка",null,12857.19,null,15428.628000000001]
["ASXM810K","Ответвитель Х-образный 80х100, 1,5 мм, алюминий, в комплекте с крепежными элементами и соединительными пластинами, необходимыми длямонтажа","Упаковка",null,13824.94,null,16589.928]
["ASXM815K","Ответвитель Х-образный 80х150, 1,5 мм, алюминий, в комплекте с крепежными элементами и соединительными пластинами, необходимыми длямонтажа","Упаковка",null,14219.27,null,17063.124]
["ASXM820K","Ответвитель Х-образный 80х200, 1,5 мм, алюминий, в комплекте с крепежными элементами и соединительными пластинами, необходимыми длямонтажа","Упаковка",null,14613.65,null,17536.379999999997]
["ASXM830K","Ответвитель Х-образный 80х300, 1,5 мм, алюминий, в комплекте с крепежными элементами и соединительными пластинами, необходимыми длямонтажа","Упаковка",null,16706.61,null,20047.932000000001]
["ASXM1010K","Ответвитель Х-образный 100х100, 1,5 мм, алюминий, в комплекте с крепежными элементами и соединительными пластинами, необходимымидля монтажа","Упаковка",null,14750.37,null,17700.444]
["ASXM1015K","Ответвитель Х-образный 100х150, 1,5 мм, алюминий, в комплекте с крепежными элементами и соединительными пластинами, необходимымидля монтажа","Упаковка",null,15513.77,null,18616.524000000001]
["ASXM1020K","Ответвитель Х-образный 100х200, 1,5 мм, алюминий, в комплекте с крепежными элементами и соединительными пластинами, необходимымидля монтажа","Упаковка",null,15570.5,null,18684.599999999999]
["ASXM1030K","Ответвитель Х-образный 100х300, 1,5 мм, алюминий, в комплекте с крепежными элементами и соединительными пластинами, необходимымидля монтажа","Упаковка",null,17713.13,null,21255.756000000001]
["ASCH505K","Угол горизонтальный 45 градусов 50х50, 2,0 мм, алюминий, в комплекте с крепежными элементами и соединительными пластинами,необходимыми для монтажа","Упаковка",null,6874.23,null,8249.0759999999991]
["ASCH510K","Угол горизонтальный 45 градусов 50х100, 2,0 мм, алюминий, в комплекте с крепежными элементами и соединительными пластинами,необходимыми для монтажа","Упаковка",null,7552.38,null,9062.8559999999998]
["ASCH515K","Угол горизонтальный 45 градусов 50х150, 2,0 мм, алюминий, в комплекте с крепежными элементами и соединительными пластинами,необходимыми для монтажа","Упаковка",null,8206.84,null,{"$f":"E1287*1.2","v":9848.2080000000005}]
["ASCH520K","Угол горизонтальный 45 градусов 50х200, 2,0 мм, алюминий, в комплекте с крепежными элементами и соединительными пластинами,необходимыми для монтажа","Упаковка",null,8802.5499999999993,null,10563.06]
["ASCH530K","Угол горизонтальный 45 градусов 50х300, 2,0 мм, алюминий, в комплекте с крепежными элементами и соединительными пластинами,необходимыми для монтажа","Упаковка",null,10893.26,null,13071.912]
["ASCH540K","Угол горизонтальный 45 градусов 50х400, 2,0 мм, алюминий, в комплекте с крепежными элементами и соединительными пластинами,необходимыми для монтажа","Упаковка",null,13669.07,null,16402.883999999998]
["ASCH550K","Угол горизонтальный 45 градусов 50х500, 2,0 мм, алюминий, в комплекте с крепежными элементами и соединительными пластинами,необходимыми для монтажа","Упаковка",null,15529.44,null,18635.328000000001]
["ASCH560K","Угол горизонтальный 45 градусов 50х600, 2,0 мм, алюминий, в комплекте с крепежными элементами и соединительными пластинами,необходимыми для монтажа","Упаковка",null,20489.88,null,24587.856]
["ASCH808K","Угол горизонтальный 45 градусов 80х80, 2,0 мм, алюминий, в комплекте с крепежными элементами и соединительными пластинами,необходимыми для монтажа","Упаковка",null,7544.52,null,9053.4240000000009]
["ASCH810K","Угол горизонтальный 45 градусов 80х100, 2,0 мм, алюминий, в комплекте с крепежными элементами и соединительными пластинами,необходимыми для монтажа","Упаковка",null,8128.09,null,9753.7080000000005]
["ASCH815K","Угол горизонтальный 45 градусов 80х150, 2,0 мм, алюминий, в комплекте с крепежными элементами и соединительными пластинами,необходимыми для монтажа","Упаковка",null,8778.74,null,10534.487999999999]
["ASCH820K","Угол горизонтальный 45 градусов 80х200, 2,0 мм, алюминий, в комплекте с крепежными элементами и соединительными пластинами,необходимыми для монтажа","Упаковка",null,9429.3799999999992,null,11315.255999999999]
["ASCH830K","Угол горизонтальный 45 градусов 80х300, 2,0 мм, алюминий, в комплекте с крепежными элементами и соединительными пластинами,необходимыми для монтажа","Упаковка",null,11556.83,null,13868.196]
["ASCH840K","Угол горизонтальный 45 градусов 80х400, 2,0 мм, алюминий, в комплекте с крепежными элементами и соединительными пластинами,необходимыми для монтажа","Упаковка",null,14432.81,null,17319.371999999999]
["ASCH850K","Угол горизонтальный 45 градусов 80х500, 2,0 мм, алюминий, в комплекте с крепежными элементами и соединительными пластинами,необходимыми для монтажа","Упаковка",null,16323.37,null,19588.044000000002]
["ASCH860K","Угол горизонтальный 45 градусов 80х600, 2,0 мм, алюминий, в комплекте с крепежными элементами и соединительными пластинами,необходимыми для монтажа","Упаковка",null,12502.05,null,15002.46]
["ASCH1010K","Угол горизонтальный 45 градусов 100х100, 2,0 мм, алюминий, в комплекте с крепежными элементами и соединительными пластинами,необходимыми для монтажа","Упаковка",null,8680.75,null,10416.9]
["ASCH1015K","Угол горизонтальный 45 градусов 100х150, 2,0 мм, алюминий, в комплекте с крепежными элементами и соединительными пластинами,необходимыми для монтажа","Упаковка",null,9386.52,null,11263.824000000001]
["ASCH1020K","Угол горизонтальный 45 градусов 100х200, 2,0 мм, алюминий, в комплекте с крепежными элементами и соединительными пластинами,необходимыми для монтажа","Упаковка",null,10025.39,null,12030.467999999999]
["ASCH1030K","Угол горизонтальный 45 градусов 100х300, 2,0 мм, алюминий, в комплекте с крепежными элементами и соединительными пластинами,необходимыми для монтажа","Упаковка",null,12197.59,null,14637.108]
["ASCH1040K","Угол горизонтальный 45 градусов 100х400, 2,0 мм, алюминий, в комплекте с крепежными элементами и соединительными пластинами,необходимыми для монтажа","Упаковка",null,15161.07,null,18193.284]
["ASCH1050K","Угол горизонтальный 45 градусов 100х500, 2,0 мм, алюминий, в комплекте с крепежными элементами и соединительными пластинами,необходимыми для монтажа","Упаковка",null,17107.259999999998,null,20528.711999999996]
["ASCH1060K","Угол горизонтальный 45 градусов 100х600, 2,0 мм, алюминий, в комплекте с крепежными элементами и соединительными пластинами,необходимыми для монтажа","Упаковка",null,24868.46,null,29842.151999999998]
["ASDH505K","Угол горизонтальный 90 градусов 50х50, 2,0 мм, алюминий, в комплекте с крепежными элементами и соединительными пластинами,необходимыми для монтажа","Упаковка",null,6846.65,null,8215.98]
["ASDH510K","Угол горизонтальный 90 градусов 50х100, 2,0 мм, алюминий, в комплекте с крепежными элементами и соединительными пластинами,необходимыми для монтажа","Упаковка",null,7513.05,null,9015.66]
["ASDH515K","Угол горизонтальный 90 градусов 50х150, 2,0 мм, алюминий, в комплекте с крепежными элементами и соединительными пластинами,необходимыми для монтажа","Упаковка",null,8617.5,null,10341]
["ASDH520K","Угол горизонтальный 90 градусов 50х200, 2,0 мм, алюминий, в комплекте с крепежными элементами и соединительными пластинами,необходимыми для монтажа","Упаковка",null,9259.35,null,11111.22]
["ASDH530K","Угол горизонтальный 90 градусов 50х300, 2,0 мм, алюминий, в комплекте с крепежными элементами и соединительными пластинами,необходимыми для монтажа","Упаковка",null,11457.79,null,13749.348]
["ASDH540K","Угол горизонтальный 90 градусов 50х400, 2,0 мм, алюминий, в комплекте с крепежными элементами и соединительными пластинами,необходимыми для монтажа","Упаковка",null,14785.26,null,17742.311999999998]
["ASDH550K","Угол горизонтальный 90 градусов 50х500, 2,0 мм, алюминий, в комплекте с крепежными элементами и соединительными пластинами,необходимыми для монтажа","Упаковка",null,18355.37,null,22026.444]
["ASDH560K","Угол горизонтальный 90 градусов 50х600, 2,0 мм, алюминий, в комплекте с крепежными элементами и соединительными пластинами,необходимыми для монтажа","Упаковка",null,24253.26,null,29103.911999999997]
["ASDH808K","Угол горизонтальный 90 градусов 80х80, 2,0 мм, алюминий, в комплекте с крепежными элементами и соединительными пластинами,необходимыми для монтажа","Упаковка",null,7473.45,null,8968.14]
["ASDH810K","Угол горизонтальный 90 градусов 80х100, 2,0 мм, алюминий, в комплекте с крепежными элементами и соединительными пластинами,необходимыми для монтажа","Упаковка",null,8088.64,null,9706.3680000000004]
["ASDH815K","Угол горизонтальный 90 градусов 80х150, 2,0 мм, алюминий, в комплекте с крепежными элементами и соединительными пластинами,необходимыми для монтажа","Упаковка",null,8977.82,null,10773.384]
["ASDH820K","Угол горизонтальный 90 градусов 80х200, 2,0 мм, алюминий, в комплекте с крепежными элементами и соединительными пластинами,необходимыми для монтажа","Упаковка",null,9866.9599999999991,null,11840.351999999999]
["ASDH830K","Угол горизонтальный 90 градусов 80х300, 2,0 мм, алюминий, в комплекте с крепежными элементами и соединительными пластинами,необходимыми для монтажа","Упаковка",null,12131.89,null,14558.267999999998]
["ASDH840K","Угол горизонтальный 90 градусов 80х400, 2,0 мм, алюминий, в комплекте с крепежными элементами и соединительными пластинами,необходимыми для монтажа","Упаковка",null,15550.01,null,18660.011999999999]
["ASDH850K","Угол горизонтальный 90 градусов 80х500, 2,0 мм, алюминий, в комплекте с крепежными элементами и соединительными пластинами,необходимыми для монтажа","Упаковка",null,19225.78,null,23070.935999999998]
["ASDH860K","Угол горизонтальный 90 градусов 80х600, 2,0 мм, алюминий, в комплекте с крепежными элементами и соединительными пластинами,необходимыми для монтажа","Упаковка",null,25622.560000000001,null,30747.072]
["ASDH1010K","Угол горизонтальный 90 градусов 100х100, 2,0 мм, алюминий, в комплекте с крепежными элементами и соединительными пластинами,необходимыми для монтажа","Упаковка",null,8609.7800000000007,null,10331.736000000001]
["ASDH1015K","Угол горизонтальный 90 градусов 100х150, 2,0 мм, алюминий, в комплекте с крепежными элементами и соединительными пластинами,необходимыми для монтажа","Упаковка",null,9787.8799999999992,null,11745.455999999998]
["ASDH1020K","Угол горизонтальный 90 градусов 100х200, 2,0 мм, алюминий, в комплекте с крепежными элементами и соединительными пластинами,необходимыми для монтажа","Упаковка",null,10477.64,null,12573.168]
["ASDH1030K","Угол горизонтальный 90 градусов 100х300, 2,0 мм, алюминий, в комплекте с крепежными элементами и соединительными пластинами,необходимыми для монтажа","Упаковка",null,12783.2,null,15339.84]
["ASDH1040K","Угол горизонтальный 90 градусов 100х400, 2,0 мм, алюминий, в комплекте с крепежными элементами и соединительными пластинами,необходимыми для монтажа","Упаковка",null,16316.06,null,19579.271999999997]
["ASDH1050K","Угол горизонтальный 90 градусов 100х500, 2,0 мм, алюминий, в комплекте с крепежными элементами и соединительными пластинами,необходимыми для монтажа","Упаковка",null,20084.189999999999,null,24101.027999999998]
["ASDH1060K","Угол горизонтальный 90 градусов 100х600, 2,0 мм, алюминий, в комплекте с крепежными элементами и соединительными пластинами,необходимыми для монтажа","Упаковка",null,26918.15,null,32301.78]
["ASFH505K","Ответвитель универсальный 50х50, 2,0 мм, алюминий, в комплекте с крепежными элементами и соединительными пластинами, необходимымидля монтажа","Упаковка",null,7723.62,null,9268.3439999999991]
["ASFH510K","Ответвитель универсальный 50х100, 2,0 мм, алюминий, в комплекте с крепежными элементами и соединительными пластинами, необходимымидля монтажа","Упаковка",null,8121.52,null,9745.8240000000005]
["ASFH515K","Ответвитель универсальный 50х150, 2,0 мм, алюминий, в комплекте с крепежными элементами и соединительными пластинами, необходимымидля монтажа","Упаковка",null,8638.8799999999992,null,10366.655999999999]
["ASFH520K","Ответвитель универсальный 50х200, 2,0 мм, алюминий, в комплекте с крепежными элементами и соединительными пластинами, необходимымидля монтажа","Упаковка",null,9355.4,null,11226.48]
["ASFH530K","Ответвитель универсальный 50х300, 2,0 мм, алюминий, в комплекте с крепежными элементами и соединительными пластинами, необходимымидля монтажа","Упаковка",null,11343.36,null,13612.032000000001]
["ASFH540K","Ответвитель универсальный 50х400, 2,0 мм, алюминий, в комплекте с крепежными элементами и соединительными пластинами, необходимымидля монтажа","Упаковка",null,12228.51,null,14674.212]
["ASFH550K","Ответвитель универсальный 50х500, 2,0 мм, алюминий, в комплекте с крепежными элементами и соединительными пластинами, необходимымидля монтажа","Упаковка",null,12991.35,null,15589.619999999999]
["ASFH560K","Ответвитель универсальный 50х600, 2,0 мм, алюминий, в комплекте с крепежными элементами и соединительными пластинами, необходимымидля монтажа","Упаковка",null,18336.82,null,22004.183999999997]
["ASFH808K","Ответвитель универсальный 80х80, 2,0 мм, алюминий, в комплекте с крепежными элементами и соединительными пластинами, необходимымидля монтажа","Упаковка",null,8481.92,null,10178.304]
["ASFH810K","Ответвитель универсальный 80х100, 2,0 мм, алюминий, в комплекте с крепежными элементами и соединительными пластинами, необходимымидля монтажа","Упаковка",null,8724.07,null,10468.884]
["ASFH815K","Ответвитель универсальный 80х150, 2,0 мм, алюминий, в комплекте с крепежными элементами и соединительными пластинами, необходимымидля монтажа","Упаковка",null,9384.14,null,11260.967999999999]
["ASFH820K","Ответвитель универсальный 80х200, 2,0 мм, алюминий, в комплекте с крепежными элементами и соединительными пластинами, необходимымидля монтажа","Упаковка",null,10044.18,null,12053.016]
["ASFH830K","Ответвитель универсальный 80х300, 2,0 мм, алюминий, в комплекте с крепежными элементами и соединительными пластинами, необходимымидля монтажа","Упаковка",null,12043.83,null,14452.596]
["ASFH840K","Ответвитель универсальный 80х400, 2,0 мм, алюминий, в комплекте с крепежными элементами и соединительными пластинами, необходимымидля монтажа","Упаковка",null,12701.56,null,15241.871999999999]
["ASFH850K","Ответвитель универсальный 80х500, 2,0 мм, алюминий, в комплекте с крепежными элементами и соединительными пластинами, необходимымидля монтажа","Упаковка",null,13737.58,null,16485.095999999998]
["ASFH860K","Ответвитель универсальный 80х600, 2,0 мм, алюминий, в комплекте с крепежными элементами и соединительными пластинами, необходимымидля монтажа","Упаковка",null,14149.7,null,16979.64]
["ASFH1010K","Ответвитель универсальный 100х100, 2,0 мм, алюминий, в комплекте с крепежными элементами и соединительными пластинами, необходимымидля монтажа","Упаковка",null,10618.65,null,12742.38]
["ASFH1015K","Ответвитель универсальный 100х150, 2,0 мм, алюминий, в комплекте с крепежными элементами и соединительными пластинами, необходимымидля монтажа","Упаковка",null,11319.29,null,13583.148000000001]
["ASFH1020K","Ответвитель универсальный 100х200, 2,0 мм, алюминий, в комплекте с крепежными элементами и соединительными пластинами, необходимымидля монтажа","Упаковка",null,12330.99,null,14797.187999999998]
["ASFH1030K","Ответвитель универсальный 100х300, 2,0 мм, алюминий, в комплекте с крепежными элементами и соединительными пластинами, необходимымидля монтажа","Упаковка",null,13475.91,null,16171.091999999999]
["ASFH1040K","Ответвитель универсальный 100х400, 2,0 мм, алюминий, в комплекте с крепежными элементами и соединительными пластинами, необходимымидля монтажа","Упаковка",null,14620.86,null,{"$f":"E1351*1.2","v":17545.031999999999}]
["ASFH1050K","Ответвитель универсальный 100х500, 2,0 мм, алюминий, в комплекте с крепежными элементами и соединительными пластинами, необходимымидля монтажа","Упаковка",null,15502.46,null,18602.951999999997]
["ASFH1060K","Ответвитель универсальный 100х600, 2,0 мм, алюминий, в комплекте с крепежными элементами и соединительными пластинами, необходимымидля монтажа","Упаковка",null,22025.16,null,26430.191999999999]
["ASIH505K","Угол вертикальный внутренний 90 градусов 50х50, 2,0 мм, алюминий, в комплекте с крепежными элементами и соединительными пластинами,необходимыми для монтажа","Упаковка",null,8050.72,null,9660.8639999999996]
["ASIH510K","Угол вертикальный внутренний 90 градусов 50х100, 2,0 мм, алюминий, в комплекте с крепежными элементами и соединительнымипластинами, необходимыми для монтажа","Упаковка",null,8194.4,null,9833.2799999999988]
["ASIH515K","Угол вертикальный внутренний 90 градусов 50х150, 2,0 мм, алюминий, в комплекте с крепежными элементами и соединительнымипластинами, необходимыми для монтажа","Упаковка",null,9075.2000000000007,null,10890.24]
["ASIH520K","Угол вертикальный внутренний 90 градусов 50х200, 2,0 мм, алюминий, в комплекте с крепежными элементами и соединительнымипластинами, необходимыми для монтажа","Упаковка",null,9852.68,null,11823.216]
["ASIH530K","Угол вертикальный внутренний 90 градусов 50х300, 2,0 мм, алюминий, в комплекте с крепежными элементами и соединительнымипластинами, необходимыми для монтажа","Упаковка",null,11721.4,null,14065.679999999998]
["ASIH540K","Угол вертикальный внутренний 90 градусов 50х400, 2,0 мм, алюминий, в комплекте с крепежными элементами и соединительнымипластинами, необходимыми для монтажа","Упаковка",null,12872.38,null,15446.855999999998]
["ASIH550K","Угол вертикальный внутренний 90 градусов 50х500, 2,0 мм, алюминий, в комплекте с крепежными элементами и соединительнымипластинами, необходимыми для монтажа","Упаковка",null,14458.69,null,17350.428]
["ASIH560K","Угол вертикальный внутренний 90 градусов 50х600, 2,0 мм, алюминий, в комплекте с крепежными элементами и соединительнымипластинами, необходимыми для монтажа","Упаковка",null,16660.07,null,19992.083999999999]
["ASIH808K","Угол вертикальный внутренний 90 градусов 80х80, 2,0 мм, алюминий, в комплекте с крепежными элементами и соединительными пластинами,необходимыми для монтажа","Упаковка",null,8667.51,null,10401.012000000001]
["ASIH810K","Угол вертикальный внутренний 90 градусов 80х100, 2,0 мм, алюминий, в комплекте с крепежными элементами и соединительнымипластинами, необходимыми для монтажа","Упаковка",null,8763.39,null,10516.067999999999]
["ASIH815K","Угол вертикальный внутренний 90 градусов 80х150, 2,0 мм, алюминий, в комплекте с крепежными элементами и соединительнымипластинами, необходимыми для монтажа","Упаковка",null,9616.48,null,11539.776]
["ASIH820K","Угол вертикальный внутренний 90 градусов 80х200, 2,0 мм, алюминий, в комплекте с крепежными элементами и соединительнымипластинами, необходимыми для монтажа","Упаковка",null,10469.56,null,12563.472]
["ASIH830K","Угол вертикальный внутренний 90 градусов 80х300, 2,0 мм, алюминий, в комплекте с крепежными элементами и соединительнымипластинами, необходимыми для монтажа","Упаковка",null,12396.71,null,14876.051999999998]
["ASIH840K","Угол вертикальный внутренний 90 градусов 80х400, 2,0 мм, алюминий, в комплекте с крепежными элементами и соединительнымипластинами, необходимыми для монтажа","Упаковка",null,13426.83,null,16112.196]
["ASIH850K","Угол вертикальный внутренний 90 градусов 80х500, 2,0 мм, алюминий, в комплекте с крепежными элементами и соединительнымипластинами, необходимыми для монтажа","Упаковка",null,15013.45,null,18016.14]
["ASIH860K","Угол вертикальный внутренний 90 градусов 80х600, 2,0 мм, алюминий, в комплекте с крепежными элементами и соединительнымипластинами, необходимыми для монтажа","Упаковка",null,15463.84,null,18556.608]
["ASIH1010K","Угол вертикальный внутренний 90 градусов 100х100, 2,0 мм, алюминий, в комплекте с крепежными элементами и соединительнымипластинами, необходимыми для монтажа","Упаковка",null,9309.41,null,11171.291999999999]
["ASIH1015K","Угол вертикальный внутренний 90 градусов 100х150, 2,0 мм, алюминий, в комплекте с крепежными элементами и соединительнымипластинами, необходимыми для монтажа","Упаковка",null,10208.52,null,12250.224]
["ASIH1020K","Угол вертикальный внутренний 90 градусов 100х200, 2,0 мм, алюминий, в комплекте с крепежными элементами и соединительнымипластинами, необходимыми для монтажа","Упаковка",null,11045.08,null,13254.096]
["ASIH1030K","Угол вертикальный внутренний 90 градусов 100х300, 2,0 мм, алюминий, в комплекте с крепежными элементами и соединительнымипластинами, необходимыми для монтажа","Упаковка",null,13037.45,null,15644.94]
["ASIH1040K","Угол вертикальный внутренний 90 градусов 100х400, 2,0 мм, алюминий, в комплекте с крепежными элементами и соединительнымипластинами, необходимыми для монтажа","Упаковка",null,13966.59,null,16759.907999999999]
["ASIH1050K","Угол вертикальный внутренний 90 градусов 100х500, 2,0 мм, алюминий, в комплекте с крепежными элементами и соединительнымипластинами, необходимыми для монтажа","Упаковка",null,15533.66,null,18640.392]
["ASIH1060K","Угол вертикальный внутренний 90 градусов 100х600, 2,0 мм, алюминий, в комплекте с крепежными элементами и соединительнымипластинами, необходимыми для монтажа","Упаковка",null,19493.23,null,23391.876]
["ASKH505K","Угол вертикальный внутренний 45 градусов 50х50, 2,0 мм, алюминий, в комплекте с крепежными элементами и соединительными пластинами,необходимыми для монтажа","Упаковка",null,7656.43,null,9187.7160000000003]
["ASKH510K","Угол вертикальный внутренний 45 градусов 50х100, 2,0 мм, алюминий, в комплекте с крепежными элементами и соединительнымипластинами, необходимыми для монтажа","Упаковка",null,7811.01,null,9373.2119999999995]
["ASKH515K","Угол вертикальный внутренний 45 градусов 50х150, 2,0 мм, алюминий, в комплекте с крепежными элементами и соединительнымипластинами, необходимыми для монтажа","Упаковка",null,8397.06,null,10076.472]
["ASKH520K","Угол вертикальный внутренний 45 градусов 50х200, 2,0 мм, алюминий, в комплекте с крепежными элементами и соединительнымипластинами, необходимыми для монтажа","Упаковка",null,9285.23,null,11142.276]
["ASKH530K","Угол вертикальный внутренний 45 градусов 50х300, 2,0 мм, алюминий, в комплекте с крепежными элементами и соединительнымипластинами, необходимыми для монтажа","Упаковка",null,10730.01,null,12876.012000000001]
["ASKH540K","Угол вертикальный внутренний 45 градусов 50х400, 2,0 мм, алюминий, в комплекте с крепежными элементами и соединительнымипластинами, необходимыми для монтажа","Упаковка",null,11853.59,null,14224.307999999999]
["ASKH550K","Угол вертикальный внутренний 45 градусов 50х500, 2,0 мм, алюминий, в комплекте с крепежными элементами и соединительнымипластинами, необходимыми для монтажа","Упаковка",null,13447.84,null,16137.407999999999]
["ASKH560K","Угол вертикальный внутренний 45 градусов 50х600, 2,0 мм, алюминий, в комплекте с крепежными элементами и соединительнымипластинами, необходимыми для монтажа","Упаковка",null,15286.68,null,18344.016]
["ASKH808K","Угол вертикальный внутренний 45 градусов 80х80, 2,0 мм, алюминий, в комплекте с крепежными элементами и соединительными пластинами,необходимыми для монтажа","Упаковка",null,8239.3799999999992,null,9887.2559999999994]
["ASKH810K","Угол вертикальный внутренний 45 градусов 80х100, 2,0 мм, алюминий, в комплекте с крепежными элементами и соединительнымипластинами, необходимыми для монтажа","Упаковка",null,8494.24,null,10193.088]
["ASKH815K","Угол вертикальный внутренний 45 градусов 80х150, 2,0 мм, алюминий, в комплекте с крепежными элементами и соединительнымипластинами, необходимыми для монтажа","Упаковка",null,9198.09,null,11037.708000000001]
["ASKH820K","Угол вертикальный внутренний 45 градусов 80х200, 2,0 мм, алюминий, в комплекте с крепежными элементами и соединительнымипластинами, необходимыми для монтажа","Упаковка",null,9901.9500000000007,null,11882.34]
["ASKH830K","Угол вертикальный внутренний 45 градусов 80х300, 2,0 мм, алюминий, в комплекте с крепежными элементами и соединительнымипластинами, необходимыми для монтажа","Упаковка",null,11405.28,null,13686.336000000001]
["ASKH840K","Угол вертикальный внутренний 45 градусов 80х400, 2,0 мм, алюминий, в комплекте с крепежными элементами и соединительнымипластинами, необходимыми для монтажа","Упаковка",null,12447.36,null,14936.832]
["ASKH850K","Угол вертикальный внутренний 45 градусов 80х500, 2,0 мм, алюминий, в комплекте с крепежными элементами и соединительнымипластинами, необходимыми для монтажа","Упаковка",null,14045.26,null,16854.311999999998]
["ASKH860K","Угол вертикальный внутренний 45 градусов 80х600, 2,0 мм, алюминий, в комплекте с крепежными элементами и соединительнымипластинами, необходимыми для монтажа","Упаковка",null,14466.62,null,17359.944]
["ASKH1010K","Угол вертикальный внутренний 45 градусов 100х100, 2,0 мм, алюминий, в комплекте с крепежными элементами и соединительнымипластинами, необходимыми для монтажа","Упаковка",null,9147.18,null,10976.616]
["ASKH1015K","Угол вертикальный внутренний 45 градусов 100х150, 2,0 мм, алюминий, в комплекте с крепежными элементами и соединительнымипластинами, необходимыми для монтажа","Упаковка",null,9567.26,null,11480.712]
["ASKH1020K","Угол вертикальный внутренний 45 градусов 100х200, 2,0 мм, алюминий, в комплекте с крепежными элементами и соединительнымипластинами, необходимыми для монтажа","Упаковка",null,10495.87,null,12595.044]
["ASKH1030K","Угол вертикальный внутренний 45 градусов 100х300, 2,0 мм, алюминий, в комплекте с крепежными элементами и соединительнымипластинами, необходимыми для монтажа","Упаковка",null,12038.23,null,14445.875999999998]
["ASKH1040K","Угол вертикальный внутренний 45 градусов 100х400, 2,0 мм, алюминий, в комплекте с крепежными элементами и соединительнымипластинами, необходимыми для монтажа","Упаковка",null,13006.4,null,15607.679999999998]
["ASKH1050K","Угол вертикальный внутренний 45 градусов 100х500, 2,0 мм, алюминий, в комплекте с крепежными элементами и соединительнымипластинами, необходимыми для монтажа","Упаковка",null,14604.27,null,17525.124]
["ASKH1060K","Угол вертикальный внутренний 45 градусов 100х600, 2,0 мм, алюминий, в комплекте с крепежными элементами и соединительнымипластинами, необходимыми для монтажа","Упаковка",null,17892.78,null,21471.335999999999]
["ASOH505K","Угол вертикальный внешний 90 градусов 50х50, 2,0 мм, алюминий, в комплекте с крепежными элементами и соединительными пластинами,необходимыми для монтажа","Упаковка",null,8135.34,null,9762.4079999999994]
["ASOH510K","Угол вертикальный внешний 90 градусов 50х100, 2,0 мм, алюминий, в комплекте с крепежными элементами и соединительными пластинами,необходимыми для монтажа","Упаковка",null,8223.94,null,9868.728000000001]
["ASOH515K","Угол вертикальный внешний 90 градусов 50х150, 2,0 мм, алюминий, в комплекте с крепежными элементами и соединительными пластинами,необходимыми для монтажа","Упаковка",null,9045.69,null,10854.828]
["ASOH520K","Угол вертикальный внешний 90 градусов 50х200, 2,0 мм, алюминий, в комплекте с крепежными элементами и соединительными пластинами,необходимыми для монтажа","Упаковка",null,9841.68,null,11810.016]
["ASOH530K","Угол вертикальный внешний 90 градусов 50х300, 2,0 мм, алюминий, в комплекте с крепежными элементами и соединительными пластинами,необходимыми для монтажа","Упаковка",null,11709.76,null,14051.712]
["ASOH540K","Угол вертикальный внешний 90 градусов 50х400, 2,0 мм, алюминий, в комплекте с крепежными элементами и соединительными пластинами,необходимыми для монтажа","Упаковка",null,12853.06,null,15423.671999999999]
["ASOH550K","Угол вертикальный внешний 90 градусов 50х500, 2,0 мм, алюминий, в комплекте с крепежными элементами и соединительными пластинами,необходимыми для монтажа","Упаковка",null,14439.18,null,17327.016]
["ASOH560K","Угол вертикальный внешний 90 градусов 50х600, 2,0 мм, алюминий, в комплекте с крепежными элементами и соединительными пластинами,необходимыми для монтажа","Упаковка",null,16025.45,null,19230.54]
["ASOH808K","Угол вертикальный внешний 90 градусов 80х80, 2,0 мм, алюминий, в комплекте с крепежными элементами и соединительными пластинами,необходимыми для монтажа","Упаковка",null,8763.39,null,10516.067999999999]
["ASOH810K","Угол вертикальный внешний 90 градусов 80х100, 2,0 мм, алюминий, в комплекте с крепежными элементами и соединительными пластинами,необходимыми для монтажа","Упаковка",null,8800.07,null,10560.083999999999]
["ASOH815K","Угол вертикальный внешний 90 градусов 80х150, 2,0 мм, алюминий, в комплекте с крепежными элементами и соединительными пластинами,необходимыми для монтажа","Упаковка",null,9634.7900000000009,null,11561.748000000001]
["ASOH820K","Угол вертикальный внешний 90 градусов 80х200, 2,0 мм, алюминий, в комплекте с крепежными элементами и соединительными пластинами,необходимыми для монтажа","Упаковка",null,10469.56,null,12563.472]
["ASOH830K","Угол вертикальный внешний 90 градусов 80х300, 2,0 мм, алюминий, в комплекте с крепежными элементами и соединительными пластинами,необходимыми для монтажа","Упаковка",null,12416.13,null,14899.355999999998]
["ASOH840K","Угол вертикальный внешний 90 градусов 80х400, 2,0 мм, алюминий, в комплекте с крепежными элементами и соединительными пластинами,необходимыми для монтажа","Упаковка",null,13477.6,null,16173.119999999999]
["ASOH850K","Угол вертикальный внешний 90 градусов 80х500, 2,0 мм, алюминий, в комплекте с крепежными элементами и соединительными пластинами,необходимыми для монтажа","Упаковка",null,15056.18,null,18067.416000000001]
["ASOH860K","Угол вертикальный внешний 90 градусов 80х600, 2,0 мм, алюминий, в комплекте с крепежными элементами и соединительными пластинами,необходимыми для монтажа","Упаковка",null,15507.86,null,{"$f":"E1415*1.2","v":18609.432000000001}]
["ASOH1010K","Угол вертикальный внешний 90 градусов 100х100, 2,0 мм, алюминий, в комплекте с крепежными элементами и соединительными пластинами,необходимыми для монтажа","Упаковка",null,9375.5400000000009,null,11250.648000000001]
["ASOH1015K","Угол вертикальный внешний 90 градусов 100х150, 2,0 мм, алюминий, в комплекте с крепежными элементами и соединительными пластинами,необходимыми для монтажа","Упаковка",null,10256.280000000001,null,12307.536]
["ASOH1020K","Угол вертикальный внешний 90 градусов 100х200, 2,0 мм, алюминий, в комплекте с крепежными элементами и соединительными пластинами,необходимыми для монтажа","Упаковка",null,11092.91,null,13311.492]
["ASOH1030K","Угол вертикальный внешний 90 градусов 100х300, 2,0 мм, алюминий, в комплекте с крепежными элементами и соединительными пластинами,необходимыми для монтажа","Упаковка",null,13107.36,null,15728.832]
["ASOH1040K","Угол вертикальный внешний 90 градусов 100х400, 2,0 мм, алюминий, в комплекте с крепежными элементами и соединительными пластинами,необходимыми для монтажа","Упаковка",null,14067.92,null,16881.504000000001]
["ASOH1050K","Угол вертикальный внешний 90 градусов 100х500, 2,0 мм, алюминий, в комплекте с крепежными элементами и соединительными пластинами,необходимыми для монтажа","Упаковка",null,15658,null,18789.599999999999]
["ASOH1060K","Угол вертикальный внешний 90 градусов 100х600, 2,0 мм, алюминий, в комплекте с крепежными элементами и соединительными пластинами,необходимыми для монтажа","Упаковка",null,18375.419999999998,null,22050.503999999997]
["ASPH505K","Угол вертикальный внешний 45 градусов 50х50, 2,0 мм, алюминий, в комплекте с крепежными элементами и соединительными пластинами,необходимыми для монтажа","Упаковка",null,7870.07,null,9444.0839999999989]
["ASPH510K","Угол вертикальный внешний 45 градусов 50х100, 2,0 мм, алюминий, в комплекте с крепежными элементами и соединительными пластинами,необходимыми для монтажа","Упаковка",null,7917.95,null,9501.5399999999991]
["ASPH515K","Угол вертикальный внешний 45 градусов 50х150, 2,0 мм, алюминий, в комплекте с крепежными элементами и соединительными пластинами,необходимыми для монтажа","Упаковка",null,8397.06,null,10076.472]
["ASPH520K","Угол вертикальный внешний 45 градусов 50х200, 2,0 мм, алюминий, в комплекте с крепежными элементами и соединительными пластинами,необходимыми для монтажа","Упаковка",null,9266.75,null,11120.1]
["ASPH530K","Угол вертикальный внешний 45 градусов 50х300, 2,0 мм, алюминий, в комплекте с крепежными элементами и соединительными пластинами,необходимыми для монтажа","Упаковка",null,10730.01,null,12876.012000000001]
["ASPH540K","Угол вертикальный внешний 45 градусов 50х400, 2,0 мм, алюминий, в комплекте с крепежными элементами и соединительными пластинами,необходимыми для монтажа","Упаковка",null,11830.33,null,14196.395999999999]
["ASPH550K","Угол вертикальный внешний 45 градусов 50х500, 2,0 мм, алюминий, в комплекте с крепежными элементами и соединительными пластинами,необходимыми для монтажа","Упаковка",null,13440.09,null,16128.108]
["ASPH560K","Угол вертикальный внешний 45 градусов 50х600, 2,0 мм, алюминий, в комплекте с крепежными элементами и соединительными пластинами,необходимыми для монтажа","Упаковка",null,15049.77,null,18059.723999999998]
["ASPH808K","Угол вертикальный внешний 45 градусов 80х80, 2,0 мм, алюминий, в комплекте с крепежными элементами и соединительными пластинами,необходимыми для монтажа","Упаковка",null,8332.44,null,9998.9279999999999]
["ASPH810K","Угол вертикальный внешний 45 градусов 80х100, 2,0 мм, алюминий, в комплекте с крепежными элементами и соединительными пластинами,необходимыми для монтажа","Упаковка",null,8590.1299999999992,null,10308.155999999999]
["ASPH815K","Угол вертикальный внешний 45 градусов 80х150, 2,0 мм, алюминий, в комплекте с крепежными элементами и соединительными пластинами,необходимыми для монтажа","Упаковка",null,9251.61,null,11101.932000000001]
["ASPH820K","Угол вертикальный внешний 45 градусов 80х200, 2,0 мм, алюминий, в комплекте с крепежными элементами и соединительными пластинами,необходимыми для монтажа","Упаковка",null,9913.08,null,11895.696]
["ASPH830K","Угол вертикальный внешний 45 градусов 80х300, 2,0 мм, алюминий, в комплекте с крепежными элементами и соединительными пластинами,необходимыми для монтажа","Упаковка",null,11416.9,null,13700.279999999999]
["ASPH840K","Угол вертикальный внешний 45 градусов 80х400, 2,0 мм, алюминий, в комплекте с крепежными элементами и соединительными пластинами,необходимыми для монтажа","Упаковка",null,12466.72,null,14960.063999999998]
["ASPH850K","Угол вертикальный внешний 45 градусов 80х500, 2,0 мм, алюминий, в комплекте с крепежными элементами и соединительными пластинами,необходимыми для монтажа","Упаковка",null,13516.45,null,16219.74]
["ASPH860K","Угол вертикальный внешний 45 градусов 80х600, 2,0 мм, алюминий, в комплекте с крепежными элементами и соединительными пластинами,необходимыми для монтажа","Упаковка",null,13921.95,null,16706.34]
["ASPH1010K","Угол вертикальный внешний 45 градусов 100х100, 2,0 мм, алюминий, в комплекте с крепежными элементами и соединительными пластинами,необходимыми для монтажа","Упаковка",null,9250.26,null,11100.312]
["ASPH1015K","Угол вертикальный внешний 45 градусов 100х150, 2,0 мм, алюминий, в комплекте с крепежными элементами и соединительными пластинами,необходимыми для монтажа","Упаковка",null,9585.67,null,11502.804]
["ASPH1020K","Угол вертикальный внешний 45 градусов 100х200, 2,0 мм, алюминий, в комплекте с крепежными элементами и соединительными пластинами,необходимыми для монтажа","Упаковка",null,10536.49,null,12643.787999999999]
["ASPH1030K","Угол вертикальный внешний 45 градусов 100х300, 2,0 мм, алюминий, в комплекте с крепежными элементами и соединительными пластинами,необходимыми для монтажа","Упаковка",null,12057.69,null,14469.228000000001]
["ASPH1040K","Угол вертикальный внешний 45 градусов 100х400, 2,0 мм, алюминий, в комплекте с крепежными элементами и соединительными пластинами,необходимыми для монтажа","Упаковка",null,13080.25,null,15696.3]
["ASPH1050K","Угол вертикальный внешний 45 градусов 100х500, 2,0 мм, алюминий, в комплекте с крепежными элементами и соединительными пластинами,необходимыми для монтажа","Упаковка",null,14332.12,null,17198.544000000002]
["ASPH1060K","Угол вертикальный внешний 45 градусов 100х600, 2,0 мм, алюминий, в комплекте с крепежными элементами и соединительными пластинами,необходимыми для монтажа","Упаковка",null,15584.13,null,18700.955999999998]
["ASTH505K","Ответвитель Т-образный 50х50, 2,0 мм, алюминий, в комплекте с крепежными элементами и соединительными пластинами, необходимыми длямонтажа","Упаковка",null,11245.76,null,13494.912]
["ASTH510K","Ответвитель Т-образный 50х100, 2,0 мм, алюминий, в комплекте с крепежными элементами и соединительными пластинами, необходимыми длямонтажа","Упаковка",null,11770.14,null,14124.168]
["ASTH515K","Ответвитель Т-образный 50х150, 2,0 мм, алюминий, в комплекте с крепежными элементами и соединительными пластинами, необходимыми длямонтажа","Упаковка",null,12468.2,null,14961.84]
["ASTH520K","Ответвитель Т-образный 50х200, 2,0 мм, алюминий, в комплекте с крепежными элементами и соединительными пластинами, необходимыми длямонтажа","Упаковка",null,13410.5,null,16092.599999999999]
["ASTH530K","Ответвитель Т-образный 50х300, 2,0 мм, алюминий, в комплекте с крепежными элементами и соединительными пластинами, необходимыми длямонтажа","Упаковка",null,16027.31,null,19232.771999999997]
["ASTH540K","Ответвитель Т-образный 50х400, 2,0 мм, алюминий, в комплекте с крепежными элементами и соединительными пластинами, необходимыми длямонтажа","Упаковка",null,19599.95,null,23519.94]
["ASTH550K","Ответвитель Т-образный 50х500, 2,0 мм, алюминий, в комплекте с крепежными элементами и соединительными пластинами, необходимыми длямонтажа","Упаковка",null,20818.16,null,24981.791999999998]
["ASTH560K","Ответвитель Т-образный 50х600, 2,0 мм, алюминий, в комплекте с крепежными элементами и соединительными пластинами, необходимыми длямонтажа","Упаковка",null,25215.34,null,30258.407999999999]
["ASTH808K","Ответвитель Т-образный 80х80, 2,0 мм, алюминий, в комплекте с крепежными элементами и соединительными пластинами, необходимыми длямонтажа","Упаковка",null,12333.89,null,14800.667999999998]
["ASTH810K","Ответвитель Т-образный 80х100, 2,0 мм, алюминий, в комплекте с крепежными элементами и соединительными пластинами, необходимыми длямонтажа","Упаковка",null,12653.41,null,15184.091999999999]
["ASTH815K","Ответвитель Т-образный 80х150, 2,0 мм, алюминий, в комплекте с крепежными элементами и соединительными пластинами, необходимыми длямонтажа","Упаковка",null,13371.15,null,16045.38]
["ASTH820K","Ответвитель Т-образный 80х200, 2,0 мм, алюминий, в комплекте с крепежными элементами и соединительными пластинами, необходимыми длямонтажа","Упаковка",null,14408.24,null,17289.887999999999]
["ASTH830K","Ответвитель Т-образный 80х300, 2,0 мм, алюминий, в комплекте с крепежными элементами и соединительными пластинами, необходимыми длямонтажа","Упаковка",null,17040.39,null,20448.467999999997]
["ASTH840K","Ответвитель Т-образный 80х400, 2,0 мм, алюминий, в комплекте с крепежными элементами и соединительными пластинами, необходимыми длямонтажа","Упаковка",null,20724.009999999998,null,24868.811999999998]
["ASTH850K","Ответвитель Т-образный 80х500, 2,0 мм, алюминий, в комплекте с крепежными элементами и соединительными пластинами, необходимыми длямонтажа","Упаковка",null,21957.03,null,26348.435999999998]
["ASTH860K","Ответвитель Т-образный 80х600, 2,0 мм, алюминий, в комплекте с крепежными элементами и соединительными пластинами, необходимыми длямонтажа","Упаковка",null,26348.46,null,31618.151999999998]
["ASTH1010K","Ответвитель Т-образный 100х100, 2,0 мм, алюминий, в комплекте с крепежными элементами и соединительными пластинами, необходимымидля монтажа","Упаковка",null,13513.98,null,16216.775999999998]
["ASTH1015K","Ответвитель Т-образный 100х150, 2,0 мм, алюминий, в комплекте с крепежными элементами и соединительными пластинами, необходимымидля монтажа","Упаковка",null,14231.7,null,17078.04]
["ASTH1020K","Ответвитель Т-образный 100х200, 2,0 мм, алюминий, в комплекте с крепежными элементами и соединительными пластинами, необходимымидля монтажа","Упаковка",null,15308.09,null,18369.707999999999]
["ASTH1030K","Ответвитель Т-образный 100х300, 2,0 мм, алюминий, в комплекте с крепежными элементами и соединительными пластинами, необходимымидля монтажа","Упаковка",null,18006.93,null,21608.315999999999]
["ASTH1040K","Ответвитель Т-образный 100х400, 2,0 мм, алюминий, в комплекте с крепежными элементами и соединительными пластинами, необходимымидля монтажа","Упаковка",null,21798.799999999999,null,26158.559999999998]
["ASTH1050K","Ответвитель Т-образный 100х500, 2,0 мм, алюминий, в комплекте с крепежными элементами и соединительными пластинами, необходимымидля монтажа","Упаковка",null,23071.759999999998,null,27686.111999999997]
["ASTH1060K","Ответвитель Т-образный 100х600, 2,0 мм, алюминий, в комплекте с крепежными элементами и соединительными пластинами, необходимымидля монтажа","Упаковка",null,33728.32,null,40473.983999999997]
["ASVH505K","Горизонтальный изменяемый угол СРО 0-45град. 50х50, 2,0 мм, алюминий, в комплекте с крепежными элементами необходимыми для монтажа","Упаковка",null,4772.2700000000004,null,5726.7240000000002]
["ASVH510K","Горизонтальный изменяемый угол СРО 0-45град. 50х100, 2,0 мм, алюминий, в комплекте с крепежными элементами необходимыми для монтажа","Упаковка",null,6263.18,null,7515.8159999999998]
["ASVH515K","Горизонтальный изменяемый угол СРО 0-45град. 50х150, 2,0 мм, алюминий, в комплекте с крепежными элементами необходимыми для монтажа","Упаковка",null,7704.49,null,9245.387999999999]
["ASVH520K","Горизонтальный изменяемый угол СРО 0-45град. 50х200, 2,0 мм, алюминий, в комплекте с крепежными элементами необходимыми для монтажа","Упаковка",null,8729.0300000000007,null,10474.836000000001]
["ASVH530K","Горизонтальный изменяемый угол СРО 0-45град. 50х300, 2,0 мм, алюминий, в комплекте с крепежными элементами необходимыми для монтажа","Упаковка",null,11399.12,null,13678.944000000001]
["ASVH540K","Горизонтальный изменяемый угол СРО 0-45град. 50х400, 2,0 мм, алюминий, в комплекте с крепежными элементами необходимыми для монтажа","Упаковка",null,12951.36,null,15541.632]
["ASVH550K","Горизонтальный изменяемый угол СРО 0-45град. 50х500, 2,0 мм, алюминий, в комплекте с крепежными элементами необходимыми для монтажа","Упаковка",null,15387.32,null,18464.784]
["ASVH560K","Горизонтальный изменяемый угол СРО 0-45град. 50х600, 2,0 мм, алюминий, в комплекте с крепежными элементами необходимыми для монтажа","Упаковка",null,18472.490000000002,null,22166.988000000001]
["ASVH808K","Горизонтальный изменяемый угол СРО 0-45град. 80х80, 2,0 мм, алюминий, в комплекте с крепежными элементами необходимыми для монтажа","Упаковка",null,6524.84,null,7829.808]
["ASVH810K","Горизонтальный изменяемый угол СРО 0-45град. 80x100, 2,0мм, алюминий, в комплекте с крепежными элементами необходимыми для монтажа","Упаковка",null,6927.81,null,8313.3719999999994]
["ASVH815K","Горизонтальный изменяемый угол СРО 0-45град. 80x150, 2,0мм, алюминий, в комплекте с крепежными элементами необходимыми для монтажа","Упаковка",null,7850.15,null,{"$f":"E1479*1.2","v":9420.1799999999985}]
["ASVH820K","Горизонтальный изменяемый угол СРО 0-45град. 80x200, 2,0мм, алюминий, в комплекте с крепежными элементами необходимыми для монтажа","Упаковка",null,8862.85,null,10635.42]
["ASVH830K","Горизонтальный изменяемый угол СРО 0-45град. 80x300, 2,0мм, алюминий, в комплекте с крепежными элементами необходимыми для монтажа","Упаковка",null,11544.73,null,13853.675999999999]
["ASVH840K","Горизонтальный изменяемый угол СРО 0-45град. 80x400, 2,0мм, алюминий, в комплекте с крепежными элементами необходимыми для монтажа","Упаковка",null,13527.72,null,16233.263999999999]
["ASVH860K","Горизонтальный изменяемый угол СРО 0-45град. 80x600, 2,0мм, алюминий, в комплекте с крепежными элементами необходимыми для монтажа","Упаковка",null,19999.169999999998,null,23999.003999999997]
["ASVH880K","Горизонтальный изменяемый угол СРО 0-45град. 80x500, 2,0мм, алюминий, в комплекте с крепежными элементами необходимыми для монтажа","Упаковка",null,15760.62,null,18912.743999999999]
["ASVH1010K","Горизонтальный изменяемый угол СРО 0-45град. 100x100, 2,0мм, алюминий, в комплекте с крепежными элементами необходимыми для монтажа","Упаковка",null,7000.64,null,8400.768]
["ASVH1015K","Горизонтальный изменяемый угол СРО 0-45град. 100x150, 2,0мм, алюминий, в комплекте с крепежными элементами необходимыми для монтажа","Упаковка",null,7923.13,null,9507.7559999999994]
["ASVH1020K","Горизонтальный изменяемый угол СРО 0-45град. 100x200, 2,0мм, алюминий, в комплекте с крепежными элементами необходимыми для монтажа","Упаковка",null,8923.23,null,10707.875999999998]
["ASVH1030K","Горизонтальный изменяемый угол СРО 0-45град. 100x300, 2,0мм, алюминий, в комплекте с крепежными элементами необходимыми для монтажа","Упаковка",null,11641.89,null,13970.267999999998]
["ASVH1040K","Горизонтальный изменяемый угол СРО 0-45град. 100x400, 2,0мм, алюминий, в комплекте с крепежными элементами необходимыми для монтажа","Упаковка",null,14391.84,null,17270.207999999999]
["ASVH1050K","Горизонтальный изменяемый угол СРО 0-45град. 100x500, 2,0мм, алюминий, в комплекте с крепежными элементами необходимыми для монтажа","Упаковка",null,17767.23,null,21320.675999999999]
["ASVH1060K","Горизонтальный изменяемый угол СРО 0-45град. 100x600, 2,0мм, алюминий, в комплекте с крепежными элементами необходимыми для монтажа","Упаковка",null,21598.91,null,25918.691999999999]
["ASXH505K","Ответвитель Х-образный 50х50, 2,0 мм, алюминий, в комплекте с крепежными элементами и соединительными пластинами, необходимыми длямонтажа","Упаковка",null,15656.9,null,18788.28]
["ASXH510K","Ответвитель Х-образный 50х100, 2,0 мм, алюминий, в комплекте с крепежными элементами и соединительными пластинами, необходимыми длямонтажа","Упаковка",null,16090.6,null,19308.72]
["ASXH515K","Ответвитель Х-образный 50х150, 2,0 мм, алюминий, в комплекте с крепежными элементами и соединительными пластинами, необходимыми длямонтажа","Упаковка",null,17001.47,null,20401.763999999999]
["ASXH520K","Ответвитель Х-образный 50х200, 2,0 мм, алюминий, в комплекте с крепежными элементами и соединительными пластинами, необходимыми длямонтажа","Упаковка",null,17021.14,null,20425.367999999999]
["ASXH530K","Ответвитель Х-образный 50х300, 2,0 мм, алюминий, в комплекте с крепежными элементами и соединительными пластинами, необходимыми длямонтажа","Упаковка",null,19558.439999999999,null,23470.127999999997]
["ASXH540K","Ответвитель Х-образный 50х400, 2,0 мм, алюминий, в комплекте с крепежными элементами и соединительными пластинами, необходимыми длямонтажа","Упаковка",null,22925.67,null,27510.803999999996]
["ASXH550K","Ответвитель Х-образный 50х500, 2,0 мм, алюминий, в комплекте с крепежными элементами и соединительными пластинами, необходимыми длямонтажа","Упаковка",null,24725.439999999999,null,29670.527999999998]
["ASXH560K","Ответвитель Х-образный 50х600, 2,0 мм, алюминий, в комплекте с крепежными элементами и соединительными пластинами, необходимыми длямонтажа","Упаковка",null,33676.050000000003,null,40411.26]
["ASXH808K","Ответвитель Х-образный 80х80, 2,0 мм, алюминий, в комплекте с крепежными элементами и соединительными пластинами, необходимыми длямонтажа","Упаковка",null,16071.49,null,19285.788]
["ASXH810K","Ответвитель Х-образный 80х100, 2,0 мм, алюминий, в комплекте с крепежными элементами и соединительными пластинами, необходимыми длямонтажа","Упаковка",null,17281.169999999998,null,20737.403999999999]
["ASXH815K","Ответвитель Х-образный 80х150, 2,0 мм, алюминий, в комплекте с крепежными элементами и соединительными пластинами, необходимыми длямонтажа","Упаковка",null,17774.11,null,21328.932000000001]
["ASXH820K","Ответвитель Х-образный 80х200, 2,0 мм, алюминий, в комплекте с крепежными элементами и соединительными пластинами, необходимыми длямонтажа","Упаковка",null,18267.07,null,21920.484]
["ASXH830K","Ответвитель Х-образный 80х300, 2,0 мм, алюминий, в комплекте с крепежными элементами и соединительными пластинами, необходимыми длямонтажа","Упаковка",null,20883.27,null,25059.923999999999]
["ASXH840K","Ответвитель Х-образный 80х400, 2,0 мм, алюминий, в комплекте с крепежными элементами и соединительными пластинами, необходимыми длямонтажа","Упаковка",null,24345.32,null,29214.383999999998]
["ASXH850K","Ответвитель Х-образный 80х500, 2,0 мм, алюминий, в комплекте с крепежными элементами и соединительными пластинами, необходимыми длямонтажа","Упаковка",null,25746.63,null,30895.955999999998]
["ASXH860K","Ответвитель Х-образный 80х600, 2,0 мм, алюминий, в комплекте с крепежными элементами и соединительными пластинами, необходимыми длямонтажа","Упаковка",null,26519.07,null,31822.883999999998]
["ASXH1010K","Ответвитель Х-образный 100х100, 2,0 мм, алюминий, в комплекте с крепежными элементами и соединительными пластинами, необходимымидля монтажа","Упаковка",null,18437.95,null,22125.54]
["ASXH1015K","Ответвитель Х-образный 100х150, 2,0 мм, алюминий, в комплекте с крепежными элементами и соединительными пластинами, необходимымидля монтажа","Упаковка",null,19392.2,null,23270.639999999999]
["ASXH1020K","Ответвитель Х-образный 100х200, 2,0 мм, алюминий, в комплекте с крепежными элементами и соединительными пластинами, необходимымидля монтажа","Упаковка",null,19463.12,null,23355.743999999999]
["ASXH1030K","Ответвитель Х-образный 100х300, 2,0 мм, алюминий, в комплекте с крепежными элементами и соединительными пластинами, необходимымидля монтажа","Упаковка",null,22141.41,null,26569.691999999999]
["ASXH1040K","Ответвитель Х-образный 100х400, 2,0 мм, алюминий, в комплекте с крепежными элементами и соединительными пластинами, необходимымидля монтажа","Упаковка",null,25705.08,null,30846.096000000001]
["ASXH1050K","Ответвитель Х-образный 100х500, 2,0 мм, алюминий, в комплекте с крепежными элементами и соединительными пластинами, необходимымидля монтажа","Упаковка",null,27635.35,null,33162.42]
["ASXH1060K","Ответвитель Х-образный 100х600, 2,0 мм, алюминий, в комплекте с крепежными элементами и соединительными пластинами, необходимымидля монтажа","Упаковка",null,38056.5,null,45667.799999999996]
[null,null,null,null,null,null,0]
["ASPH10","Перегородка листового лотка H100, алюминий","Метр",null,1745.73,null,2094.8759999999997]
["ASPH50","Перегородка листового лотка H50, алюминий","Метр",null,1220.21,null,1464.252]
["ASPH80","Перегородка листового лотка H80, алюминий","Метр",null,1498.36,null,1798.0319999999999]
["ASKH100","Держатель крышки лотка H50-80-100, алюминий","Штука",null,134.22,null,161.06399999999999]
["AVH10K","Соединитель вертикальный шарнирный, Н100, алюминий, комплект","Упаковка",null,2549.37,null,3059.2439999999997]
["AVH50K","Соединитель вертикальный шарнирный, Н50, алюминий, комплект","Упаковка",null,2186.71,null,2624.0520000000001]
["AVH80K","Соединитель вертикальный шарнирный, Н80, алюминий, комплект","Упаковка",null,2419.8200000000002,null,2903.7840000000001]
["AGB05","Накладка для лотка или крышки, ширина 50 мм, алюминий","Штука",null,444.49,null,533.38800000000003]
["AGB08","Накладка для лотка или крышки, ширина 80 мм, алюминий","Штука",null,493.86,null,592.63199999999995]
["AGB10","Накладка для лотка или крышки, ширина 100 мм, алюминий","Штука",null,548.73,null,658.476]
["AGB15","Накладка для лотка или крышки, ширина 150 мм, алюминий","Штука",null,609.70000000000005,null,731.64]
["AGB20","Накладка для лотка или крышки, ширина 200 мм, алюминий","Штука",null,677.45,null,812.94]
["AGB30","Накладка для лотка или крышки, ширина 300 мм, алюминий","Штука",null,752.71,null,903.25200000000007]
["AGB40","Накладка для лотка или крышки, ширина 400 мм, алюминий","Штука",null,792.33,null,950.79600000000005]
["AGB50","Накладка для лотка или крышки, ширина 500 мм, алюминий","Штука",null,986.66,null,1183.992]
["AGB60","Накладка для лотка или крышки, ширина 600 мм, алюминий","Штука",null,1181,null,1417.2]
["AGH10","Соединитель горизонтальный, Н100, алюминий","Штука",null,379.82,null,455.78399999999999]
["AGH50","Соединитель горизонтальный, Н50, алюминий","Штука",null,307.67,null,369.20400000000001]
["AGH80","Соединитель горизонтальный, Н80, алюминий","Штука",null,322.95999999999998,null,387.55199999999996]
["AHH50","Соединитель горизонтальный (угловой), Н50, алюминий","Штука",null,1147.79,null,1377.348]
["AHH80","Соединитель горизонтальный (угловой), Н80, алюминий","Штука",null,1350.36,null,1620.4319999999998]
["AHH10","Соединитель горизонтальный (угловой), Н100, алюминий","Штука",null,1544.54,null,1853.4479999999999]
["AR5025","Редукция, переходник, 50х25, алюминий","Штука",null,902.58,null,1083.096]
["AR505","Редукция, переходник, 50х50, алюминий","Штука",null,1002.87,null,1203.444]
["AR5075","Редукция, переходник, 50х75, алюминий","Штука",null,1114.29,null,1337.1479999999999]
["AR510","Редукция, переходник, 50х100, алюминий","Штука",null,1392.87,null,1671.4439999999997]
["AR515","Редукция, переходник, 50х150, алюминий","Штука",null,1461.06,null,1753.2719999999999]
["AR520","Редукция, переходник, 50х200, алюминий","Штука",null,1529.28,null,{"$f":"E1543*1.2","v":1835.136}]
["AR530","Редукция, переходник, 50х300, алюминий","Штука",null,1689.35,null,2027.2199999999998]
["AR540","Редукция, переходник, 50х400, алюминий","Штука",null,1861.26,null,2233.5119999999997]
["AR802","Редукция, переходник, 80х20, алюминий","Штука",null,933.71,null,1120.452]
["AR8025","Редукция, переходник, 80х25, алюминий","Штука",null,1037.44,null,1244.9280000000001]
["AR8035","Редукция, переходник, 80х35, алюминий","Штука",null,1152.73,null,1383.2760000000001]
["AR805","Редукция, переходник, 80х50, алюминий","Штука",null,1280.82,null,1536.9839999999999]
["AR806","Редукция, переходник, 80х60, алюминий","Штука",null,1423.14,null,1707.768]
["AR807","Редукция, переходник, 80х70, алюминий","Штука",null,1581.26,null,1897.5119999999999]
["AR8075","Редукция, переходник, 80х75, алюминий","Штука",null,1756.94,null,2108.328]
["AR810","Редукция, переходник, 80х100, алюминий","Штука",null,1849.41,null,2219.2919999999999]
["AR811","Редукция, переходник, 80х110, алюминий","Штука",null,1886.4,null,2263.6799999999998]
["AR812","Редукция, переходник, 80х120, алюминий","Штука",null,1905.27,null,2286.3240000000001]
["AR815","Редукция, переходник, 80х150, алюминий","Штука",null,1929.39,null,2315.268]
["AR820","Редукция, переходник, 80х200, алюминий","Штука",null,2009.36,null,2411.232]
["AR822","Редукция, переходник, 80х220, алюминий","Штука",null,2107.19,null,2528.6280000000002]
["AR830","Редукция, переходник, 80х300, алюминий","Штука",null,2205.02,null,2646.0239999999999]
["AR840","Редукция, переходник, 80х400, алюминий","Штука",null,2400.48,null,2880.576]
["AR10025","Редукция, переходник, 100х25, алюминий","Штука",null,1297.77,null,1557.3239999999998]
["AR1005","Редукция, переходник, 100х50, алюминий","Штука",null,1441.97,null,1730.364]
["AR10075","Редукция, переходник, 100х75, алюминий","Штука",null,1602.17,null,1922.604]
["AR1010","Редукция, переходник, 100х100, алюминий","Штука",null,1884.94,null,2261.9279999999999]
["AR1015","Редукция, переходник, 100х150, алюминий","Штука",null,2056.87,null,2468.2439999999997]
["AR1020","Редукция, переходник, 100х200, алюминий","Штука",null,2228.75,null,2674.5]
["AR1030","Редукция, переходник, 100х300, алюминий","Штука",null,2412.41,null,2894.8919999999998]
["AR1040","Редукция, переходник, 100х400, алюминий","Штука",null,2560.6799999999998,null,3072.8159999999998]
["ASC40500K","Перегородка SEP для углов CS 45, H50, алюминий, в комплекте с крепежными элементами и необходимыми для монтажа","Упаковка",null,460.06,null,552.072]
["ASC40800K","Перегородка SEP для углов CS 45, H80, алюминий, в комплекте с крепежными элементами и необходимыми для монтажа","Упаковка",null,525.65,null,630.78]
["ASC41000K","Перегородка SEP для углов CS 45, H100, алюминий, в комплекте с крепежными элементами и необходимыми для монтажа","Упаковка",null,587.45000000000005,null,704.94]
["ASC90500K","Перегородка SEP для угла CS90 H50, алюминий, в комплекте с крепежными элементами,необходимыми для монтажа","Упаковка",null,592.12,null,710.54399999999998]
["ASC90800K","Перегородка SEP для угла CS90 H80, алюминий, в комплекте с крепежными элементами и необходимыми для монтажа","Упаковка",null,696.63,null,835.95600000000002]
["ASC91000K","Перегородка SEP для угла CS90 H100, алюминий, в комплекте с крепежными элементами и необходимыми для монтажа","Упаковка",null,768.84,null,922.60799999999995]
["ASD40500K","Перегородка SEP для углов CD 45 H50, алюминий, в комплекте с крепежными элементами и необходимыми для монтажа","Упаковка",null,467.87,null,561.44399999999996]
["ASD40800K","Перегородка SEP для углов CD 45 H80, алюминий, в комплекте с крепежными элементами и необходимыми для монтажа","Упаковка",null,525.87,null,631.04399999999998]
["ASD41000K","Перегородка SEP для углов CD 45 H100, алюминий, в комплекте с крепежными элементами и необходимыми для монтажа","Упаковка",null,577.83000000000004,null,693.39600000000007]
["ASD90500K","Перегородка SEP для углов CD 90 H50, алюминий, в комплекте с крепежными элементами и необходимыми для монтажа","Упаковка",null,638.24,null,765.88800000000003]
["ASD90800K","Перегородка SEP для углов CD 90 H80, алюминий, в комплекте с крепежными элементами и необходимыми для монтажа","Упаковка",null,721.49,null,865.78800000000001]
["ASD91000K","Перегородка SEP для углов CD 90 H100, алюминий, в комплекте с крепежными элементами и необходимыми для монтажа","Упаковка",null,773.21,null,927.85199999999998]
["ASG00500K","Перегородка SEP для угла CPO H50, алюминий, в комплекте с крепежными элементами и необходимыми для монтажа","Упаковка",null,1401.23,null,1681.4759999999999]
["ASG00800K","Перегородка SEP для угла CPO H80, алюминий, в комплекте с крепежными элементами и необходимыми для монтажа","Упаковка",null,1933.01,null,2319.6120000000001]
["ASG01000K","Перегородка SEP для угла CPO H100, алюминий, в комплекте с крепежными элементами и необходимыми для монтажа","Упаковка",null,2179.61,null,2615.5320000000002]
["AZH505","Заглушка, 50х50, алюминий","Штука",null,454.45,null,545.33999999999992]
["AZH510","Заглушка, 50х100, алюминий","Штука",null,549.82000000000005,null,659.78399999999999]
["AZH515","Заглушка, 50х150, алюминий","Штука",null,581.77,null,698.12399999999991]
["AZH520","Заглушка, 50х200, алюминий","Штука",null,664.8,null,797.75999999999988]
["AZH530","Заглушка, 50х300, алюминий","Штука",null,757.47,null,908.96400000000006]
["AZH540","Заглушка, 50х400, алюминий","Штука",null,830.89,null,997.06799999999998]
["AZH550","Заглушка, 50х500, алюминий","Штука",null,913.82,null,1096.5840000000001]
["AZH560","Заглушка, 50х600, алюминий","Штука",null,990.41,null,1188.492]
["AZH808","Заглушка, 80х80, алюминий","Штука",null,557.5,null,669]
["AZH810","Заглушка, 80х100, алюминий","Штука",null,619.44000000000005,null,743.32800000000009]
["AZH815","Заглушка, 80х150, алюминий","Штука",null,817.51,null,981.01199999999994]
["AZH820","Заглушка, 80х200, алюминий","Штука",null,891.14,null,1069.3679999999999]
["AZH830","Заглушка, 80х300, алюминий","Штука",null,1227.81,null,1473.3719999999998]
["AZH840","Заглушка, 80х400, алюминий","Штука",null,1465.34,null,1758.4079999999999]
["AZH850","Заглушка, 80х500, алюминий","Штука",null,1702.97,null,2043.5639999999999]
["AZH860","Заглушка, 80х600, алюминий","Штука",null,1770.64,null,2124.768]
["AZH1010","Заглушка, 100х100, алюминий","Штука",null,914.48,null,1097.376]
["AZH1015","Заглушка, 100х150, алюминий","Штука",null,1033.1600000000001,null,1239.7920000000001]
["AZH1020","Заглушка, 100х200, алюминий","Штука",null,1118.8599999999999,null,1342.6319999999998]
["AZH1030","Заглушка, 100х300, алюминий","Штука",null,1280.3599999999999,null,1536.4319999999998]
["AZH1040","Заглушка, 100х400, алюминий","Штука",null,1556.35,null,1867.62]
["AZH1050","Заглушка, 100х500, алюминий","Штука",null,1783.77,null,2140.5239999999999]
["AZH1060","Заглушка, 100х600, алюминий","Штука",null,1868.58,null,2242.2959999999998]
["AEH050K","Термокомпенсационный соединитель H50, алюминий, комплект","Упаковка",null,879.97,null,{"$f":"E1607*1.2","v":1055.9639999999999}]
["AEH080K","Термокомпенсационный соединитель H80, алюминий, комплект","Упаковка",null,1065.77,null,1278.924]
["AEH100K","Термокомпенсационный соединитель H100, алюминий, комплект","Упаковка",null,1336.9,null,1604.28]
[null,null,null,null,null,null,0]
["AKSCM050K","Крышка на угол горизонтальный 45 градусов 50, 1,5 мм, алюминий, в комплекте с крепежными элементами необходимыми для монтажа","Упаковка",null,1309.1199999999999,null,1570.9439999999997]
["AKSCM080K","Крышка на угол горизонтальный 45 градусов 80, 1,5 мм, алюминий, в комплекте с крепежными элементами необходимыми для монтажа","Упаковка",null,1526.77,null,1832.124]
["AKSCM100K","Крышка на угол горизонтальный 45 градусов 100, 1,5 мм, алюминий, в комплекте с крепежными элементами необходимыми для монтажа","Упаковка",null,1744.46,null,2093.3519999999999]
["AKSCM150K","Крышка на угол горизонтальный 45 градусов 150, 1,5 мм, алюминий, в комплекте с крепежными элементами необходимыми для монтажа","Упаковка",null,2065.6999999999998,null,2478.8399999999997]
["AKSCM200K","Крышка на угол горизонтальный 45 градусов 200, 1,5 мм, алюминий, в комплекте с крепежными элементами необходимыми для монтажа","Упаковка",null,2369.85,null,2843.8199999999997]
["AKSCM300K","Крышка на угол горизонтальный 45 градусов 300, 1,5 мм, алюминий, в комплекте с крепежными элементами необходимыми для монтажа","Упаковка",null,3376.51,null,4051.8119999999999]
["AKSDM050K","Крышка на угол горизонтальный 90 градусов 50, 1,5 мм, алюминий, в комплекте с крепежными элементами необходимыми для монтажа","Упаковка",null,1296.32,null,1555.5839999999998]
["AKSDM080K","Крышка на угол горизонтальный 90 градусов 80, 1,5 мм, алюминий, в комплекте с крепежными элементами необходимыми для монтажа","Упаковка",null,1559.39,null,1871.268]
["AKSDM100K","Крышка на угол горизонтальный 90 градусов 100, 1,5 мм, алюминий, в комплекте с крепежными элементами необходимыми для монтажа","Упаковка",null,1822.42,null,2186.904]
["AKSDM150K","Крышка на угол горизонтальный 90 градусов 150, 1,5 мм, алюминий, в комплекте с крепежными элементами необходимыми для монтажа","Упаковка",null,2243.89,null,2692.6679999999997]
["AKSDM200K","Крышка на угол горизонтальный 90 градусов 200, 1,5 мм, алюминий, в комплекте с крепежными элементами необходимыми для монтажа","Упаковка",null,3100.46,null,3720.5519999999997]
["AKSDM300K","Крышка на угол горизонтальный 90 градусов 300, 1,5 мм, алюминий, в комплекте с крепежными элементами необходимыми для монтажа","Упаковка",null,3956.91,null,4748.2919999999995]
["AKSFM050K","Крышка на ответвитель универсальный с основанием 50, 1,5 мм, алюминий, в комплекте с крепежными элементами необходимыми для монтажа","Упаковка",null,1909.11,null,2290.9319999999998]
["AKSFM080K","Крышка на ответвитель универсальный с основанием 80, 1,5 мм, алюминий, в комплекте с крепежными элементами необходимыми для монтажа","Упаковка",null,2028.13,null,2433.7559999999999]
["AKSFM100K","Крышка на ответвитель универсальный с основанием 100, 1,5 мм, алюминий, в комплекте с крепежными элементами необходимыми для монтажа","Упаковка",null,2147.15,null,2576.58]
["AKSFM150K","Крышка на ответвитель универсальный с основанием 150, 1,5 мм, алюминий, в комплекте с крепежными элементами необходимыми для монтажа","Упаковка",null,2461.89,null,2954.2679999999996]
["AKSFM200K","Крышка на ответвитель универсальный с основанием 200, 1,5 мм, алюминий, в комплекте с крепежными элементами необходимыми для монтажа","Упаковка",null,2879.58,null,3455.4959999999996]
["AKSFM300K","Крышка на ответвитель универсальный с основанием 300, 1,5 мм, алюминий, в комплекте с крепежными элементами необходимыми для монтажа","Упаковка",null,3750.51,null,4500.6120000000001]
["AKSIM505K","Крышка на угол вертикальный внутренний 90 градусов 50х50, 1,5 мм, алюминий","Упаковка",null,1238.1099999999999,null,1485.7319999999997]
["AKSIM510K","Крышка на угол вертикальный внутренний 90 градусов 50х100, 1,5 мм, алюминий","Упаковка",null,1464.37,null,1757.2439999999999]
["AKSIM515K","Крышка на угол вертикальный внутренний 90 градусов 50х150, 1,5 мм, алюминий","Упаковка",null,1734.47,null,2081.364]
["AKSIM520K","Крышка на угол вертикальный внутренний 90 градусов 50х200, 1,5 мм, алюминий","Упаковка",null,2004.54,null,2405.4479999999999]
["AKSIM530K","Крышка на угол вертикальный внутренний 90 градусов 50х300, 1,5 мм, алюминий","Упаковка",null,2517.61,null,3021.1320000000001]
["AKSIM808K","Крышка на угол вертикальный внутренний 90 градусов 80х80, 1,5 мм, алюминий","Упаковка",null,1430.37,null,1716.4439999999997]
["AKSIM810K","Крышка на угол вертикальный внутренний 90 градусов 80х100, 1,5 мм, алюминий","Упаковка",null,1537.61,null,1845.1319999999998]
["AKSIM815K","Крышка на угол вертикальный внутренний 90 градусов 80х150, 1,5 мм, алюминий","Упаковка",null,1821.19,null,2185.4279999999999]
["AKSIM820K","Крышка на угол вертикальный внутренний 90 градусов 80х200, 1,5 мм, алюминий","Упаковка",null,2104.7800000000002,null,2525.7360000000003]
["AKSIM830K","Крышка на угол вертикальный внутренний 90 градусов 80х300, 1,5 мм, алюминий","Упаковка",null,2643.47,null,3172.1639999999998]
["AKSIM1010K","Крышка на угол вертикальный внутренний 90 градусов 100х100, 1,5 мм, алюминий","Упаковка",null,1614.5,null,1937.3999999999999]
["AKSIM1015K","Крышка на угол вертикальный внутренний 90 градусов 100х150, 1,5 мм, алюминий","Упаковка",null,1912.24,null,2294.6880000000001]
["AKSIM1020K","Крышка на угол вертикальный внутренний 90 градусов 100х200, 1,5 мм, алюминий","Упаковка",null,2210.0300000000002,null,2652.0360000000001]
["AKSIM1030K","Крышка на угол вертикальный внутренний 90 градусов 100х300, 1,5 мм, алюминий","Упаковка",null,2775.64,null,3330.7679999999996]
["AKSKM505K","Крышка на угол вертикальный внутренний 45 градусов 50х50, 1,5 мм, алюминий","Упаковка",null,1225.52,null,1470.624]
["AKSKM510K","Крышка на угол вертикальный внутренний 45 градусов 50х100, 1,5 мм, алюминий","Упаковка",null,1362.25,null,1634.7]
["AKSKM515K","Крышка на угол вертикальный внутренний 45 градусов 50х150, 1,5 мм, алюминий","Упаковка",null,1704.05,null,2044.86]
["AKSKM520K","Крышка на угол вертикальный внутренний 45 градусов 50х200, 1,5 мм, алюминий","Упаковка",null,1916.72,null,2300.0639999999999]
["AKSKM530K","Крышка на угол вертикальный внутренний 45 градусов 50х300, 1,5 мм, алюминий","Упаковка",null,2452.3200000000002,null,2942.7840000000001]
["AKSKM808K","Крышка на угол вертикальный внутренний 45 градусов 80х80, 1,5 мм, алюминий","Упаковка",null,1358.57,null,1630.2839999999999]
["AKSKM810K","Крышка на угол вертикальный внутренний 45 градусов 80х100, 1,5 мм, алюминий","Упаковка",null,1430.37,null,1716.4439999999997]
["AKSKM815K","Крышка на угол вертикальный внутренний 45 градусов 80х150, 1,5 мм, алюминий","Упаковка",null,1789.23,null,2147.076]
["AKSKM820K","Крышка на угол вертикальный внутренний 45 градусов 80х200, 1,5 мм, алюминий","Упаковка",null,2012.54,null,2415.0479999999998]
["AKSKM830K","Крышка на угол вертикальный внутренний 45 градусов 80х300, 1,5 мм, алюминий","Упаковка",null,2574.9699999999998,null,3089.9639999999995]
["AKSKM1010K","Крышка на угол вертикальный внутренний 45 градусов 100х100, 1,5 мм, алюминий","Упаковка",null,1501.89,null,1802.268]
["AKSKM1015K","Крышка на угол вертикальный внутренний 45 градусов 100х150, 1,5 мм, алюминий","Упаковка",null,1878.71,null,2254.4519999999998]
["AKSKM1020K","Крышка на угол вертикальный внутренний 45 градусов 100х200, 1,5 мм, алюминий","Упаковка",null,2113.17,null,2535.8040000000001]
["AKSKM1030K","Крышка на угол вертикальный внутренний 45 градусов 100х300, 1,5 мм, алюминий","Упаковка",null,2703.69,null,3244.4279999999999]
["AKSOM505K","Крышка на угол вертикальный внешний 90 градусов 50х50, 1,5 мм, алюминий","Упаковка",null,1296.32,null,1555.5839999999998]
["AKSOM510K","Крышка на угол вертикальный внешний 90 градусов 50х100, 1,5 мм, алюминий","Упаковка",null,1788.05,null,2145.66]
["AKSOM515K","Крышка на угол вертикальный внешний 90 градусов 50х150, 1,5 мм, алюминий","Упаковка",null,2072.4,null,2486.88]
["AKSOM520K","Крышка на угол вертикальный внешний 90 градусов 50х200, 1,5 мм, алюминий","Упаковка",null,2298.33,null,2757.9959999999996]
["AKSOM530K","Крышка на угол вертикальный внешний 90 градусов 50х300, 1,5 мм, алюминий","Упаковка",null,2913.62,null,3496.3439999999996]
["AKSOM808K","Крышка на угол вертикальный внешний 90 градусов 80х80, 1,5 мм, алюминий","Упаковка",null,1635.7,null,1962.84]
["AKSOM810K","Крышка на угол вертикальный внешний 90 градусов 80х100, 1,5 мм, алюминий","Упаковка",null,1877.44,null,2252.9279999999999]
["AKSOM815K","Крышка на угол вертикальный внешний 90 градусов 80х150, 1,5 мм, алюминий","Упаковка",null,2176.04,null,2611.248]
["AKSOM820K","Крышка на угол вертикальный внешний 90 градусов 80х200, 1,5 мм, алюминий","Упаковка",null,2413.2600000000002,null,2895.9120000000003]
["AKSOM830K","Крышка на угол вертикальный внешний 90 градусов 80х300, 1,5 мм, алюминий","Упаковка",null,3059.31,null,3671.172]
["AKSOM1010K","Крышка на угол вертикальный внешний 90 градусов 100х100, 1,5 мм, алюминий","Упаковка",null,1971.31,null,2365.5719999999997]
["AKSOM1015K","Крышка на угол вертикальный внешний 90 градусов 100х150, 1,5 мм, алюминий","Упаковка",null,2284.8200000000002,null,2741.7840000000001]
["AKSOM1020K","Крышка на угол вертикальный внешний 90 градусов 100х200, 1,5 мм, алюминий","Упаковка",null,2533.9299999999998,null,3040.7159999999999]
["AKSOM1030K","Крышка на угол вертикальный внешний 90 градусов 100х300, 1,5 мм, алюминий","Упаковка",null,3212.24,null,3854.6879999999996]
["AKSTM050K","Крышка на Т-образный ответвитель 50, 1,5 мм, алюминий, в комплекте с крепежными элементами необходимыми для монтажа","Упаковка",null,2025.82,null,{"$f":"E1671*1.2","v":2430.9839999999999}]
["AKSTM080K","Крышка на Т-образный ответвитель 80, 1,5 мм, алюминий, в комплекте с крепежными элементами необходимыми для монтажа","Упаковка",null,2294.86,null,2753.8319999999999]
["AKSTM100K","Крышка на Т-образный ответвитель 100, 1,5 мм, алюминий, в комплекте с крепежными элементами необходимыми для монтажа","Упаковка",null,2448.1799999999998,null,2937.8159999999998]
["AKSTM150K","Крышка на Т-образный ответвитель 150, 1,5 мм, алюминий, в комплекте с крепежными элементами необходимыми для монтажа","Упаковка",null,2948.81,null,3538.5719999999997]
["AKSTM200K","Крышка на Т-образный ответвитель 200, 1,5 мм, алюминий, в комплекте с крепежными элементами необходимыми для монтажа","Упаковка",null,3682.41,null,4418.8919999999998]
["AKSTM300K","Крышка на Т-образный ответвитель 300, 1,5 мм, алюминий, в комплекте с крепежными элементами необходимыми для монтажа","Упаковка",null,5116.01,null,6139.2120000000004]
["AKSPM1010K","Крышка на угол вертикальный внешний 45 градусов 100х100, 1,5 мм, алюминий","Упаковка",null,1688.44,null,2026.1279999999999]
["AKSPM1015K","Крышка на угол вертикальный внешний 45 градусов 100х150, 1,5 мм, алюминий","Упаковка",null,2029.29,null,2435.1479999999997]
["AKSPM1020K","Крышка на угол вертикальный внешний 45 градусов 100х200, 1,5 мм, алюминий","Упаковка",null,2299.79,null,2759.748]
["AKSPM1030K","Крышка на угол вертикальный внешний 45 градусов 100х300, 1,5 мм, алюминий","Упаковка",null,2669.32,null,3203.1840000000002]
["AKSPM505K","Крышка на угол вертикальный внешний 45 градусов 50х50, 1,5 мм, алюминий","Упаковка",null,1296.32,null,1555.5839999999998]
["AKSPM510K","Крышка на угол вертикальный внешний 45 градусов 50х100, 1,5 мм, алюминий","Упаковка",null,1531.48,null,1837.7760000000001]
["AKSPM515K","Крышка на угол вертикальный внешний 45 градусов 50х150, 1,5 мм, алюминий","Упаковка",null,1840.63,null,2208.7559999999999]
["AKSPM520K","Крышка на угол вертикальный внешний 45 градусов 50х200, 1,5 мм, алюминий","Упаковка",null,2085.98,null,2503.1759999999999]
["AKSPM530K","Крышка на угол вертикальный внешний 45 градусов 50х300, 1,5 мм, алюминий","Упаковка",null,2421.1799999999998,null,2905.4159999999997]
["AKSPM808K","Крышка на угол вертикальный внешний 45 градусов 80х80, 1,5 мм, алюминий","Упаковка",null,1484.58,null,1781.4959999999999]
["AKSPM810K","Крышка на угол вертикальный внешний 45 градусов 80х100, 1,5 мм, алюминий","Упаковка",null,1608.03,null,1929.636]
["AKSPM815K","Крышка на угол вертикальный внешний 45 градусов 80х150, 1,5 мм, алюминий","Упаковка",null,1932.62,null,2319.1439999999998]
["AKSPM820K","Крышка на угол вертикальный внешний 45 градусов 80х200, 1,5 мм, алюминий","Упаковка",null,2190.29,null,2628.348]
["AKSPM830K","Крышка на угол вертикальный внешний 45 градусов 80х300, 1,5 мм, алюминий","Упаковка",null,2542.2199999999998,null,3050.6639999999998]
["AKSXM050K","Крышка на Х-образный ответвитель 50, 1,5 мм, алюминий, в комплекте с крепежными элементами необходимыми для монтажа","Упаковка",null,2753.92,null,3304.7040000000002]
["AKSXM080K","Крышка на Х-образный ответвитель 80, 1,5 мм, алюминий, в комплекте с крепежными элементами необходимыми для монтажа","Упаковка",null,3054.67,null,3665.6039999999998]
["AKSXM100K","Крышка на Х-образный ответвитель 100, 1,5 мм, алюминий, в комплекте с крепежными элементами необходимыми для монтажа","Упаковка",null,3411.71,null,4094.0519999999997]
["AKSXM150K","Крышка на Х-образный ответвитель 150, 1,5 мм, алюминий, в комплекте с крепежными элементами необходимыми для монтажа","Упаковка",null,3962.1,null,4754.5199999999995]
["AKSXM200K","Крышка на Х-образный ответвитель 200, 1,5 мм, алюминий, в комплекте с крепежными элементами необходимыми для монтажа","Упаковка",null,4490.8599999999997,null,5389.0319999999992]
["AKSXM300K","Крышка на Х-образный ответвитель 300, 1,5 мм, алюминий, в комплекте с крепежными элементами необходимыми для монтажа","Упаковка",null,6002.2,null,7202.6399999999994]
["AKSVM050","Крышка на горизонтальный изменяемый угол СРО 0-45град. 50, 1,5 мм,  алюминий","Штука",null,1354.12,null,1624.9439999999997]
["AKSVM080","Крышка на горизонтальный изменяемый угол СРО 0-45град. 80, 1,5 мм,  алюминий","Штука",null,1504.58,null,1805.4959999999999]
["AKSVM100","Крышка на горизонтальный изменяемый угол СРО 0-45град. 100, 1,5 мм,  алюминий","Штука",null,1874.05,null,2248.8599999999997]
["AKSVM150","Крышка на горизонтальный изменяемый угол СРО 0-45град. 150, 1,5 мм,  алюминий","Штука",null,2143.3200000000002,null,2571.9839999999999]
["AKSVM200","Крышка на горизонтальный изменяемый угол СРО 0-45град. 200, 1,5 мм,  алюминий","Штука",null,2516.46,null,3019.752]
["AKSVM300","Крышка на горизонтальный изменяемый угол СРО 0-45град. 300, 1,5 мм,  алюминий","Штука",null,3308.82,null,3970.5839999999998]
["AKSCH050K","Крышка на угол горизонтальный 45 градусов 50, 2,0 мм, алюминий, в комплекте с крепежными элементами необходимыми для монтажа","Упаковка",null,1636.39,null,1963.6680000000001]
["AKSCH080K","Крышка на угол горизонтальный 45 градусов 80, 2,0 мм, алюминий, в комплекте с крепежными элементами необходимыми для монтажа","Упаковка",null,1908.47,null,2290.1639999999998]
["AKSCH100K","Крышка на угол горизонтальный 45 градусов 100, 2,0 мм, алюминий, в комплекте с крепежными элементами необходимыми для монтажа","Упаковка",null,2180.59,null,2616.7080000000001]
["AKSCH150K","Крышка на угол горизонтальный 45 градусов 150, 2,0 мм, алюминий, в комплекте с крепежными элементами необходимыми для монтажа","Упаковка",null,2582.11,null,3098.5320000000002]
["AKSCH200K","Крышка на угол горизонтальный 45 градусов 200, 2,0 мм, алюминий, в комплекте с крепежными элементами необходимыми для монтажа","Упаковка",null,2962.3,null,3554.76]
["AKSCH300K","Крышка на угол горизонтальный 45 градусов 300, 2,0 мм, алюминий, в комплекте с крепежными элементами необходимыми для монтажа","Упаковка",null,4220.6499999999996,null,5064.78]
["AKSCH400K","Крышка на угол горизонтальный 45 градусов 400, 2,0 мм, алюминий, в комплекте с крепежными элементами необходимыми для монтажа","Упаковка",null,6050.43,null,7260.5160000000005]
["AKSCH500K","Крышка на угол горизонтальный 45 градусов 500, 2,0 мм, алюминий, в комплекте с крепежными элементами необходимыми для монтажа","Упаковка",null,7528.63,null,9034.3559999999998]
["AKSCH600K","Крышка на угол горизонтальный 45 градусов 600, 2,0 мм, алюминий, в комплекте с крепежными элементами необходимыми для монтажа","Упаковка",null,11297.99,null,13557.588]
["AKSDH050K","Крышка на угол горизонтальный 90 градусов 50, 2,0 мм, алюминий, в комплекте с крепежными элементами необходимыми для монтажа","Упаковка",null,1620.4,null,1944.48]
["AKSDH080K","Крышка на угол горизонтальный 90 градусов 80, 2,0 мм, алюминий, в комплекте с крепежными элементами необходимыми для монтажа","Упаковка",null,1949.23,null,2339.076]
["AKSDH100K","Крышка на угол горизонтальный 90 градусов 100, 2,0 мм, алюминий, в комплекте с крепежными элементами необходимыми для монтажа","Упаковка",null,2278.0300000000002,null,2733.636]
["AKSDH150K","Крышка на угол горизонтальный 90 градусов 150, 2,0 мм, алюминий, в комплекте с крепежными элементами необходимыми для монтажа","Упаковка",null,2804.87,null,3365.8439999999996]
["AKSDH200K","Крышка на угол горизонтальный 90 градусов 200, 2,0 мм, алюминий, в комплекте с крепежными элементами необходимыми для монтажа","Упаковка",null,3875.55,null,4650.66]
["AKSDH300K","Крышка на угол горизонтальный 90 градусов 300, 2,0 мм, алюминий, в комплекте с крепежными элементами необходимыми для монтажа","Упаковка",null,4946.13,null,5935.3559999999998]
["AKSDH400K","Крышка на угол горизонтальный 90 градусов 400, 2,0 мм, алюминий, в комплекте с крепежными элементами необходимыми для монтажа","Упаковка",null,7040.93,null,8449.116]
["AKSDH500K","Крышка на угол горизонтальный 90 градусов 500, 2,0 мм, алюминий, в комплекте с крепежными элементами необходимыми для монтажа","Упаковка",null,9135.75,null,10962.9]
["AKSDH600K","Крышка на угол горизонтальный 90 градусов 600, 2,0 мм, алюминий, в комплекте с крепежными элементами необходимыми для монтажа","Упаковка",null,14834.68,null,17801.615999999998]
["AKSFH050K","Крышка на ответвитель универсальный с основанием 50, 2,0 мм, алюминий, в комплекте с крепежными элементами необходимыми для монтажа","Упаковка",null,2386.39,null,2863.6679999999997]
["AKSFH080K","Крышка на ответвитель универсальный с основанием 80, 2,0 мм, алюминий, в комплекте с крепежными элементами необходимыми для монтажа","Упаковка",null,2535.16,null,3042.1919999999996]
["AKSFH100K","Крышка на ответвитель универсальный с основанием 100, 2,0 мм, алюминий, в комплекте с крепежными элементами необходимыми для монтажа","Упаковка",null,2683.94,null,3220.7280000000001]
["AKSFH150K","Крышка на ответвитель универсальный с основанием 150, 2,0 мм, алюминий, в комплекте с крепежными элементами необходимыми для монтажа","Упаковка",null,3077.34,null,3692.808]
["AKSFH200K","Крышка на ответвитель универсальный с основанием 200, 2,0 мм, алюминий, в комплекте с крепежными элементами необходимыми для монтажа","Упаковка",null,3599.46,null,4319.3519999999999]
["AKSFH300K","Крышка на ответвитель универсальный с основанием 300, 2,0 мм, алюминий, в комплекте с крепежными элементами необходимыми для монтажа","Упаковка",null,4688.13,null,5625.7560000000003]
["AKSFH400K","Крышка на ответвитель универсальный с основанием 400, 2,0 мм, алюминий, в комплекте с крепежными элементами необходимыми для монтажа","Упаковка",null,5217.38,null,6260.8559999999998]
["AKSFH500K","Крышка на ответвитель универсальный с основанием 500, 2,0 мм, алюминий, в комплекте с крепежными элементами необходимыми для монтажа","Упаковка",null,6521.24,null,7825.4879999999994]
["AKSFH600K","Крышка на ответвитель универсальный с основанием 600, 2,0 мм, алюминий, в комплекте с крепежными элементами необходимыми для монтажа","Упаковка",null,7295.86,null,8755.0319999999992]
["AKSIH505K","Крышка на угол вертикальный внутренний 90 градусов 50х50, 2,0 мм, алюминий","Упаковка",null,1547.63,null,1857.1559999999999]
["AKSIH510K","Крышка на угол вертикальный внутренний 90 градусов 50х100, 2,0 мм, алюминий","Упаковка",null,1830.47,null,2196.5639999999999]
["AKSIH515K","Крышка на угол вертикальный внутренний 90 градусов 50х150, 2,0 мм, алюминий","Упаковка",null,2168.1,null,2601.7199999999998]
["AKSIH520K","Крышка на угол вертикальный внутренний 90 градусов 50х200, 2,0 мм, алюминий","Упаковка",null,2505.6799999999998,null,3006.8159999999998]
["AKSIH530K","Крышка на угол вертикальный внутренний 90 градусов 50х300, 2,0 мм, алюминий","Упаковка",null,3146.98,null,3776.3759999999997]
["AKSIH540K","Крышка на угол вертикальный внутренний 90 градусов 50х400, 2,0 мм, алюминий","Упаковка",null,3709.36,null,{"$f":"E1735*1.2","v":4451.232}]
["AKSIH550K","Крышка на угол вертикальный внутренний 90 градусов 50х500, 2,0 мм, алюминий","Упаковка",null,4208.88,null,5050.6559999999999]
["AKSIH560K","Крышка на угол вертикальный внутренний 90 градусов 50х600, 2,0 мм, алюминий","Упаковка",null,4419.3100000000004,null,5303.1720000000005]
["AKSIH808K","Крышка на угол вертикальный внутренний 90 градусов 80х80, 2,0 мм, алюминий","Упаковка",null,1787.96,null,2145.5520000000001]
["AKSIH810K","Крышка на угол вертикальный внутренний 90 градусов 80х100, 2,0 мм, алюминий","Упаковка",null,1922.01,null,2306.4119999999998]
["AKSIH815K","Крышка на угол вертикальный внутренний 90 градусов 80х150, 2,0 мм, алюминий","Упаковка",null,2276.48,null,2731.7759999999998]
["AKSIH820K","Крышка на угол вертикальный внутренний 90 градусов 80х200, 2,0 мм, алюминий","Упаковка",null,2631,null,3157.2]
["AKSIH830K","Крышка на угол вертикальный внутренний 90 градусов 80х300, 2,0 мм, алюминий","Упаковка",null,3304.36,null,3965.232]
["AKSIH840K","Крышка на угол вертикальный внутренний 90 градусов 80х400, 2,0 мм, алюминий","Упаковка",null,3894.83,null,4673.7959999999994]
["AKSIH850K","Крышка на угол вертикальный внутренний 90 градусов 80х500, 2,0 мм, алюминий","Упаковка",null,4419.3100000000004,null,5303.1720000000005]
["AKSIH860K","Крышка на угол вертикальный внутренний 90 градусов 80х600, 2,0 мм, алюминий","Упаковка",null,4640.3100000000004,null,5568.3720000000003]
["AKSIH1010K","Крышка на угол вертикальный внутренний 90 градусов 100х100, 2,0 мм, алюминий","Упаковка",null,2018.13,null,2421.7559999999999]
["AKSIH1015K","Крышка на угол вертикальный внутренний 90 градусов 100х150, 2,0 мм, алюминий","Упаковка",null,2390.31,null,2868.3719999999998]
["AKSIH1020K","Крышка на угол вертикальный внутренний 90 градусов 100х200, 2,0 мм, алюминий","Упаковка",null,2762.52,null,3315.0239999999999]
["AKSIH1030K","Крышка на угол вертикальный внутренний 90 градусов 100х300, 2,0 мм, алюминий","Упаковка",null,3469.57,null,4163.4840000000004]
["AKSIH1040K","Крышка на угол вертикальный внутренний 90 градусов 100х400, 2,0 мм, алюминий","Упаковка",null,4089.58,null,4907.4960000000001]
["AKSIH1050K","Крышка на угол вертикальный внутренний 90 градусов 100х500, 2,0 мм, алюминий","Упаковка",null,4640.3100000000004,null,5568.3720000000003]
["AKSIH1060K","Крышка на угол вертикальный внутренний 90 градусов 100х600, 2,0 мм, алюминий","Упаковка",null,4872.29,null,5846.7479999999996]
["AKSKH505K","Крышка на угол вертикальный внутренний 45 градусов 50х50, 2,0 мм, алюминий","Упаковка",null,1531.9,null,1838.28]
["AKSKH510K","Крышка на угол вертикальный внутренний 45 градусов 50х100, 2,0 мм, алюминий","Упаковка",null,1702.81,null,2043.3719999999998]
["AKSKH515K","Крышка на угол вертикальный внутренний 45 градусов 50х150, 2,0 мм, алюминий","Упаковка",null,2130.06,null,2556.0719999999997]
["AKSKH520K","Крышка на угол вертикальный внутренний 45 градусов 50х200, 2,0 мм, алюминий","Упаковка",null,2395.88,null,2875.056]
["AKSKH530K","Крышка на угол вертикальный внутренний 45 градусов 50х300, 2,0 мм, алюминий","Упаковка",null,3065.41,null,3678.4919999999997]
["AKSKH540K","Крышка на угол вертикальный внутренний 45 градусов 50х400, 2,0 мм, алюминий","Упаковка",null,3412.68,null,4095.2159999999994]
["AKSKH550K","Крышка на угол вертикальный внутренний 45 градусов 50х500, 2,0 мм, алюминий","Упаковка",null,3930.28,null,4716.3360000000002]
["AKSKH560K","Крышка на угол вертикальный внутренний 45 градусов 50х600, 2,0 мм, алюминий","Упаковка",null,4126.82,null,4952.1839999999993]
["AKSKH808K","Крышка на угол вертикальный внутренний 45 градусов 80х80, 2,0 мм, алюминий","Упаковка",null,1698.22,null,2037.864]
["AKSKH810K","Крышка на угол вертикальный внутренний 45 градусов 80х100, 2,0 мм, алюминий","Упаковка",null,1787.96,null,2145.5520000000001]
["AKSKH815K","Крышка на угол вертикальный внутренний 45 градусов 80х150, 2,0 мм, алюминий","Упаковка",null,2236.5300000000002,null,2683.8360000000002]
["AKSKH820K","Крышка на угол вертикальный внутренний 45 градусов 80х200, 2,0 мм, алюминий","Упаковка",null,2515.65,null,3018.78]
["AKSKH830K","Крышка на угол вертикальный внутренний 45 градусов 80х300, 2,0 мм, алюминий","Упаковка",null,3218.7,null,3862.4399999999996]
["AKSKH840K","Крышка на угол вертикальный внутренний 45 градусов 80х400, 2,0 мм, алюминий","Упаковка",null,3583.31,null,4299.9719999999998]
["AKSKH850K","Крышка на угол вертикальный внутренний 45 градусов 80х500, 2,0 мм, алюминий","Упаковка",null,4126.82,null,4952.1839999999993]
["AKSKH860K","Крышка на угол вертикальный внутренний 45 градусов 80х600, 2,0 мм, алюминий","Упаковка",null,4333.1099999999997,null,5199.7319999999991]
["AKSKH1010K","Крышка на угол вертикальный внутренний 45 градусов 100х100, 2,0 мм, алюминий","Упаковка",null,1877.36,null,2252.8319999999999]
["AKSKH1015K","Крышка на угол вертикальный внутренний 45 градусов 100х150, 2,0 мм, алюминий","Упаковка",null,2348.4,null,2818.08]
["AKSKH1020K","Крышка на угол вертикальный внутренний 45 градусов 100х200, 2,0 мм, алюминий","Упаковка",null,2641.44,null,3169.7280000000001]
["AKSKH1030K","Крышка на угол вертикальный внутренний 45 градусов 100х300, 2,0 мм, алюминий","Упаковка",null,3379.59,null,4055.5079999999998]
["AKSKH1040K","Крышка на угол вертикальный внутренний 45 градусов 100х400, 2,0 мм, алюминий","Упаковка",null,3762.48,null,4514.9759999999997]
["AKSKH1050K","Крышка на угол вертикальный внутренний 45 градусов 100х500, 2,0 мм, алюминий","Упаковка",null,4333.1099999999997,null,5199.7319999999991]
["AKSKH1060K","Крышка на угол вертикальный внутренний 45 градусов 100х600, 2,0 мм, алюминий","Упаковка",null,4549.8,null,5459.76]
["AKSOH505K","Крышка на угол вертикальный внешний 90 градусов 50х50, 2,0 мм, алюминий","Упаковка",null,1620.4,null,1944.48]
["AKSOH510K","Крышка на угол вертикальный внешний 90 градусов 50х100, 2,0 мм, алюминий","Упаковка",null,2235.0500000000002,null,2682.06]
["AKSOH515K","Крышка на угол вертикальный внешний 90 градусов 50х150, 2,0 мм, алюминий","Упаковка",null,2590.5,null,3108.6]
["AKSOH520K","Крышка на угол вертикальный внешний 90 градусов 50х200, 2,0 мм, алюминий","Упаковка",null,2872.93,null,3447.5159999999996]
["AKSOH530K","Крышка на угол вертикальный внешний 90 градусов 50х300, 2,0 мм, алюминий","Упаковка",null,3642.02,null,4370.424]
["AKSOH540K","Крышка на угол вертикальный внешний 90 градусов 50х400, 2,0 мм, алюминий","Упаковка",null,4231.78,null,5078.1359999999995]
["AKSOH550K","Крышка на угол вертикальный внешний 90 градусов 50х500, 2,0 мм, алюминий","Упаковка",null,5117.8999999999996,null,6141.48]
["AKSOH560K","Крышка на угол вертикальный внешний 90 градусов 50х600, 2,0 мм, алюминий","Упаковка",null,5373.8,null,6448.56]
["AKSOH808K","Крышка на угол вертикальный внешний 90 градусов 80х80, 2,0 мм, алюминий","Упаковка",null,2044.63,null,2453.556]
["AKSOH810K","Крышка на угол вертикальный внешний 90 градусов 80х100, 2,0 мм, алюминий","Упаковка",null,2346.8000000000002,null,2816.1600000000003]
["AKSOH815K","Крышка на угол вертикальный внешний 90 градусов 80х150, 2,0 мм, алюминий","Упаковка",null,2720.04,null,3264.0479999999998]
["AKSOH820K","Крышка на угол вертикальный внешний 90 градусов 80х200, 2,0 мм, алюминий","Упаковка",null,3016.58,null,3619.8959999999997]
["AKSOH830K","Крышка на угол вертикальный внешний 90 градусов 80х300, 2,0 мм, алюминий","Упаковка",null,3824.14,null,4588.9679999999998]
["AKSOH840K","Крышка на угол вертикальный внешний 90 градусов 80х400, 2,0 мм, алюминий","Упаковка",null,4443.34,null,5332.0079999999998]
["AKSOH850K","Крышка на угол вертикальный внешний 90 градусов 80х500, 2,0 мм, алюминий","Упаковка",null,5373.8,null,6448.56]
["AKSOH860K","Крышка на угол вертикальный внешний 90 градусов 80х600, 2,0 мм, алюминий","Упаковка",null,5642.47,null,6770.9639999999999]
["AKSOH1010K","Крышка на угол вертикальный внешний 90 градусов 100х100, 2,0 мм, алюминий","Упаковка",null,2464.15,null,2956.98]
["AKSOH1015K","Крышка на угол вертикальный внешний 90 градусов 100х150, 2,0 мм, алюминий","Упаковка",null,2856.03,null,3427.2360000000003]
["AKSOH1020K","Крышка на угол вертикальный внешний 90 градусов 100х200, 2,0 мм, алюминий","Упаковка",null,3167.42,null,3800.904]
["AKSOH1030K","Крышка на угол вертикальный внешний 90 градусов 100х300, 2,0 мм, алюминий","Упаковка",null,4015.31,null,4818.3719999999994]
["AKSOH1040K","Крышка на угол вертикальный внешний 90 градусов 100х400, 2,0 мм, алюминий","Упаковка",null,4665.49,null,5598.5879999999997]
["AKSOH1050K","Крышка на угол вертикальный внешний 90 градусов 100х500, 2,0 мм, алюминий","Упаковка",null,5642.47,null,6770.9639999999999]
["AKSOH1060K","Крышка на угол вертикальный внешний 90 градусов 100х600, 2,0 мм, алюминий","Упаковка",null,5924.61,null,7109.5319999999992]
["AKSPH505K","Крышка на угол вертикальный внешний 45 градусов 50х50, 2,0 мм, алюминий","Упаковка",null,1620.4,null,{"$f":"E1799*1.2","v":1944.48}]
["AKSPH510K","Крышка на угол вертикальный внешний 45 градусов 50х100, 2,0 мм, алюминий","Упаковка",null,1914.35,null,2297.2199999999998]
["AKSPH515K","Крышка на угол вертикальный внешний 45 градусов 50х150, 2,0 мм, алюминий","Упаковка",null,2300.8000000000002,null,2760.96]
["AKSPH520K","Крышка на угол вертикальный внешний 45 градусов 50х200, 2,0 мм, алюминий","Упаковка",null,2607.4899999999998,null,3128.9879999999998]
["AKSPH530K","Крышка на угол вертикальный внешний 45 градусов 50х300, 2,0 мм, алюминий","Упаковка",null,3026.51,null,3631.8120000000004]
["AKSPH540K","Крышка на угол вертикальный внешний 45 градусов 50х400, 2,0 мм, алюминий","Упаковка",null,3915.5,null,4698.5999999999995]
["AKSPH550K","Крышка на угол вертикальный внешний 45 градусов 50х500, 2,0 мм, алюминий","Упаковка",null,4499.32,null,5399.1839999999993]
["AKSPH560K","Крышка на угол вертикальный внешний 45 градусов 50х600, 2,0 мм, алюминий","Упаковка",null,4724.3100000000004,null,5669.1720000000005]
["AKSPH808K","Крышка на угол вертикальный внешний 45 градусов 80х80, 2,0 мм, алюминий","Упаковка",null,1855.74,null,2226.8879999999999]
["AKSPH810K","Крышка на угол вертикальный внешний 45 градусов 80х100, 2,0 мм, алюминий","Упаковка",null,2010.05,null,2412.06]
["AKSPH815K","Крышка на угол вертикальный внешний 45 градусов 80х150, 2,0 мм, алюминий","Упаковка",null,2415.8000000000002,null,2898.96]
["AKSPH820K","Крышка на угол вертикальный внешний 45 градусов 80х200, 2,0 мм, алюминий","Упаковка",null,2737.88,null,3285.4560000000001]
["AKSPH830K","Крышка на угол вертикальный внешний 45 градусов 80х300, 2,0 мм, алюминий","Упаковка",null,3177.79,null,3813.348]
["AKSPH840K","Крышка на угол вертикальный внешний 45 градусов 80х400, 2,0 мм, алюминий","Упаковка",null,4111.29,null,4933.5479999999998]
["AKSPH850K","Крышка на угол вертикальный внешний 45 градусов 80х500, 2,0 мм, алюминий","Упаковка",null,4724.3100000000004,null,5669.1720000000005]
["AKSPH860K","Крышка на угол вертикальный внешний 45 градусов 80х600, 2,0 мм, алюминий","Упаковка",null,4960.54,null,5952.6480000000001]
["AKSPH1010K","Крышка на угол вертикальный внешний 45 градусов 100х100, 2,0 мм, алюминий","Упаковка",null,2110.5700000000002,null,2532.6840000000002]
["AKSPH1015K","Крышка на угол вертикальный внешний 45 градусов 100х150, 2,0 мм, алюминий","Упаковка",null,2536.62,null,3043.944]
["AKSPH1020K","Крышка на угол вертикальный внешний 45 градусов 100х200, 2,0 мм, алюминий","Упаковка",null,2874.75,null,3449.7]
["AKSPH1030K","Крышка на угол вертикальный внешний 45 градусов 100х300, 2,0 мм, алюминий","Упаковка",null,3336.66,null,4003.9919999999997]
["AKSPH1040K","Крышка на угол вертикальный внешний 45 градусов 100х400, 2,0 мм, алюминий","Упаковка",null,4316.82,null,5180.1839999999993]
["AKSPH1050K","Крышка на угол вертикальный внешний 45 градусов 100х500, 2,0 мм, алюминий","Упаковка",null,4960.54,null,5952.6480000000001]
["AKSPH1060K","Крышка на угол вертикальный внешний 45 градусов 100х600, 2,0 мм, алюминий","Упаковка",null,5208.57,null,6250.2839999999997]
["AKSTH050K","Крышка на Т-образный ответвитель 50, 2,0 мм, алюминий, в комплекте с крепежными элементами необходимыми для монтажа","Упаковка",null,2532.29,null,3038.748]
["AKSTH080K","Крышка на Т-образный ответвитель 80, 2,0 мм, алюминий, в комплекте с крепежными элементами необходимыми для монтажа","Упаковка",null,2868.6,null,3442.3199999999997]
["AKSTH100K","Крышка на Т-образный ответвитель 100, 2,0 мм, алюминий, в комплекте с крепежными элементами необходимыми для монтажа","Упаковка",null,3060.19,null,3672.2280000000001]
["AKSTH150K","Крышка на Т-образный ответвитель 150, 2,0 мм, алюминий, в комплекте с крепежными элементами необходимыми для монтажа","Упаковка",null,3686,null,4423.2]
["AKSTH200K","Крышка на Т-образный ответвитель 200, 2,0 мм, алюминий, в комплекте с крепежными элементами необходимыми для монтажа","Упаковка",null,4603,null,5523.5999999999995]
["AKSTH300K","Крышка на Т-образный ответвитель 300, 2,0 мм, алюминий, в комплекте с крепежными элементами необходимыми для монтажа","Упаковка",null,6395,null,7674]
["AKSTH400K","Крышка на Т-образный ответвитель 400, 2,0 мм, алюминий, в комплекте с крепежными элементами необходимыми для монтажа","Упаковка",null,8198.25,null,9837.9]
["AKSTH500K","Крышка на Т-образный ответвитель 500, 2,0 мм, алюминий, в комплекте с крепежными элементами необходимыми для монтажа","Упаковка",null,10565.55,null,12678.659999999998]
["AKSTH600K","Крышка на Т-образный ответвитель 600, 2,0 мм, алюминий, в комплекте с крепежными элементами необходимыми для монтажа","Упаковка",null,15714.93,null,18857.916000000001]
["AKSVH050","Крышка на горизонтальный изменяемый угол СРО 0-45град. 50, 2,0 мм,  алюминий","Штука",null,1692.66,null,2031.192]
["AKSVH080","Крышка на горизонтальный изменяемый угол СРО 0-45град. 80, 2,0 мм,  алюминий","Штука",null,1880.73,null,2256.8759999999997]
["AKSVH100","Крышка на горизонтальный изменяемый угол СРО 0-45град. 100, 2,0 мм,  алюминий","Штука",null,2342.5700000000002,null,2811.0840000000003]
["AKSVH150","Крышка на горизонтальный изменяемый угол СРО 0-45град. 150, 2,0 мм,  алюминий","Штука",null,2679.16,null,3214.9919999999997]
["AKSVH200","Крышка на горизонтальный изменяемый угол СРО 0-45град. 200, 2,0 мм,  алюминий","Штука",null,3145.58,null,3774.6959999999999]
["AKSVH300","Крышка на горизонтальный изменяемый угол СРО 0-45град. 300, 2,0 мм,  алюминий","Штука",null,4136.03,null,4963.2359999999999]
["AKSVH400","Крышка на горизонтальный изменяемый угол СРО 0-45град. 400, 2,0 мм,  алюминий","Штука",null,5287.23,null,6344.6759999999995]
["AKSVH500","Крышка на горизонтальный изменяемый угол СРО 0-45град. 500, 2,0 мм,  алюминий","Штука",null,6873.34,null,8248.0079999999998]
["AKSVH600","Крышка на горизонтальный изменяемый угол СРО 0-45град. 600, 2,0 мм,  алюминий","Штука",null,8591.64,null,10309.967999999999]
["AKSXH050K","Крышка на Х-образный ответвитель 50, 2,0 мм, алюминий, в комплекте с крепежными элементами необходимыми для монтажа","Упаковка",null,3442.37,null,4130.8440000000001]
["AKSXH080K","Крышка на Х-образный ответвитель 80, 2,0 мм, алюминий, в комплекте с крепежными элементами необходимыми для монтажа","Упаковка",null,3818.31,null,4581.9719999999998]
["AKSXH100K","Крышка на Х-образный ответвитель 100, 2,0 мм, алюминий, в комплекте с крепежными элементами необходимыми для монтажа","Упаковка",null,4264.63,null,5117.5559999999996]
["AKSXH150K","Крышка на Х-образный ответвитель 150, 2,0 мм, алюминий, в комплекте с крепежными элементами необходимыми для монтажа","Упаковка",null,4952.6000000000004,null,5943.12]
["AKSXH200K","Крышка на Х-образный ответвитель 200, 2,0 мм, алюминий, в комплекте с крепежными элементами необходимыми для монтажа","Упаковка",null,5613.58,null,6736.2959999999994]
["AKSXH300K","Крышка на Х-образный ответвитель 300, 2,0 мм, алюминий, в комплекте с крепежными элементами необходимыми для монтажа","Упаковка",null,7502.75,null,9003.2999999999993]
["AKSXH400K","Крышка на Х-образный ответвитель 400, 2,0 мм, алюминий, в комплекте с крепежными элементами необходимыми для монтажа","Упаковка",null,9885.94,null,11863.128000000001]
["AKSXH500K","Крышка на Х-образный ответвитель 500, 2,0 мм, алюминий, в комплекте с крепежными элементами необходимыми для монтажа","Упаковка",null,11624.01,null,13948.812]
["AKSXH600K","Крышка на Х-образный ответвитель 600, 2,0 мм, алюминий, в комплекте с крепежными элементами необходимыми для монтажа","Упаковка",null,12205.24,null,14646.287999999999]
[null,null,null,null,null,null,0]
["AKSH3005","Крышка с заземлением на лоток осн.50мм, толщ. 2 мм, L 3000, алюминий","Метр",null,1053.54,null,1264.2479999999998]
["AKSH3008","Крышка с заземлением на лоток осн.80мм, толщ. 2 мм, L 3000, алюминий","Метр",null,1219.8599999999999,null,1463.8319999999999]
["AKSH3010","Крышка с заземлением на лоток осн.100мм, толщ. 2 мм,  L 3000, алюминий","Метр",null,1569.23,null,1883.076]
["AKSH3015","Крышка с заземлением на лоток осн.150мм, толщ. 2 мм, L 3000, алюминий","Метр",null,2039.1,null,2446.9199999999996]
["AKSH3020","Крышка с заземлением на лоток осн.200мм, толщ. 2 мм, L 3000, алюминий","Метр",null,2509.1,null,3010.9199999999996]
["AKSH3030","Крышка с заземлением на лоток осн.300мм, толщ. 2 мм, L 3000, алюминий","Метр",null,3444.85,null,4133.82]
["AKSH3040","Крышка с заземлением на лоток осн.400мм, толщ. 2 мм, L 3000, алюминий","Метр",null,4876.37,null,5851.6439999999993]
["AKSH3050","Крышка с заземлением на лоток осн.500мм, толщ. 2 мм, L 3000, алюминий","Метр",null,5895.87,null,7075.0439999999999]
["AKSH3060","Крышка с заземлением на лоток осн.600мм, толщ. 2 мм, L 3000, алюминий","Метр",null,6982.66,null,8379.1919999999991]
["AKSM3005","Крышка с заземлением на лоток осн.50мм, толщ. 1,5 мм, L 3000, алюминий","Метр",null,893.85,null,1072.6199999999999]
["AKSM3008","Крышка с заземлением на лоток осн.80мм, толщ. 1,5 мм, L 3000, алюминий","Метр",null,1055.8499999999999,null,1267.0199999999998]
["AKSM3010","Крышка с заземлением на лоток осн.100мм, толщ. 1,5 мм,  L 3000, алюминий","Метр",null,1217.8800000000001,null,1461.4560000000001]
["AKSM3015","Крышка с заземлением на лоток осн.150мм, толщ. 1,5 мм, L 3000, алюминий","Метр",null,1694.2,null,2033.04]
["AKSM3020","Крышка прямого элемента листового лотка осн.200мм, толщ. 1,5 мм, L 3000,алюминий","Метр",null,2078.1999999999998,null,{"$f":"E1863*1.2","v":2493.8399999999997}]
["AKSM3030","Крышка с заземлением на лоток осн.300мм, толщ. 1,5 мм, L 3000, алюминий","Метр",null,2850.61,null,3420.732]
[null,null,null,null,null,null,0]
["APM301010","Лоток перфорированный 100х100х3000, толщ. 1,5мм, алюминий","Метр",null,3422.02,null,4106.424]
["APM301015","Лоток перфорированный 100х150х3000, толщ. 1,5мм, алюминий","Метр",null,4276.3999999999996,null,5131.6799999999994]
["APM301020","Лоток перфорированный 100х200х3000, толщ. 1,5мм, алюминий","Метр",null,4816,null,5779.2]
["APM301030","Лоток перфорированный 100х300х3000, толщ. 1,5мм, алюминий","Метр",null,5868.25,null,7041.9]
["APM30505","Лоток перфорированный 50х50х3000, толщ. 1,5мм, алюминий","Метр",null,1834.67,null,2201.6039999999998]
["APM30510","Лоток перфорированный 50х100х3000, толщ. 1,5мм, алюминий","Метр",null,2356.29,null,2827.5479999999998]
["APM30515","Лоток перфорированный 50х150х3000, толщ. 1,5мм, алюминий","Метр",null,3215.18,null,3858.2159999999994]
["APM30520","Лоток перфорированный 50х200х3000, толщ. 1,5мм, алюминий","Метр",null,3754.78,null,4505.7359999999999]
["APM30530","Лоток перфорированный 50х300х3000, толщ. 1,5мм, алюминий","Метр",null,4807.01,null,5768.4120000000003]
["APM30808","Лоток перфорированный 80х80х3000, толщ. 1,5мм, алюминий","Метр",null,2720.54,null,3264.6479999999997]
["APM30810","Лоток перфорированный 80х100х3000, толщ. 1,5мм, алюминий","Метр",null,2990.34,null,3588.4079999999999]
["APM30815","Лоток перфорированный 80х150х3000, толщ. 1,5мм, алюминий","Метр",null,3844.71,null,4613.652]
["APM30820","Лоток перфорированный 80х200х3000, толщ. 1,5мм, алюминий","Метр",null,4388.8100000000004,null,5266.5720000000001]
["APM30830","Лоток перфорированный 80х300х3000, толщ. 1,5мм, алюминий","Метр",null,5436.53,null,6523.8359999999993]
["APH301010","Лоток перфорированный 100х100х3000, толщ. 2мм, алюминий","Метр",null,5103.79,null,6124.5479999999998]
["APH301015","Лоток перфорированный 100х150х3000, толщ. 2мм, алюминий","Метр",null,6367.36,null,7640.8319999999994]
["APH301020","Лоток перфорированный 100х200х3000, толщ. 2мм, алюминий","Метр",null,7176.77,null,8612.1239999999998]
["APH301030","Лоток перфорированный 100х300х3000, толщ. 2мм, алюминий","Метр",null,8755.14,null,10506.168]
["APH301040","Лоток перфорированный 100х400х3000, толщ. 2мм, алюминий","Метр",null,10373.959999999999,null,12448.751999999999]
["APH301050","Лоток перфорированный 100х500х3000, толщ. 2мм, алюминий","Метр",null,11952.3,null,14342.759999999998]
["APH301060","Лоток перфорированный 100х600х3000, толщ. 2мм, алюминий","Метр",null,13490.19,null,16188.227999999999]
["APH30505","Лоток перфорированный 50х50х3000, толщ. 2мм, алюминий","Метр",null,2491.4499999999998,null,2989.74]
["APH30510","Лоток перфорированный 50х100х3000, толщ. 2мм, алюминий","Метр",null,3215.05,null,3858.06]
["APH30515","Лоток перфорированный 50х150х3000, толщ. 2мм, алюминий","Метр",null,4366.1899999999996,null,5239.427999999999]
["APH30520","Лоток перфорированный 50х200х3000, толщ. 2мм, алюминий","Метр",null,5106.24,null,6127.4879999999994]
["APH30530","Лоток перфорированный 50х300х3000, толщ. 2мм, алюминий","Метр",null,6549.29,null,7859.1479999999992]
["APH30540","Лоток перфорированный 50х400х3000, толщ. 2мм, алюминий","Метр",null,8029.37,null,9635.2439999999988]
["APH30550","Лоток перфорированный 50х500х3000, толщ. 2мм, алюминий","Метр",null,9476.5300000000007,null,11371.836000000001]
["APH30560","Лоток перфорированный 50х600х3000, толщ. 2мм, алюминий","Метр",null,10882.59,null,13059.108]
["APH30808","Лоток перфорированный 80х80х3000, толщ. 2мм, алюминий","Метр",null,4051.57,null,4861.884]
["APH30810","Лоток перфорированный 80х100х3000, толщ. 2мм, алюминий","Метр",null,4456.2700000000004,null,5347.5240000000003]
["APH30815","Лоток перфорированный 80х150х3000, толщ. 2мм, алюминий","Метр",null,5719.85,null,6863.8200000000006]
["APH30820","Лоток перфорированный 80х200х3000, толщ. 2мм, алюминий","Метр",null,6529.28,null,7835.1359999999995]
["APH30830","Лоток перфорированный 80х300х3000, толщ. 2мм, алюминий","Метр",null,8107.62,null,9729.1440000000002]
["APH30840","Лоток перфорированный 80х400х3000, толщ. 2мм, алюминий","Метр",null,9726.43,null,11671.716]
["APH30850","Лоток перфорированный 80х500х3000, толщ. 2мм, алюминий","Метр",null,11304.79,null,13565.748000000001]
["APH30860","Лоток перфорированный 80х600х3000, толщ. 2мм, алюминий","Метр",null,12842.67,null,15411.204]
[null,null,null,null,null,null,0]
["ANM301010","Лоток  100х100х3000, толщ. 1,5мм, алюминий","Метр",null,3422.02,null,4106.424]
["ANM301015","Лоток  100х150х3000, толщ. 1,5мм, алюминий","Метр",null,4276.3999999999996,null,5131.6799999999994]
["ANM301020","Лоток  100х200х3000, толщ. 1,5мм, алюминий","Метр",null,4816,null,5779.2]
["ANM301030","Лоток  100х300х3000, толщ. 1,5мм, алюминий","Метр",null,5868.25,null,7041.9]
["ANM30505","Лоток  50х50х3000, толщ. 1,5мм, алюминий","Метр",null,1834.67,null,2201.6039999999998]
["ANM30510","Лоток  50х100х3000, толщ. 1,5мм, алюминий","Метр",null,2356.29,null,2827.5479999999998]
["ANM30515","Лоток  50х150х3000, толщ. 1,5мм, алюминий","Метр",null,3215.18,null,3858.2159999999994]
["ANM30520","Лоток  50х200х3000, толщ. 1,5мм, алюминий","Метр",null,3754.78,null,4505.7359999999999]
["ANM30530","Лоток  50х300х3000, толщ. 1,5мм, алюминий","Метр",null,4807.01,null,5768.4120000000003]
["ANM30808","Лоток  80х80х3000, толщ. 1,5мм, алюминий","Метр",null,2720.54,null,3264.6479999999997]
["ANM30810","Лоток  80х100х3000, толщ. 1,5мм, алюминий","Метр",null,2990.34,null,3588.4079999999999]
["ANM30815","Лоток  80х150х3000, толщ. 1,5мм, алюминий","Метр",null,3844.71,null,4613.652]
["ANM30820","Лоток  80х200х3000, толщ. 1,5мм, алюминий","Метр",null,4388.8100000000004,null,5266.5720000000001]
["ANM30830","Лоток  80х300х3000, толщ. 1,5мм, алюминий","Метр",null,5436.53,null,6523.8359999999993]
["ANH301010","Лоток  100х100х3000, толщ. 2мм, алюминий","Метр",null,5103.79,null,6124.5479999999998]
["ANH301015","Лоток  100х150х3000, толщ. 2мм, алюминий","Метр",null,6367.36,null,7640.8319999999994]
["ANH301020","Лоток  100х200х3000, толщ. 2мм, алюминий","Метр",null,7176.77,null,8612.1239999999998]
["ANH301030","Лоток  100х300х3000, толщ. 2мм, алюминий","Метр",null,8755.14,null,10506.168]
["ANH301040","Лоток  100х400х3000, толщ. 2мм, алюминий","Метр",null,10373.959999999999,null,12448.751999999999]
["ANH301050","Лоток  100х500х3000, толщ. 2мм, алюминий","Метр",null,11952.3,null,14342.759999999998]
["ANH301060","Лоток  100х600х3000, толщ. 2мм, алюминий","Метр",null,13490.19,null,16188.227999999999]
["ANH30505","Лоток  50х50х3000, толщ. 2мм, алюминий","Метр",null,2491.4499999999998,null,2989.74]
["ANH30510","Лоток  50х100х3000, толщ. 2мм, алюминий","Метр",null,3215.05,null,3858.06]
["ANH30515","Лоток  50х150х3000, толщ. 2мм, алюминий","Метр",null,4366.1899999999996,null,{"$f":"E1927*1.2","v":5239.427999999999}]
["ANH30520","Лоток  50х200х3000, толщ. 2мм, алюминий","Метр",null,5106.24,null,6127.4879999999994]
["ANH30530","Лоток  50х300х3000, толщ. 2мм, алюминий","Метр",null,6549.29,null,7859.1479999999992]
["ANH30540","Лоток  50х400х3000, толщ. 2мм, алюминий","Метр",null,8029.37,null,9635.2439999999988]
["ANH30550","Лоток  50х500х3000, толщ. 2мм, алюминий","Метр",null,9476.5300000000007,null,11371.836000000001]
["ANH30560","Лоток  50х600х3000, толщ. 2мм, алюминий","Метр",null,10882.59,null,13059.108]
["ANH30808","Лоток  80х80х3000, толщ. 2мм, алюминий","Метр",null,4051.57,null,4861.884]
["ANH30810","Лоток  80х100х3000, толщ. 2мм, алюминий","Метр",null,4456.2700000000004,null,5347.5240000000003]
["ANH30815","Лоток  80х150х3000, толщ. 2мм, алюминий","Метр",null,5719.85,null,6863.8200000000006]
["ANH30820","Лоток  80х200х3000, толщ. 2мм, алюминий","Метр",null,6529.28,null,7835.1359999999995]
["ANH30830","Лоток  80х300х3000, толщ. 2мм, алюминий","Метр",null,8107.62,null,9729.1440000000002]
["ANH30840","Лоток  80х400х3000, толщ. 2мм, алюминий","Метр",null,9726.43,null,11671.716]
["ANH30850","Лоток  80х500х3000, толщ. 2мм, алюминий","Метр",null,11304.79,null,13565.748000000001]
["ANH30860","Лоток  80х600х3000, толщ. 2мм, алюминий","Метр",null,12842.67,null,15411.204]
[null,null,null,null,null,null,0]
["30195RAL9010","Заглушка сборная ТС 200х50, RAL9010","Штука",null,439.92,null,527.904]
["30197RAL9010","Заглушка сборная ТС 400х50, RAL9010","Штука",null,549.71,null,659.65200000000004]
["35260RAL9010","Лоток перфорированный 50х50 L3000, RAL9010","Метр",null,842.56,null,1011.0719999999999]
["3526215RAL9016","Лоток перфорированный 100х50 L3000 толщ.1,5 мм, RAL","Метр",null,2598.8000000000002,null,3118.56]
["3526315RAL5003","Лоток перфорированный 150х50 L 3000 толщ. 1,5 мм, RAL","Метр",null,3139.27,null,3767.1239999999998]
["3526315RAL9016","Лоток перфорированный 150х50 L3000 толщ.1,5 мм, RAL","Метр",null,3139.27,null,3767.1239999999998]
["35520RAL9010","Крышка на лоток осн.50 L3000 RAL9010","Метр",null,469.67,null,563.60400000000004]
["36003KRAL5003","Угол CPO 90 гориз. 150х50, RAL","Упаковка",null,2760.08,null,3312.096]
["37301RAL5003","Пластина GTO крепежн. H50, RAL","Штука",null,116.05,null,139.26]
["37353RAL5003","Накладка CGB для лотка 150, RAL","Штука",null,118.49,null,142.18799999999999]
["37354RAL9010","Накладка CGB для лотка осн.200, RAL9010","Штука",null,146.41999999999999,null,175.70399999999998]
["37355RAL9010","Накладка CGB для лотка осн.300, RAL","Штука",null,186.28,null,223.536]
["37356RAL9010","Накладка CGB для лотка осн.400, RAL","Штука",null,237.8,null,285.36]
["LP3000RAL7004","Пластина монтажная вертикальная, RAL7004","Штука",null,1277.52,null,1533.0239999999999]
["35113RAL9003","Лоток 200х100 L2000, RAL9003","Метр",null,2999.41,null,3599.2919999999999]
["35022RAL1015","Лоток 100х50 L3000, RAL1015","Метр",null,1069.75,null,1283.7]
["35513RAL9010","Крышка с заземлением на лоток осн.150 L2000, RAL9010","Метр",null,790.67,null,948.80399999999986]
["36123RAL9010","Ответвитель DPT Т-образный горизонтальный 150х50, RAL9010","Штука",null,2379.0300000000002,null,2854.8360000000002]
["36782ZLRAL9016","Угол CD 90 вертикальный внеш. 90° 100/50, цинк-ламельный окрашенный RAL9016","Штука",null,2172.54,null,2607.0479999999998]
["36783ZLRAL9016","Угол CD 90 вертикальный внеш. 90° 150/50, цинк-ламельный окрашенный RAL9016","Штука",null,2546.65,null,3055.98]
["36784ZLRAL9016","Угол CD 90 вертикальный внеш. 90° 200/50, цинк-ламельный окрашенный RAL9016","Штука",null,2909.01,null,3490.8120000000004]
["36785ZLRAL9016","Угол CD 90 вертикальный внеш. 90° 300/50, цинк-ламельный окрашенный RAL9016","Штука",null,3759.4,null,4511.28]
["37301HDZLRAL9016","Пластина GTO крепежная H50 цинк-ламельная окрашенная RAL 9016","Штука",null,345.64,null,414.76799999999997]
["37352HDZLRAL9016","Накладка CGB для лотка 100 цинк-ламельная окрашенная RAL 9016","Штука",null,414.04,null,496.84800000000001]
["37353HDZLRAL9016","Накладка CGB для лотка 150 цинк-ламельная окрашенная RAL 9016","Штука",null,448.3,null,537.96]
["30265RAL7044","Заглушка сборная ТС 100х100, RAL7044","Штука",null,558.6,null,670.32]
["35260RAL7044","Лоток перфорированный 50х50 L3000, RAL7044","Метр",null,842.56,null,1011.0719999999999]
["35262RAL7044","Лоток перфорированный 100х50  L3000, RAL7044","Метр",null,1069.75,null,1283.7]
["35341RAL7044","Лоток перфорированный 100х100 L3000, RAL7044","Метр",null,2008.31,null,2409.9719999999998]
["35520RAL7044","Крышка с заземлением на лоток осн.50, RAL7044","Метр",null,469.67,null,563.60400000000004]
["35522RAL7044","Крышка с заземлением осн.100 L3000, RAL7044","Метр",null,618.29,null,741.94799999999998]
["35022RAL7040","Лоток 100х50 L3000, RAL7040","Метр",null,1069.75,null,1283.7]
["35522RAL7040","Крышка на лоток осн.100 L3000, RAL7040","Метр",null,618.29,null,741.94799999999998]
["35264RAL9016","Лоток перфорированный 200х50 L3000, RAL9016","Метр",null,1694.55,null,2033.4599999999998]
["35524RAL9016","Крышка на лоток осн.200 L3000, RAL9016","Метр",null,1025.72,null,1230.864]
["36299RAL9010","Переходник RRC симметричный 400/200 H80, RAL9010","Штука",null,3215.75,null,3858.8999999999996]
["37303RAL9010","Пластина соединительная GTO H80, RAL9010","Штука",null,130.19999999999999,null,156.23999999999998]
["35012RAL9016","Лоток 100х50 L2000, RAL9016","Метр",null,1069.75,null,1283.7]
["35512RAL9016","Крышка с заземлением на лоток осн.100 L2000, RAL9016","Метр",null,618.29,null,741.94799999999998]
["36183RAL9010","Ответвитель DPX крестообразный 150х50, RAL9010","Штука",null,3263.23,null,3915.8759999999997]
["38043RAL9010","Крышка на ответвитель DPT Т-образный горизонтальный осн.150, RAL9010","Штука",null,1768.15,null,2121.7800000000002]
["37301RAL7004","Пластина соединительная GTO H50, RAL7004","Штука",null,116.05,null,139.26]
["35304RAL7035","Лоток перфорированный 200х80 L3000, RAL7035","Метр",null,2415.27,null,2898.3240000000001]
["35312RAL7035","Лоток перфорированный 100х80 L2000, RAL7035","Метр",null,1750.09,null,2100.1079999999997]
["35512RAL7035","Крышка на лоток осн.100 L2000, RAL7035","Метр",null,618.29,null,741.94799999999998]
["36022RAL7035","Угол CPO 90 горизонт. 90° 100х80, RAL7035","Штука",null,1358.78,null,1630.5359999999998]
["36142RAL7035","Ответвитель DPT Т-образный 100х80, RAL7035","Штука",null,2207.92,null,2649.5039999999999]
["36682RAL7035","Угол CS 90 вертик. внутр. 90° 100/80,RAL7035","Штука",null,1673.66,null,2008.3920000000001]
["36802RAL7035","Угол CD 90 вертик. внеш. 90° 100/80, RAL7035","Штука",null,1718.19,null,2061.828]
["37002RAL7035","Угол CDSD 90 верт.внеш.осн.100 H80, RAL7035","Штука",null,5018.8,null,{"$f":"E1991*1.2","v":6022.56}]
["37102RAL7035","Ответвитель TD Т-обр. вертик.осн.100 H80,RAL7035","Штука",null,4794.74,null,5753.6879999999992]
["37264RAL7035","Заглушка ТС 200х80, RAL7035","Штука",null,597.11,null,716.53200000000004]
["37303RAL7035","Пластина соединительная GTO H80, RAL7035","Штука",null,130.19999999999999,null,156.23999999999998]
["37372RAL7035","Угол CDV 90 вертик.внеш. осн.100 H80,RAL7035","Штука",null,3949.51,null,4739.4120000000003]
["37392RAL7035","Накладка CGC для крышки лотка осн.100, RAL7035","Штука",null,184.18,null,221.01599999999999]
["35523RAL7004","Крышка с заземлением на лоток осн.150 L3000, RAL7004","Метр",null,790.67,null,948.80399999999986]
["35302RAL8017","Лоток перфорированный 100х80 L3000, RAL8017","Метр",null,1750.09,null,2100.1079999999997]
["35303RAL8017","Лоток перфорированный 150х80 L3000, RAL8017","Метр",null,2126.4299999999998,null,2551.7159999999999]
["35523RAL8017","Крышка с заземлением на лоток осн.150 L3000, RAL8017","Метр",null,790.67,null,948.80399999999986]
["38003RAL9010","Крышка на угол CPO 90 горизонтальный 90° осн.150, RAL9010","Штука",null,1377.12,null,1652.5439999999999]
["36664RAL7004","Угол CS 90 верт. внутр. 200/50, RAL7004","Штука",null,2169.92,null,2603.904]
["35111RAL9010","Лоток 200х100 L2000, RAL9010","Метр",null,2008.31,null,2409.9719999999998]
["38079RAL9010","Крышка на переходник RRC симметричный 100/50, RAL9010","Штука",null,1461.12,null,1753.3439999999998]
["SCN540KHDZ","Угол горизонтальный 45 градусов 50х400, 1,2 мм, горячий цинк, в комплекте с крепежными элементами и соединительными пластинами,необходимыми для монтажа","Упаковка",null,8044.06,null,9652.8719999999994]
["SDN540KHDZ","Угол горизонтальный 90 градусов 50х400, 1,2 мм, горячий цинк, в комплекте с крепежными элементами и соединительными пластинами,необходимыми для монтажа","Упаковка",null,8700.91,null,10441.091999999999]
["SFN560KHDZ","Ответвитель универсальный 50х600, 1,2 мм, горячий цинк, в комплекте с крепежными элементами и соединительными пластинами,необходимыми для монтажа","Упаковка",null,10790.94,null,12949.128000000001]
["SFN1010KHDZ","Ответвитель универсальный 100х100, 1,2 мм, горячий цинк, в комплекте с крепежными элементами и соединительными пластинами,необходимыми для монтажа","Упаковка",null,6248.91,null,7498.6919999999991]
["SKN540KHDZ","Угол вертикальный внутренний 45 градусов 50х400, 1,2 мм, горячий цинк, в комплекте с крепежными элементами и соединительнымипластинами, необходимыми для монтажа","Упаковка",null,6975.68,null,8370.8160000000007]
["SON530KHDZ","Угол вертикальный внешний 90 градусов 50х300, 1,2 мм, горячий цинк, в комплекте с крепежными элементами и соединительнымипластинами, необходимыми для монтажа","Упаковка",null,6891,null,8269.1999999999989]
["SPN850KHDZ","Угол вертикальный внешний 45 градусов 80х500, 1,2 мм, горячий цинк, в комплекте с крепежными элементами и соединительнымипластинами, необходимыми для монтажа","Упаковка",null,7954.22,null,9545.0640000000003]
["STN1010KHDZ","Ответвитель Т-образный 100х100, 1,2 мм, горячий цинк, в комплекте с крепежными элементами и соединительными пластинами,необходимыми для монтажа","Упаковка",null,7952.76,null,9543.3119999999999]
["SXN1010KHDZ","Ответвитель Х-образный 100х100, 1,2 мм, горячий цинк, в комплекте с крепежными элементами и соединительными пластинами,необходимыми для монтажа","Упаковка",null,10850.43,null,13020.516]
["SCM820KHDZ","Угол горизонтальный 45 градусов 80х200, 1,5 мм, горячий цинк, в комплекте с крепежными элементами и соединительными пластинами,необходимыми для монтажа","Упаковка",null,6738.14,null,8085.768]
["SDM840KHDZ","Угол горизонтальный 90 градусов 80х400, 1,5 мм, горячий цинк, в комплекте с крепежными элементами и соединительными пластинами,необходимыми для монтажа","Упаковка",null,11111.86,null,13334.232]
["SDM1060KHDZ","Угол горизонтальный 90 градусов 100х600, 1,5 мм, горячий цинк, в комплекте с крепежными элементами и соединительными пластинами,необходимыми для монтажа","Упаковка",null,19235.41,null,23082.491999999998]
["SIM1010KHDZ","Угол вертикальный внутренний 90 градусов 100х100, 1,5 мм, горячий цинк, в комплекте с крепежными элементами и соединительнымипластинами, необходимыми для монтажа","Упаковка",null,6652.41,null,7982.8919999999998]
["SKM815KHDZ","Угол вертикальный внутренний 45 градусов 80х150, 1,5 мм, горячий цинк, в комплекте с крепежными элементами и соединительнымипластинами, необходимыми для монтажа","Упаковка",null,6425.28,null,7710.3359999999993]
["SOM1040KHDZ","Угол вертикальный внешний 90 градусов 100х400, 1,5 мм, горячий цинк, в комплекте с крепежными элементами и соединительнымипластинами, необходимыми для монтажа","Упаковка",null,10052.81,null,12063.371999999999]
["SPM1060KHDZ","Угол вертикальный внешний 45 градусов 100х600, 1,5 мм, горячий цинк, в комплекте с крепежными элементами и соединительнымипластинами, необходимыми для монтажа","Упаковка",null,11136.24,null,13363.487999999999]
["STM530KHDZ","Ответвитель Т-образный 50х300, 1,5 мм, горячий цинк, в комплекте с крепежными элементами и соединительными пластинами, необходимымидля монтажа","Упаковка",null,11452.97,null,13743.563999999998]
["SXM810KHDZ","Ответвитель Х-образный 80х100, 1,5 мм, горячий цинк, в комплекте с крепежными элементами и соединительными пластинами, необходимымидля монтажа","Упаковка",null,12348.98,null,14818.775999999998]
["SCH1030KHDZ","Угол горизонтальный 45 градусов 100х300, 2,0 мм, горячий цинк, в комплекте с крепежными элементами и соединительными пластинами,необходимыми для монтажа","Упаковка",null,12818.04,null,15381.648000000001]
["SDH540KHDZ","Угол горизонтальный 90 градусов 50х400, 2,0 мм, горячий цинк, в комплекте с крепежными элементами и соединительными пластинами,необходимыми для монтажа","Упаковка",null,15537.3,null,18644.759999999998]
["SIH530KHDZ","Угол вертикальный внутренний 90 градусов 50х300, 2,0 мм, горячий цинк, в комплекте с крепежными элементами и соединительнымипластинами, необходимыми для монтажа","Упаковка",null,12317.67,null,14781.204]
["SIH1010KHDZ","Угол вертикальный внутренний 90 градусов 100х100, 2,0 мм, горячий цинк, в комплекте с крепежными элементами и соединительнымипластинами, необходимыми для монтажа","Упаковка",null,9782.9699999999993,null,11739.563999999998]
["SOH520KHDZ","Угол вертикальный внешний 90 градусов 50х200, 2,0 мм, горячий цинк, в комплекте с крепежными элементами и соединительнымипластинами, необходимыми для монтажа","Упаковка",null,10342.280000000001,null,12410.736000000001]
["SPH540KHDZ","Угол вертикальный внешний 45 градусов 50х400, 2,0 мм, горячий цинк, в комплекте с крепежными элементами и соединительнымипластинами, необходимыми для монтажа","Упаковка",null,12432.07,null,14918.483999999999]
["SPH860KHDZ","Угол вертикальный внешний 45 градусов 80х600, 2,0 мм, горячий цинк, в комплекте с крепежными элементами и соединительнымипластинами, необходимыми для монтажа","Упаковка",null,15307.12,null,18368.544000000002]
["STH860KHDZ","Ответвитель Т-образный 80х600, 2,0 мм, горячий цинк, в комплекте с крепежными элементами и соединительными пластинами, необходимымидля монтажа","Упаковка",null,32957.57,null,{"$f":"E2695*1.2","v":39549.083999999995}]
["SKCN080KHDZ","Крышка на угол горизонтальный 45 градусов 80, 1,2 мм, горячий цинк, в комплекте с крепежными элементами необходимыми для монтажа","Упаковка",null,1346.78,null,1616.136]
["SKDN080KHDZ","Крышка на угол горизонтальный 90 градусов 80, 1,2 мм, горячий цинк, в комплекте с крепежными элементами необходимыми для монтажа","Упаковка",null,1398.14,null,1677.768]
["SKIN815KHDZ","Крышка на угол вертикальный внутренний 90 градусов 80х150, 1,2 мм, горячий цинк, в комплекте с крепежными элементами необходимымидля монтажа","Упаковка",null,1646.49,null,1975.788]
["SKKN1015KHDZ","Крышка на угол вертикальный внутренний 45 градусов 100х150, 1,2 мм, горячий цинк, в комплекте с крепежными элементами необходимымидля монтажа","Упаковка",null,1609.2,null,1931.04]
["SKPN530KHDZ","Крышка на угол вертикальный внешний 45 градусов 50х300, 1,2 мм, горячий цинк, в комплекте с крепежными элементами необходимыми длямонтажа","Упаковка",null,2073.84,null,2488.6080000000002]
["SKTN400KHDZ","Крышка на Т-образный ответвитель 400, 1,2 мм, горячий цинк, в комплекте с крепежными элементами необходимыми для монтажа","Упаковка",null,5617.77,null,6741.3240000000005]
["SKCM150KHDZ","Крышка на угол горизонтальный 45 градусов 150, 1,5 мм, горячий цинк, в комплекте с крепежными элементами необходимыми для монтажа","Упаковка",null,2148.5300000000002,null,2578.2360000000003]
["SKFM150KHDZ","Крышка на ответвитель универсальный с основанием 150, 1,5 мм, горячий цинк, в комплекте с крепежными элементами необходимыми длямонтажа","Упаковка",null,2560.64,null,3072.7679999999996]
["SKKM530KHDZ","Крышка на угол вертикальный внутренний 45 градусов 50х300, 1,5 мм, горячий цинк, в комплекте с крепежными элементами необходимымидля монтажа","Упаковка",null,2550.62,null,3060.7439999999997]
["SKKM840KHDZ","Крышка на угол вертикальный внутренний 45 градусов 80х400, 1,5 мм, горячий цинк, в комплекте с крепежными элементами необходимымидля монтажа","Упаковка",null,2981.58,null,3577.8959999999997]
["SKOM1060KHDZ","Крышка на угол вертикальный внешний 90 градусов 100х600, 1,5 мм, горячий цинк, в комплекте с крепежными элементами необходимыми длямонтажа","Упаковка",null,6909.6,null,8291.52]
["SKTM080KHDZ","Крышка на Т-образный ответвитель 80, 1,5 мм, горячий цинк, в комплекте с крепежными элементами необходимыми для монтажа","Упаковка",null,2386.91,null,2864.2919999999999]
["SKCH600KHDZ","Крышка на угол горизонтальный 45 градусов 600, 2,0 мм, горячий цинк, в комплекте с крепежными элементами необходимыми для монтажа,горячий цинк, в комплекте с крепежными элементами необходимыми для монтажа","Упаковка",null,13824.71,null,16589.651999999998]
["SKIH850KHDZ","Крышка на угол вертикальный внутренний 90 градусов 80х500, 2,0 мм, горячий цинк, в комплекте с крепежными элементами необходимымидля монтажа","Упаковка",null,5407.64,null,6489.1680000000006]
["SKKH820KHDZ","Крышка на угол вертикальный внутренний 45 градусов 80х200, 2,0 мм, горячий цинк, в комплекте с крепежными элементами необходимымидля монтажа","Упаковка",null,3078.29,null,3693.9479999999999]
["SKOH510KHDZ","Крышка на угол вертикальный внешний 90 градусов 50х100, 2,0 мм, горячий цинк, в комплекте с крепежными элементами необходимыми длямонтажа","Упаковка",null,2734.84,null,3281.808]
["SKPH820KHDZ","Крышка на угол вертикальный внешний 45 градусов 80х200, 2,0 мм, горячий цинк, в комплекте с крепежными элементами необходимыми длямонтажа","Упаковка",null,3350.17,null,4020.2039999999997]
["SKPH1040KHDZ","Крышка на угол вертикальный внешний 45 градусов 100х400, 2,0 мм, горячий цинк, в комплекте с крепежными элементами необходимыми длямонтажа","Упаковка",null,5282.25,null,6338.7]
["SPV40505HDZ","Лоток перфорированный 50x50х4000, 1,0 мм, горячеоцинкованный","Метр",null,1049.56,null,1259.472]
["SPV40140HDZ","Лоток перфорированный 100х400х4000, 1,0 мм, горячеоцинкованный","Метр",null,4505.49,null,5406.5879999999997]
["SPV60160HDZ","Лоток перфорированный 100х600х6000, 1,0 мм, горячеоцинкованный","Метр",null,6596.33,null,7915.5959999999995]
["3530212HDZ","Лоток перфорированный 100х80 L 3000 толщ. 1,2 мм, горячеоцинкованный","Метр",null,1770.6,null,2124.7199999999998]
["SPN40815HDZ","Лоток перфорированный 80х150х4000, 1,2 мм, горячеоцинкованный","Метр",null,2131.33,null,2557.596]
["SPN40120HDZ","Лоток перфорированный 100х200х4000, 1,2 мм, горячеоцинкованный","Метр",null,3107.77,null,3729.3239999999996]
["3526315HDZ","Лоток перфорированный 150х50 L 3000 толщ. 1,5 мм, горячеоцинкованный","Метр",null,1760.06,null,2112.0719999999997]
["SPM40560HDZ","Лоток перфорированный 50x600х4000, 1,5 мм, горячеоцинкованный","Метр",null,5826.57,null,6991.8839999999991]
["SPM60815HDZ","Лоток перфорированный 80х150х6000, 1,5 мм, горячеоцинкованный","Метр",null,2287.4699999999998,null,2744.9639999999995]
["SPH30515HDZ","Лоток перфорированный 50x150х3000, 2,0 мм, горячеоцинкованный","Метр",null,2464.12,null,2956.944]
["SPH40530HDZ","Лоток перфорированный 50x300х4000, 2,0 мм, горячеоцинкованный","Метр",null,4395.3900000000003,null,5274.4679999999998]
["SPH60850HDZ","Лоток перфорированный 80х500х6000, 2,0 мм, горячеоцинкованный","Метр",null,7293.23,null,8751.8759999999984]
["SPH60150HDZ","Лоток перфорированный 100х500х6000, 2,0 мм, горячеоцинкованный","Метр",null,8848.18,null,10617.816000000001]
["3502010HDZ","Лоток 50х50 L 3000 толщ. 1,0 мм, горячеоцинкованный","Метр",null,1049.56,null,1259.472]
["SNV40130HDZ","Лоток  100х300х4000, 1,0 мм, горячеоцинкованный","Метр",null,3969.11,null,4762.9319999999998]
["SNV60150HDZ","Лоток  100х500х6000, 1,0 мм, горячеоцинкованный","Метр",null,5074.03,null,6088.8359999999993]
["3501712HDZ","Лоток 500х50 L 2000 толщ. 1,2 мм, горячеоцинкованный","Метр",null,4518.7700000000004,null,5422.5240000000003]
["3510112HDZ","Лоток 100х100 L 3000 толщ. 1,2 мм, горячеоцинкованный","Метр",null,2441.83,null,2930.1959999999999]
["SNN40120HDZ","Лоток  100х200х4000, 1,2 мм, горячеоцинкованный","Метр",null,3107.77,null,3729.3239999999996]
["3502315HDZ","Лоток 150х50 L3000 толщ.1,5 мм, горячеоцинкованный","Метр",null,1760.06,null,2112.0719999999997]
["3510215HDZ","Лоток 150х100 L3000 толщ.1,5 мм, горячеоцинкованный","Метр",null,3005.64,null,3606.7679999999996]
["SNM40110HDZ","Лоток  100х100х4000, 1,5 мм, горячеоцинкованный","Метр",null,2615.31,null,3138.3719999999998]
["SNH30520HDZ","Лоток  50x200х3000, 2,0 мм, горячеоцинкованный","Метр",null,2876.12,null,3451.3439999999996]
["SNH40540HDZ","Лоток  50x400х4000, 2,0 мм, горячеоцинкованный","Метр",null,5490.12,null,6588.1439999999993]
["SNH40120HDZ","Лоток  100х200х4000, 2,0 мм, горячеоцинкованный","Метр",null,4670.3100000000004,null,5604.3720000000003]
[null,null,null,null,null,null,0]
["35263600HDZ","Телескопическое расширение для лотка 150х50 L600 мм, горячеоцинкованное","Штука",null,2671.34,null,3205.6080000000002]
["38025HDZ","Крышка CPO 45 на угол горизонтальный 45° осн.300, горячеоцинкованная","Штука",null,2065.83,null,2478.9959999999996]
["38040HDZ","Крышка DPT на ответвитель Т-образный горизонтальный  осн.50, горячеоцинкованная","Штука",null,1239.45,null,1487.34]
["38086HDZ","Крышка RRC на переходник 300/80, горячеоцинкованная","Штука",null,1535.96,null,1843.152]
["38171HDZ","Крышка RRS на переходник левостор. 400/300, горячеоцинкованная","Штука",null,2070.83,null,2484.9959999999996]
["38241HDZ","Крышка CD 90 на угол вертикальный внеш. 90° осн.80, горячеоцинкованная","Штука",null,953.07,null,1143.684]
["38282HDZ","Крышка CDSD/CDSS  90 на угол вертикальный внеш. 100/100, горячеоцинкованная","Штука",null,1512.97,null,{"$f":"E3911*1.2","v":1815.5640000000001}]
["38325HDZ","Крышка TDS на ответвитель Т-образный вертикальный ун. осн.300, горячеоцинкованная","Штука",null,2841.97,null,3410.3639999999996]
["38386HDZ","Крышка TDSA на ответвитель Т-обр. вертикальный 100/200, горячеоцинкованная","Штука",null,2086.12,null,2503.3439999999996]
["36021KHDZ","Угол CPO 90 горизонтальный 90° 80х80 в комплекте с крепежными элементамии соединительными пластинами, необходимыми для монтажа,горячеоцинкованный","Упаковка",null,3141.44,null,3769.7280000000001]
["36044KHDZ","Угол CPO 90 горизонтальный 90° 300х100 в комплекте с крепежными элементами и соединительными пластинами, необходимыми для монтажа,горячеоцинкованный","Упаковка",null,5373.35,null,6448.02]
["36088KHDZ","Угол CPO 45 горизонтальный 45° 600х80 в комплекте с крепежными элементами и соединительными пластинами, необходимыми для монтажа,горячеоцинкованный","Упаковка",null,9740.85,null,11689.02]
["36183KHDZ","Ответвитель DPX крестообразный 150х50 в комплекте с крепежными элементами и соединительными пластинами, необходимыми для монтажа,горячеоцинкованный","Упаковка",null,7146.51,null,8575.8119999999999]
["36238KHDZ","Ответвитель DL 300х50 в комплекте с крепежными элементами и соединительными пластинами, необходимыми для монтажа, горячеоцинкованный","Упаковка",null,4768.1400000000003,null,5721.768]
["36665KHDZ","Угол CS 90 вертикальный внутр. 90° 300/50 в комплекте с крепежными элементами и соединительными пластинами, необходимыми длямонтажа, горячеоцинкованный","Упаковка",null,4927.0600000000004,null,5912.4720000000007]
["36707KHDZ","Угол CS 90 вертикальный внутр. 90° 600/100 в комплекте с крепежными элементами и соединительными пластинами, необходимыми длямонтажа, горячеоцинкованный","Упаковка",null,8193.93,null,9832.7160000000003]
["36766KHDZ","Угол CS 45 вертикальный внутр. 45° 500/100 в комплекте с крепежными элементами и соединительными пластинами, необходимыми длямонтажа, горячеоцинкованный","Упаковка",null,6138.85,null,7366.62]
["36843KHDZ","Угол CD 45 вертикальный внеш. 45° 150х50 в комплекте с крепежными элементами и соединительными пластинами, необходимыми длямонтажа, горячеоцинкованный","Упаковка",null,3529.67,null,4235.6040000000003]
["36883KHDZ","Угол CD 45 вертикальный внеш. 45° 200х100 в комплекте с крепежными элементами и соединительными пластинами, необходимыми длямонтажа, горячеоцинкованный","Упаковка",null,4428.96,null,5314.7519999999995]
["36317KHDZ","Переходник RRC симметричный 500/200 h50 в комплекте с крепежными элементами и соединительными пластинами, необходимыми для монтажа,горячеоцинкованный","Упаковка",null,5661.56,null,6793.8720000000003]
["36421KHDZ","Переходник RRC симметричный 600/400 H50 в комплекте с крепежными элементами и соединительными пластинами, необходимыми для монтажа,горячеоцинкованный","Упаковка",null,7010.98,null,8413.1759999999995]
["36406KHDZ","Переходник RRD правосторонний  200/150 H80 в комплекте с крепежными элементами и соединительными пластинами, необходимыми длямонтажа, горячеоцинкованный","Упаковка",null,5050.96,null,6061.152]
["36355KHDZ","Переходник RRS левосторонний 150/100  H50 в комплекте с крепежными элементами и соединительными пластинами, необходимыми длямонтажа, горячеоцинкованный","Упаковка",null,3719.55,null,4463.46]
["36360KHDZ","Переходник RRS левосторонний 300/200  H50 в комплекте с крепежными элементами и соединительными пластинами, необходимыми длямонтажа, горячеоцинкованный","Упаковка",null,4643.08,null,5571.6959999999999]
["36372KHDZ","Переходник RRS левосторонний 400/200 H100 в комплекте с крепежными элементами и соединительными пластинами, необходимыми длямонтажа, горячеоцинкованный","Упаковка",null,6130.77,null,7356.924]
["37654KHDZ","Угол CDSS 90 вертикальный внеш. переходник лев. осн.300 H50 в комплекте с крепежными элементами и соединительными пластинами,необходимыми для монтажа, горячеоцинкованный","Упаковка",null,10942.8,null,13131.359999999999]
["37595KHDZ","Угол CSSS 90 вертикальный внутр. переходник лев. осн. 300 H50 в комплекте с крепежными элементами и соединительными пластинами,необходимыми для монтажа, горячеоцинкованный","Упаковка",null,13536.74,null,16244.088]
["37073KHDZ","Угол CSSS 90 вертикальный внутр. переходник левый. осн.150 H100 в комплекте с крепежными элементами и соединительными пластинами,необходимыми для монтажа, горячеоцинкованный","Упаковка",null,9236.0499999999993,null,11083.259999999998]
["37624KHDZ","Ответвитель TDSR Т-обр. вертикальный переходник 200/100 в комплекте с крепежными элементами и соединительными пластинами,необходимыми для монтажа, горячеоцинкованный","Упаковка",null,8180.31,null,9816.3719999999994]
["37375KHDZ","Угол CDV 90 вертикальный внеш. 300/80 в комплекте с крепежными элементами и соединительными пластинами, необходимыми для монтажа,горячеоцинкованный","Упаковка",null,7237.55,null,8685.06]
["37478KHDZ","Угол CDV 90 вертикальный внеш. осн.600 H100 в комплекте с крепежными элементами и соединительными пластинами, необходимыми длямонтажа, горячеоцинкованный","Упаковка",null,15930.32,null,19116.383999999998]
["37168KHDZ","Ответвитель TDS Т-образный вертикальный ун. осн. 600 в комплекте с крепежными элементами и соединительными пластинами, необходимымидля монтажа, горячеоцинкованный","Упаковка",null,17449.75,null,20939.7]
["37244KHDZ","Крышка-ответвитель TS осн.200/80 в комплекте с крепежными элементами и соединительными пластинами, необходимыми для монтажа,горячеоцинкованная","Упаковка",null,7911.67,null,9494.003999999999]
["37586KHDZ","Ответвитель TDS T-образный вертикальный ун. осн.400 H50 в комплекте с крепежными элементами и соединительными пластинами,необходимыми для монтажа, горячеоцинкованный","Упаковка",null,14064.63,null,16877.555999999997]
["37379KHDZ","Ответвитель-крышка Т-обр вертикальный вниз DDS 150/50 в комплекте скрепежными элементами и соединительными пластинами, необходимыми длямонтажа, горячеоцинкованный","Упаковка",null,6718.79,null,8062.5479999999998]
["35520HDZ","Крышка на лоток с заземлением осн.50 L3000, горячеоцинкованная","Метр",null,563.48,null,676.17600000000004]
["3552710HDZ","Крышка на лоток с заземлением осн. 500 L 3000, толщ. 1,0мм, горячеоцинкованная","Метр",null,3377.03,null,4052.4360000000001]
["3552415HDZ","Крышка на лоток с заземлением осн. 200 L3000 толщ.1,5 мм, горячеоцинкованная","Метр",null,1625.99,null,1951.1879999999999]
["SKS333HDZ","Крышка двускатная 300, L1500 гор. цинк.","Штука",null,5557.84,null,6669.4080000000004]
["35266HDZ","Лоток перфорированный 400х50 L3000, горячеоцинкованный","Метр",null,3143.77,null,3772.5239999999999]
["3534110HDZ","Лоток перфорированный 100х100 L 3000 толщ. 1,0 мм, горячеоцинкованный","Метр",null,2315.37,null,2778.444]
["35068HDZ","Лоток 600х80 L3000, горячеоцинкованный","Метр",null,5432.07,null,6518.4839999999995]
["35111HDZ","Лоток 100х100 L2000, горячеоцинкованный","Метр",null,2104.8200000000002,null,2525.7840000000001]
["SCN530K","Угол горизонтальный 45 градусов 50х300, 1,2 мм, в комплплекте с крепежными элементами и соединительными пластинами, необходимымидля монтажа","Упаковка",null,3855.5,null,4626.5999999999995]
["SCM550K","Угол горизонтальный 45 градусов 50х500, 1,5 мм, в комплекте с крепежными элементами и соединительными пластинами, необходимыми длямонтажа","Упаковка",null,6813.46,null,8176.152]
["SCH1010K","Угол горизонтальный 45 градусов 100х100, 2,0 мм, в комплекте с крепежными элементами и соединительными пластинами, необходимыми длямонтажа","Упаковка",null,5030.6499999999996,null,6036.78]
["SDN840K","Угол горизонтальный 90 градусов 80х400, 1,2 мм, в комплплекте с крепежными элементами и соединительными пластинами, необходимымидля монтажа","Упаковка",null,5127.55,null,6153.06]
["SDM520K","Угол горизонтальный 90 градусов 50х200, 1,5 мм, в комплекте с крепежными элементами и соединительными пластинами, необходимыми длямонтажа","Упаковка",null,3712.38,null,4454.8559999999998]
["SDH840K","Угол горизонтальный 90 градусов 80х400, 2,0 мм, в комплекте с крепежными элементами и соединительными пластинами, необходимыми длямонтажа","Упаковка",null,9156.33,null,10987.596]
["SFM505K","Ответвитель универсальный 50х50, 1,5 мм, в комплекте с крепежными элементами и соединительными пластинами, необходимыми для монтажа","Упаковка",null,3108.47,null,3730.1639999999998]
["SFM840K","Ответвитель универсальный 80х400, 1,5 мм, в комплекте с крепежными элементами и соединительными пластинами, необходимыми для монтажа","Упаковка",null,6066.72,null,7280.0640000000003]
["SFH815K","Ответвитель универсальный 80х150, 2,0 мм, в комплекте с крепежными элементами и соединительными пластинами, необходимыми для монтажа","Упаковка",null,5928.39,null,7114.0680000000002]
["SIN830K","Угол вертикальный внутренний 90 градусов 80х300, 1,2 мм, в комплекте с крепежными элементами и соединительными пластинами,необходимыми для монтажа","Упаковка",null,4459.6000000000004,null,5351.52]
["SIM1060K","Угол вертикальный внутренний 90 градусов 100х600, 1,5 мм, в комплекте с крепежными элементами и соединительными пластинами,необходимыми для монтажа","Упаковка",null,7755.15,null,9306.1799999999985]
["SKN510K","Угол вертикальный внутренний 45 градусов 50х100, 1,2 мм, в комплекте с крепежными элементами и соединительными пластинами,необходимыми для монтажа","Упаковка",null,2644,null,3172.7999999999997]
["SKN810K","Угол вертикальный внутренний 45 градусов 80х100, 1,2 мм, в комплекте с крепежными элементами и соединительными пластинами,необходимыми для монтажа","Упаковка",null,2942.19,null,3530.6280000000002]
["SKM1030K","Угол вертикальный внутренний 45 градусов 100х300, 1,5 мм, в комплекте с крепежными элементами и соединительными пластинами,необходимыми для монтажа","Упаковка",null,5196.09,null,6235.308]
["SKH1050K","Угол вертикальный внутренний 45 градусов 100х500, 2,0 мм, в комплекте с крепежными элементами и соединительными пластинами,необходимыми для монтажа","Упаковка",null,9307.82,null,11169.384]
["SOM510K","Угол вертикальный внешний 90 градусов 50х100, 1,5 мм, в комплекте с крепежными элементами и соединительными пластинами,необходимыми для монтажа","Упаковка",null,3500.11,null,4200.1319999999996]
["SOM1010K","Угол вертикальный внешний 90 градусов 100х100, 1,5 мм, в комплекте с крепежными элементами и соединительными пластинами,необходимыми для монтажа","Упаковка",null,3988.09,null,4785.7079999999996]
["SOH1020K","Угол вертикальный внешний 90 градусов 100х200, 2,0 мм, в комплекте с крепежными элементами и соединительными пластинами,необходимыми для монтажа","Упаковка",null,7183.12,null,8619.7439999999988]
["SPM540K","Угол вертикальный внешний 45 градусов 50х400, 1,5 мм, в комплекте с крепежными элементами и соединительными пластинами,необходимыми для монтажа","Упаковка",null,5057.78,null,6069.3359999999993]
["SPH830K","Угол вертикальный внешний 45 градусов 80х300, 2,0 мм, в комплекте с крепежными элементами и соединительными пластинами,необходимыми для монтажа","Упаковка",null,7206.93,null,8648.3160000000007]
["SPH860K","Угол вертикальный внешний 45 градусов 80х600, 2,0 мм, в комплекте с крепежными элементами и соединительными пластинами,необходимыми для монтажа","Упаковка",null,9890.11,null,11868.132]
["STM515K","Ответвитель Т-образный 50х150, 1,5 мм, в комплекте с крепежными элементами и соединительными пластинами, необходимыми для монтажа","Упаковка",null,5082.0600000000004,null,6098.4720000000007]
["STH530K","Ответвитель Т-образный 50х300, 2,0 мм, в комплекте с крепежными элементами и соединительными пластинами, необходимыми для монтажа","Упаковка",null,9884.2000000000007,null,11861.04]
["SVN830K","Горизонтальный изменяемый угол СРО 0-45град. 80x300, 1,2мм, в комплекте с крепежными элементами необходимыми для монтажа","Упаковка",null,4197.67,null,5037.2039999999997]
["SVM505K","Горизонтальный изменяемый угол СРО 0-45град. 50х50, 1,5 мм, в комплекте с крепежными элементами необходимыми для монтажа","Упаковка",null,2928.04,null,3513.6479999999997]
["SVH520K","Горизонтальный изменяемый угол СРО 0-45град. 50х200, 2,0 мм, в комплекте с крепежными элементами необходимыми для монтажа","Упаковка",null,5502.47,null,6602.9639999999999]
["SXN850K","Ответвитель Х-образный 80х500, 1,2 мм, в комплекте с крепежными элементами и соединительными пластинами, необходимыми для монтажа","Упаковка",null,8743.34,null,10492.008]
["SXM860K","Ответвитель Х-образный 80х600, 1,5 мм, в комплекте с крепежными элементами и соединительными пластинами, необходимыми для монтажа","Упаковка",null,11706.63,null,14047.955999999998]
["SXH510K","Ответвитель Х-образный 50х100, 2,0 мм, в комплекте с крепежными элементами и соединительными пластинами, необходимыми для монтажа","Упаковка",null,9468.15,null,11361.779999999999]
["SKCM080K","Крышка на угол горизонтальный 45 градусов 80, 1,5 мм, в комплекте с крепежными элементами необходимыми для монтажа","Упаковка",null,1206.3599999999999,null,1447.6319999999998]
["SKDN600K","Крышка на угол горизонтальный 90 градусов 600, 1,2 мм, в комплекте с крепежными элементами необходимыми для монтажа","Упаковка",null,6187.52,null,7425.0240000000003]
["SKDH150K","Крышка на угол горизонтальный 90 градусов 150, 2,0 мм, в комплекте с крепежными элементами необходимыми для монтажа","Упаковка",null,2428.7800000000002,null,2914.5360000000001]
["SKFH200K","Крышка на ответвитель универсальный с основанием 200, 2,0 мм, в комплекте с крепежными элементами необходимыми для монтажа","Упаковка",null,3330.09,null,3996.1080000000002]
["SKIN1040K","Крышка на угол вертикальный внутренний 90 градусов 100х400, 1,2 мм, в комплекте с крепежными элементами необходимыми для монтажа","Упаковка",null,1954.49,null,2345.3879999999999]
["SKIH560K","Крышка на угол вертикальный внутренний 90 градусов 50х600, 2,0 мм, в комплекте с крепежными элементами необходимыми для монтажа","Упаковка",null,4748.82,null,5698.5839999999998]
["SKKN840K","Крышка на угол вертикальный внутренний 45 градусов 80х400, 1,2 мм, в комплекте с крепежными элементами необходимыми для монтажа","Упаковка",null,1763.47,null,2116.1639999999998]
["SKKN1015K","Крышка на угол вертикальный внутренний 45 градусов 100х150, 1,2 мм, в комплекте с крепежными элементами необходимыми для монтажа","Упаковка",null,1189.71,null,1427.652]
["SKKH530K","Крышка на угол вертикальный внутренний 45 градусов 50х300, 2,0 мм, в комплекте с крепежными элементами необходимыми для монтажа","Упаковка",null,2693.8,null,3232.56]
["SKON550K","Крышка на угол вертикальный внешний 90 градусов 50х500, 1,2 мм, в комплекте с крепежными элементами необходимыми для монтажа","Упаковка",null,2343.64,null,2812.3679999999999]
["SKOM510K","Крышка на угол вертикальный внешний 90 градусов 50х100, 1,5 мм, в комплекте с крепежными элементами необходимыми для монтажа","Упаковка",null,1284.6500000000001,null,1541.5800000000002]
["SKOH510K","Крышка на угол вертикальный внешний 90 градусов 50х100, 2,0 мм, в комплекте с крепежными элементами необходимыми для монтажа","Упаковка",null,1889.2,null,2267.04]
["SKPN520K","Крышка на угол вертикальный внешний 45 градусов 50х200, 1,2 мм, в комплекте с крепежными элементами необходимыми для монтажа","Упаковка",null,1234.21,null,1481.0519999999999]
["SKPM840K","Крышка на угол вертикальный внешний 45 градусов 80х400, 1,5 мм, в комплекте с крепежными элементами необходимыми для монтажа","Упаковка",null,2294.0100000000002,null,2752.8120000000004]
["SKPH510K","Крышка на угол вертикальный внешний 45 градусов 50х100, 2,0 мм, в комплекте с крепежными элементами необходимыми для монтажа","Упаковка",null,1694.02,null,2032.8239999999998]
["SKTN050K","Крышка на Т-образный ответвитель 50, 1,2 мм, в комплекте с крепежными элементами необходимыми для монтажа","Упаковка",null,1274.53,null,1529.4359999999999]
["SKVN400","Крышка на горизонтальный изменяемый угол СРО 0-45град. 400, 1,2 мм","Штука",null,2121.79,null,2546.1479999999997]
["SKXN200K","Крышка на Х-образный ответвитель 200, 1,2 мм, в комплекте с крепежными элементами необходимыми для монтажа","Упаковка",null,2685.05,null,3222.06]
[null,null,null,null,null,null,0]
["SNV40160","Лоток  100х600х4000, 1,0 мм","Метр",null,3104.6,null,3725.5199999999995]
["SNV40808","Лоток  80х80х4000, 1,0 мм","Метр",null,1064.51,null,1277.412]
["SNN40115","Лоток  100х150х4000, 1,2 мм","Метр",null,1872.36,null,2246.8319999999999]
["SNN40815","Лоток  80х150х4000, 1,2 мм","Метр",null,1584.22,null,1901.0639999999999]
["SNN60530","Лоток  50x300х6000, 1,2 мм","Метр",null,1758.88,null,2110.6559999999999]
["3510612","Лоток 500х100 L3000 толщ.1,2 мм","Метр",null,3555.66,null,4266.7919999999995]
["3510415","Лоток 300х100 L3000 толщ.1,5 мм","Метр",null,3182.14,null,3818.5679999999998]
["SNM60115","Лоток  100х150х6000, 1,5 мм","Метр",null,2308.94,null,2770.7280000000001]
["SNH30160","Лоток  100х600х3000, 2,0 мм","Метр",null,7382.32,null,8858.7839999999997]
["SNH30808","Лоток  80х80х3000, 2,0 мм","Метр",null,2185.19,null,2622.2280000000001]
["SNH60120","Лоток  100х200х6000, 2,0 мм","Метр",null,3655.67,null,4386.8040000000001]
[null,null,null,null,null,null,0]
["3530210","Лоток перфорированный 100х80 L3000 толщ.1,0 мм","Метр",null,1141.3599999999999,null,1369.6319999999998]
["SPV60120","Лоток перфорированный 100х200х6000, 1,0 мм","Метр",null,1775.38,null,2130.4560000000001]
["3526412","Лоток перфорированный 200х50 L3000 толщ.1,2 мм","Метр",null,1359.36,null,1631.2319999999997]
["SPN40550","Лоток перфорированный 50x500х4000, 1,2 мм","Метр",null,2551.5,null,3061.7999999999997]
["SPN60560","Лоток перфорированный 50x600х6000, 1,2 мм","Метр",null,3014.59,null,3617.5080000000003]
[null,null,null,null,null,null,0]
["SPM40515","Лоток перфорированный 50x150х4000, 1,5 мм","Метр",null,1423.7,null,1708.44]
["SPM60530","Лоток перфорированный 50x300х6000, 1,5 мм","Метр",null,2172.34,null,2606.808]
["SPM60820","Лоток перфорированный 80х200х6000, 1,5 мм","Метр",null,2240.5,null,2688.6]
["SPH30830","Лоток перфорированный 80х300х3000, 2,0 мм","Метр",null,3926.45,null,4711.74]
["SPH60160","Лоток перфорированный 100х600х6000, 2,0 мм","Метр",null,7382.32,null,8858.7839999999997]
["SPH60850","Лоток перфорированный 80х500х6000, 2,0 мм","Метр",null,5471.65,null,6565.98]
["3551110","Крышка на лоток с заземлением осн.80 L2000 толщ. 1,0мм","Метр",null,435.65,null,522.78]
["3552110","Крышка на лоток с заземлением осн 80 L 3000, толщ 1,0мм","Метр",null,435.65,null,522.78]
["37002KINOX","Угол  вертикальный  внешний CDSD 90  осн.100 H80 в комплекте с крепежными элементами и соединительными пластинами, INOX","Упаковка",null,7270.08,null,8724.0959999999995]
["35065INOX","Лоток 300х80 L3000, нержавеющий","Метр",null,3927.89,null,4713.4679999999998]
["SCN808KZL","Угол горизонтальный 45 градусов 80х80, 1,2 мм, цинк-ламель, в комплекте с крепежными элементами и соединительными пластинами,необходимыми для монтажа","Упаковка",null,4439.84,null,5327.808]
["SDN815KZL","Угол горизонтальный 90 градусов 80х150, 1,2 мм, цинк-ламель, в комплекте с крепежными элементами и соединительными пластинами,необходимыми для монтажа","Упаковка",null,5415.96,null,6499.152]
["SCM1040KZL","Угол горизонтальный 45 градусов 100х400, 1,5 мм, цинк-ламель, в комплекте с крепежными элементами и соединительными пластинами,необходимыми для монтажа","Упаковка",null,10833.93,null,13000.716]
["SFN1015KZL","Ответвитель универсальный 100х150, 1,2 мм, цинк-ламель, в комплекте с крепежными элементами и соединительными пластинами,необходимыми для монтажа","Упаковка",null,6661.23,null,7993.4759999999987]
["SDH808KZL","Угол горизонтальный 90 градусов 80х80, 2,0 мм, цинк-ламель, в комплекте с крепежными элементами и соединительными пластинами,необходимыми для монтажа","Упаковка",null,7853.57,null,9424.2839999999997]
["SDM1015KZL","Угол горизонтальный 90 градусов 100х150, 1,5 мм, цинк-ламель, в комплекте с крепежными элементами и соединительными пластинами,необходимыми для монтажа","Упаковка",null,6994.3,null,8393.16]
["SIN1030KZL","Угол вертикальный внутренний 90 градусов 100х300, 1,2 мм, цинк-ламель, в комплекте с крепежными элементами и соединительнымипластинами, необходимыми для монтажа","Упаковка",null,7672.34,null,9206.8079999999991]
["SPN1015KZL","Угол вертикальный внешний 45 градусов 100х150, 1,2 мм, цинк-ламель, в комплекте с крепежными элементами и соединительнымипластинами, необходимыми для монтажа","Упаковка",null,5641.03,null,6769.2359999999999]
["SPN850KZL","Угол вертикальный внешний 45 градусов 80х500, 1,2 мм, цинк-ламель, в комплекте с крепежными элементами и соединительнымипластинами, необходимыми для монтажа","Упаковка",null,7954.22,null,9545.0640000000003]
["SON1010KZL","Угол вертикальный внешний 90 градусов 100х100, 1,2 мм, цинк-ламель, в комплекте с крепежными элементами и соединительнымипластинами, необходимыми для монтажа","Упаковка",null,5517.37,null,6620.8440000000001]
["STN520KZL","Ответвитель Т-образный 50х200, 1,2 мм, цинк-ламель, в комплекте с крепежными элементами и соединительными пластинами, необходимымидля монтажа","Упаковка",null,7891.88,null,9470.2559999999994]
["SVN540KHDZL","Горизонтальный изменяемый угол СРО 0-45град. 50х400, 1,2 мм, цинк-ламель, в комплекте с крепежными элементами необходимыми длямонтажа","Упаковка",null,8155.21,null,9786.2520000000004]
["SXN860KZL","Ответвитель Х-образный 80х600, 1,2 мм, цинк-ламель, в комплекте с крепежными элементами и соединительными пластинами, необходимымидля монтажа","Упаковка",null,21143.26,null,25371.911999999997]
["SFM510KZL","Ответвитель универсальный 50х100, 1,5 мм, цинк-ламель, в комплекте с крепежными элементами и соединительными пластинами,необходимыми для монтажа","Упаковка",null,5803.54,null,6964.2479999999996]
["SIM520KZL","Угол вертикальный внутренний 90 градусов 50х200, 1,5 мм, цинк-ламель, в комплекте с крепежными элементами и соединительнымипластинами, необходимыми для монтажа","Упаковка",null,7040.62,null,8448.7439999999988]
["SKM550KZL","Угол вертикальный внутренний 45 градусов 50х500, 1,5 мм, цинк-ламель, в комплекте с крепежными элементами и соединительнымипластинами, необходимыми для монтажа","Упаковка",null,9609.7099999999991,null,11531.651999999998]
["SOM1050KZL","Угол вертикальный внешний 90 градусов 100х500, 1,5 мм, цинк-ламель, в комплекте с крепежными элементами и соединительнымипластинами, необходимыми для монтажа","Упаковка",null,11189.06,null,13426.871999999999]
["SPM505KZL","Угол вертикальный внешний 45 градусов 50х50, 1,5 мм, цинк-ламель, в комплекте с крепежными элементами и соединительными пластинами,необходимыми для монтажа","Упаковка",null,5623.85,null,6748.62]
["STM815KZL","Ответвитель Т-образный 80х150, 1,5 мм, цинк-ламель, в комплекте с крепежными элементами и соединительными пластинами, необходимымидля монтажа","Упаковка",null,9554.8700000000008,null,11465.844000000001]
["SXM1020KZL","Ответвитель Х-образный 100х200, 1,5 мм, цинк-ламель, в комплекте с крепежными элементами и соединительными пластинами, необходимымидля монтажа","Упаковка",null,13908.09,null,16689.707999999999]
["SFH1060KZL","Ответвитель универсальный 100х600, 2,0 мм, цинк-ламель, в комплекте с крепежными элементами и соединительными пластинами,необходимыми для монтажа","Упаковка",null,23145.55,null,27774.66]
["SFH808KZL","Ответвитель универсальный 80х80, 2,0 мм, цинк-ламель, в комплекте с крепежными элементами и соединительными пластинами,необходимыми для монтажа","Упаковка",null,8913.3700000000008,null,10696.044]
["SIH815KZL","Угол вертикальный внутренний 90 градусов 80х150, 2,0 мм, цинк-ламель, в комплекте с крепежными элементами и соединительнымипластинами, необходимыми для монтажа","Упаковка",null,10154.040000000001,null,12184.848]
["SOH1020KZL","Угол вертикальный внешний 90 градусов 100х200, 2,0 мм, цинк-ламель, в комплекте с крепежными элементами и соединительнымипластинами, необходимыми для монтажа","Упаковка",null,11657.17,null,13988.603999999999]
["SOH540KZL","Угол вертикальный внешний 90 градусов 50х400, 2,0 мм, цинк-ламель, в комплекте с крепежными элементами и соединительнымипластинами, необходимыми для монтажа","Упаковка",null,13506.83,null,16208.196]
["SPH560KZL","Угол вертикальный внешний 45 градусов 50х600, 2,0 мм, цинк-ламель, в комплекте с крепежными элементами и соединительнымипластинами, необходимыми для монтажа","Упаковка",null,15815.3,null,18978.359999999997]
["SVH1015KHDZL","Горизонтальный изменяемый угол СРО 0-45град. 100x150, 2,0мм, цинк-ламель, в комплекте с крепежными элементами необходимыми длямонтажа","Упаковка",null,8908.9699999999993,null,10690.763999999999]
["SXH1030KZL","Ответвитель Х-образный 100х300, 2,0 мм, цинк-ламель, в комплекте с крепежными элементами и соединительными пластинами, необходимымидля монтажа","Упаковка",null,23267.61,null,27921.132000000001]
["SKDN150KZL","Крышка на угол горизонтальный 90 градусов 150, 1,2 мм, цинк-ламель, в комплекте с крепежными элементами необходимыми для монтажа","Упаковка",null,1921.99,null,2306.3879999999999]
["SKFN150KZL","Крышка на ответвитель универсальный с основанием 150, 1,2 мм, цинк-ламель, в комплекте с крепежными элементами необходимыми длямонтажа","Упаковка",null,2108.7600000000002,null,2530.5120000000002]
["SKIN830KZL","Крышка на угол вертикальный внутренний 90 градусов 80х300, 1,2 мм, цинк-ламель, в комплекте с крепежными элементами необходимымидля монтажа","Упаковка",null,2264.29,null,2717.1479999999997]
["SKON515KZL","Крышка на угол вертикальный внешний 90 градусов 50х150, 1,2 мм, цинк-ламель, в комплекте с крепежными элементами необходимыми длямонтажа","Упаковка",null,1775.13,null,2130.1559999999999]
["SKON560KZL","Крышка на угол вертикальный внешний 90 градусов 50х600, 1,2 мм, цинк-ламель, в комплекте с крепежными элементами необходимыми длямонтажа","Упаковка",null,5161.2299999999996,null,6193.4759999999997]
["SKPN810KZL","Крышка на угол вертикальный внешний 45 градусов 80х100, 1,2 мм, цинк-ламель, в комплекте с крепежными элементами необходимыми длямонтажа","Упаковка",null,1377.39,null,1652.8680000000002]
["SKXN600KZL","Крышка на Х-образный ответвитель 600, 1,2 мм, цинк-ламель, в комплекте с крепежными элементами необходимыми для монтажа","Упаковка",null,12582.87,null,15099.444]
["SKIM1015KZL","Крышка на угол вертикальный внутренний 90 градусов 100х150, 1,5 мм, цинк-ламель, в комплекте с крепежными элементами необходимымидля монтажа","Упаковка",null,2099.29,null,2519.1479999999997]
["SKKM1060KZL","Крышка на угол вертикальный внутренний 45 градусов 100х600, 1,5 мм, цинк-ламель, в комплекте с крепежными элементами необходимымидля монтажа","Упаковка",null,4827.2299999999996,null,5792.6759999999995]
["SKKM808KZL","Крышка на угол вертикальный внутренний 45 градусов 80х80, 1,5 мм, цинк-ламель, в комплекте с крепежными элементами необходимыми длямонтажа","Упаковка",null,1338.33,null,1605.9959999999999]
["SKOM815KZL","Крышка на угол вертикальный внешний 90 градусов 80х150, 1,5 мм, цинк-ламель, в комплекте с крепежными элементами необходимыми длямонтажа","Упаковка",null,2263.2800000000002,null,{"$f":"E7495*1.2","v":2715.9360000000001}]
["SKPM540KZL","Крышка на угол вертикальный внешний 45 градусов 50х400, 1,5 мм, цинк-ламель, в комплекте с крепежными элементами необходимыми длямонтажа","Упаковка",null,3257.99,null,3909.5879999999997]
["SKVM150HDZL","Крышка на горизонтальный изменяемый угол СРО 0-45град. 150, 1,5 мм, цинк-ламель","Штука",null,2026.58,null,2431.8959999999997]
["SKDH080KZL","Крышка на угол горизонтальный 90 градусов 80, 2,0 мм, цинк-ламель, в комплекте с крепежными элементами необходимыми для монтажа,цинк-ламель, в комплекте с крепежными элементами необходимыми для монтажа","Упаковка",null,2496.67,null,2996.0039999999999]
["SKIH810KZL","Крышка на угол вертикальный внутренний 90 градусов 80х100, 2,0 мм, цинк-ламель, в комплекте с крепежными элементами необходимымидля монтажа","Упаковка",null,2351.87,null,2822.2439999999997]
["SKOH1040KZL","Крышка на угол вертикальный внешний 90 градусов 100х400, 2,0 мм, цинк-ламель, в комплекте с крепежными элементами необходимыми длямонтажа","Упаковка",null,5708.87,null,6850.6439999999993]
["SKPH1040KZL","Крышка на угол вертикальный внешний 45 градусов 100х400, 2,0 мм, цинк-ламель, в комплекте с крепежными элементами необходимыми длямонтажа","Упаковка",null,5282.25,null,6338.7]
["SKPH550KZL","Крышка на угол вертикальный внешний 45 градусов 50х500, 2,0 мм, цинк-ламель, в комплекте с крепежными элементами необходимыми длямонтажа","Упаковка",null,5505.62,null,6606.7439999999997]
["SKVH400HDZL","Крышка на горизонтальный изменяемый угол СРО 0-45град. 400, 2,0 мм, цинк-ламель","Штука",null,5881.47,null,7057.7640000000001]
["SPH30530ZL","Лоток перфорированный 50x300х3000, 2,0 мм, цинк-ламельный","Метр",null,4395.3900000000003,null,5274.4679999999998]
["SPH40860ZL","Лоток перфорированный 80х600х4000, 2,0 мм, цинк-ламельный","Метр",null,8751.86,null,10502.232]
["SPH60510ZL","Лоток перфорированный 50x100х6000, 2,0 мм,  цинк-ламельный","Метр",null,2079.29,null,{"$f":"E7751*1.2","v":2495.1479999999997}]
["SPM40820ZL","Лоток перфорированный 80х200х4000, 1,5 мм, цинк-ламельный","Метр",null,2582.9699999999998,null,3099.5639999999999]
["SPM60530ZL","Лоток перфорированный 50x300х6000, 1,5 мм, цинк-ламельный","Метр",null,3139.57,null,3767.4839999999999]
["SPN60160ZL","Лоток перфорированный 100х600х6000, 1,2 мм, цинк-ламельный","Метр",null,7651.9,null,9182.2799999999988]
["SPN60808ZL","Лоток перфорированный 80х80х6000, 1,2 мм, цинк-ламельный","Метр",null,1725.36,null,2070.4319999999998]
["SPV40815ZL","Лоток перфорированный 80х150х4000, 1,0 мм, цинк-ламельный","Метр",null,2021.18,null,2425.4160000000002]
["SPV60860ZL","Лоток перфорированный 80х600х6000, 1,0 мм, цинк-ламельный","Метр",null,5432.07,null,6518.4839999999995]
["SNH40140ZL","Лоток  100х400х4000, 2,0 мм, цинк-ламельный","Метр",null,7859.88,null,9431.8559999999998]
["SNH40550ZL","Лоток  50x500х4000, 2,0 мм, цинк-ламельный","Метр",null,6797.66,null,8157.1919999999991]
["SNM40110ZL","Лоток  100х100х4000, 1,5 мм, цинк-ламельный","Метр",null,2615.31,null,3138.3719999999998]
["SNM40850ZL","Лоток  80х500х4000, 1,5 мм, цинк-ламельный","Метр",null,5209.45,null,6251.3399999999992]
["SNN40530ZL","Лоток  50x300х4000, 1,2 мм, цинк-ламельный","Метр",null,2924.18,null,3509.0159999999996]
["SNN60550ZL","Лоток  50x500х6000, 1,2 мм, цинк-ламельный","Метр",null,4518.7700000000004,null,5422.5240000000003]
["SNN60860ZL","Лоток  80х600х6000, 1,2 мм, цинк-ламельный","Метр",null,6301.26,null,7561.5119999999997]
["SNV40860ZL","Лоток  80х600х4000, 1,0 мм, цинк-ламельный","Метр",null,5432.07,null,6518.4839999999995]
[null,null,null,null,null,null,0]
["36016HDZL","Горизонтальный изменяемый угол CPO 0-45град. 300х80, цинк-ламельный (аналог горячеоцинкованный)","Штука",null,5192.49,null,6230.9879999999994]
["35306600ZL","Телескопическое расширение для лотка 400х80 длина 600мм, цинк-ламельное","Штука",null,4748.54,null,5698.2479999999996]
["38032ZL","Крышка на переходник RRD правосторонний","Штука",null,3808.25,null,4569.8999999999996]
["38088ZL","Крышка RRC на переходник 300/150, цинк-ламельная","Штука",null,1632.25,null,1958.6999999999998]
["38165ZL","Крышка RRS на переходник левостор. 200/100, цинк-ламельная","Штука",null,1272.82,null,1527.3839999999998]
["38191ZL","Крышка на переходник RRC симметричный 600/300, цинк-ламельная","Штука",null,3448.57,null,4138.2839999999997]
["38268ZL","Крышка CD 45 на угол вертикальный внешн. 45° осн.600, цинк-ламельная","Штука",null,2984.87,null,3581.8439999999996]
["38313ZL","Крышка RRS на переходник левостор. 400/200, цинк-ламельная","Штука",null,2002.58,null,2403.096]
["38328ZL","Крышка TDS на ответвитель Т-образный вертикальный ун. осн.600, цинк-ламельная","Штука",null,7082.45,null,8498.9399999999987]
["38398ZL","Крышка TDSA на ответвитель Т-обр. вертикальный 300/500, цинк-ламельная","Штука",null,3313.94,null,3976.7280000000001]
["SIP00540HDZL","Комплект для обеспечения степени защиты IP44 в местах соединения секций лотков 400х50, цинк-ламель","Упаковка",null,2523.81,null,3028.5719999999997]
["SPGH80HDZL","Пластина соединительная GTO H80 толщ. 2,0 мм, цинк-ламель","Штука",null,537.4,null,644.88]
["36480ZL","Перегородка SEP L3000 H 50, цинк-ламельная","Метр",null,483.07,null,579.68399999999997]
["36547HDZL","Перех. RB H80-H50, осн.500, ц-лам. ан.","Штука",null,1458.43,null,1750.116]
["37263HDZL","Заглушка цельная ТС 150х80, ц-лам. ан.","Штука",null,680.23,null,816.27599999999995]
["37561HDZL","Держ. Каб. TRC 80, ц-лам. ан.","Штука",null,323.16000000000003,null,387.79200000000003]
["SVM850KHDZL","Горизонтальный изменяемый угол СРО 0-45град. 80x500, 1,5мм, цинк-ламель, в комплекте с крепежными элементами необходимыми длямонтажа","Упаковка",null,12165.49,null,14598.588]
["36570KZL","Ответвитель-крышка Т-обр - переходник DDT 300/100 (отв H=50) в комплектес крепежными элементами и соединительными пластинами, необходимыми длямонтажа, цинк-ламельный","Упаковка",null,7237.24,null,8684.6880000000001]
["36024KZL","Угол CPO 90 горизонтальный 90° 200х80 в комплекте с крепежнымиэлементами и соединительными пластинами, необходимыми для монтажа, цинк-ламельный","Упаковка",null,4147.54,null,4977.0479999999998]
["36142KZL","Ответвитель DPT Т-образный горизонтальный  100х80 в комплекте скрепежными элементами и соединительными пластинами, необходимыми длямонтажа, цинк-ламельный","Упаковка",null,5318.8,null,6382.56]
["36204KZL","Ответвитель DPX крестообразный  200х80 в комплекте с крепежнымиэлементами и соединительными пластинами, необходимыми для монтажа, цинк-ламельный","Упаковка",null,7678.48,null,9214.1759999999995]
["36225KZL","Ответвитель DPX крестообразный  400х100 в комплекте с крепежнымиэлементами и соединительными пластинами, необходимыми для монтажа, цинк-ламельный","Упаковка",null,10805.01,null,12966.012000000001]
["36269KZL","Ответвитель DL 600х100 в комплекте с крепежными элементами и соединительными пластинами, необходимыми для монтажа, цинк-ламельный","Упаковка",null,9258.2099999999991,null,11109.851999999999]
["36318KZL","Переходник RRC симметричный 500/300  H50 в комплекте с крепежнымиэлементами и соединительными пластинами, необходимыми для монтажа, цинк-ламельный","Упаковка",null,5610.66,null,6732.7919999999995]
["36327KZL","Переходник RRC симметричный 400/300  H100 в комплекте с крепежнымиэлементами и соединительными пластинами, необходимыми для монтажа, цинк-ламельный","Упаковка",null,5848.8,null,7018.56]
["36352KZL","Переходник RRD правосторонний  500/300 H100 в комплекте с крепежнымиэлементами и соединительными пластинами, необходимыми для монтажа, цинк-ламельный","Упаковка",null,6212.27,null,7454.7240000000002]
["36401KZL","Переходник RRD правосторонний  100/80 H80 в комплекте с крепежнымиэлементами и соединительными пластинами, необходимыми для монтажа, цинк-ламельный","Упаковка",null,4178.4399999999996,null,5014.1279999999997]
["36526KZL","Переходник RRS левосторонний 200/150 H80 в комплекте с крепежнымиэлементами и соединительными пластинами, необходимыми для монтажа, цинк-ламельный","Упаковка",null,4607.3900000000003,null,5528.8680000000004]
["36687KZL","Угол CS 90 вертикальный внутр. 90° 500/80 в комплекте с крепежнымиэлементами и соединительными пластинами, необходимыми для монтажа, цинк-ламельный","Упаковка",null,6310.86,null,7573.0319999999992]
["36720KZL","Угол CS 45 вертикальный внутр. 45° 50/50 в комплекте с крепежнымиэлементами и соединительными пластинами, необходимыми для монтажа, цинк-ламельный","Упаковка",null,3218.32,null,3861.9839999999999]
["36764KZL","Угол CS 45 вертикальный внутр. 45° 300/100 в комплекте с крепежнымиэлементами и соединительными пластинами, необходимыми для монтажа, цинк-ламельный","Упаковка",null,5060.21,null,6072.2519999999995]
["36864KZL","Угол CD 45 вертикальный внеш. 45° 200х80 в комплекте с крепежнымиэлементами и соединительными пластинами, необходимыми для монтажа, цинк-ламельный","Упаковка",null,4166.96,null,5000.3519999999999]
["36885KZL","Угол CD 45 вертикальный внеш. 45° 400х100 в комплекте с крепежнымиэлементами и соединительными пластинами, необходимыми для монтажа, цинк-ламельный","Упаковка",null,5498.23,null,6597.8759999999993]
["37028KZL","Угол вертикальный  внешний CDSS 90  осн.600 H80 в комплекте с крепежными элементами и соединительными пластинами, ZL","Упаковка",null,17989.91,null,21587.892]
["37114KZL","Ответвитель TD Т-образный вертикальный осн.200 H100 в комплекте скрепежными элементами и соединительными пластинами, необходимыми длямонтажа, цинк-ламельный","Упаковка",null,9718.77,null,11662.523999999999]
["37201KZL","Т-Ответвитель вверх TS 80/80 в комплекте с крепежными элементами исоединительными пластинами, необходимыми для монтажа, цинк-ламельный","Упаковка",null,6765.5,null,8118.5999999999995]
["37258KZL","Крышка-ответвитель TS осн.600 H50 в комплекте с крепежными элементами исоединительными пластинами, необходимыми для монтажа, цинк-ламельная","Упаковка",null,14333.37,null,17200.044000000002]
["37344KZL","Крышка-ответвитель TS осн.200 H100 в комплекте с крепежными элементами исоединительными пластинами, необходимыми для монтажа, цинк-ламельная","Упаковка",null,8538.98,null,10246.776]
["37507KZL","Угол  вертикальный  внешний CDSD 90  осн.500 H50 в комплекте с крепежными элементами и соединительными пластинами, ZL","Упаковка",null,15049.46,null,18059.351999999999]
["37596KZL","Угол вертикальный внутренний, переходник CSSS 90 осн. 400 H50 в комплекте с крепежными элементами и соединительными пластинами, ZL","Упаковка",null,17373.04,null,20847.648000000001]
["37607KZL","Ответвитель TDSA Т-обр. вертикальный 100/300 в комплекте с крепежнымиэлементами и соединительными пластинами, необходимыми для монтажа, цинк-ламельный","Упаковка",null,8417.7800000000007,null,10101.336000000001]
["37652KZL","Угол вертикальный  внешний CDSS 90  осн.150 H50 в комплекте с крепежными элементами и соединительными пластинами, ZL","Упаковка",null,8047.41,null,9656.8919999999998]
["35068ZL","Лоток 600х80 L3000, цинк-ламельный","Метр",null,5432.07,null,6518.4839999999995]
["3506410ZL","Лоток 200х80 L 3000 толщ. 1,0 мм, цинк-ламельный","Метр",null,2280.16,null,2736.1919999999996]
["3510412ZL","Лоток 300х100 L 3000 толщ. 1,2 мм, цинк-ламельный","Метр",null,4185.58,null,5022.6959999999999]
["3502615ZL","Лоток 400х50 L 3000 толщ. 1,5 мм, цинк-ламельный","Метр",null,3921.52,null,4705.8239999999996]
["35511ZL","Крышка на лоток с заземлением осн. 80 L 2000, цинк-ламельная","Метр",null,657.7,null,789.24]
["3552215ZL","Крышка на лоток с заземлением  осн. 100 L 3000, толщ. 1,5мм, цинк-ламельная","Метр",null,898.29,null,1077.9479999999999]
["SKH3008ZL","Крышка с заземлением на лоток осн.80, толщ. 2,0, L3000, цинк-ламельная","Метр",null,1128.33,null,1353.9959999999999]
["35254ZL","Лоток перфорированный 200х50 L 2000, цинк-ламельный","Метр",null,1703.15,null,2043.78]
["3530510ZL","Лоток перфорированный 300х80 L 3000 толщ. 1,0 мм, цинк-ламельный","Метр",null,2825.25,null,3390.2999999999997]
["3530412ZL","Лоток перфорированный 200х80 L 3000 толщ. 1,2 мм, цинк-ламельный","Метр",null,2404.5500000000002,null,2885.46]
["3534615ZL","Лоток перфорированный 500х100 L 3000 толщ. 1,5 мм, цинк-ламельный","Метр",null,6320.14,null,7584.1679999999997]
["3703912","Матрица для дырокола (код 37039) диаметр 17мм","Штука",null,8928.0400000000009,null,10713.648000000001]
["SBL29010","П-образный профиль, L160, толщ.1,2 мм","Штука",null,69.22,null,83.063999999999993]
["FC1060L2","Проволочный лоток 100х600 L2000","Метр",null,1677.21,null,2012.652]
["FC5005L2","Проволочный лоток 50х50 L2000","Метр",null,326.06,null,391.27199999999999]
["FC1050","Проволочный лоток 100х500 L3000","Метр",null,1474.22,null,1769.0640000000001]
["FC8040","Проволочный лоток 80х400 L3000","Метр",null,1177.06,null,1412.472]
["FC34103INOX","Консоль с опорой ML осн. 200 INOX","Штука",null,2726.44,null,{"$f":"E9543*1.2","v":3271.7280000000001}]
["FC1050HDZ","Проволочный лоток 100х500 L3000 HDZ","Метр",null,2580.41,null,3096.4919999999997]
["FC3060HDZ","Проволочный лоток 30х600 L3000 HDZ","Метр",null,2315.41,null,2778.4919999999997]
["FC8060HDZ","Проволочный лоток 80х600 L3000 HDZ","Метр",null,2841.8,null,3410.1600000000003]
["FC33834","Консоль с опорой ML осн. 500","Штука",null,1748.21,null,2097.8519999999999]
["FC34108","Консоль с опорой ML облегченная осн. 300","Штука",null,696.58,null,835.89600000000007]
["FC37310","Монтажная плата","Штука",null,493.85,null,592.62]
["CM350004INOX","Крепежный комплект №4 для монтажа пров.лотка INOX","Штука",null,83.62,null,100.34400000000001]
["LR8300HDZ","Упрощенная редукция 300мм, Н80, горячеоцинкованная","Штука",null,1350.78,null,1620.9359999999999]
["LI8050HDZ","Лестничный лоток 80х500 плюс, L3000, горячеоцинкованный","Метр",null,2478.54,null,2974.248]
["LL5040HDZ","Лестничный лоток 50х400, L3000, горячеоцинкованный","Метр",null,1595.03,null,1914.0359999999998]
["LH0534KHDZ","Угол вертикальный внутренний 45 градусов, 50х400 R300, горячеоцинкованный в комплекте с крепежными элементами и соединительнымипластинами, необходимыми для монтажа","Упаковка",null,3125.21,null,3750.252]
["LH5650KHDZ","Угол вертикальный внутренний 90 градусов, 50х500 R600, горячеоцинкованный в комплекте с крепежными элементами и соединительнымипластинами, необходимыми для монтажа","Упаковка",null,6334.24,null,7601.0879999999997]
["LKH0535KHDZ","Крышка на угол вертикальный внутренний 45 градусов, 50х500 R300, горячеоцинкованная в комплекте с крепежными элементами исоединительными пластинами, необходимыми для монтажа","Упаковка",null,2158.75,null,2590.5]
["LKH0834KHDZ","Крышка на угол вертикальный внутренний 45 градусов, 80х400 R300, горячеоцинкованная в комплекте с крепежными элементами исоединительными пластинами, необходимыми для монтажа","Упаковка",null,1758.56,null,2110.2719999999999]
["LKH8620KHDZ","Крышка на угол вертикальный внутренний 90 градусов, 80х200 R600, горячеоцинкованная в комплекте с крепежными элементами исоединительными пластинами, необходимыми для монтажа","Упаковка",null,2483.4699999999998,null,2980.1639999999998]
["LKO0566KHDZ","Крышка на угол вертикальный внешний 45 градусов, 50х600 R600, горячеоцинкованная в комплекте с крепежными элементами исоединительными пластинами, необходимыми для монтажа","Упаковка",null,5114.78,null,6137.7359999999999]
["LKO8340KHDZ","Крышка на угол вертикальный внешний 90 градусов, 80х400 R300, горячеоцинкованная в комплекте с крепежными элементами исоединительными пластинами, необходимыми для монтажа","Упаковка",null,2963.59,null,3556.308]
["LO0133KHDZ","Угол вертикальный внешний 45 градусов, 100х300 R300, горячеоцинкованный в комплекте с крепежными элементами и соединительнымипластинами, необходимыми для монтажа","Упаковка",null,5323.23,null,6387.8759999999993]
["LO0864KHDZ","Угол вертикальный внешний 45 градусов, 80х400 R600, горячеоцинкованный в комплекте с крепежными элементами и соединительнымипластинами, необходимыми для монтажа","Упаковка",null,4949.6000000000004,null,{"$f":"E9991*1.2","v":5939.52}]
["LO8650KHDZ","Угол вертикальный внешний 90 градусов, 80х500 R600, горячеоцинкованный в комплекте с крепежными элементами и соединительнымипластинами, необходимыми для монтажа","Упаковка",null,7812.3,null,9374.76]
["LSC41030KHDZ","Перегородка SEP для вертикального внутреннего угла 45° H100, R300, горячий цинк, в комплекте с крепежными элементами необходимымидля монтажа","Упаковка",null,521.22,null,625.46400000000006]
["LSD40560KHDZ","Перегородка SEP для вертикального внешнего угла 45° H50, R600, горячий цинк, в комплекте с крепежными элементами необходимыми длямонтажа","Упаковка",null,633.05999999999995,null,759.67199999999991]
["LC0135HDZ","Угол горизонтальный 45 градусов 100x500 R-300, горячеоцинкованный","Штука",null,4612.78,null,5535.3359999999993]
["LC0834HDZ","Угол горизонтальный 45 градусов 80x400 R-300, горячеоцинкованный","Штука",null,4034.59,null,4841.5079999999998]
["LC8620HDZ","Угол горизонтальный 90 градусов 80х200 R-600, горячеоцинкованный","Штука",null,8942.0300000000007,null,10730.436]
["LC8630HDZ","Угол горизонтальный 90 градусов 80х300 R-600, горячеоцинкованный","Штука",null,9615.0499999999993,null,11538.06]
["LK0530HDZ","Крышка на угол горизонтальный 45º, осн.500, R-300, горячеоцинкованная","Штука",null,6478.03,null,7773.6359999999995]
["LX1303HDZ","Х-ответвитель 100х300 R-300, горячеоцинкованный","Штука",null,23253.66,null,27904.392]
["LA1030ZL","Лестничный лоток 100х300, L 6000, цинк-ламельный","Метр",null,2915.97,null,3499.1639999999998]
["LA8020ZL","Лестничный лоток 80х200, L 6000, цинк-ламельный","Метр",null,2024.13,null,2428.9560000000001]
["LL5020ZL","Лестничный лоток 50х200, L 3000, цинк-ламельный","Метр",null,1278.1300000000001,null,1533.7560000000001]
["LR1200HDZL","Упрощенная редукция 200мм, Н100, цинк-ла","Штука",null,1942.8,null,2331.3599999999997]
["LH0833KZL","Угол вертикальный внутренний 45 градусов, 80х300 R300, цинк-ламельный в комплекте с крепежными элементами и соединительнымипластинами, необходимыми для монтажа","Упаковка",null,3975.62,null,4770.7439999999997]
["LH0834KZL","Угол вертикальный внутренний 45 градусов, 80х400 R300, цинк-ламельный в комплекте с крепежными элементами и соединительнымипластинами, необходимыми для монтажа","Упаковка",null,4215.16,null,5058.192]
["LKH0163KZL","Крышка на угол вертикальный внутренний 45 градусов, 100х300 R600, цинк-ламельная в комплекте с крепежными элементами исоединительными пластинами, необходимыми для монтажа","Упаковка",null,2136.58,null,2563.8959999999997]
["LKH0864KZL","Крышка на угол вертикальный внутренний 45 градусов, 80х400 R600, цинк-ламельная в комплекте с крепежными элементами исоединительными пластинами, необходимыми для монтажа","Упаковка",null,2644.25,null,3173.1]
["LKH8340KZL","Крышка на угол вертикальный внутренний 90 градусов, 80х400 R300, цинк-ламельная в комплекте с крепежными элементами исоединительными пластинами, необходимыми для монтажа","Упаковка",null,2561.92,null,3074.3040000000001]
["LKO0133KZL","Крышка на угол вертикальный внешний 45 градусов, 100х300 R300, цинк-ламельная в комплекте с крепежными элементами и соединительнымипластинами, необходимыми для монтажа","Упаковка",null,1713.74,null,2056.4879999999998]
["LKO0863KZL","Крышка на угол вертикальный внешний 45 градусов, 80х300 R600, цинк-ламельная в комплекте с крепежными элементами и соединительнымипластинами, необходимыми для монтажа","Упаковка",null,2543.5,null,3052.2]
["LKO8650KZL","Крышка на угол вертикальный внешний 90 градусов, 80х500 R600, цинк-ламельная в комплекте с крепежными элементами и соединительнымипластинами, необходимыми для монтажа","Упаковка",null,5885.12,null,7062.1439999999993]
["LO1330KZL","Угол вертикальный внешний 90 градусов, 100х300 R300, цинк-ламельный в комплекте с крепежными элементами и соединительнымипластинами, необходимыми для монтажа","Упаковка",null,7718.93,null,9262.7160000000003]
["LO1340KZL","Угол вертикальный внешний 90 градусов, 100х400 R300, цинк-ламельный в комплекте с крепежными элементами и соединительнымипластинами, необходимыми для монтажа","Упаковка",null,8344.5300000000007,null,10013.436]
["LO8650KZL","Угол вертикальный внешний 90 градусов, 80х500 R600, цинк-ламельный в комплекте с крепежными элементами и соединительнымипластинами, необходимыми для монтажа","Упаковка",null,7812.3,null,9374.76]
["LSD90530KZL","Перегородка SEP для вертикального внешнего угла 90° H50, R300, цинк-ламель, в комплекте с крепежными элементами необходимыми длямонтажа","Упаковка",null,575.72,null,690.86400000000003]
["LX8602ZL","X-ответвитель 80х200 R-600, цинк-ламель","Штука",null,42870.879999999997,null,51445.055999999997]
["LC0136ZL","Угол горизонтальный 45º 100x600 R300, цинк-ламельный","Штука",null,4911.2700000000004,null,5893.5240000000003]
["LC5630ZL","Угол горизонтальный 90º 50x300 R600, цинк-ламельный","Штука",null,8620.94,null,10345.128000000001]
["LE1003ZL","Угол вертикальный шарнирный 100х300 универсальный, цинк-ламельный","Штука",null,8519.99,null,10223.987999999999]
["LK0503ZL","Крышка на Т-ответвитель, осн.500, R300, цинк-ламельная","Штука",null,11228.51,null,13474.212]
["LK0530ZL","Крышка на угол горизонтальный 45º, осн.500, R300, цинк-ламельная","Штука",null,6478.03,null,7773.6359999999995]
["LX5303ZL","Х-ответвитель 50х300 R300, цинк-ламельный","Штука",null,22628.48,null,27154.175999999999]
["LP0101","Регулируемый горизонтальный соединитель внешний, H100","Штука",null,881.75,null,1058.0999999999999]
["LH0162K","Угол вертикальный внутренний 45 градусов, 100х200 R600 в комплекте с крепежными элементами и соединительными пластинами,необходимыми для монтажа","Упаковка",null,4770.9399999999996,null,5725.1279999999997]
["LH0536K","Угол вертикальный внутренний 45 градусов, 50х600 R300 в комплекте с крепежными элементами и соединительными пластинами,необходимыми для монтажа","Упаковка",null,3259.44,null,3911.328]
["LH1650K","Угол вертикальный внутренний 90 градусов, 100х500 R600 в комплекте с крепежными элементами и соединительными пластинами,необходимыми для монтажа","Упаковка",null,8353.7800000000007,null,10024.536]
["LKH0533K","Крышка на угол вертикальный внутренний 45 градусов, 50х300 R300 в комплекте с крепежными элементами и соединительными пластинами,необходимыми для монтажа","Упаковка",null,1339.37,null,1607.2439999999999]
["LKH5360K","Крышка на угол вертикальный внутренний 90 градусов, 50х600 R300 в комплекте с крепежными элементами и соединительными пластинами,необходимыми для монтажа","Упаковка",null,3697.24,null,4436.6879999999992]
["LKH5620K","Крышка на угол вертикальный внутренний 90 градусов, 50х200 R600 в комплекте с крепежными элементами и соединительными пластинами,необходимыми для монтажа","Упаковка",null,2272.2800000000002,null,2726.7360000000003]
["LKO0833K","Крышка на угол вертикальный внешний 45 градусов, 80х300 R300 в комплекте с крепежными элементами и соединительными пластинами,необходимыми для монтажа","Упаковка",null,1588.57,null,1906.2839999999999]
["LKO5340K","Крышка на угол вертикальный внешний 90 градусов, 50х400 R300 в комплекте с крепежными элементами и соединительными пластинами,необходимыми для монтажа","Упаковка",null,2699.15,null,3238.98]
["LO0562K","Угол вертикальный внешний 45 градусов, 50х200 R600 в комплекте с крепежными элементами и соединительными пластинами, необходимымидля монтажа","Упаковка",null,2998.53,null,3598.2360000000003]
["LO0836K","Угол вертикальный внешний 45 градусов, 80х600 R300 в комплекте с крепежными элементами и соединительными пластинами, необходимымидля монтажа","Упаковка",null,4681.41,null,5617.692]
["LO8350K","Угол вертикальный внешний 90 градусов, 80х500 R300 в комплекте с крепежными элементами и соединительными пластинами, необходимымидля монтажа","Упаковка",null,6404.34,null,7685.2079999999996]
["LSC90860K","Перегородка SEP для вертикального внутреннего угла 90° H80, R600, в комплекте с крепежными элементами необходимыми для монтажа","Упаковка",null,521.61,null,625.93200000000002]
["LX1604","X-ответвитель 100х400 R-600","Штука",null,38166.720000000001,null,45800.063999999998]
["LX1605","X-ответвитель 100х500 R-600","Штука",null,41815.39,null,50178.468000000001]
["LC0866","Угол горизонтальный 45 градусов 80x600 R-600","Штука",null,6007.01,null,7208.4120000000003]
["LC5620","Угол горизонтальный 90 градусов 50x200 R-600","Штука",null,5945.75,null,7134.9]
["LK0036","Крышка на угол горизонтальный 90 градусов, осн.300, R=600мм","Штука",null,5924.96,null,7109.9520000000002]
["LK0260","Крышка на угол горизонтальный 45º, осн.200, R-600","Штука",null,3610.53,null,4332.6360000000004]
["LX1303","Х-ответвитель 100х300 R-300","Штука",null,17245.12,null,20694.143999999997]
["LA8010","Лестничный лоток 80х100, L6000","Метр",null,1583.23,null,1899.876]
["LI8060","Лестничный лоток 80х600 плюс, L 3000","Метр",null,2062.36,null,2474.8319999999999]
["LL1040","Лестничный лоток 100х400, L3000","Метр",null,2144.89,null,2573.8679999999999]
["ULH384","Лоток лестничный 80х400, лонжерон 2 мм, L 3 м","Метр",null,4752.95,null,5703.54]
["ULH616","Лоток лестничный 100х600, лонжерон 2 мм, L 6 м","Метр",null,6139.58,null,7367.4959999999992]
["ULM313","Лоток лестничный 100х300, лонжерон 1,5 мм, L 3 м","Метр",null,4704.4799999999996,null,5645.3759999999993]
["ULM323","Лоток лестничный 200x300, лонжерон 1,5 мм, L 3 м","Метр",null,6148.04,null,7377.6479999999992]
["ULM626","Лоток лестничный 200x600, лонжерон 1,5 мм, L 6 м","Метр",null,7836.95,null,9404.34]
["ULM686","Лоток лестничный 80х600, лонжерон 1,5 мм, L 6 м","Метр",null,4852.8100000000004,null,5823.3720000000003]
["UNH353","Лоток листовой неперфорированный 150х300, лонжерон 2 мм, L 3 м","Метр",null,7511.72,null,9014.0640000000003]
["UNH383","Лоток листовой неперфорированный 80х300, лонжерон 2 мм, L 3 м","Метр",null,6162.36,null,7394.8319999999994]
["UNH654","Лоток листовой неперфорированный 150х400, лонжерон 2 мм, L 6 м","Метр",null,8105.2,null,9726.24]
["UNM326","Лоток листовой неперфорированный 200x600, лонжерон 1,5 мм, L 3 м","Метр",null,10127.84,null,12153.407999999999]
["UNM623","Лоток листовой неперфорированный 200x300, лонжерон 1,5 мм, L 6 м","Метр",null,7854.14,null,9424.9680000000008]
["UNM653","Лоток листовой неперфорированный 150х300, лонжерон 1,5 мм, L 6 м","Метр",null,6829.96,null,8195.9519999999993]
["USH316","Лоток листовой 100х600, лонжерон 2 мм, L 3 м","Метр",null,9095.14,null,10914.168]
["USH616","Лоток листовой 100х600, лонжерон 2 мм, L 6 м","Метр",null,9095.14,null,10914.168]
["USH684","Лоток листовой 80х400, лонжерон 2 мм, L 6 м","Метр",null,6750.03,null,8100.0359999999991]
["USM314","Лоток листовой 100х400, лонжерон 1,5 мм, L 3 м","Метр",null,6456.2,null,7747.44]
["USM610","Лоток листовой 100х1000, лонжерон 1,5 мм, L 6 м","Метр",null,9557.35,null,11468.82]
["USM657","Лоток листовой 150х700, лонжерон 1,5 мм, L 6 м","Метр",null,9166.52,null,10999.824000000001]
["ULIC653","Угол лестничный вертикальный внутренний 45 градусов 150х300, R600","Штука",null,5916.67,null,7100.0039999999999]
["ULIC683","Угол лестничный вертикальный внутренний 45 градусов 80х300, R600","Штука",null,4732.1400000000003,null,5678.5680000000002]
["ULID652","Угол лестничный вертикальный внутренний 90 градусов 150х200, R600","Штука",null,7892.41,null,9470.8919999999998]
["ULOC626","Угол лестничный вертикальный внешний 45 градусов 200х600, R600","Штука",null,11454.67,null,13745.603999999999]
["ULOD614","Угол лестничный вертикальный внешний 90 градусов 100х400, R600","Штука",null,9994.94,null,11993.928]
["ULOD624","Угол лестничный вертикальный внешний 90 градусов 200х400, R600","Штука",null,14876.2,null,17851.439999999999]
["ULC626","Угол лестничный 45 градусов 200x600","Штука",null,20802.18,null,24962.615999999998]
["USD90560K","Перегородка SEP для вертикального внешнего угла 90° H150, R600, в комплекте с крепежными элементами необходимыми для монтажа","Упаковка",null,1205.54,null,1446.6479999999999]
["ULD622","Угол лестничный 90 градусов 200x200","Штука",null,24204.84,null,29045.808000000001]
["ULD689","Угол лестничный 90 градусов 80x900","Штука",null,17652.740000000002,null,21183.288]
["ULF026","Угол вертикальный лестничный 200х600","Штука",null,20802.18,null,24962.615999999998]
["ULT615","Т-ответвитель лестничный 100х500","Штука",null,28955.91,null,34747.091999999997]
["ULT683","Т-ответвитель лестничный 80х300","Штука",null,23757.919999999998,null,28509.503999999997]
["ULX613","Х-ответвитель лестничный 100х300","Штука",null,52591.94,null,63110.328000000001]
["USIC619","Угол листовой вертикальный внутренний 45 градусов 100х900, R600","Штука",null,11836.93,null,14204.316000000001]
["USIC655","Угол листовой вертикальный внутренний 45 градусов 150х500, R600","Штука",null,9400.91,null,11281.091999999999]
["USID652","Угол листовой вертикальный внутренний 90 градусов 150х200, R600","Штука",null,10260.16,null,12312.191999999999]
["USOC619","Угол листовой вертикальный внешний 45 градусов 100х900, R600","Штука",null,13316.6,null,15979.92]
["USOC682","Угол листовой вертикальный внешний 45 градусов 80х200, R600","Штука",null,6228.68,null,7474.4160000000002]
["USOD625","Угол листовой вертикальный внешний 90 градусов 200х500, R600","Штука",null,21272.959999999999,null,25527.552]
["USC613","Угол листовой 45 градусов 100x300","Штука",null,16462.41,null,19754.892]
["USC623","Угол листовой 45 градусов 200х300","Штука",null,21033.23,null,25239.876]
["USD624","Угол листовой 90 градусов 200x400","Штука",null,35415.980000000003,null,42499.175999999999]
["USD686","Угол листовой 90 градусов 80x600","Штука",null,31314.95,null,37577.94]
["USF083","Угол вертикальный листовой 80х300","Штука",null,14814.4,null,17777.28]
["UST650","Т-ответвитель листовой 150х1000","Штука",null,74656.22,null,89587.463999999993]
["USX618","Х-ответвитель листовой 100х800","Штука",null,109894.97,null,131873.96400000001]
["USX656","Х-ответвитель листовой 150х600","Штука",null,106651.68,null,127982.01599999999]
["UKH300","Держатель крышки для шарнира","Штука",null,169.29,null,203.148]
["UGH200","Универсальный переходник","Штука",null,499.02,null,598.82399999999996]
["URH058","Редукция-заглушка H 150 мм, L 800 мм","Штука",null,2800.84,null,3361.0080000000003]
["UVH080","Соединитель шарнирный вертикальный H 80 мм","Штука",null,3049.75,null,3659.7]
["UKIC685","Крышка на угол вертикальный внутренний 45 градусов 80х500, R600","Штука",null,3334.59,null,4001.5079999999998]
["UKID653","Крышка на угол вертикальный внутренний 90 градусов 150х300, R600","Штука",null,3160.63,null,3792.7559999999999]
["UKID680","Крышка на угол вертикальный внутренний 90 градусов 80х1000, R600","Штука",null,17710.310000000001,null,21252.371999999999]
["UKOC658","Крышка на угол вертикальный внешний 45 градусов 150х800, R600","Штука",null,10058.700000000001,null,12070.44]
["UKOD626","Крышка на угол вертикальный внешний 90 градусов 200х600, R600","Штука",null,10782.41,null,12938.892]
["UKOD656","Крышка на угол вертикальный внешний 90 градусов 150х600, R600","Штука",null,9919.81,null,11903.771999999999]
["UKD603","Крышка на угол 90 градусов 300","Штука",null,7892.19,null,9470.6279999999988]
["UKS329","Крышка двускатная 900, L 1 м","Метр",null,6328.14,null,7593.768]
["ULH313HDZ","Лоток лестничный 100х300, лонжерон 2 мм,L 3 м, горячий цинк","Метр",null,5500.65,null,6600.78]
["ULH380HDZ","Лоток лестничный 80х1000, лонжерон 2 мм, L 3 м, горячий цинк","Метр",null,9729.0499999999993,null,11674.859999999999]
["ULH614HDZ","Лоток лестничный 100х400, лонжерон 2 мм, L 6 м, горячий цинк","Метр",null,6089.41,null,7307.2919999999995]
["ULH657HDZ","Лоток лестничный 150х700, лонжерон 2 мм, L 6 м, горячий цинк","Метр",null,10477.459999999999,null,12572.951999999999]
["ULM354HDZ","Лоток лестничный 150х400, лонжерон 1,5 мм, L 3 м, горячий цинк","Метр",null,7152.13,null,8582.5560000000005]
["ULM384HDZ","Лоток лестничный 80х400, лонжерон 1,5 мм, L 3 м, горячий цинк","Метр",null,4812.12,null,{"$f":"E12807*1.2","v":5774.5439999999999}]
["ULM656HDZ","Лоток лестничный 150х600, лонжерон 1,5 мм, L 6 м, горячий цинк","Метр",null,9691.65,null,11629.98]
["UNH326HDZ","Лоток листовой неперфорированный 200x600, лонжерон 2 мм, L 3 м, горячий цинк","Метр",null,16424.66,null,19709.592000000001]
["UNH623HDZ","Лоток листовой неперфорированный 200x300, лонжерон 2 мм, L 6 м, горячий цинк","Метр",null,9941.14,null,11929.367999999999]
["UNM310HDZ","Лоток листовой неперфорированный 100х1000, лонжерон 1,5 мм, L 3 м, горячий цинк","Метр",null,12223.75,null,14668.5]
["UNM329HDZ","Лоток листовой неперфорированный 200x900, лонжерон 1,5 мм, L 3 м, горячий цинк","Метр",null,16566.86,null,19880.232]
["UNM387HDZ","Лоток листовой неперфорированный 80х700, лонжерон 1,5 мм, L 3 м, горячий цинк","Метр",null,9354.86,null,11225.832]
["UNM684HDZ","Лоток листовой неперфорированный 80х400, лонжерон 1,5 мм, L 6 м, горячий цинк","Метр",null,6680.68,null,8016.8159999999998]
["USH314HDZ","Лоток листовой 100х400, лонжерон 2 мм, L 3 м, горячий цинк","Метр",null,8449.2800000000007,null,10139.136]
["USH612HDZ","Лоток листовой 100х200, лонжерон 2 мм, L 6 м, горячий цинк","Метр",null,6296.43,null,7555.7160000000003]
["USH657HDZ","Лоток листовой 150х700, лонжерон 2 мм, L 6 м, горячий цинк","Метр",null,14261.84,null,17114.207999999999]
["USM354HDZ","Лоток листовой 150х400, лонжерон 1,5 мм, L 3 м, горячий цинк","Метр",null,9167.77,null,11001.324000000001]
["USM622HDZ","Лоток листовой 200x200, лонжерон 1,5 мм, L 6 м, горячий цинк","Метр",null,8434.35,null,10121.219999999999]
["USM686HDZ","Лоток листовой 80х600, лонжерон 1,5 мм, L 6 м, горячий цинк","Метр",null,9167.77,null,11001.324000000001]
["ULIC617HDZ","Угол лестничный вертикальный внутренний 45 градусов 100х700, R600, горячеоцинкованный","Штука",null,8380.2099999999991,null,10056.251999999999]
["ULID614HDZ","Угол лестничный вертикальный внутренний 90 градусов 100х400, R600, горячеоцинкованный","Штука",null,9331.83,null,11198.196]
["ULID624HDZ","Угол лестничный вертикальный внутренний 90 градусов 200х400, R600, горячеоцинкованный","Штука",null,13889.22,null,16667.063999999998]
["ULOC627HDZ","Угол лестничный вертикальный внешний 45 градусов 200х700, R600, горячеоцинкованный","Штука",null,14031.99,null,16838.387999999999]
["ULOC687HDZ","Угол лестничный вертикальный внешний 45 градусов 80х700, R600, горячеоцинкованный","Штука",null,8767.7900000000009,null,10521.348]
["ULOD655HDZ","Угол лестничный вертикальный внешний 90 градусов 150х500, R600, горячеоцинкованный","Штука",null,14236.98,null,17084.376]
["ULC613HDZ","Угол лестничный 45 градусов 100x300, горячий цинк","Штука",null,14245.07,null,17094.083999999999]
["ULC617HDZ","Угол лестничный 45 градусов 100x700, горячий цинк","Штука",null,17496.810000000001,null,20996.172000000002]
["ULC689HDZ","Угол лестничный 45 градусов 80x900, горячий цинк","Штука",null,16166.67,null,19400.004000000001]
["ULD686HDZ","Угол лестничный 90 градусов 80x600, горячий цинк","Штука",null,19779.900000000001,null,23735.88]
["ULF016HDZ","Угол вертикальный лестничный 100х600, горячий цинк","Штука",null,16616.11,null,19939.331999999999]
["ULT625HDZ","Т-ответвитель лестничный 200х500, горячий цинк","Штука",null,62209.67,null,74651.603999999992]
["ULT659HDZ","Т-ответвитель лестничный 150х900, горячий цинк","Штука",null,58752.17,null,70502.603999999992]
["ULX627HDZ","Х-ответвитель лестничный 200х700, горячий цинк","Штука",null,120628.41,null,144754.092]
["USIC623HDZ","Угол листовой вертикальный внутренний 45 градусов 200х300, R600, горячеоцинкованный","Штука",null,10964.13,null,13156.955999999998]
["USIC653HDZ","Угол листовой вертикальный внутренний 45 градусов 150х300, R600, горячеоцинкованный","Штука",null,8565.7099999999991,null,10278.851999999999]
["USID619HDZ","Угол листовой вертикальный внутренний 90 градусов 100х900, R600, горячеоцинкованный","Штука",null,19537.7,null,23445.24]
["USOC616HDZ","Угол листовой вертикальный внешний 45 градусов 100х600, R600, горячеоцинкованный","Штука",null,11141.84,null,13370.208000000001]
["USOC684HDZ","Угол листовой вертикальный внешний 45 градусов 80х400, R600, горячеоцинкованный","Штука",null,8563.58,null,10276.296]
["USOD615HDZ","Угол листовой вертикальный внешний 90 градусов 100х500, R600, горячеоцинкованный","Штука",null,15916.94,null,19100.328000000001]
["USOD689HDZ","Угол листовой вертикальный внешний 90 градусов 80х900, R600, горячеоцинкованный","Штука",null,21672.71,null,26007.251999999997]
["USC657HDZ","Угол листовой 45 градусов 150x700, горячий цинк","Штука",null,37699.31,null,45239.171999999999]
["USD654HDZ","Угол листовой 90 градусов 150x400, горячий цинк","Штука",null,40392.15,null,48470.58]
["USD689HDZ","Угол листовой 90 градусов 80x900, горячий цинк","Штука",null,49957.29,null,59948.748]
["USF050HDZ","Угол вертикальный листовой 150х1000, горячий цинк","Штука",null,46267.32,null,55520.784]
["UST627HDZ","Т-ответвитель листовой 200х700, горячий цинк","Штука",null,76011.77,null,91214.123999999996]
["USX615HDZ","Х-ответвитель листовой 100х500, горячий цинк","Штука",null,103110.04,null,123732.04799999998]
["USX652HDZ","Х-ответвитель листовой 150х200, горячий цинк","Штука",null,88128.23,null,105753.87599999999]
["UEP90KHDZ","Пластина вывода кабеля для лестничных лотков осн.900 мм, горячий цинк, в комплекте с крепёжными элементами, необходимыми для монтажа","Упаковка",null,6649.89,null,7979.8680000000004]
["UKIC610HDZ","Крышка на угол вертикальный внутренний 45 градусов 100х1000, R600, горячеоцинкованная","Штука",null,14513.68,null,17416.416000000001]
["UKIC687HDZ","Крышка на угол вертикальный внутренний 45 градусов 80х700, R600, горячеоцинкованная","Штука",null,6275.86,null,7531.0319999999992]
["UKID628HDZ","Крышка на угол вертикальный внутренний 90 градусов 200х800, R600, горячеоцинкованная","Штука",null,14205.07,null,17046.083999999999]
["UKID684HDZ","Крышка на угол вертикальный внутренний 90 градусов 80х400, R600, горячеоцинкованная","Штука",null,4086.11,null,4903.3320000000003]
["UKOC680HDZ","Крышка на угол вертикальный внешний 45 градусов 80х1000, R600, горячеоцинкованная","Штука",null,16545.62,null,19854.743999999999]
["UKOD628HDZ","Крышка на угол вертикальный внешний 90 градусов 200х800, R600, горячеоцинкованная","Штука",null,20292.990000000002,null,24351.588]
["UKC600HDZ","Крышка на угол 45 градусов 1000, горячий цинк","Штука",null,22032.02,null,26438.423999999999]
["UKF304HDZ","Крышка вертикального угла 400, горячий цинк","Штука",null,4146.51,null,4975.8119999999999]
["UKT602HDZ","Крышка на Т-ответвитель 200, горячий цинк","Штука",null,11016.03,null,13219.236000000001]
["ULH326ZL","Лоток лестничный 200x600, лонжерон 2 мм,","Метр",null,12677.72,null,15213.263999999999]
["ULH380ZL","Лоток лестничный 80х1000, лонжерон 2 мм,","Метр",null,9729.0499999999993,null,11674.859999999999]
["ULH623ZL","Лоток лестничный 200x300, лонжерон 2 мм,","Метр",null,8167.49,null,9800.9879999999994]
["ULM319ZL","Лоток лестничный 100х900, лонжерон 1,5 м","Метр",null,8481.81,null,10178.171999999999]
["ULM387ZL","Лоток лестничный 80х700, лонжерон 1,5 мм","Метр",null,7234.5,null,8681.4]
["ULM655ZL","Лоток лестничный 150х500, лонжерон 1,5 м","Метр",null,7426.6,null,8911.92]
["UNH315ZL","Лоток листовой неперфорированный 100х500","Метр",null,9277.5400000000009,null,11133.048000000001]
["UNH388ZL","Лоток листовой неперфорированный 80х800,","Метр",null,11475.4,null,13770.48]
["UNH685ZL","Лоток листовой неперфорированный 80х500,","Метр",null,8434.35,null,10121.219999999999]
["USH326ZL","Лоток листовой 200x600, лонжерон 2 мм, L","Метр",null,16424.66,null,19709.592000000001]
["USH388ZL","Лоток листовой 80х800, лонжерон 2 мм, L","Метр",null,11475.4,null,13770.48]
["UNH324ZL","Лоток листовой неперфорированный 200x400","Метр",null,11597.53,null,13917.036]
["UNM317ZL","Лоток листовой неперфорированный 100х700","Метр",null,10602.19,null,{"$f":"E14343*1.2","v":12722.628000000001}]
["UNM610ZL","Лоток листовой неперфорированный 100х100","Метр",null,12223.75,null,14668.5]
["UNM614ZL","Лоток листовой неперфорированный 100х400","Метр",null,7346.7,null,8816.0399999999991]
["USM310ZL","Лоток листовой 100х1000, лонжерон 1,5 мм","Метр",null,12223.75,null,14668.5]
["USM387ZL","Лоток листовой 80х700, лонжерон 1,5 мм,","Метр",null,9354.86,null,11225.832]
["USM653ZL","Лоток листовой 150х300, лонжерон 1,5 мм,","Метр",null,7858.11,null,9429.732]
["USM684ZL","Лоток листовой 80х400, лонжерон 1,5 мм,","Метр",null,6680.68,null,8016.8159999999998]
["ULIC659ZL","Угол лестничный вертикальный внутренний 45 градусов 150х900, R600, цинк-ламельный","Штука",null,11790.77,null,14148.924000000001]
["ULID627ZL","Угол лестничный вертикальный внутренний 90 градусов 200х700, R600, цинк-ламельный","Штука",null,18486.57,null,22183.883999999998]
["ULID680ZL","Угол лестничный вертикальный внутренний 90 градусов 80х1000, R600, цинк-ламельный","Штука",null,15374.66,null,18449.592000000001]
["ULOC624ZL","Угол лестничный вертикальный внешний 45 градусов 200х400, R600, цинк-ламельный","Штука",null,10542.43,null,12650.915999999999]
["ULOD620ZL","Угол лестничный вертикальный внешний 90 градусов 200х1000, R600, цинк-ламельный","Штука",null,29348.85,null,{"$f":"E14599*1.2","v":35218.619999999995}]
["UDM308ZL","Донная вставка 800, цинк-ламель","Метр",null,6627.63,null,7953.1559999999999]
["USC40560KZL","Перегородка SEP для вертикального внутреннего угла 45° H150, R600, цинк-ламель, в комплекте с крепежными элементами необходимымидля монтажа","Упаковка",null,1723.92,null,2068.7040000000002]
["ULC623ZL","Угол лестничный 45 градусов 200x300, цин","Штука",null,23335.33,null,28002.396000000001]
["ULD619ZL","Угол лестничный 90 градусов 100x900, цин","Штука",null,27714.04,null,33256.847999999998]
["ULD687ZL","Угол лестничный 90 градусов 80x700, цинк","Штука",null,20828.22,null,24993.864000000001]
["ULF026ZL","Угол вертикальный лестничный 200х600, цинк-ламель","Штука",null,27217.21,null,32660.651999999998]
["ULF084ZL","Угол вертикальный лестничный 80х400, цинк-ламель","Штука",null,12496.47,null,14995.763999999999]
["ULT680ZL","Т-ответвитель лестничный 80х1000, цинк-л","Штука",null,46917.23,null,56300.675999999999]
["ULX657ZL","Х-ответвитель лестничный 150х700, цинк-л","Штука",null,92791.13,null,111349.356]
["ULX688ZL","Х-ответвитель лестничный 80х800, цинк-ла","Штука",null,74048.05,null,88857.66]
["USIC653ZL","Угол листовой вертикальный внутренний 45 градусов 150х300, R600, цинк-ламельный","Штука",null,8565.7099999999991,null,{"$f":"E14855*1.2","v":10278.851999999999}]
["USID620ZL","Угол листовой вертикальный внутренний 90 градусов 200х1000, R600, цинк-ламельный","Штука",null,31987.31,null,38384.771999999997]
["USOC617ZL","Угол листовой вертикальный внешний 45 градусов 100х700, R600, цинк-ламельный","Штука",null,12256.04,null,14707.248000000001]
["USOC682ZL","Угол листовой вертикальный внешний 45 градусов 80х200, R600, цинк-ламельный","Штука",null,6936.49,null,8323.7879999999986]
["USOD614ZL","Угол листовой вертикальный внешний 90 градусов 100х400, R600, цинк-ламельный","Штука",null,14469.98,null,17363.975999999999]
["USC610ZL","Угол листовой 45 градусов 100x1000, цинк","Штука",null,41964.1,null,50356.92]
["USC687ZL","Угол листовой 45 градусов 80x700, цинк-л","Штука",null,29981.22,null,35977.464]
["USD624ZL","Угол листовой 90 градусов 200x400, цинк-","Штука",null,46451.46,null,55741.752]
["USD684ZL","Угол листовой 90 градусов 80x400, цинк-л","Штука",null,32717.040000000001,null,39260.447999999997]
["USF052ZL","Угол вертикальный листовой 150х200, цинк","Штука",null,19707.63,null,23649.155999999999]
["UST628ZL","Т-ответвитель листовой 200х800, цинк-лам","Штука",null,81642.14,null,97970.567999999999]
["USX618ZL","Х-ответвитель листовой 100х800, цинк-лам","Штука",null,128490.93,null,154189.11599999998]
["USX625ZL","Х-ответвитель листовой 200х500, цинк-лам","Штука",null,131751.67000000001,null,158102.00400000002]
["UEP60KZL","Пластина вывода кабеля для лестничных лотков осн.600 мм, цинк-ламель, в комплекте с крепёжными элементами, необходимыми для монтажа","Упаковка",null,3848.32,null,4617.9840000000004]
["URH013HDZL","Редукция-заглушка H 100 мм, L 300 мм, цинк-ламельный (аналог горячеоцинкованный)","Штука",null,1529.49,null,1835.3879999999999]
["URH053HDZL","Редукция-заглушка H 150 мм, L 300 мм, ци","Штука",null,1837.21,null,2204.652]
["URH086HDZL","Редукция-заглушка H 80 мм, L 600 мм, цинк-ламельный (аналог горячеоцинкованный)","Штука",null,1683.28,null,2019.9359999999999]
["UKIC627ZL","Крышка на угол вертикальный внутренний 45 градусов 200х700, R600, цинк-ламельная","Штука",null,7804.99,null,9365.9879999999994]
["UKID624ZL","Крышка на угол вертикальный внутренний 90 градусов 200х400, R600, цинк-ламельная","Штука",null,4973.6000000000004,null,5968.3200000000006]
["UKID654ZL","Крышка на угол вертикальный внутренний 90 градусов 150х400, R600, цинк-ламельная","Штука",null,4575.71,null,5490.8519999999999]
["UKOC620ZL","Крышка на угол вертикальный внешний 45 градусов 200х1000, R600, цинк-ламельная","Штука",null,20577.080000000002,null,24692.496000000003]
["UKOD617ZL","Крышка на угол вертикальный внешний 90 градусов 100х700, R600, цинк-ламельная","Штука",null,13212.32,null,15854.784]
["UKOD685ZL","Крышка на угол вертикальный внешний 90 градусов 80х500, R600, цинк-ламельная","Штука",null,7427.05,null,8912.4599999999991]
["UKF302ZL","Крышка вертикального угла 200, цинк-ламель","Штука",null,2608.13,null,3129.7559999999999]
["UKS300ZL","Крышка с фиксаторами 1000, L 3 м, цинк-ламель","Метр",null,13708.81,null,16450.572]
["UKT609ZL","Крышка на Т-ответвитель 900, цинк-ламель","Штука",null,40392.15,null,48470.58]
["ALW31060","Лоток лестничный 100х600, лонжерон 3 мм, L 3 м, алюминий","Метр",null,8876.07,null,10651.284]
["ALW3550","Лоток лестничный 50х500, лонжерон 3 мм, L 3 м, алюминий","Метр",null,6518.12,null,7821.7439999999997]
["ALCW31010K","Угол лестничный горизонтальный 45 градусов 100х100, толщ. 3 мм, R300, в комплекте с крепёжными элементами, необходимыми длямонтажа, алюминий","Упаковка",null,6330.3,null,7596.36]
["ALDW31020K","Угол лестничный горизонтальный 90 градусов 100х200, толщ. 3 мм, R300, в комплекте с крепёжными элементами, необходимыми длямонтажа, алюминий","Упаковка",null,11421.11,null,13705.332]
["ALDW3840K","Угол лестничный горизонтальный 90 градусов 80х400, толщ. 3 мм, R300, в комплекте с крепёжными элементами, необходимыми для монтажа,алюминий","Упаковка",null,11685.97,null,14023.163999999999]
["ALFW1540K","Угол вертикальный шарнирный 150х400, 3 мм, в комплекте с крепёжными элементами, необходимыми для монтажа, алюминий","Упаковка",null,23126.26,null,27751.511999999999]
["ALIW31050K","Угол лестничный вертикальный внутренний 90 градусов 100х500, толщ. 3 мм, R300, в комплекте с крепёжными элементами, необходимымидля монтажа, алюминий","Упаковка",null,19618.14,null,23541.768]
["ALKW31010K","Угол лестничный вертикальный внутренний 45 градусов 100х100, толщ. 3 мм, R300, в комплекте с крепёжными элементами, необходимымидля монтажа, алюминий","Упаковка",null,11552.38,null,13862.855999999998]
["ALOW31020K","Угол лестничный вертикальный внешний 90 градусов 100х200, толщ. 3 мм, R300, в комплекте с крепёжными элементами, необходимыми длямонтажа, алюминий","Упаковка",null,14009.75,null,16811.7]
["ALOW31530K","Угол лестничный вертикальный внешний 90 градусов 150х300, толщ. 3 мм, R300, в комплекте с крепёжными элементами, необходимыми длямонтажа, алюминий","Упаковка",null,24830.81,null,29796.972000000002]
["ALPW31040K","Угол лестничный вертикальный внешний 45 градусов 100х400, толщ. 3 мм, R300, в комплекте с крепёжными элементами, необходимыми длямонтажа, алюминий","Упаковка",null,16519.650000000001,null,19823.580000000002]
["ALTW31050K","T-образный ответвитель 100х500, толщ. 3 мм, R300, в комплекте с крепёжными элементами, необходимыми для монтажа, алюминий","Упаковка",null,32256.01,null,38707.212]
["ALXW31010K","Х-образный ответвитель 100х100, толщ. 3 мм, R300, в комплекте с крепёжными элементами, необходимыми для монтажа, алюминий","Упаковка",null,37127.769999999997,null,44553.323999999993]
["ALXW3545K","Х-образный ответвитель 50х450, толщ. 3 мм, R300, в комплекте с крепёжными элементами, необходимыми для монтажа, алюминий","Упаковка",null,49902.3,null,59882.76]
["AKLDH3150K","Крышка на угол лестничный горизонтальный 90 градусов 150, толщ. 2 мм, R300, в комплекте с крепёжными элементами, необходимыми длямонтажа, алюминий","Упаковка",null,8416,null,10099.199999999999]
["AKLIH31020K","Крышка на угол лестничный вертикальный внутренний 90 градусов 100х200, толщ. 2 мм, R300, в комплекте с крепёжными элементами,необходимыми для монтажа, алюминий","Упаковка",null,4574.91,null,5489.8919999999998]
["AKLKH31040K","Крышка на угол лестничный вертикальный внутренний 45 градусов 100х400, толщ. 2 мм, R300, в комплекте с крепёжными элементами,необходимыми для монтажа, алюминий","Упаковка",null,4984.7299999999996,null,5981.6759999999995]
["AKLKH3520K","Крышка на угол лестничный вертикальный внутренний 45 градусов 50х200, толщ. 2 мм, R300, в комплекте с крепёжными элементами,необходимыми для монтажа, алюминий","Упаковка",null,3174.23,null,3809.076]
["AKLOH31050K","Крышка на угол лестничный вертикальный внешний 90 градусов 100х500, толщ. 2 мм, R300, в комплекте с крепёжными элементами,необходимыми для монтажа, алюминий","Упаковка",null,9344.31,null,11213.171999999999]
["AKLPH31515K","Крышка на угол лестничный вертикальный внешний 45 градусов 150х150, толщ. 2 мм, R300, в комплекте с крепёжными элементами,необходимыми для монтажа, алюминий","Упаковка",null,3528.67,null,4234.4039999999995]
["AKLTH3200K","Крышка на T-образный ответвитель 200, толщ. 2 мм, R300, в комплекте с крепёжными элементами, необходимыми для монтажа, алюминий","Упаковка",null,11046.8,null,13256.159999999998]
[null,null,null,null,null,null,0]
["ISH1045C","Перфорированный лоток 100х450x3000, 2 мм, AISI 304","Метр",null,16337.98,null,19605.575999999997]
["ISH815C","Перфорированный лоток 80х150x3000, 2 мм, AISI 304","Метр",null,8319.86,null,9983.8320000000003]
["ISM1045C","Перфорированный лоток 100х450x3000, 1,5 мм, AISI 304","Метр",null,12301.7,null,14762.04]
["ISM530C","Перфорированный лоток 50х300x3000, 1,5 мм, AISI 304","Метр",null,7204.22,null,{"$f":"E16071*1.2","v":8645.0640000000003}]
["ISV1015C","Лоток перфорированный 100x150x3000, 1,0 мм, AISI 304","Метр",null,4704.03,null,5644.8359999999993]
["ISV845C","Лоток перфорированный 80x450x3000, 1,0 мм, INOX304","Метр",null,7760.92,null,9313.1039999999994]
["INH515C","Неперфорированный лоток 50х150x3000, 2 мм, AISI 304","Метр",null,6939.8,null,8327.76]
["INL520C","Лоток неперфорированный  50x200х3000, 0,8 мм, INOX304","Метр",null,3314.1,null,3976.9199999999996]
["INM510C","Неперфорированный лоток 50х100x3000, 1,5 мм, AISI 304","Метр",null,3536.55,null,4243.8599999999997]
["INM810C","Неперфорированный лоток 80х100x3000, 1,5 мм, AISI 304","Метр",null,4901.8900000000003,null,5882.268]
["INV545C","Лоток неперфорированный  50x450х3000, 1,0 мм, INOX304","Метр",null,7068.42,null,8482.1039999999994]
["IKSM3050C","Крышка прямого элемента 50х1,5мм L 3000, AISI 304","Метр",null,1158.8900000000001,null,1390.6680000000001]
["IKSM3600C","Крышка прямого элемента 600х1,5мм L 3000, AISI 304","Метр",null,7680.92,null,9217.1039999999994]
["ISCL320KC","Угол горизонтальный 45 градусов 30х200, 0,8 мм, INOX304 в комплекте с крепежными элементами и соединительными пластинами,необходимыми для монтажа","Штука",null,4553.54,null,5464.2479999999996]
["ISCM1010KC","Угол горизонтальный 45 градусов 100х100, 1,5 мм, AISI 304 в комплекте с крепежными элементами и соединительными пластинами,необходимыми для монтажа","Штука",null,9548.81,null,11458.571999999998]
["ISCM320KC","Угол горизонтальный 45 градусов 30х200, 1,5 мм, AISI 304 в комплекте с крепежными элементами и соединительными пластинами,необходимыми для монтажа","Штука",null,8424.06,null,10108.871999999999]
["ISDL510KC","Угол горизонтальный 90 градусов 50х100, 0,8 мм, INOX304 в комплекте с крепежными элементами и соединительными пластинами,необходимыми для монтажа","Штука",null,4467.21,null,{"$f":"E16391*1.2","v":5360.652}]
["ISDL810KC","Угол горизонтальный 90 градусов 80х100, 0,8 мм, INOX304 в комплекте с крепежными элементами и соединительными пластинами,необходимыми для монтажа","Штука",null,4809.4799999999996,null,5771.3759999999993]
["ISDM545KC","Угол горизонтальный 90 градусов 50х450, 1,5 мм, AISI 304 в комплекте с крепежными элементами и соединительными пластинами,необходимыми для монтажа","Штука",null,18227.349999999999,null,21872.819999999996]
["ISFL350KC","Ответвитель универсальный 30х500, 0,8 мм, AISI 304 в комплекте с крепежными элементами и соединительными пластинами, необходимымидля монтажа","Штука",null,6720.38,null,8064.4560000000001]
["ISFL515KC","Ответвитель универсальный 50х150, 0,8 мм, AISI 304 в комплекте с крепежными элементами и соединительными пластинами, необходимымидля монтажа","Штука",null,5136.62,null,6163.9439999999995]
["ISFM360KC","Ответвитель универсальный 30х600, 1,5 мм, AISI 304 в комплекте с крепежными элементами и соединительными пластинами, необходимымидля монтажа","Упаковка",null,17548.34,null,21058.007999999998]
["ISIL1045KC","Угол вертикальный внутренний 90 градусов 100х450, 0,8 мм, AISI 304 в комплекте с крепежными элементами и соединительнымипластинами, необходимыми для монтажа","Штука",null,8770.34,null,10524.407999999999]
["ISIL520KC","Угол вертикальный внутренний 90 градусов 50х200, 0,8 мм, AISI 304 в комплекте с крепежными элементами и соединительными пластинами,необходимыми для монтажа","Штука",null,5858.34,null,7030.0079999999998]
["ISIM545KC","Угол вертикальный внутренний 90 градусов 50х450, 1,5 мм, AISI 304 в комплекте с крепежными элементами и соединительными пластинами,необходимыми для монтажа","Упаковка",null,15032.09,null,18038.507999999998]
["ISIM845KC","Угол вертикальный внутренний 90 градусов 80х450, 1,5 мм, AISI 304 в комплекте с крепежными элементами и соединительными пластинами,необходимыми для монтажа","Упаковка",null,15642.19,null,18770.628000000001]
["ISKL815KC","Угол вертикальный внутренний 45 градусов 80х150, 0,8 мм, AISI 304 в комплекте с крепежными элементами и соединительными пластинами,необходимыми для монтажа","Штука",null,5469.15,null,6562.98]
["ISKM1030KC","Угол вертикальный внутренний 45 градусов 100х300, 1,5 мм, AISI 304 в комплекте с крепежными элементами и соединительнымипластинами, необходимыми для монтажа","Упаковка",null,13242.05,null,15890.46]
["ISKM550KC","Угол вертикальный внутренний 45 градусов 50х500, 1,5 мм, AISI 304 в комплекте с крепежными элементами и соединительными пластинами,необходимыми для монтажа","Упаковка",null,14792.62,null,17751.144]
["ISOL340KC","Угол вертикальный внешний 90 градусов 30х400, 0,8 мм, AISI 304 в комплекте с крепежными элементами и соединительными пластинами,необходимыми для монтажа","Штука",null,6648.85,null,7978.62]
["ISOM310KC","Угол вертикальный внешний 90 градусов 30х100, 1,5 мм, AISI 304 в комплекте с крепежными элементами и соединительными пластинами,необходимыми для монтажа","Упаковка",null,7870.31,null,9444.3719999999994]
["ISOM830KC","Угол вертикальный внешний 90 градусов 80х300, 1,5 мм, AISI 304 в комплекте с крепежными элементами и соединительными пластинами,необходимыми для монтажа","Упаковка",null,13657.74,null,16389.288]
["ISPL815KC","Угол вертикальный внешний 45 градусов 80х150, 0,8 мм, AISI 304 в комплекте с крепежными элементами и соединительными пластинами,необходимыми для монтажа","Штука",null,5500.97,null,6601.1639999999998]
["ISPM1020KC","Угол вертикальный внешний 45 градусов 100х200, 1,5 мм, AISI 304 в комплекте с крепежными элементами и соединительными пластинами,необходимыми для монтажа","Упаковка",null,11590.13,null,13908.155999999999]
["ISPM850KC","Угол вертикальный внешний 45 градусов 80х500, 1,5 мм, AISI 304 в комплекте с крепежными элементами и соединительными пластинами,необходимыми для монтажа","Упаковка",null,14868.09,null,17841.707999999999]
["ISTL330KC","Ответвитель Т-образный 30х300, 0,8 мм, INOX304 в комплекте с крепежными элементами и соединительными пластинами, необходимыми длямонтажа","Штука",null,7623.81,null,9148.5720000000001]
["ISTL820KC","Ответвитель Т-образный 80х200, 0,8 мм, INOX304 в комплекте с крепежными элементами и соединительными пластинами, необходимыми длямонтажа","Штука",null,8567.09,null,10280.508]
["ISTM507KC","Ответвитель Т-образный 50х75, 1,5 мм, AISI 304 в комплекте с крепежными элементами и соединительными пластинами, необходимыми длямонтажа","Штука",null,12658.74,null,15190.487999999999]
["ISXL345KC","Ответвитель Х-образный 30х450, 0,8 мм, INOX304 в комплекте с крепежными элементами и соединительными пластинами, необходимыми длямонтажа","Штука",null,12324.89,null,14789.867999999999]
["ISXM1045KC","Ответвитель Х-образный 100х450, 1,5 мм, AISI 304 в комплекте с крепежными элементами и соединительными пластинами, необходимыми длямонтажа","Штука",null,29337.23,null,35204.675999999999]
["ISXM850KC","Ответвитель Х-образный 80х500, 1,5 мм, AISI 304 в комплекте с крепежными элементами и соединительными пластинами, необходимыми длямонтажа","Штука",null,28321.3,null,33985.56]
["IKSCL400C","Крышка на угол горизонтальный 45 градусов 400, 0,8 мм, AISI 304","Штука",null,3914.99,null,4697.9879999999994]
["IKSIL307C","Крышка на угол вертикальный внутренний 90° 30х75 мм, толщ. 0.8 мм, AISI 304","Штука",null,1046.73,null,1256.076]
["IKSIL860C","Крышка на угол вертикальный внутренний 90° 80х600 мм, толщ. 0.8 мм, AISI 304","Штука",null,3002.53,null,3603.0360000000001]
["IKSKL310C","Крышка на угол вертикальный внутренний 45° 30х100 мм, толщ. 0.8 мм, AISI 304","Штука",null,1046.73,null,1256.076]
["IKSKL845C","Крышка на угол вертикальный внутренний 45° 80х450 мм, толщ. 0.8 мм, AISI 304","Штука",null,2494.44,null,2993.328]
["IKSOL805C","Крышка на угол вертикальный внешний 90° 80х50 мм, толщ. 0.8 мм, AISI 304","Штука",null,1100.9000000000001,null,1321.0800000000002]
["IKSPL510C","Крышка на угол вертикальный внешний 45° 50х100 мм, толщ. 0.8 мм, AISI 304","Штука",null,1238.69,null,1486.4280000000001]
["IKSTL450C","Крышка на Т-образный ответвитель 450, 0,8 мм, AISI 304","Штука",null,6070.64,null,7284.768]
["IKSVL400C","Крышка на горизонтальный изменяемый угол СРО 0-45град. 400, 0,8 мм,  AISI 304","Штука",null,3421.15,null,4105.38]
["IGC40C","пластина для увеличения жесткости крышек, ширина 400 мм, AISI 304","Штука",null,636.24,null,763.48799999999994]
["IR310C","Редукция, переходник, 30х100, AISI 304","Штука",null,1072.49,null,1286.9880000000001]
["IR530C","Редукция, переходник, 50х300, AISI 304","Штука",null,1858.29,null,2229.9479999999999]
["ISVL360C","Горизонтальный изменяемый угол СРО 0-45град. 600х30, 0,8 мм, AISI 304","Штука",null,9555.76,null,11466.912]
["ISVM330C","Горизонтальный изменяемый угол СРО 0-45град. 300х30,1,5 мм, AISI 304","Штука",null,10908.96,null,13090.751999999999]
["ISVM560C","Горизонтальный изменяемый угол СРО 0-45град. 600х50,1,5 мм, AISI 304","Штука",null,20319.75,null,24383.7]
["IZH1580C","Заглушка, 150х800, AISI 304","Штука",null,3093.25,null,3711.8999999999996]
["IZH345C","Заглушка, 30х450, AISI 304","Штука",null,767.67,null,921.20399999999995]
["IZH845C","Заглушка, 80х450, AISI 304","Штука",null,1742.56,null,2091.0719999999997]
["ILH31590C","Лоток лестничный 150х900х3000, 2 мм, AISI304","Метр",null,14013.17,null,16815.804]
["ILH3515C","Лоток лестничный 50х150х3000, 2 мм, AISI304","Метр",null,5619.12,null,6742.9439999999995]
["ILH61010C","Лоток лестничный 100х100х6000, 2 мм, AISI304","Метр",null,7701.54,null,9241.848]
["ILH6570C","Лоток лестничный 50х700х6000, 2 мм, AISI304","Метр",null,8354.4699999999993,null,10025.364]
["ILM31515C","Лоток лестничный 150х150х3000, 1,5 мм, AISI304","Метр",null,7963.7,null,9556.4399999999987]
["ILM3815C","Лоток лестничный 80х150х3000, 1,5 мм, AISI304","Метр",null,5505.36,null,6606.4319999999998]
["ILM3880C","Лоток лестничный 80х800х3000, 1,5 мм, AISI304","Метр",null,8735.33,null,10482.395999999999]
["ILM61580C","Лоток лестничный 150х800х6000, 1,5 мм, AISI304","Метр",null,11198.67,null,13438.404]
["ILM6840C","Лоток лестничный 80х400х6000, 1,5 мм, AISI304","Метр",null,6746.91,null,8096.2919999999995]
["ILCM31060C","Угол горизонтальный 45 градусов 100х600, R300, 1,5 мм, AISI 304","Штука",null,6817.27,null,8180.7240000000002]
["ILCM3560C","Угол горизонтальный 45 градусов 50х600, R300, 1,5 мм, AISI 304","Штука",null,6307.12,null,7568.5439999999999]
["ILCM61520C","Угол горизонтальный 45 градусов 150х200, R600, 1,5 мм, AISI 304","Штука",null,10954.31,null,13145.171999999999]
["ILCM6520C","Поворот 45 лестничный 50х200, R 600, 1,5 мм, AISI 304","Штука",null,7486.04,null,8983.2479999999996]
["ILDM31570C","Угол горизонтальный 90 градусов 150х700, R300, 1,5 мм, AISI 304","Штука",null,17444.47,null,20933.364000000001]
["ILDM3540C","Угол горизонтальный 90 градусов 50х400, R300, 1,5 мм, AISI 304","Штука",null,7705.02,null,9246.0239999999994]
["ILDM61030C","Угол горизонтальный 90 градусов 100х300, R600, 1,5 мм, AISI 304","Штука",null,15024.75,null,18029.7]
["ILDM6530C","Поворот 90 лестничный 50х300, R 600, 1,5 мм, AISI 304","Штука",null,11966.68,null,14360.016]
["ILFM1075C","Угол вертикальный шарнирный 100х750,  1,5 мм, AISI 304","Штука",null,14030.5,null,16836.599999999999]
["ILFM1550C","Угол вертикальный шарнирный 150х500,  1,5 мм, нержавеющая сталь AISI 304","Штука",null,17396.72,null,20876.064000000002]
["ILIM31010C","Угол вертикальный внутренний 90 градусов 100х100, R300, 1,5 мм, AISI 304","Штука",null,8613.35,null,10336.02]
["ILIM31550C","Угол вертикальный внутренний 90 градусов 150х500, R300, 1,5 мм, нержавеющая сталь AISI 304","Штука",null,21558.41,null,25870.092000000001]
["ILIM61050C","Угол вертикальный внутренний 90 градусов 100х500, R600, 1,5 мм, AISI 304","Штука",null,22995.61,null,27594.732]
["ILIM61530C","Угол вертикальный внутренний 90 градусов 150х300, R600, 1,5 мм, нержавеющая сталь AISI 304","Штука",null,25090.39,null,30108.467999999997]
["ILIM6820C","Угол вертикальный внутренний 90 градусов 80х200, R600, 1,5 мм, AISI 304","Штука",null,15498.88,null,18598.655999999999]
["ILKM31560C","Угол вертикальный внутренний 45 градусов 150х600, R300, 1,5 мм, нержавеющая сталь AISI 304","Штука",null,24832.51,null,29799.011999999995]
["ILKM3870C","Угол вертикальный внутренний 45 градусов 80х700, R300, 1,5 мм, AISI 304","Штука",null,14054.25,null,16865.099999999999]
["ILKM61040C","Угол вертикальный внутренний 45 градусов 100х400, R600, 1,5 мм, AISI 304","Штука",null,19254.38,null,23105.256000000001]
["ILKM68100C","Угол вертикальный внутренний 45 градусов 80х1000, R600, 1,5 мм, AISI 304","Штука",null,27332.85,null,32799.42]
["ILOM31075C","Угол вертикальный внешний 90 градусов 100х750, R300, 1,5 мм, AISI 304","Штука",null,18744.21,null,22493.052]
["ILOM3845C","Угол вертикальный внешний 90 градусов 80х450, R300, 1,5 мм, AISI 304","Штука",null,13200.21,null,15840.251999999999]
["ILOM61015C","Угол вертикальный внешний 90 градусов 100х150, R600, 1,5 мм, AISI 304","Штука",null,15183.13,null,18219.755999999998]
["ILOM6515C","Угол вертикальный внешний 90 градусов 50х150, R600, 1,5 мм, AISI 304","Штука",null,13391.01,null,16069.212]
["ILPM31080C","Угол вертикальный внешний 45 градусов 100х800, R300, 1,5 мм, AISI 304","Штука",null,16691.77,null,20030.124]
["ILPM3560C","Угол вертикальный внешний 45 градусов 50х600, R300, 1,5 мм, AISI 304","Штука",null,13924.54,null,16709.448]
["ILPM3830C","Угол вертикальный внешний 45 градусов 80х300, R300, 1,5 мм, AISI 304","Штука",null,10563.3,null,12675.96]
["ILPM61590C","Угол вертикальный внешний 45 градусов 150х900, R600, 1,5 мм, нержавеющая сталь AISI 304","Штука",null,36454.78,null,43745.735999999997]
["ILTM31010C","Т-образный ответвитель 100х100, R300, 1,5 мм, AISI 304","Штука",null,14774.53,null,17729.436000000002]
["ILTM3540C","Т-отвод лестничный 50х400, R 300, 1,5 мм, AISI 304","Штука",null,20914.38,null,25097.256000000001]
["ILTM61030C","Т-образный ответвитель 100х300, R600, 1,5 мм, AISI 304","Штука",null,31271.1,null,37525.32]
["ILTM615100C","Т-образный ответвитель 150х1000, R600, 1,5 мм, AISI 304","Штука",null,67716.570000000007,null,81259.884000000005]
["ILTM6540C","Т-отвод лестничный 50х400, R 600, 1,5 мм, AISI 304","Штука",null,33462.99,null,40155.587999999996]
["ILXM31550C","Х-образный ответвитель 150х500, R300, 1,5 мм, AISI 304","Штука",null,58700.59,null,70440.707999999999]
["ILXM3520C","Х-отвод лестничный 50х200, R 300, 1,5 мм, AISI 304","Штука",null,29270.54,null,35124.648000000001]
["ILXM61075C","Х-образный ответвитель 100х750, R600, 1,5 мм, AISI 304","Штука",null,74999.98,null,89999.975999999995]
["ILXM6840C","Х-образный ответвитель 80х400, R600, 1,5 мм, AISI 304","Штука",null,56536.11,null,67843.331999999995]
["ILD401530KC","Перегородка SEP для вертикального внешнего лестничного угла 45° H150, R300, AISI 304, в комплекте с крепежными элементаминеобходимыми для монтажа","Упаковка",null,860,null,1032]
["ISC90500KC","Перегородка SEP для вертикального внутреннего листового угла 90° H50, AISI 304, в комплекте с крепежными элементами необходимымидля монтажа","Упаковка",null,597.04,null,716.44799999999998]
["ISD90800KC","Перегородка SEP для вертикального внешнего листового угла 90° H80, AISI 304, в комплекте с крепежными элементами необходимыми длямонтажа","Упаковка",null,674.9,null,809.88]
["IKLCV6150C","Крышка на угол горизонтальный 45 градусов 150, R600, 1,0 мм, нержавеющая сталь AISI 304","Штука",null,6231.53,null,7477.8359999999993]
["IKLDV6800C","Крышка на угол горизонтальный 90 градусов 800, R600, 1,0 мм, нержавеющая сталь AISI 304","Штука",null,21479.89,null,25775.867999999999]
["IKLFV3500C","Крышка на угол вертикальный шарнирный 500, нержавеющая сталь AISI 304","Штука",null,4219.6099999999997,null,5063.5319999999992]
["IKLIV3515C","Крышка на угол вертикальный внутренний 90 градусов 50х150, R300, 1,0 мм, AISI 304","Штука",null,2104.3200000000002,null,2525.1840000000002]
["IKLIV3830C","Крышка на угол вертикальный внутренний 90 градусов 80х300, R300, 1,0 мм, AISI 304","Штука",null,3207.18,null,3848.6159999999995]
["IKLIV6560C","Крышка на угол вертикальный внутренний 90 градусов 50х600, R600, 1,0 мм, AISI 304","Штука",null,5361.65,null,6433.98]
["IKLKV31050C","Крышка на угол вертикальный внутренний 45 градусов 100х500, R300, 1,0 мм, AISI 304","Штука",null,4205.68,null,5046.8159999999998]
["IKLKV31530C","Крышка на угол вертикальный внутренний 45 градусов 150х300, R300, 1,0 мм, AISI 304","Штука",null,2743.24,null,3291.8879999999995]
["IKLKV3840C","Крышка на угол вертикальный внутренний 45 градусов 80х400, R300, 1,0 мм, AISI 304","Штука",null,3477.93,null,4173.5159999999996]
["IKLKV61575C","Крышка на угол вертикальный внутренний 45 градусов 150х750, R600, 1,0 мм, AISI 304","Штука",null,6201.67,null,7442.0039999999999]
["IKLKV6545C","Крышка на угол вертикальный внутренний 45 градусов 50х450, R600, 1,0 мм, AISI 304","Штука",null,4454.3599999999997,null,5345.2319999999991]
["IKLOV31040C","Крышка на угол вертикальный внешний 90 градусов 100х400, R300, 1,0 мм, AISI 304","Штука",null,4528.25,null,5433.9]
["IKLOV3560C","Крышка на угол вертикальный внешний 90 градусов 50х600, R300, 1,0 мм, AISI 304","Штука",null,5215.7299999999996,null,6258.8759999999993]
["IKLOV61550C","Крышка на угол вертикальный внешний 90 градусов 150х500, R600, 1,0 мм, AISI 304","Штука",null,7324.87,null,8789.8439999999991]
["IKLOV6845C","Крышка на угол вертикальный внешний 90 градусов 80х450, R600, 1,0 мм, AISI 304","Штука",null,5955.24,null,7146.2879999999996]
["IKLPV31015C","Крышка на угол вертикальный внешний 45 градусов 100х150, R300, 1,0 мм, AISI 304","Штука",null,2462,null,2954.4]
["IKLPV3570C","Крышка на угол вертикальный внешний 45 градусов 50х700, R300, 1,0 мм, AISI 304","Штука",null,4814.6400000000003,null,5777.5680000000002]
["IKLPV61060C","Крышка на угол вертикальный внешний 45 градусов 100х600, R600, 1,0 мм, AISI 304","Штука",null,6319.23,null,7583.0759999999991]
["IKLPV61540C","Крышка на угол вертикальный внешний 45 градусов 150х400, R600, 1,0 мм, AISI 304","Штука",null,5499.21,null,6599.0519999999997]
["IKLPV6830C","Крышка на угол вертикальный внешний 45 градусов 80х300, R600, 1,0 мм, AISI 304","Штука",null,3855.4,null,4626.4799999999996]
["IKLTV6800C","Крышка на Т-образный ответвитель 800, R600, 1,0 мм, нержавеющая сталь AISI 304","Штука",null,26312.91,null,31575.491999999998]
["IKSFL20C","Крышка на ответвитель универсальный с основанием 200, 0,8 мм, AISI 304","Штука",null,2329.0700000000002,null,2794.884]
["IBPD2103C","Двойной С-образный профиль 41х21, L300, толщ. 2.5 мм, нержавеющая сталь AISI 304","Штука",null,1736.67,null,2084.0039999999999]
["IBPD2113C","Двойной С-образный профиль 41х21, L1300, толщ.2,5 мм, нержавеющая сталь AISI 304","Штука",null,6779.55,null,8135.46]
["IBPD4110C","Двойной С-образный профиль 41х41, L1000, 2,5 мм, нержавеющая сталь AISI 304","Метр",null,8061.66,null,9673.9920000000002]
["IBPL21055C","С-образный профиль 41х21, L550, толщ.1,5 мм, нержавеющая сталь AISI 304","Штука",null,935.25,null,1122.3]
["IBPL21100C","С-образный профиль 41х21, L1000, толщ.1,5 мм, нержавеющая сталь AISI 304","Метр",null,1580.17,null,1896.204]
["IBPL21225C","С-образный профиль 41х21, L2250, толщ.1,5 мм, нержавеющая сталь AISI 304","Штука",null,3673.15,null,4407.78]
["IBPL2924C","П-образный профиль PSL, L2400, толщ.1,5 мм, нержавеющая сталь AISI 304","Штука",null,4731.5200000000004,null,5677.8240000000005]
["IBPL41110C","С-образный профиль 41x41, L1100, толщ.1,5 мм, нержавеющая сталь AISI 304","Штука",null,2886.59,null,3463.9079999999999]
["IBPL41235C","С-образный профиль 41x41, L2350, толщ.1,5 мм, нержавеющая сталь AISI 304","Штука",null,6166.7,null,7400.0399999999991]
["IBPL41280C","С-образный профиль 41x41, L2800, толщ.1,5 мм, нержавеющая сталь AISI 304","Штука",null,7347.53,null,8817.0360000000001]
["IBPM21135C","С-образный профиль 41х21, L1350, толщ.2,5 мм, нержавеющая сталь AISI 304","Штука",null,3488.91,null,4186.692]
["IBPM21265C","С-образный профиль 41х21, L2650, толщ.2,5 мм, нержавеющая сталь AISI 304","Штука",null,6848.55,null,8218.26]
["IBPM2510C","L-образный профиль, L1000, толщ.2,5 мм, нержавеющая сталь AISI 304","Метр",null,3500.15,null,4200.18]
["IBPM2925C","П-образный профиль PSM, L2500, толщ.2,5 мм, нержавеющая сталь AISI 304","Штука",null,6884.96,null,8261.9519999999993]
["IBPM41065C","С-образный профиль 41x41, L650, толщ.2,5 мм, нержавеющая сталь AISI 304","Штука",null,2909.77,null,3491.7239999999997]
["IBPM41290C","С-образный профиль 41x41, L2900, толщ.2,5 мм, нержавеющая сталь AISI 304","Штука",null,12391.64,null,14869.967999999999]
["IBPM5124C","C-профиль 51х40х4 L2400, нержавеющая сталь AISI 304","Штука",null,22051.79,null,26462.148000000001]
["IBPV21020C","С-образный профиль 41х21, L200, толщ.2,0 мм, нержавеющая сталь AISI 304","Штука",null,491.81,null,590.17200000000003]
["IBPV21200C","С-образный профиль 41х21, L2000, толщ.2,0 мм, нержавеющая сталь AISI 304","Метр",null,1749.78,null,2099.7359999999999]
["IBPV21600C","С-образный профиль 41х21, L6000, толщ. 2,0 мм, нержавеющая сталь AISI304","Метр",null,1749.78,null,2099.7359999999999]
["IBPV41050C","С-образный профиль 41x41, L500, толщ.2 мм, нержавеющая сталь AISI 304","Штука",null,1781.58,null,2137.8959999999997]
["IBPV41175C","С-образный профиль 41x41, L1750, толщ.2 мм, нержавеющая сталь AISI 304","Штука",null,6007.48,null,7208.9759999999997]
["IBPV41300C","С-образный профиль 41x41, L3000, толщ.2 мм, нержавеющая сталь AISI 304","Метр",null,3031.3,null,3637.56]
["IBBH7040C","Усиленная консоль 400 мм тяжелая, нержавеющая сталь AISI 304","Штука",null,4314.54,null,5177.4479999999994]
["IBSD2102C","Вертикальный подвес двойной 41х21, L200, INOX 304","Штука",null,3787.38,null,4544.8559999999998]
["IBSD2111C","Вертикальный подвес двойной 41х21, L1100, нержавеющая сталь AISI 304","Штука",null,10618.2,null,{"$f":"E19655*1.2","v":12741.84}]
["IBSD2129C","Вертикальный подвес двойной 41х21, L2900, нержавеющая сталь AISI 304","Штука",null,24911.89,null,29894.267999999996]
["IBSP2102C","Вертикальный подвес одиночный 41х21, L200, INOX 304","Штука",null,3207.2,null,3848.6399999999994]
["IBSP2111C","Вертикальный подвес одиночный 41х21, L1100, нержавеющая сталь AISI 304","Штука",null,6650.16,null,7980.1919999999991]
["IBMA1532C","Полоса перфорированная 50x3000 мм, 2,5 мм, нержавеющая сталь AISI 304","Метр",null,1859.22,null,2231.0639999999999]
["IBMM1060C","Крепление ТМ к стене для вертикального монтажа осн.600 мм, нержавеющая сталь AISI 304","Штука",null,3519.35,null,4223.2199999999993]
["GCD40840R","Угол вертикальный внеш. 45° 400/80, стеклопластик","Штука",null,8109.32,null,9731.1839999999993]
["GCG90530R","Угол 90 горизонтальный 90° 300х50, стеклопластик","Штука",null,4415.09,null,5298.1080000000002]
["GCT90505R","Ответвитель Т-образный горизонтальный  50х50, стеклопластик","Штука",null,3365.62,null,4038.7439999999997]
["GCU40840R","Угол  45 вертикальный внутр. 45° 400/80,стеклопластик","Штука",null,9122.99,null,10947.588]
["GKC85040R","Крышка на Переходник центральный 500/400, стеклопластик","Штука",null,7050.79,null,8460.9480000000003]
["GKL53020R","Крышка на Переходник левосторонний  300/200, стеклопластик","Штука",null,4273.22,null,5127.8640000000005]
["GKR85040R","Крышка на Переходник правосторонний 500/400, стеклопластик","Штука",null,7050.79,null,8460.9480000000003]
["GRR53020R","Переходник правосторонний 300/200 H=50, стеклопластик","Штука",null,4476.6899999999996,null,5372.0279999999993]
["GTC00510R","Заглушка 100х50, стеклопластик","Штука",null,711.84,null,854.20799999999997]
["GKS30010R","Крышка на лоток осн. 100 L 3000, стеклопластик","Метр",null,863.47,null,1036.164]
["GKT90015R","Крышка  на ответвитель Т-образный горизонтальный  осн. 150, стеклопластик","Штука",null,2446.0100000000002,null,2935.212]
["GKX90050R","Крышка DPX на ответвитель крестообразный осн. 500","Штука",null,9360.18,null,11232.216]
["GPS30840R","Лоток перфорированный 400х80 L 3000, стеклопластик","Метр",null,4941.46,null,5929.7519999999995]
["GLC15215R","Переходник центральный  Н=150, B=200, В1=150, стеклопластик","Штука",null,7460.17,null,8952.2039999999997]
["GLC15750R","Переходник центральный  Н=150, B=750, В1=500, стеклопластик","Штука",null,9444.67,null,11333.603999999999]
["GLD90075R","Крышка на Угол вертикальный внеш. 90°  осн. 750, стеклопластик","Штука",null,11383.2,null,13659.84]
["GLD91590R","Угол вертикальный внеш. 90° 900x150, стеклопластик","Штука",null,13420.18,null,16104.216]
["GLL02015R","Крышка на Переходник левосторонний   200/150, стеклопластик","Штука",null,2262.46,null,2714.9519999999998]
["GLL07550R","Крышка на Переходник левосторонний   750/500, стеклопластик","Штука",null,9049.81,null,10859.771999999999]
["GLR04015R","Крышка на Переходник правосторонний   400/150, стеклопластик","Штука",null,3800.93,null,4561.116]
["GLR15640R","Переходник правосторонний  Н=150, B=600, В1=400, стеклопластик","Штука",null,9008.77,null,10810.523999999999]
["GLT91560R","Т-ответвитель 600x150, стеклопластик","Штука",null,21853.919999999998,null,26224.703999999998]
["GLU41075R","Угол  45 вертикальный внутр. 45° 750x100, стеклопластик","Штука",null,7450.81,null,8940.9719999999998]
["GLU91550R","Угол  90 вертикальный внутр. 90° 500x150, стеклопластик","Штука",null,11038.24,null,13245.887999999999]
["GTC01015R","Заглушка 150x100, стеклопластик","Штука",null,920.07,null,1104.0840000000001]
["GBH04120R","Консоль с опорой для   больших нагрузок осн. 200, стеклопластик","Штука",null,6246.84,null,7496.2079999999996]
["GBH04130R","Консоль с опорой для   больших нагрузок осн. 300, стеклопластик","Штука",null,6246.84,null,7496.2079999999996]
["BPV2122","С-образный профиль 41х21, L2200, толщ.2,0 мм","Штука",null,1541.02,null,1849.2239999999999]
["BPV4111","С-образный профиль 41х41, L1100, толщ.2,0 мм","Штука",null,1328.36,null,1594.0319999999999]
["BPD4116","Двойной С-образый профиль 41х41, L1600, 2,5 мм","Штука",null,5139.26,null,6167.1120000000001]
["BPC2908","Профиль криволинейный, L1005, толщ.2,5 мм, на 8 рожков","Штука",null,775.43,null,930.51599999999985]
["BHL2026","Держатель кабельный для крепления к лотку/профилю,  д. 20-26","Штука",null,161.13999999999999,null,193.36799999999997]
["BPD2114","Двойной С-образный профиль 41х21, L1400, толщ.2,5 мм","Штука",null,3356.94,null,4028.328]
["BPL2117","С-образный профиль 41х21, L1700, толщ.1,5 мм","Штука",null,946.51,null,1135.8119999999999]
["BPL2118","С-образный профиль 41х21, L1800, толщ.1,5 мм","Штука",null,996.78,null,1196.136]
["BPL2918","П-образный профиль PSL, L1800, толщ.1,5 мм","Штука",null,993.43,null,1192.116]
["BPL4127","С-образный профиль 41х41, L2700, толщ.1,5 мм","Штука",null,2439.91,null,2927.8919999999998]
["BPM2124","С-образный профиль 41х21, L2400, толщ.2,5 мм","Штука",null,2136.16,null,2563.3919999999998]
["BPM2530","L-образный профиль, L3000, толщ.2,5 мм","Метр",null,1109.0899999999999,null,1330.9079999999999]
["BPM4104","С-образный профиль 41х41, L400, толщ.2,5 мм","Штука",null,612.01,null,734.41199999999992]
["BPM4129","С-образный профиль 41х41, L2900, толщ.2,5 мм","Штука",null,4283,null,5139.5999999999995]
["BBA2030","Консоль потолочная BBA с осн.300 мм","Штука",null,1740.42,null,2088.5039999999999]
["BBA2040","Консоль потолочная BBA с осн.400 мм","Штука",null,2211.79,null,2654.1479999999997]
["BBH7050","Усиленная консоль 500 мм тяжелая","Штука",null,1683.24,null,2019.8879999999999]
["STD0675","Стойка фальшпола двойная, длина 675 мм, регулировка 645-705 мм","Штука",null,4461.8599999999997,null,5354.2319999999991]
["STD1925","Стойка фальшпола двойная, длина 1925 мм, регулировка 1895-1955 мм","Штука",null,7550.07,null,9060.0839999999989]
["BSD2102","Вертикальный подвес двойной 41х21, L200","Штука",null,915.16,null,1098.192]
["BSP2104","Вертикальный подвес одиночный 41х21, L400","Штука",null,925.83,null,1110.9960000000001]
["BHH21312","Хомут для высоких нагрузок с изоляцией с гайкой М12 для труб d 3 1/2\"","Штука",null,551.66,null,661.99199999999996]
["BHS11114","Хомут для спринклерных систем с гайкой М8 для труб d 1 1/4\"","Штука",null,102.65,null,123.18]
["BHS11200","Хомут для спринклерных систем с гайкой М10 для труб d 2\"","Штука",null,115.7,null,138.84]
["BHV21450","Хомут для воздуховодов с изоляцией для труб d 450 мм","Штука",null,642.87,null,771.44399999999996]
["BHR2006","Кабельный держатель для крепления одножильных и многожильных кабелей, д.40-60 мм","Штука",null,839.2,null,1007.04]
["BHT2600","Хомут для средних нагрузок 6\", c изоляцией","Штука",null,362.16,null,434.59200000000004]
["BHT3125","Хомут для тяжелых нагрузок 125 мм, без изоляции","Штука",null,427.01,null,512.41199999999992]
[null,null,null,null,null,null,0]
["BPV2127HDZ","С-образный профиль 41х21, L2700, толщ.2,0 мм, горячеоцинкованный","Штука",null,3591.64,null,4309.9679999999998]
["BPV4130HDZ","С-образный профиль 41х41, L3000, толщ.2,0 мм, горячеоцинкованный","Метр",null,1621.31,null,1945.5719999999999]
["BPV4140HDZ","С-образный профиль 41х41, L4000, толщ.2,0 мм, горячеоцинкованный","Метр",null,1621.31,null,1945.5719999999999]
["BPD4111HDZ","Двойной С-образный профиль 41х41, L1100, толщ.2,5 мм, горячеоцинкованный","Штука",null,4336.92,null,5204.3040000000001]
["BPD4125HDZ","Двойной С-образный профиль 41х41, L2500, толщ.2,5 мм, горячеоцинкованный","Штука",null,9856.6200000000008,null,11827.944000000001]
["BPL2119HDZ","С-образный профиль 41х21, L1900, толщ.1,5 мм, горячеоцинкованный","Штука",null,1659.02,null,1990.8239999999998]
["BPL2128HDZ","С-образный профиль 41х21, L2800, толщ.1,5 мм, горячеоцинкованный","Штука",null,2444.85,null,2933.8199999999997]
["BPL4108HDZ","С-образный профиль 41х41, L800, толщ.1,5 мм, горячеоцинкованный","Штука",null,1164.68,null,1397.616]
["BPL4129HDZ","С-образный профиль 41х41, L2900, толщ.1,5 мм, горячеоцинкованный","Штука",null,4070.23,null,4884.2759999999998]
["BPM2530HDZ","L-образный профиль, L3000, горячеоцинкованный","Метр",null,2246.46,null,2695.752]
["BPM2903HDZ","П-образный профиль PSM, L300, толщ.2,5 мм, горячеоцинкованный","Штука",null,415.71,null,498.85199999999998]
["BPM2928HDZ","П-образный профиль PSM, L2800, толщ.2,5 мм, горячеоцинкованный","Штука",null,3535.18,null,4242.2159999999994]
["BPM4129HDZ","С-образный профиль 41х41, L2900, толщ.2,5 мм, горячеоцинкованный","Штука",null,6627.69,null,7953.2279999999992]
["BPM5110HDZ","C-профиль 51х40х4 L1000 горячеоцинкованный","Метр",null,4108.63,null,{"$f":"E21447*1.2","v":4930.3559999999998}]
["BBN5010HDZ","Консоль универсальная осн. 100 мм, горячеоцинкованная","Штука",null,376.45,null,451.73999999999995]
["BBD4170HDZ","Консоль для тяжелых нагрузок 700 мм сборная, горячеоцинкованная","Штука",null,9516.75,null,11420.1]
["BBF6060HDZ","Консоль быстрой фиксации для тяжелых нагрузок 600 мм, горячеоцинкованная","Штука",null,2622.38,null,3146.8560000000002]
["BBP2120HDZ","Консоль одиночная, 41х21, осн.200 мм, горячеоцинкованный","Штука",null,718.25,null,861.9]
["BBP2130HDZ","Консоль одиночная, 41х21, осн.300 мм, горячеоцинкованный","Штука",null,807.69,null,969.22800000000007]
["BSD2109HDZ","Вертикальный подвес двойной 41х21, L900 мм, горячеоцинкованный","Штука",null,2531.9899999999998,null,3038.3879999999995]
["BSD4107HDZ","Вертикальный подвес двойной 41х41, L700 мм, горячеоцинкованный","Штука",null,3113.27,null,3735.924]
["BSF8201HDZ","Усиленное крепление к потолку для двойного С-образного профиля 41х41, горячеоцинкованное","Штука",null,2538.38,null,3046.056]
["BSP2109HDZ","Вертикальный подвес одиночный 41х21, L900 мм, горячеоцинкованный","Штука",null,1733.18,null,2079.8159999999998]
["BMA1322HDZ","Полоса перфорированная 30x2000 мм, 2,5 мм горячеоцинкованная","Метр",null,493.13,null,591.75599999999997]
["BML1007HDZ","Скоба PL облегченная для подвеса лотка, горячеоцинкованная","Штука",null,500.55,null,{"$f":"E21703*1.2","v":600.66}]
[null,null,null,null,null,null,0]
["BPV2105ZL","С-образный профиль 41х21, L500, толщ.2,0 мм, цинк-ламельный","Штука",null,599.58000000000004,null,719.49599999999998]
["BPV4110ZL","С-образный профиль 41х41, L1000, толщ.2,0 мм, цинк-ламельный","Метр",null,1621.31,null,1945.5719999999999]
["BPV4160ZL","С-образный профиль 41х41, L6000, толщ.2,0 мм, цинк-ламельный","Метр",null,1621.31,null,1945.5719999999999]
["BPL4160ZL","С-образный профиль 41х41, L6000, толщ.1,5 мм, цинк-ламельный","Метр",null,1381.46,null,1657.752]
["BPD2106ZL","Двойной С-образный профиль 41х21, L600, толщ.2,5 мм, цинк-ламельный","Штука",null,1608.57,null,1930.2839999999999]
["BPL2108ZL","С-образный профиль 41х21, L800, толщ.1,5 мм, цинк-ламельный","Штука",null,714.22,null,857.06399999999996]
["BPL2909ZL","П-образный профиль PSL, L900, толщ.1,5 мм, цинк-ламельный","Штука",null,852.18,null,1022.6159999999999]
["BPL4106ZL","С-образный профиль 41х41, L600, толщ.1,5 мм, цинк-ламельный","Штука",null,882.24,null,1058.6879999999999]
["BPL4115ZL","С-образный профиль 41х41, L1500, толщ.1,5 мм, цинк-ламельный","Штука",null,2105.29,null,2526.348]
["BPM2127ZL","С-образный профиль 41х21, L2700, толщ.2,5 мм, цинк-ламельный","Штука",null,3732.06,null,4478.4719999999998]
["BPM2916ZL","П-образный профиль PSM, L1600, толщ.2,5 мм, цинк-ламельный","Штука",null,2020.08,null,2424.096]
["BPM4118ZL","С-образный профиль 41х41, L1800, толщ.2,5 мм, цинк-ламельный","Штука",null,4033.13,null,4839.7560000000003]
["BPM4127ZL","С-образный профиль 41х41, L2700, толщ.2,5 мм, цинк-ламельный","Штука",null,6170.67,null,7404.8040000000001]
["BBC3030ZL","Легкая консоль DW осн.300 мм, цинк-ламельная","Штука",null,687.45,null,824.94]
["BBL4010ZL","Консоль с опорой ML облегченная осн.100 мм, цинк-ламельная","Штука",null,860.6,null,1032.72]
["BBP4140ZL","Консоль одиночная, 41х41, осн.400 мм, цинк-ламельная","Штука",null,1202.69,null,1443.2280000000001]
["BSD2108ZL","Вертикальный подвес двойной 41х21, L800, цинк-ламельный","Штука",null,2272.25,null,2726.7]
["BHM4141HDZL","Опорная пластина для C-образного профиля (аналог горячей оцинковки)","Штука",null,188.42,null,226.10399999999998]
["BMT1030ZL","Скоба SPC под лоток осн.300 мм, цинк-ламельная","Штука",null,1224.5999999999999,null,1469.5199999999998]
["CM420645","Стандартный анкер М6","Штука",null,34.5,null,41.4]
["CM480655","Усиленный клиновой анкер М6х55","Штука",null,24.76,null,29.712]
["CM530414","Складной пружинный анкер с винтом М4 D14","Штука",null,26.96,null,32.351999999999997]
["CM080850","Болт с шестигранной головкой М8х50","Штука",null,12.76,null,15.311999999999999]
["CM275013","Саморез с пресс-шайбой 4.2x13 острый","Штука",null,0.88,null,1.056]
["CM010616","Винт с гладкой головкой и квадратным подголовником М6х16","Штука",null,5.38,null,6.4559999999999995]
["CM140800","Гайка для подвешивания профиля М8х40","Штука",null,50.28,null,60.335999999999999]
["06551","Винт М4х45 мм с дюбелем M8","Штука",null,13.13,null,15.756]
[null,null,null,null,null,null,0]
["CM633008","Вертлюг петля-петля D8, оцинкованная сталь","Штука",null,370.36,null,444.43200000000002]
["CM621006","Коуш стальной оцинкованный под трос D6","Штука",null,14.86,null,17.831999999999997]
["CM613015","Крепеж для хомута к балке 10-15 мм гориз.монт.","Штука",null,310.42,null,372.50400000000002]
["CM617124","Клипса для крепления трубы к балке 7,5-12 мм диаметр 19-24 мм","Штука",null,72.209999999999994,null,86.651999999999987]
["CM617711","Клипса для крепления трубы к балке 4-7,5 мм диаметр 10-11 мм","Штука",null,52.5,null,63]
["CM240600","Шайба с узкими полями М6","Штука",null,1.1399999999999999,null,1.3679999999999999]
["CM200804","Шпилька М8х40","Штука",null,6.13,null,7.3559999999999999]
["CM240600HDZ","Шайба с узкими полями М6, горячеоцинкованная","Штука",null,2.35,null,2.82]
["CM111000HDZ","Гайка шестигранная М10, горячеоцинкованная","Штука",null,13.88,null,16.655999999999999]
["CM241000HDZ","Шайба с узкими полями М10, горячеоцинкованная","Штука",null,7.16,null,8.5920000000000005]
["CM120800INOX","Шайба кузовная М8, нержавеющая сталь","Штука",null,24.8,null,29.759999999999998]
[null,null,null,null,null,null,0]
["CM020620INOX316L","Болт с шестигранной головкой М6х20, нержавеющая сталь AISI 316L","Штука",null,21.79,null,26.148]
["CM130600INOX316L","Шайба гровер М6, нержавеющая сталь AISI 316L","Штука",null,3.65,null,4.38]
[null,null,null,null,null,null,0]
["DIS3131647P","Розетка кабельная с безвинтовыми клеммами IP44 16A 3P+E+N 400В","Штука",null,743.31,null,891.97199999999987]
["DIS4133267F","Розетка панельная с наклоном  IP44 32А 3P+E+N 400В.Пружинный зажим.","Штука",null,1054.4100000000001,null,1265.2920000000001]
["DIS4271667","Розетка панельная IP67 16A 3P+E+N 400В","Штука",null,1055.3399999999999,null,1266.4079999999999]
["DIS2433296","Вилка панельная IP44 32A 3P+E 400В","Штука",null,769.19,null,923.02800000000002]
["DIS5001686","Розетка настенная с механической блокировкой и верхним расположением разъема IP44 16А 3P+E 400В","Штука",null,7079.59,null,8495.5079999999998]
["DIS5053287","Розетка настенная с мех-ой блокировкой и верхним расположением разъема IP67 32А 3P+E+N 400В","Штука",null,12086.03,null,14503.236000000001]
["DIS5681687","Розетка настенная с механической блокировкой и DIN-рейкой на 6 модулей IP67 16А 3P+E+N 400В","Штука",null,9767.2199999999993,null,11720.663999999999]
["DIS21812533","Вилка кабельная IP67 125A 2P+E 230V","Штука",null,6881.06,null,8257.2720000000008]
["DIS4273263","Розетка панельная IP67 32A 2P+E 230В","Штука",null,1563.43,null,1876.116]
["DIS4053283","Розетка панельная с механической блокировкой и верхним расположением разъема IP67 32А 2P+E 230В","Штука",null,6981.21,null,8377.4519999999993]
["DIS5671683R","Розетка с механической блокировкой и предустановленным модульным оборудованием. 2P+E, 16А (УЗО 25А, 30 мА), IP44","Штука",null,18400.830000000002,null,22080.996000000003]
[null,null,null,null,null,null,0]
["DIS1373022","Выключатель однополюсный, двухклавишный","Штука",null,1995.56,null,2394.672]
["DIS137648150","Розетка RJ 45, настенная","Штука",null,3360.94,null,4033.1279999999997]
["DIS6741001","Основание 150х256х70","Штука",null,1192.4000000000001,null,1430.88]
[null,null,null,null,null,null,0]
[null,null,null,null,null,null,0]
[null,null,null,null,null,null,0]
["DISB038BU","Коробка монтажная для розетки встраиваемой. Голубая. IP44","Штука",null,145.22999999999999,null,174.27599999999998]
["DIS5709063","Защитная крышка для кабельных или стационарных вилок на 63 Амп, 2P+E, 3P+E, 3P+N+E, IP67","Штука",null,1206.1300000000001,null,1447.356]
["ND2209","Прямой держатель под черепицу, 330 мм","Штука",null,262.5,null,315]
["ND2002","Фальцевый зажим увеличенного размера","Штука",null,811.18,null,973.41599999999994]
["NG3103CU","Универсальный соединитель, медь","Штука",null,917.09,null,1100.508]
["NL1400","Молниеприемная мачта, 14 м","Упаковка",null,260675.4,null,312810.48]
["NL9000","Молниеприемная мачта, 9 м","Упаковка",null,53505.62,null,64206.743999999999]
["NE1407","Наконечник омеднённого вертикального заземлителя, D14.2 мм","Штука",null,726.12,null,871.34399999999994]
["NE3110","Коробка уравнивания потенциалов, 10 зажимов, 6 вводов  д.25мм, 120х80х50мм, IP55","Штука",null,357.14,null,428.56799999999998]
[null,null,null,null,null,null,0]
["NG6608","Соединитель изоляционная штанга – молниеприемник","Штука",null,292.92,null,351.50400000000002]
["NI0015","ESE молниеприемник, 15 µs","Штука",null,76175.33,null,91410.395999999993]
["FSK31610","Коробка стальная FS с кабельными вводами и клеммниками, IP55, 150х150х80 мм, 6р, 450V, 32A, 10 мм2, нерж.контакт","Штука",null,8775.75,null,10530.9]
["FSK20410","Коробка пластиковая FS с гладкими стенками и клеммниками, IP56, 150х110х70 мм, 4р, 450V, 32A, 10 мм2, нерж.контакт","Штука",null,1934.82,null,2321.7839999999997]
["DT1201","Пеноблок огнезащитный, 1000х120х30 мм","Метр",null,12100.34,null,14520.407999999999]
[null,null,null,null,null,null,0]
["87165","Заглушка на 4мод.RAL7035 для настенных щитков IP40 и IP65","Штука",null,64.849999999999994,null,77.819999999999993]
["87318","Усиленный клеммный блок (2х18мод.) в комплекте с крепежом","Штука",null,2536.25,null,3043.5]
["82002","Щиток настенный, ral 7035, без крышки, 2мод.","Штука",null,245.39,null,294.46799999999996]
["83636","Щиток настен. без дверцы 36(2х18) мод.,IP40, серый","Штука",null,2743.17,null,3291.8040000000001]
["85672","Щиток настен. с дверцей,72 мод., IP65","Штука",null,14326.5,null,17191.8]
["00535R","IM 15x17 Тройник белый (розница 4 шт в пакете, 15 пакетов в коробке)","Штука",null,47.47,null,56.963999999999999]
["00578","LM 25x17 Заглушка","Штука",null,48.33,null,57.995999999999995]
["00597","GM 40x17 Соединение на стык","Штука",null,95.7,null,114.84]
["00317B","TMC 22x10 Миниканал коричневый","Метр",null,72.25,null,86.7]
["00525R","IM 22x10 Тройник белый (розница 4 шт в пакете, 20 пакетов в коробке)","Штука",null,35.130000000000003,null,42.155999999999999]
["10245","Каркас в сборе с рамкой под 4 модуля VIVA (для монтажа ЭУИ в коробки код 10143)","Штука",null,108.57,null,130.28399999999999]
["01822","NIA 40х40 Угол внутренний неизменяемый (90°)","Штука",null,216.74,null,260.08800000000002]
["01784","TA-GN 60x60 Короб с крышкой с направляющими для установки разделителей","Метр",null,446.58,null,535.89599999999996]
["01744","NPAN 80x60 Угол плоский","Штука",null,476.13,null,571.35599999999999]
["01749","NPAN 100x80 Угол плоский","Штука",null,1067.3699999999999,null,1280.8439999999998]
["01732","NIAV 200x60 Угол внутренний изменяемый  (70-120°)","Штука",null,2840.85,null,3409.02]
["01776","RQM 100 Рамка для ввода в стену/коробку/потолок","Штука",null,160.16999999999999,null,192.20399999999998]
["10353","PDA-ЗDN 100 Рамка-суппорт под 6 модулей VIVA","Штука",null,245.18,null,294.21600000000001]
["07714R","TR-ER 100 Фиксатор кабеля","Штука",null,18.75,null,22.5]
["01882","Адаптер 90х25 для коробки SDN","Штука",null,51.14,null,61.367999999999995]
["09507","Ввод в стену/потолок 90х50 мм","Штука",null,162.16999999999999,null,194.60399999999998]
["01050","Кабель-канал 110х50 мм с фронтальной крышкой","Метр",null,878.85,null,1054.6199999999999]
["88234","Опалубка для лючка металлическая","Штука",null,12027.08,null,14432.495999999999]
["F1003A","Каркас 6 мод Viva In-liner Front серый","Штука",null,130.69999999999999,null,156.83999999999997]
["01008G","Переходник 110-90х50 мм","Штука",null,429.95,null,515.93999999999994]
["01499","Алюминиевый кабель-канал 140х50 (с 2 крышками), цвет серебристый металлик","Метр",null,4442.66,null,5331.192]
["19553","Миниколонна алюминиевая, 0.5м, цвет чёрный","Штука",null,7070.49,null,8484.5879999999997]
["F00015B","Рамка универсальная на 6 модулей, цвет чёрный","Штука",null,112.12,null,134.54400000000001]
["4400614","Телефонная розетка RJ-12 без шторки в стену двойная, \"Avanti\", \"Белое облако\"","Штука",null,492.21,null,590.65199999999993]
["4400313","Телефонная розетка RJ-12 в стену одинарная, \"Avanti\", \"Белое облако\"","Штука",null,430.69,null,516.82799999999997]
["4400403","USB 2.0 розетка одинарная в стену, тип А-А, \"Avanti\", \"Белое облако\"","Штука",null,1034.6199999999999,null,1241.5439999999999]
["4405764","Компьютерная розетка RJ-45 без шторки в стену, кат.5e двойная экранированная, \"Avanti\", \"Ванильная дымка\"","Штука",null,1230.51,null,1476.6119999999999]
["4405543","USB зарядное устройство в стену, \"Avanti\", \"Ванильная дымка\"","Штука",null,2251.2800000000002,null,2701.5360000000001]
[null,null,null,null,null,null,0]
["4402313","Телефонная розетка RJ-12 в стену одинарная, \"Avanti\", \"Черный квадрат\"","Штука",null,538.36,null,646.03200000000004]
["4402403","USB 2.0 розетка одинарная в стену, тип А-А, \"Avanti\", \"Черный квадрат\"","Штука",null,1293.26,null,1551.912]
["4404124","Инвертор двухклавишный в стену, \"Avanti\", \"Закаленная сталь\"","Штука",null,1709.1,null,2050.9199999999996]
["4404314","Телефонная розетка RJ-12 в стену двойная, \"Avanti\", \"Закаленная сталь\"","Штука",null,904.44,null,1085.328]
[null,null,null,null,null,null,0]
["4412794","Компьютерная розетка RJ-45 без шторки в стену, кат.6 двойная экранированная, \"Avanti\", \"Черный матовый\"","Штука",null,3215.73,null,3858.8759999999997]
[null,null,null,null,null,null,0]
[null,null,null,null,null,null,0]
["4420906","Рамка \"Avanti\", \"Белый жемчуг\", 3 поста (6 мод.)","Штука",null,367.07,null,440.48399999999998]
["4434906","Рамка \"Avanti\", \"Сине-зеленый жемчуг\", 3 поста (6 мод.)","Штука",null,367.07,null,440.48399999999998]
["4404824","Рамка из натурального стекла, \"Avanti\", светло-серая, 2 поста (4 мод.)","Штука",null,5725.02,null,6870.0240000000003]
["4400846","Рамка из натурального дерева, \"Avanti\", беленый дуб, 3 поста (6 мод.)","Штука",null,5911.66,null,7093.9919999999993]
["4405852D","Декоративная вставка для металлических рамок \"Avanti\", бежевая, 1 пост (2 мод.)","Штука",null,196.35,null,235.61999999999998]
["4400391","Компьютерная розетка RJ-45 модульная, кат.6 экранированная, \"Avanti\",\"Белое облако\", 1 модуль","Штука",null,1336.09,null,1603.3079999999998]
["4400181","Механизм управления рольставней модульный, \"Avanti\", \"Белое облако\", 1 модуль","Штука",null,538.35,null,646.02]
["4405222","Выключатель двухполюсный одноклавишный модульный, \"Avanti\", \"Ванильная дымка\", 2 модуля","Штука",null,699.86,null,839.83199999999999]
[null,null,null,null,null,null,0]
["4402111","Переключатель модульный, \"Avanti\", \"Черный квадрат\", 1 модуль","Штука",null,305.89,null,367.06799999999998]
["4402461","Компьютерная розетка RJ-45 модульная, кат.5е, \"Avanti\", \"Черный квадрат\", 1 модуль","Штука",null,524.9,null,629.88]
["4402542","USB зарядное устройство модульное, \"Avanti\", \"Черный квадрат\", 2 модуля","Штука",null,2814.11,null,3376.9320000000002]
["4404152","Кнопка одноклавишная модульная, \"Avanti\", \"Закаленная сталь\", 2 модуля","Штука",null,357.66,null,429.19200000000001]
[null,null,null,null,null,null,0]
[null,null,null,null,null,null,0]
["4412761","Компьютерная розетка RJ-45 без шторки модульная, кат.5е экранированная, \"Avanti\", \"Черный матовый\", 1 модуль","Штука",null,689.1,null,826.92]
[null,null,null,null,null,null,0]
["4404916","Рамка-суппорт \"Avanti\" для \"In-liner Front\",  серебристый металлик, 6модулей","Штука",null,479.62,null,575.54399999999998]
["45138","Розетка RJ-45 кат.5E,Viva,1 мод.,сер","Штука",null,306.41000000000003,null,367.69200000000001]
["45278","Розетка RJ-45 кат.6A,Viva,1 мод.,черн","Штука",null,1178.29,null,1413.9479999999999]
["76609B","Адаптер для информационных разъемов Systimax, белый, 1мод.","Штука",null,40.58,null,48.695999999999998]
["75132S","Двухполюсный выключатель, слоновая кость, 2мод.","Штука",null,791.33,null,949.596]
["77001N","Выключатель, черный, 1мод.","Штука",null,314.47000000000003,null,377.36400000000003]
["77131N","Двухполюсный выключатель, черный, 1мод.","Штука",null,625.64,null,750.76799999999992]
["76102B","HDMI со шторкой, Brava, белая, 2мод","Штука",null,1631.44,null,1957.7280000000001]
["75678S","Ком.роз. RJ45 кат.6A, 8P8C, Brava, слон.кость, 1мод","Штука",null,1556.53,null,1867.8359999999998]
["77450N","Ком.роз. RJ45 кат.5e экран., 8P8C, Brava, черн., 2мод","Штука",null,684.81,null,821.77199999999993]
["77457N","Ком.роз. RJ45 кат.5e экран., 8P8C, Brava, черн., 1мод","Штука",null,529.26,null,635.11199999999997]
["75020W","Каркас на 2 модуля (одноместный), белый, RAL 9016","Штука",null,138.19999999999999,null,165.83999999999997]
["AIR20","Шланг дренажный, внутр. д. 20 мм","Метр",null,56.62,null,67.943999999999988]
["AIR00906","Крышка 90х60 мм (короба для кондиционеров)","Метр",null,326.58999999999997,null,391.90799999999996]
["AIR12062","Угол внутренний для короба 120х60 мм","Штука",null,193.55,null,232.26]
["AIR70412","Ввод во внутренний блок кондиционера для короба 70х40, правый","Штука",null,91.23,null,109.476]
["59095","Крюк изолированный для коробки потолочной, 95мм","Штука",null,95.77,null,114.92399999999999]
["59384","Коробка потолочная с крюком для заливки в бетон, д.70х100мм","Штука",null,265.77,null,318.92399999999998]
["59512","Кабельный чулок с резьбовым наконечником,  д. 9-12 мм, резьба М5","Штука",null,5083.3900000000003,null,6100.0680000000002]
["59420","Протяжка из нейлона, д.4мм, 20м","Штука",null,1367.72,null,1641.2639999999999]
["70525","Труба ПНД гибкая гофр. д.25мм, тяжёлая без протяжки, 50м, цвет оранжевый","Метр",null,47.97,null,57.563999999999993]
["70925","Труба ПНД гибкая гофр. д.25мм, лёгкая без протяжки, 50м, цвет оранжевый","Метр",null,34.86,null,41.832000000000001]
["90516","Труба ПВХ гибкая гофр. д.16мм, тяжёлая без протяжки, 100м, цвет серый","Метр",null,24.26,null,29.112000000000002]
["91532+","Труба ПВХ гибкая гофр. д.32мм, сверхтяжёлая с протяжкой, 25м, цвет серый","Метр",null,88.08,null,105.696]
["11540","Труба ПП гибкая гофр. д.40мм, тяжёлая с протяжкой, 20м, цвет синий","Метр",null,220.96,null,265.15199999999999]
["59368","Коробка ответвительная прямоуг. для твердых стен, IP40, 392х152х70мм","Штука",null,726.58,null,871.89600000000007]
["7L91650","Электротруба ПНД гибкая гофр. д.16мм, цвет оранжевый, с кабелем ВВГнг(А)-LS 3х1,5мм² РЭК \"ГОСТ+\", 50м","Метр",null,145.4,null,174.48]
["63925R","Труба ПВХ жёсткая гладкая д.25мм, лёгкая, 3м, цвет серый (розница)","Метр",null,49.78,null,59.735999999999997]
["63516UF","Труба ПВХ жёсткая атмосферостойкая д.16мм, тяжёлая, 3м, цвет серый","Метр",null,46.38,null,55.655999999999999]
["57016","Труба гибкая армированная внутр. д.16 мм","Метр",null,82.74,null,99.287999999999997]
["50516R","Колено открывающееся, 90 град., IP40, д.16мм (розница)","Штука",null,30.04,null,36.047999999999995]
["54916R","Муфта труба-труба с ограничителем, IP40, д.16мм (розница)","Штука",null,14.99,null,17.988]
["50032","Поворот на 90 град. труба-труба, IP67, д.32мм","Штука",null,235.98,null,283.17599999999999]
["50232R","Муфта труба-коробка, IP67, М32х1.5, д.32мм (розница)","Штука",null,147.08000000000001,null,176.49600000000001]
["52600R","Зажим кабельный с контргайкой, IP68, PG9, д.4 - 8мм (розница)","Штука",null,34.6,null,41.52]
["55232","Переходник армированная труба - жесткая труба, IP67, д.32мм","Штука",null,186.51,null,223.81199999999998]
["51016N","Держатель с защелкой, д.16мм, черный","Штука",null,4.28,null,5.1360000000000001]
["51120","Держатель двухкомпонентный, д.20мм","Штука",null,13.31,null,15.972]
["51320R5","Держатель с защелкой и дюбелем, д.20мм, в упаковках по 5шт.","Штука",null,22.96,null,27.552]
["53343R","Держатель оцинкованный односторонний, д.22мм (розница)","Штука",null,10.84,null,13.007999999999999]
["58048","Хомут стальной с внутренней резьбой М6, д.48 - 50мм","Штука",null,59,null,70.8]
["53600","Коробка ответвит. с 4 кабельными вводами д.20мм, IP44, д.80х40мм","Штука",null,77.63,null,93.155999999999992]
["54120","Коробка ответвит. с гладкими стенками и матовой крышкой, IP56,190х140х70мм","Штука",null,722.49,null,866.98799999999994]
[null,null,null,null,null,null,0]
["6071R-015","Металлорукав DN 15мм в герметичной ПВХ изоляции, Dвн 15,5 мм, Dнар 19,5, 50 м, цвет серый","Метр",null,177.57,null,213.08399999999997]
["6070R-50N","Металлорукав DN 50мм в гладкой ПВХ изоляции, Dвн 50,5 мм, Dнар 58,5, 25м, цвет чёрный","Метр",null,1121.67,null,1346.0040000000001]
["607E022","Металлорукав DN 20мм в гладкой EVA изоляции, Dвн 20,5 мм, Dнар 27,0, 50 м, цвет серый","Метр",null,1441.08,null,1729.2959999999998]
["KIT6014-1016","Монтажный комплект муфта металлорукав-коробка DN 10,М16х1,5, наружная резьба","Штука",null,846.07,null,1015.284]
["6014-4035G","Муфта поворотная металлорукав-коробка DN 35,М40х1,5,наружная резьба","Штука",null,4693.0600000000004,null,5631.6720000000005]
["6014P32M251521","Муфта металлорукав-коробка DN 26 с уплотнением кабеля, IP68, М25х1,5, д.15 - 21мм","Штука",null,3392.69,null,4071.2280000000001]
["6015-2527","Муфта металлорукав-коробка DN 26,М25х1,5 внутренняя резьба","Штука",null,2421.2199999999998,null,2905.4639999999995]
["T06014-4035","Муфта мет.рукав в гладкой изоляции в оплетке-коробка DN 35, М40х1,5","Штука",null,6264.36,null,7517.2319999999991]
["T16014-40A","Муфта мет.рукав в герметичной изоляции в оплетке-коробка DN 40, М40х1,5","Штука",null,15733.81,null,18880.572]
["6008-50L3ZL","Труба жесткая, цинк-ламель ø50x1,2x3000 мм","Метр",null,2588.21,null,3105.8519999999999]
[null,null,null,null,null,null,0]
["6013-25XX","Поворот на 90° из нержавеющей стали AISI 316L, д.25х1,2мм","Штука",null,2451.94,null,2942.328]
["6111-50XX","Муфта труба-коробка д.50мм, IP66/IP67, М50х1,5, нержавеющая сталь AISI 316L","Штука",null,19666.8,null,23600.16]
["6112-16XX","Муфта труба-коробка д.16мм, IP66/IP67, М16х1,5, внутренняя резьба, нержавеющая сталь AISI 316L","Штука",null,5604.42,null,6725.3040000000001]
["6112-A20","Муфта труба-коробка д.20мм, IP66/IP67, М20х1,5, внутренняя резьба, никелированная латунь","Штука",null,958.64,null,1150.3679999999999]
["653S04","Коробка ответвительная алюминиевая окрашенная с силиконовым уплотнителем, tмон. И tэксп. = -60, IP66/IP67, RAL9006, 239х202х85мм","Штука",null,9701.14,null,11641.367999999999]
["65303","Коробка ответвительная алюминиевая окрашенная, IP66/IP67, RAL9006, 178х155х74мм","Штука",null,4175.45,null,5010.54]
["653020","Дин-рейка для диагональной установки в коробки 90х90 мм","Штука",null,562.03,null,674.43599999999992]
["6006EMC-25","Гайка заземляющая M25x1,5 никелированная латунь","Штука",null,266.77999999999997,null,320.13599999999997]
["6016-2520","Переходник M25x1,5 (наружн. резьба)/ M20x1,5 (внутр. резьба)","Штука",null,458.47,null,550.16399999999999]
["6040-002","Хомут для тяжелых нагрузок 59-63 мм (2\"), M8, нержавеющая сталь AISI 304","Штука",null,760.5,null,{"$f":"E26503*1.2","v":912.6}]
["6040-P12","Хомут стальной 1/2\" (18-24 мм) с приварной гайкой М8, оцинкованный","Штука",null,144.26,null,173.11199999999999]
[null,null,null,null,null,null,0]
["6051-63","Ниппель M63x1,5, никелированная латунь","Штука",null,3780.29,null,4536.348]
["PA604855HB","Труба ПА 6 гофр., HF, DN48мм, RoHS, HB, Dвн 47,4 мм, Dнар 54,5 мм, цвет чёрный, без протяжки","Метр",null,319.48,null,383.37600000000003]
["PA612935F0","Труба ПА 6 гофр. DN29мм, ПВ-0, Dвн 28,3 мм, Dнар 34,5 мм, цвет тёмно-серый, с протяжкой","Метр",null,205.86,null,247.03200000000001]
["PACN36M40N","Монтажный комплект муфта 90 грд. труба-коробка DN 36 мм, М40х1,5, полиамид, цвет черный","Штука",null,1440.51,null,1728.6119999999999]
["PACM23M25N","Монтажный комплект муфта труба-коробка DN 23 мм, М25х1,5, полиамид, цвет черный","Штука",null,396.92,null,476.30399999999997]
["PAN10M16N","Муфта 90 грд. труба-коробка DN 10 мм, М16х1,5, полиамид, цвет черный","Штука",null,285.8,null,342.96]
["PAM12M20N","Муфта труба-коробка DN 12 мм, М20х1,5, полиамид, цвет черный","Штука",null,167.9,null,201.48]
["PAR07","Кольцо уплотнительное DN 7 мм","Штука",null,29.85,null,35.82]
["PASW48N","Держатель с крышкой DN 48 мм, полиамид, цвет чёрный","Штука",null,817.87,null,981.44399999999996]
["170920","Двустенная труба ПНД жесткая для открытой прокладки д.200мм, SN6, ПВ-0, УФ, без протяжки, 6м, цвет черный","Метр",null,1375.1,null,1650.12]
["160916A-8K57","Двустенная труба ПНД жесткая для кабельной канализации д.160мм, SN8, 750Н, 5,70м, цвет черный","Штука",null,3333.56,null,4000.2719999999999]
["019090","Тройник для двустенных труб, 45 град., полипропилен, д.90мм","Штука",null,1027.92,null,1233.5040000000001]
["020110","Тройник для двустенных труб, 90 град., полипропилен, д.110мм","Штука",null,1076.1600000000001,null,1291.3920000000001]
["025050","Держатель расстояния (кластер) для двустенных труб, д.50мм, тройной","Штука",null,189.89,null,227.86799999999997]
["141912A-8K","Двустенная труба ПНД гибкая дренажная д.125мм с геофильтром, SN8,перфорация 360 град., в бухте 40м, цвет черный","Метр",null,366.05,null,439.26]
["141912A","Двустенная труба ПНД гибкая дренажная д.125мм с геофильтром, SN6,перфорация 360 град., в бухте 40м, цвет черный","Метр",null,335.81,null,402.97199999999998]
["120950","Двустенная труба ПНД гибкая для кабельной канализации д.50мм без протяжки, SN13, 250Н, в бухте 100м, цвет красный","Метр",null,106.82,null,128.184]
["XCSF120DP","Источник питания \"OPTIMAL POWER\", однофазный, 120Вт, 2.5А, 48В, с ORing диодом","Штука",null,13569.68,null,16283.616]
["R5ST0431WMP","Корпус сварной ST без М/П 400x300x150","Штука",null,4632.8100000000004,null,5559.3720000000003]
["R5ST0649WMP","Корпус сварной ST без М/П 600x400x250","Штука",null,8388.39,null,10066.067999999999]
["R5ST0759","Корпус сварной навесной серии ST с М/П Размер: 700 x 500 x 250 мм (В х Ш х Г)","Штука",null,11932.77,null,14319.324000000001]
["R5ST1283","Корпус сварной навесной серии ST с М/П Размер: 1200 x 800 x 300 мм (В х Ш х Г)","Штука",null,24893.14,null,29871.767999999996]
["R5STX0759","Корпус ST с прозрачной дверью и с М/П Размер: 700 x 500 x 250 мм (В х Шх Г)","Штука",null,14312.4,null,17174.879999999997]
["R5STX1283","Корпус ST с прозрачной дверью и с М/П Размер: 1200 x 800 x 300 мм (В х Ш х Г)","Штука",null,31913.71,null,38296.451999999997]
["R5ST0553-RAL3000","Корпус сварной навесной серии  ST  с М/П Размер: 500x500x300 мм (В х Ш хГ), RAL3000","Штука",null,13783.14,null,16539.768]
["R5CE0342","Навесной шкаф CE, 300 х 400 х 200мм","Штука",null,8230.9599999999991,null,9877.1519999999982]
["R5CE1263","Навесной шкаф CE, 1200 x 600 x 300мм","Штука",null,27867.75,null,33441.299999999996]
["R5CEX1283","Навесной шкаф CE, с прозрачной дверью, 1200 x 800 x 300мм","Штука",null,46041.21,null,55249.451999999997]
[null,null,null,null,null,null,0]
["R5ST126MP","Плата монтажная для шкафов ST ВхШ 1200х600 мм","Штука",null,3188.76,null,3826.5120000000002]
["R5TM106","Панель для модулей, 130 (5 x 26) модулей, для шкафов CE, 1000 x 600мм","Штука",null,16529.310000000001,null,19835.172000000002]
["R5IE55","Дверь внутренняя, для шкафов CE 500 x 500 мм","Штука",null,6002.96,null,7203.5519999999997]
["R5FPST03-RAL3000","Фланец красный для ST с перф. Тип 5","Штука",null,923.59,null,1108.308]
["R5FB800","Комплект крепления шкафов CE/RAM box к столбу (ширина шкафа - 800 мм)","Упаковка",null,3070.94,null,3685.1279999999997]
["R5TT062","Козырёк дождезащитный ST/CE 600x200мм","Штука",null,2683.5,null,3220.2]
["R5CDE64120F","Сварной металлический корпус CDE, 600х400х120 мм, с фланцами","Штука",null,10414.64,null,12497.567999999999]
["R5CDE42120C","Сварной металлический корпус CDE, 400х200х120 мм, с дверцей","Штука",null,6319.19,null,7583.0279999999993]
["R5CEB03411","Навесной шкаф CE из нержавеющей стали (AISI 304), 300 x 400 x 150мм, без фланца","Штука",null,21037.95,null,25245.54]
["R5CEB07521","Навесной шкаф CE из нержавеющей стали (AISI 304), 700 x 500 x 200мм, без фланца","Штука",null,38417.75,null,46101.299999999996]
["R5CEF03412","Навесной шкаф CE из нержавеющей стали (AISI 316), 300 x 400 x 150мм, с фланцем","Штука",null,29776.6,null,35731.919999999998]
["R5CEF08842","Навесной шкаф CE из нержавеющей стали (AISI 316), 800 x 800 x 400мм, с фланцем","Штука",null,138337.16,null,166004.592]
["R5CEF07521","Навесной шкаф CE из нержавеющей стали (AISI 304), 700 x 500 x 200мм, с фланцем","Штука",null,43813.14,null,52575.767999999996]
["R5CEF14831","Навесной шкаф CE из нержавеющей стали (AISI 304), 1400 x 800 x 300мм, с фланцем","Штука",null,115657.17,null,138788.60399999999]
["R5CEB12632","Навесной шкаф CE из нержавеющей стали (AISI 316), 1200 x 600 x 300мм, без фланца","Штука",null,96257.95,null,115509.54]
["R5CDE221201","Сварной металлический корпус CDE из нержавеющей стали (AISI 304), 200 x 200 x 120 мм","Штука",null,11843.01,null,14211.611999999999]
["R5CDE321202","Сварной металлический корпус CDE из нержавеющей стали (AISI 316), 300 x 200 x 120 мм","Штука",null,17351.2,null,20821.439999999999]
["R5CQE20106A","Шкаф напольный CQE собранный с дверью и задней панелью ВхШхГ 2000x1000x600 мм","Штука",null,65275.21,null,78330.251999999993]
["R5KTB164","Комплект, крыша и основание, для шкафов CQE, 1600 x 400 мм","Штука",null,35953.08,null,43143.696000000004]
["R5KTB85","Комплект, крыша и основание, для шкафов CQE, 800 x 500 мм","Штука",null,21000.11,null,25200.132000000001]
["R5CQE1685S","Комплект шкафа CQE, без двери и задней панели, 1600 x 800 x 500 мм","Штука",null,29145.1,null,34974.119999999995]
["R5CQE1845S","Комплект шкафа CQE, без двери и задней панели, 1800 x 400 x 500 мм","Штука",null,25086.9,null,30104.28]
["R5CQE2088S","Комплект шкафа CQE, без двери и задней панели, 2000 x 800 x 800 мм","Штука",null,37782.800000000003,null,45339.360000000001]
["R5CQE2236S","Комплект шкафа CQE, без двери и задней панели, 2200 x 300 x 600 мм","Штука",null,31145.62,null,37374.743999999999]
["R5CQE1686X","Комплект шкафа CQE, застеклённая дверь и задняя панель, 1600x800x600мм","Штука",null,66591.570000000007,null,79909.884000000005]
["R5CQE22108X","Комплект шкафа CQE, застеклённая дверь и задняя панель, 2200x1000x800мм","Штука",null,93526.26,null,112231.51199999999]
["R5CQE1484","Комплект шкафа CQE, с дверью и задней панелью, 1400 x 800 x 400 мм","Штука",null,43113.62,null,51736.344000000005]
["R5CQE1844","Комплект шкафа CQE, с дверью и задней панелью, 1800 x 400 x 400 мм","Штука",null,38300.86,null,45961.031999999999]
["R5CQE2065","Комплект шкафа CQE, с дверью и задней панелью, 2000 x 600 x 500 мм","Штука",null,47577.56,null,57093.071999999993]
["R5CQE2286","Комплект шкафа CQE, с дверью и задней панелью, 2200 x 800 x 600 мм","Штука",null,58577.96,null,70293.551999999996]
["R5SFP40","Угол для крепления шкафа DAE к стене, Г=400мм, 1 упаковка -  2шт.","Упаковка",null,4291.41,null,5149.692]
["R5CQEC2068","Сборный напольный шкаф CQEC для установки ПК, 2000 x 600 x 800 мм","Штука",null,160352.18,null,192422.61599999998]
[null,null,null,null,null,null,0]
[null,null,null,null,null,null,0]
["R5CPE1880FP","Дверь сплошная RAL 3000, для шкафов CQE/DAE, 1800 x 800 мм","Штука",null,13782.26,null,16538.712]
["R5CPE14100","Дверь сплошная для шкафов CQE/DAE ВхШ 1400х1000 мм","Штука",null,12721.08,null,15265.295999999998]
["R5CPE10160","Дверь сплошная двустворчатая для шкафов CQE/DAE ВхШ 1000х1600 мм","Штука",null,23052.93,null,27663.516]
["R5CE214","Личинка замка, для малой ручки, под ключ треугольного профиля 8мм","Штука",null,633.14,null,759.76799999999992]
["R5TE70","Карман для документации, металлический, для дверей шириной 700 мм","Штука",null,3240.53,null,3888.636]
["R5PIE20","Монтажная плата, промежуточная, для шкафов CQE высотой 2000 мм","Штука",null,7184.24,null,8621.0879999999997]
["R5PCSE1880","Монтажная плата, с боковой установкой, для шкафов  1800 x 800мм","Штука",null,20833.05,null,24999.66]
["R5PCE1880","Монтажная плата, для шкафов DAE/CQE 1800 x 800 мм","Штука",null,8806,null,10567.199999999999]
["R5LSE60","Панели боковые, для надстроечных модулей R5SCE, 600мм, 1 упаковка - 2шт.","Упаковка",null,7487.64,null,8985.1679999999997]
["R5PDS85","Пластина для разделения шкафа и модуля R5SCE, 800 x 500 мм","Штука",null,5197.8500000000004,null,6237.42]
["R5LE1062","Панели боковые, для шкафов CQE 1000 x 600мм, 1 упаковка - 2шт.","Упаковка",null,7218.83,null,8662.5959999999995]
[null,null,null,null,null,null,0]
["R5CRE1640","Панель задняя, для шкафов DAE/CQE, 1600 x 400 мм","Штука",null,4082.64,null,4899.1679999999997]
["R5CRE20100","Панель задняя, для шкафов DAE/CQE, 2000 x 1000 мм","Штука",null,9703.39,null,11644.067999999999]
["R5LE1200","Консоль для шкафов CQE шириной 1200 мм","Штука",null,34291.360000000001,null,41149.631999999998]
["R5PACBP","Пакет метизов для цоколя R5BP.","Упаковка",null,396.44,null,475.72799999999995]
["R5DSF01","Комплект держателей перфокороба, задних, 1 упаковка - 4 шт","Упаковка",null,3331.08,null,3997.2959999999998]
["R5DTF1000","Рейка для шинодержателей, установка по ширине, Ш=1000мм, 1 упаковка - 4шт.","Упаковка",null,5846.74,null,7016.0879999999997]
["R5PLE600","Рейки боковые, специальная, для шкафов CQE глубиной 600мм, 1 упаковка - 4шт.","Упаковка",null,3182.71,null,3819.252]
["R5TLE500","Рейки боковые, для шкафов CQE глубиной 500мм, 1 упаковка - 4шт.","Упаковка",null,1799.75,null,2159.6999999999998]
["R5CPME61400","Дверь секционная сплошная В=1400мм Ш=600мм","Штука",null,17797.86,null,{"$f":"E28551*1.2","v":21357.432000000001}]
["R5CPME8900","Дверь секционная, сплошная, В=900мм, Ш=800мм","Штука",null,7605.12,null,9126.1440000000002]
["R5CPMTE6800","Дверь секционная, с пластиковым окном, В=800мм, Ш=600мм","Штука",null,15670.84,null,18805.007999999998]
["R5PI341","Секционная панель, для модулей, 24 (2x12) модулей, В=400мм, Ш=400мм","Штука",null,2086.81,null,2504.172]
["R5PI921","Секционная панель, для модулей, 46 (1x46) модуля, В=200мм, Ш=1000мм","Штука",null,3659.19,null,4391.0280000000002]
["R5TE12","Стойки вертикальные  для установки панелей, для шкафов В=1200мм,1 упаковка - 2шт.","Штука",null,2785.56,null,3342.672]
["R5PPP10004","Монтажная плата частичная перфорированная для шкафа CQE (ВхШ) 1000x400 мм","Штука",null,4818.82,null,5782.5839999999998]
["R5PPP3003","Монтажная плата частичная перфорированная для шкафа CQE (ВхШ) 300x300 мм","Штука",null,1186.33,null,1423.5959999999998]
["R5PPS10010","Монтажная плата частичная для шкафа CQE (ВхШ) 1000x1000 мм","Штука",null,6398.09,null,7677.7079999999996]
["R5PPS4012","Монтажная плата частичная для шкафа CQE (ВхШ) 400x1200 мм","Штука",null,4134.9799999999996,null,4961.9759999999997]
["R5PPS6006","Монтажная плата частичная для шкафа CQE (ВхШ) 600x600 мм","Штука",null,2448.81,null,2938.5719999999997]
["R5PCE4150","Монтажная плата, секционная, В=150мм, для шкафов DAE/CQE Ш=400мм","Штука",null,765.49,null,918.58799999999997]
["R5PCPE108","Монтажная плата, частичная, высота 995мм, для шкафов DAE/CQE Ш=800мм","Штука",null,8008.79,null,9610.5479999999989]
["R5PCPE88","Монтажная плата, частичная, высота 795мм, для шкафов DAE/CQE Ш=800мм","Штука",null,7608.8,null,9130.56]
["R5DOE4095","Разделитель горизонтальный, Г=95мм, Ш=400мм","Штука",null,5263.07,null,6315.6839999999993]
["R5SOE095","Направляющие, для горизонтальных разделителей, Г=95мм, 1 упаковка - 2шт.","Упаковка",null,1008.58,null,1210.296]
["R5DVEM2204","Разделитель боковой CQE  RAL7035 IP31 ВхШ 2200x400 мм 1 комплект - 2 шт.","Комплект",null,9771.52,null,11725.824000000001]
["R5LPP1005","Монтажная плата перфорированная боковая для шкафа CQE (ВхГ) 1000x500 мм","Штука",null,6201.14,null,7441.3680000000004]
["R5LPP1406","Монтажная плата перфорированная боковая для шкафа CQE (ВхГ) 1400x600 мм","Штука",null,10837.36,null,13004.832]
["R5LPS0804","Монтажная плата боковая для шкафа CQE (ВхГ) 800x400 мм","Штука",null,2284.48,null,{"$f":"E28999*1.2","v":2741.3759999999997}]
["R5LPS1808","Монтажная плата боковая для шкафа CQE (ВхГ) 1800x800 мм","Штука",null,9040.4599999999991,null,10848.551999999998]
["R5DVE1440","Разделитель вертикальный, полный, для шкафов 1400 x 400 мм","Штука",null,4052,null,4862.3999999999996]
["R5DVP20125","Разделитель вертикальный, частичный, Г = 125 мм, для шкафов высотой 20","Штука",null,2370.5300000000002,null,2844.636]
["R5FCGD5","Центральный пакет глубиной 500 глухой","Штука",null,1280.19,null,1536.2280000000001]
["R5FP82","Комплект панелей цоколя, Ш/Г=800 мм, В=200 мм, 1 кмп = 2 шт.","Комплект",null,3811.67,null,4574.0039999999999]
["R5FMP800","Панель для кабельного ввода, 6-ть мест, для шкафов шириной 800 мм, 1упаковка - 2 шт.","Упаковка",null,1728.91,null,2074.692]
["R5FUC104","Дно сплошное, для шкафов DAE/CQE 1000 x 400 мм","Штука",null,5878.89,null,7054.6680000000006]
["R5FUC86","Дно сплошное, для шкафов DAE/CQE 800 x 600 мм","Штука",null,6645.46,null,7974.5519999999997]
["R5LAJMP","Силовой разъем для светильников","Штука",null,1338.37,null,1606.0439999999999]
["R5MAG02","Магнитная площадка для R5LAS08/13","Штука",null,3077.5,null,3693]
[null,null,null,null,null,null,0]
["R5SK2066","Комплект усиления для шкафов CQE 2000х600х600","Штука",null,19556.46,null,23467.751999999997]
["R5PC1600","Монтажная плата, дополнительная, для оснований стоек CN/VN, В=1600мм","Штука",null,13359.5,null,16031.4]
["R5S01","Рейки дверные, вертикальные, для полки пульта управления PN, 1 упаковка - 2шт.","Упаковка",null,1819.09,null,2182.9079999999999]
[null,null,null,null,null,null,0]
["CN50391","Цельный навесной шкаф из фибергласа без МП со сплошной дверью 300х250х140 мм","Штука",null,9388,null,11265.6]
["077705101","Напольный шкаф Conchiglia без МП 940x685x330 мм","Штука",null,51595.21,null,61914.251999999993]
["077718104","Напольный шкаф Conchiglia без МП 1390x685x460 мм","Штука",null,69814.33,null,83777.195999999996]
["CN5UKG04","Стойки вертикальные для шкафов Conchiglia В=370/400 мм, 2 шт","Комплект",null,1989.42,null,2387.3040000000001]
["095777629","Накладная панель перфорированная для макс. 29 модулей для шкафов Conchiglia Ш=685 мм","Штука",null,5550.06,null,6660.0720000000001]
["542210","Корпус RAM box без МП 400х200х146 мм, с фланцами, непрозрачная крышка высотой 21 мм, IP67","Штука",null,3134.44,null,3761.328]
["503310","Монтажная плата с крепежом для корпусов RAM box 300х150 мм","Штука",null,419.81,null,503.77199999999999]
["500001-RET","Пластиковый винт для крепления крышки высотой 35 мм корпусов RAM box","Штука",null,12.36,null,14.831999999999999]
["R5GCH15F","Вентиляционная решетка с фильтром GCH 250x250 мм, IP54","Штука",null,2972.93,null,3567.5159999999996]
["R5KF121","Вентиляционная решетка с фильтром ЭМС 150x150 мм, IP54","Штука",null,4107.9399999999996,null,4929.5279999999993]
["R5STHT50","Обогреватель в пластиковом кожухе 50 Вт, 110…250 В","Штука",null,4342.83,null,5211.3959999999997]
["R5MHT5","Компактный обогреватель 5 Вт, кабель подключения, 110…250 В","Штука",null,3158.19,null,3789.828]
["R5RK08B","Защитная панель IP56, листовая сталь RAL9005, для вентиляторов и решеток 106,5x106,5/112x112 мм","Штука",null,4766.6099999999997,null,5719.9319999999998]
["R5KLM20021LT","Навесной кондиционер 2000 Вт, 230 В, 1 ф, 950х400х245 мм","Штука",null,188629.77,null,226355.72399999999]
["R5KLMI415021LT","Навесной кондиционер из нержавеющей стали AISI304 1500 Вт, 230В, 1ф, 950х400х245мм","Штука",null,194239.41,null,233087.29199999999]
["R5KLMI420043LT","Навесной кондиционер из нержавеющей стали AISI304 2000 Вт, 400В, 3ф, 1050х400х245мм","Штука",null,282659.65999999997,null,339191.59199999995]
["R5KLMI405021RT","Потолочный кондиционер из нержавеющей стали AISI304 500Вт, 230В, 1ф, 310x600x400мм","Штука",null,184662.6,null,221595.12]
["R5KLMCSI3","Рама для полуутопленного монтажа навесного кондиционера 500 Вт 400 В","Штука",null,16609.07,null,19930.883999999998]
["R5KLMFA2","Алюминиевый фильтр для навесных кондиционеров 500-800 Вт 400 В","Штука",null,6779.24,null,8135.0879999999997]
["RN6AFFA04RD","Кабель CAT 6A, F/FTP, нг(А)-FRHF, бухта 500м, красный","Метр",null,446.79,null,536.14800000000002]
["RN6AFU4515OR","Патч-корд экранированный CAT6A F/UTP 4х2, LSZH, оранжевый, 1.5м","Штука",null,291.67,null,350.00400000000002]
["RN6PPF241BK","Патч-панель 19\",1U,CAT6, 24 порта RJ45, экранированная","Штука",null,14926.03,null,17911.236000000001]
["RN6FU4570GN","Патч-корд экранированный CAT6 F/UTP 4х2, LSZH, зелёный, 7.0м","Штука",null,832.62,null,999.14400000000001]
["RN6FU4500YL","Патч-корд экранированный CAT6 F/UTP 4х2, LSZH, желтый, 10.0м","Штука",null,1135.95,null,1363.14]
["RN6UU4515BL","Патч-корд неэкранированный CAT6 U/UTP 4х2, LSZH, синий, 1.5м","Штука",null,212.17,null,254.60399999999998]
["RN6RJ45U","Коннектор RJ-45  CAT6 неэкранированный","Штука",null,23.58,null,28.295999999999996]
["RN5EFUPE3BK","Информационный кабель экранированный F/UTP 4х2 CAT5E, PE, чёрный","Погонный м",null,41.97,null,50.363999999999997]
["RN5EFU4500WH","Патч-корд экранированный CAT5E F/UTP 4х2, LSZH, белый, 10.0м","Штука",null,837.17,null,1004.6039999999999]
["RN5EUU4530BK","Патч-корд неэкранированный CAT5E U/UTP 4х2, LSZH, черный, 3.0м","Штука",null,292.93,null,351.51600000000002]
["RN5EUU4515GN","Патч-корд неэкранированный CAT5E U/UTP 4х2, LSZH, зелёный, 1.5м","Штука",null,176.9,null,212.28]
["RNKPPF241BK","Патч-панель наборная с шторками 19\",1U, под 24 модуля Keystone, UTP/STP","Штука",null,8113.68,null,9736.4159999999993]
[null,null,null,null,null,null,0]
["RNPC9DCACA1","Оптический коммутационный шнур Duplex SC/APC-SC/APC, 9/125 (OS2), 1 м","Штука",null,2919.78,null,3503.7360000000003]
["RNPC9DCULA1","Оптический коммутационный шнур переходной  Duplex LC-APC/SC-UPC, 9/125 OS2, 1 м","Штука",null,2530.84,null,3037.0080000000003]
["RNPC9DCUSU3","Оптический коммутационный шнур переходной Duplex SC-UPC/ST-UPC, 9/125 OS2, 3 м","Штука",null,2740.35,null,3288.4199999999996]
["RNFA9AQLC","Адаптер LC/APC-Quad, Senior/Senior, SC-footprint, ОS2, зеленый","Штука",null,996.41,null,1195.692]
["RNDTIN5034LSAQ","Кабель волоконно-оптический DT ОМ3,50/125 мкм,4 волокна в плотном буферном покрытии","Метр",null,150.02000000000001,null,180.024]
["RNFA53DLC","Адаптер LC/UPC-Duplex TOP, Senior/Senior, SC-footprint, ОМ3, бирюзовый","Штука",null,284.27999999999997,null,341.13599999999997]
["RNPC50DFF1","Оптический коммутационный шнур Duplex FC-UPC/FC-UPC, 50/125 OM2, 1 м","Штука",null,3913.7,null,4696.4399999999996]
["RNPC50DCL2","Оптический коммутационный шнур переходной Duplex LC-UPC/SC-UPC, 50/125 OM2, 2 м","Штука",null,2306.36,null,2767.6320000000001]
["RNPC50DSF10","Оптический коммутационный шнур переходной Duplex ST-UPC/FC-UPC, 50/125 OM2, 10 м","Штука",null,3708.43,null,4450.116]
["RNSPLICE","Сплайс кассета на 24 КДЗС (60 мм)","Штука",null,776.55,null,931.8599999999999]
[null,null,null,null,null,null,0]
["R5IT2462PFB","Напольный 19\" IT-корпус ДКС серии CQE 24U 600х1200х1200, двери перфорированная+перфорированная, панели для крыши, кабельный ввод,RAL9005","Штука",null,107732.31,null,129278.772]
["R5IT3862GSB","Напольный 19\" IT-корпус ДКС серии CQE 38U 600х1800х1200, двери стекло+сплошная, панели для крыши, кабельный ввод, RAL9005","Штука",null,149640.79999999999,null,179568.96]
[null,null,null,null,null,null,0]
["R5KTB610FITB","Крыша с фланцем и основание для напольных 19\" IT-корпусов ДКС серии CQE 600 x 1000, RAL9005","Штука",null,28047.11,null,33656.531999999999]
["R5KTB810FIT","Крыша с фланцем и основание для напольных 19\" IT-корпусов ДКС серии CQE 800 x 1000, RAL7011","Штука",null,32897,null,39476.400000000001]
["R5ITCPLK20120B","Панель боковая для напольных 19\" IT-корпусов ДКС серии CQE, 2 шт, 2000х1200, RAL9005","Комплект",null,32032.86,null,38439.432000000001]
["R5ITCPELK18100","Панель боковая для напольных 19\" IT-корпусов ДКС серии CQE, 2 шт, 1800х1000, RAL7035, старого образца","Упаковка",null,12975.82,null,15570.983999999999]
["R5ITCPMM2280B","Дверь одностворчатая перфорированная для напольных 19\" IT-корпусов ДКС серии CQE 47U 2200х800, RAL9005","Штука",null,23068.21,null,27681.851999999999]
["R5ITCPMM2260","Дверь одностворчатая перфорированная для напольных 19\" IT-корпусов ДКС серии CQE 47U шириной 600, RAL7035","Штука",null,20573.47,null,24688.164000000001]
["R5ITCPMM1281","Дверь двустворчатая перфорированная для напольных 19\" IT-корпусов ДКС серии CQE 24U шириной 800 , RAL7035","Штука",null,17966.54,null,21559.848000000002]
["R5ITCPE2280","Дверь одностворчатая сплошная для напольных 19\" IT-корпусов ДКС серии CQE 2200 x 800, RAL7035","Штука",null,12920.54,null,15504.648000000001]
[null,null,null,null,null,null,0]
["R5VUG47L","Вертикальные монтажные профили 47U, \"L\" для напольных 19\" IT-корпусов ДКС серии CQE, 2шт","Упаковка",null,3234.09,null,3880.9079999999999]
["R5RFCIT60B","Полка 1U стационарная, \"С\" профиль, глубина 253мм для напольных 19\" IT-корпусов ДКС серии CQE, RAL9005","Штука",null,3228,null,3873.6]
["R5VSIT8009FT","Потолочный модуль 9 вентиляторов с термостатом для крыши напольных 19\" IT-корпусов ДКС серии CQE шириной 800мм, RAL7011","Штука",null,18629.5,null,22355.399999999998]
["R5VRU426010","Организатор воздушных потоков 100 мм с доп. U для 42U напольных 19\" IT-корпусов ДКС серии CQE, 2000x600х100, RAL7035","Комплект",null,9393.7000000000007,null,11272.44]
["R5VRU428075","Организатор воздушных потоков 75 мм с доп. U для 42U напольных 19\" IT-корпусов ДКС серии CQE, 2000x800х75, RAL7035","Комплект",null,12561.43,null,15073.716]
["R5ITDVE1280B","Панель перегородочная 1200 x 800 для напольных 19\" IT-корпусов ДКС серии CQE, RAL9005","Штука",null,5359.65,null,6431.579999999999]
["R5STI1665GS","Навесной 19\" IT-корпус ДКС серии STI 16U, 800х600х650, дверь с закаленным стеклом, RAL7035","Штука",null,27940,null,33528]
[null,null,null,null,null,null,0]
["R5VSIT6002FTB","Потолочный модуль 2 вентилятора с термостатом для крыши навесных и напольных 19\" IT-корпусов ДКС серии STI/CQE шириной 600мм,RAL9005","Штука",null,11495,null,13794]
["R5ITCL4040","Кабельные кольца CL для 19\" IT-корпусов ДКС серии STI/CQE, 40x40, 6 шт.","Упаковка",null,296.61,null,355.93200000000002]
["R5PRK10B","Панель сплошная (заглушка) 10U для 19\" IT-корпусов ДКС серии STI/CQE, RAL9005","Штука",null,1518.71,null,1822.452]
[null,null,null,null,null,null,0]
["R5TIE2060","Рама поворотная 40U 2000мм для 19\" оборудования в корпуса DAE/CQE Ш=600мм","Штука",null,29153.56,null,34984.271999999997]
["R5VSH10SWOPAM","Блок распределения питания ДКС (PDU) вертикальный 0U, 16A с выключателем, защитой и индикацией, Вых:10 х Sсhuko, Вх:Schuko х 2м","Штука",null,9085,null,10902]
["R5CORDS918","Кабель питания ДКС, Sсhuko - IEC320 C19, 1.8 м, сечение 3 х 2,5 мм","Штука",null,2054.5300000000002,null,2465.4360000000001]
["INFORPRO1000I","Линейно-интерактивный ИБП ДКС серии Info Rackmount Pro, 1000 ВА/800 Вт, 1/1, EPO, USB, RJ45, 3xIEC C13, Rack 2U, 2x7Aч","Штука",null,23841.74,null,28610.088]
["INFORPRO1500I","Линейно-интерактивный ИБП ДКС серии Info Rackmount Pro, 1500 ВА/1200 Вт, 1/1, EPO, USB, RJ45, 6xIEC C13, Rack 3U, 2x9Aч","Штука",null,29378.53,null,{"$f":"E31047*1.2","v":35254.235999999997}]
["SOLOMD4A0","Онлайн ИБП ДКС серии Solo MD, 4000 ВА/3600 Вт, 1/1, Rack 5U, RS-232, EPO, 6xIEC C13, 4xIEC C19 + клеммная колодка, без АКБ","Штука",null,220892.63,null,265071.15600000002]
["TRIOTM20A0P","Онлайн ИБП ДКС серии Trio TM, 20 кВА/20 кВт, 3/1, EPO, USB, RS-232, клеммная колодка, 6 А, без АКБ, 9 Ач","Штука",null,338630.62,null,406356.74400000001]
["DRYCONTM","Адаптер AS400 («сухие контакты») для ИБП ДКС серии Trio TM","Штука",null,9153.7800000000007,null,10984.536]
["SMALLC2A10I","Онлайн ИБП ДКС серии Small Convert, 2000 ВА/1800 Вт, Rack 3U, ток зарядки 5А, 6x7Ач","Штука",null,38000,null,45600]
["08214","Короб перфорированный, серый TPD 100х50","Метр",null,723.05,null,867.66]
["07103","Суппорт DINBLOK 3 для профиля OMEGA","Штука",null,47.93,null,57.515999999999998]
["00676RL","Короб перфорированный, серый RL75 15x60","Метр",null,202.55,null,243.06]
[null,null,null,null,null,null,0]
["01168RL","Короб перфорированный, синий RL12 80x80","Метр",null,1001.2,null,1201.44]
["GTRPA-03","Кабельная оплетка из полиамида 3-5мм","Метр",null,27.49,null,32.988]
["GTRVO-50","Кабельная оплетка из полиэстера 50-75мм","Метр",null,433.32,null,519.98399999999992]
["00961RL","Жгут витой, SPIRALITE P1, прозрачный","Метр",null,19.77,null,23.724]
["ISBK3551","Изолятор шинный 35х32 М8","Штука",null,234.13,null,280.95599999999996]
["ISBK5549","Изолятор шинный 50х50 М10","Штука",null,403.77,null,484.52399999999994]
["02140-RET6","DIN-рейка 35х7,5 мм длиной 600 мм","Штука",null,297.47000000000003,null,356.964]
["02150-RET10","DIN-рейка 35х15 мм длиной 1000 мм","Штука",null,633.15,null,759.78]
["QSP0504","Спейсер 50, 7, М4","Штука",null,71.3,null,85.559999999999988]
["507F","Клеммная колодка соединительная 1р 5х5,3мм 2х6мм. цвет серый","Штука",null,229.93,null,275.916]
["BD12515","Шина латунная 10х6мм, 2х7мм, 2х8мм, 1х9мм","Штука",null,727.9,null,873.4799999999999]
["BD3160104","Блок распределительный на DIN рейку c выносной клеммой 4р 160А, 7х7мм 1х8мм  1х9мм 1х12мм","Штука",null,5738.71,null,6886.4520000000002]
["43412NY","КЛЕММНИК Полиамид 6.6,12р,110°С,450V, 57A, 10мм.кв.","Штука",null,174.76,null,209.71199999999999]
["43303PL/RR","КЛЕММНИК Полипропилен черный, 3р, 85 град., 450V, 32А, 6мм.кв. (р)","Штука",null,34.4,null,41.279999999999994]
["2A8P-EE-PA","Наконечник с отверстием под винт и изолир.фaланцем ПА, легкий ввод жилы, 0,25-1,5 кв.мм М8 (д.8,4 мм) (НКИ)","Штука",null,3.67,null,4.4039999999999999]
["2A8P-EE-PVC","Наконечник с отверстием под винт и изолир.фaланцем ПВХ, легкий ввод жилы, 0,25-1,5 кв.мм М8 (д.8,4 мм) (НКИ)","Штука",null,3.18,null,3.8159999999999998]
["2E6P-EE-PA","Наконечник с отверстием под винт и изолир.фaланцем ПА, легкий ввод жилы, 10-16 кв.мм М6 (д.6,4 мм) (НКИ)","Штука",null,28.79,null,34.547999999999995]
["2A135P-EE-PA","Наконечник вилочный с изолир.фланцем ПА, легкий ввод жилы, 0,25-1,5 кв.мм М3,5 (д.3,7 мм) (НВИ)","Штука",null,2.54,null,3.048]
["2C14P-EE-PA","Наконечник вилочный с изолир.фланцем ПА, легкий ввод жилы, 2,5-6 кв.мм М4 (д.4,3 мм) (НВИ)","Штука",null,6.55,null,7.8599999999999994]
["2C18P-EE-PA","Наконечник вилочный с изолир.фланцем ПА, легкий ввод жилы, 2,5-6 кв.мм М8 (д.8,4 мм) (НВИ)","Штука",null,9.2200000000000006,null,11.064]
["2C16P","Наконечник вилочный с изолир.фланцем 2,5-6 кв.мм 6,4 мм (НВИ)","Штука",null,12.15,null,14.58]
["2A02TP","Наконечник плоский полностью изолир. (розетка) 0,25-1,5 кв.мм 6,3х0,8 мм (РППИ-М)","Штука",null,13.06,null,15.672000000000001]
[null,null,null,null,null,null,0]
["2ART5013TUL","Наконечник-гильза 8 мм с изолир.фланцем 0,34 кв.мм салатовый (НШВИ)","Штука",null,1.96,null,2.3519999999999999]
["2ART5102GRN","Наконечник-гильза двойная 14 мм с изолир.фланцем 16,00 кв.мм зеленый (НШВИ2)","Штука",null,13.16,null,15.792]
["2ART502HLO","Наконечник-гильза 10 мм с изолир.фланцем 0,50 кв.мм оранжевый (НШВИ)","Штука",null,2.29,null,2.7479999999999998]
["2ART505HLSB","Наконечник-гильза 12 мм с изолир.фланцем 1,50 кв.мм черный (НШВИ)","Штука",null,2.44,null,2.9279999999999999]
["2ART506HLG","Наконечник-гильза 12 мм с изолир.фланцем 2,50 кв.мм серый (НШВИ)","Штука",null,2.68,null,3.2160000000000002]
["2ART510","Наконечник-гильза 14 мм с изолир.фланцем 16,00 кв.мм синий (НШВИ)","Штука",null,7.43,null,8.9159999999999986]
["2ART702","Наконечник-гильза 8 мм с изолир.фланцем 0,75 кв.мм синий (НШВИ-Л)","Штука",null,1.87,null,2.2440000000000002]
["2M10NP","Наконечник кольцевой с узкокой лопаткой  120 кв.мм. под винт 10 мм (ТМЛ-У)","Штука",null,175.63,null,210.756]
[null,null,null,null,null,null,0]
["2A135S","Наконечник вилочный 0,25-1,5 кв.мм 3,6 мм (НВ)","Штука",null,3.97,null,4.7640000000000002]
["2C18","Наконечник вилочный 2,5-6 кв.мм 8,5 мм (НВ)","Штука",null,6.53,null,7.8360000000000003]
["2C22","Наконечник плоский (вилка) 2,5-6 кв.мм 6,3х0,8 мм (РП-П)","Штука",null,5.08,null,6.0960000000000001]
["2CTE6","Наконечник кольцевой под винт 4 кв.мм винт 6 мм (ТМЛ)","Штука",null,8.3699999999999992,null,10.043999999999999]
["2AT4","Наконечник кольцевой под винт 1,5 кв.мм винт 4 мм (ТМЛ)","Штука",null,10.119999999999999,null,12.143999999999998]
["2E4","Наконечник кольцевой под винт 16 кв.мм винт 4 мм (ТМЛ)","Штука",null,29.11,null,34.931999999999995]
["2I12","Наконечник кольцевой под винт 70 кв.мм винт 12 мм (ТМЛ)","Штука",null,82.27,null,98.72399999999999]
["2I8F","Наконечник кольцевой под винт 95/70 кв.мм винт 8 мм (ТМЛ)","Штука",null,191.91,null,230.29199999999997]
["2M8","Наконечник кольцевой под винт 120 кв.мм винт 8 мм (ТМЛ)","Штука",null,230.12,null,276.14400000000001]
["2V21","Наконечник кольцевой под винт 1000 кв.мм винт 20 мм (ТМЛ)","Штука",null,8742.9500000000007,null,10491.54]
["2L21L","Наконечник кольцевой под винт с удлиненной гильзой 95 кв.мм винт 21 мм (ТМЛ)","Штука",null,172.75,null,207.29999999999998]
["2Q14L","Наконечник кольцевой под винт с удлиненной гильзой 300 кв.мм винт 14 мм (ТМЛ)","Штука",null,1452.22,null,1742.664]
["2P12M","Наконечник для особогибких жил, 240 кв.мм винт 12 мм","Штука",null,497.44,null,596.928]
["2CTE4M","Наконечник для особогибких жил, 4 кв.мм винт 4 мм","Штука",null,4.6399999999999997,null,5.5679999999999996]
["2N10DH23","Наконечник с двумя отверстиями, 150(23) кв.мм винт 2х10 мм","Штука",null,497.57,null,597.08399999999995]
["2D8C","Наконечник кольцевой под винт гнутые под 90° 10 кв.мм винт 8 мм (ТМЛ)","Штука",null,42,null,50.4]
["2L8C","Наконечник кольцевой под винт гнутые под 90° 95 кв.мм винт 8 мм (ТМЛ)","Штука",null,234.76,null,281.71199999999999]
["2F20","Гильза медная луженая 25 кв.мм. (ГМЛ)","Штука",null,39.520000000000003,null,47.423999999999999]
["2PT","Изолятор для наконечника 630 кв.мм","Штука",null,119.94,null,143.928]
["2ARTRYC325","Ножницы механические ручные для резки кабеля 10-300 кв.мм","Штука",null,24728.93,null,29674.716]
["2ART81","Аксессуар для зачистки и резки проводов 0,5-6 кв.мм","Штука",null,1269.3499999999999,null,1523.2199999999998]
["M355120E","Матрица 120 кв.мм для 2ART55","Штука",null,6791.36,null,8149.6319999999996]
[null,null,null,null,null,null,0]
["25401","Инструмент для хомутов от 2,2 до 4,8 мм","Штука",null,4701.6000000000004,null,5641.92]
["283117YL","Мягкий многоразовый хомут на тканевой основе 310x17-ЖЕЛТЫЙ","Штука",null,54.91,null,65.891999999999996]
["3005125EP","Хомут 4.6x1250. Сталь ANSI 304. С EP покрытием","Штука",null,53.73,null,64.475999999999999]
["300830EP","Хомут 7.9x300. Сталь ANSI 304. С EP покрытием","Штука",null,25.11,null,30.131999999999998]
["301230EP","Хомут 12x300. Сталь ANSI 304. С EP покрытием","Штука",null,63.51,null,76.211999999999989]
["301280EP","Хомут 12x800. Сталь ANSI 304. С EP покрытием","Штука",null,140.22,null,168.26399999999998]
["310584EP","Хомут 4.6x840. Сталь ANSI 316. С EP покрытием","Штука",null,47.68,null,57.216000000000001]
["310870EP","Хомут 7.9x700. Сталь ANSI 316. С EP покрытием","Штука",null,53.07,null,63.683999999999997]
["3112110EP","Хомут 12x1100. Сталь ANSI 316. С EP покрытием","Штука",null,230.64,null,276.76799999999997]
["25208","Хомут P6.6 стандартный, белый, 3,6x370","Штука",null,5.08,null,6.0960000000000001]
["25308","Хомут P6.6 стандартный, черный, 3,6х370","Штука",null,5.08,null,6.0960000000000001]
["27410","Хомут из нержавеющей стали AISI 304 8х175","Штука",null,20.22,null,24.263999999999999]
["27615","Хомут из нержавеющей стали AISI 316 8х500","Штука",null,56.26,null,67.512]
["21307","Хомут P6.6 с двойным замком, черный, 200x2,5","Штука",null,6.61,null,7.9320000000000004]
["25209CV0","Хомут P6.6 самозатухающий, белый, 3,5x140","Штука",null,1.36,null,1.6320000000000001]
["252210-M","Хомут P6.6 маркировочный, белый, 2,5х210, табличка 9,1х20,4","Штука",null,11.28,null,13.536]
["252200-H","Хомут P6.6 с монтажным отверстием, белый, 7,8x200","Штука",null,26.06,null,31.271999999999998]
["26453","Хомут P12 гибкий, черный, 9х265","Штука",null,23.1,null,27.720000000000002]
["21043116","Замок, цвет - черный, д.17,8-20,3","Штука",null,1.25,null,1.5]
[null,null,null,null,null,null,0]
["MH6715B","Держатель для маркировки размером 67х15 мм","Штука",null,53.15,null,63.779999999999994]
["TUB1202FL","Трубочка прозрачная для гибкой маркировки, 2,0-4,0 мм, длина 12 мм.","Штука",null,1.72,null,2.0640000000000001]
["TUB1502MC","Трубочка прозрачная для жесткой маркировки, 2,0-4,0 мм, длина 15 мм.","Штука",null,2.31,null,2.7719999999999998]
["TUB23","Трубчатый держатель с фиксацией хомутом для маркировочных элементов NUT23 и NUTFL23","Штука",null,8.86,null,10.632]
["TUB2305","Трубочка прозрачная для жесткой маркировки, 10,0–14,0 мм, длина 23 мм.","Штука",null,10.44,null,12.527999999999999]
["2NA20116G","Термоусаживаемая трубка 1,6/0,8 мм зеленый","Штука",null,14.9,null,17.88]
["2NA201254R","Термоусаживаемая трубка 25,4/12,7 мм красный","Штука",null,104.08,null,124.89599999999999]
["2NA20195","Термоусаживаемая трубка 9,5/4,7 мм черный","Штука",null,32.6,null,39.119999999999997]
["2NA201R191G","Термоусаживаемая трубка в рулоне 19,1/9,5 мм зеленый","Метр",null,29.27,null,35.123999999999995]
["2NA201R381Y","Термоусаживаемая трубка в рулоне 38,1/19,1 мм желтый","Метр",null,167.1,null,200.51999999999998]
["2NA201R508","Термоусаживаемая трубка в рулоне 50,8/25,4 мм черный","Метр",null,318.75,null,382.5]
["2NF201127B","Термоусаживаемая самозатухающая трубка 12,7/6,4 мм синий","Штука",null,45.42,null,54.503999999999998]
["2NF20112B","Термоусаживаемая самозатухающая трубка 1,2/0,6 мм синий","Штука",null,6.88,null,8.2560000000000002]
["2NF20124Y","Термоусаживаемая самозатухающая трубка 2,4/1,2 мм желтый","Штука",null,6.78,null,8.1359999999999992]
["2NF201318GR","Термоусаживаемая самозатухающая трубка 31,8/15,9 мм серый","Штука",null,377.13,null,452.55599999999998]
["2NF201508B","Термоусаживаемая самозатухающая трубка 50,8/25,4 мм синий","Штука",null,556.20000000000005,null,667.44]
["2NF201762Y","Термоусаживаемая самозатухающая трубка 76,2/38,1 мм желтый","Штука",null,952.37,null,1142.8440000000001]
["2NF20195R","Термоусаживаемая самозатухающая трубка 9,5/4,7 мм красный","Штука",null,37.86,null,45.431999999999995]
["2NS20116G","Термоусаживаемая огнестойкая трубка 1,6/0,8 мм зеленый","Метр",null,43.06,null,51.672000000000004]
["2NS201381","Термоусаживаемая огнестойкая трубка 38,1/19,1 мм черный","Метр",null,837.04,null,1004.4479999999999]
["2NS20148G","Термоусаживаемая огнестойкая трубка 4,8/2,4 мм зеленый","Метр",null,84.67,null,101.604]
["2NS20195Y","Термоусаживаемая огнестойкая трубка 9,5/4,7 мм желтый","Метр",null,129.19,null,155.02799999999999]
["2NF201R159BR","Термоусаживаемая самозатухающая трубка в рулоне 15,9/7,9 мм коричневый","Метр",null,66.22,null,79.463999999999999]
["2NF201R191Y","Термоусаживаемая самозатухающая трубка в рулоне 19,1/9,5 мм желтый","Метр",null,62.12,null,74.543999999999997]
["2NF201R381BR","Термоусаживаемая самозатухающая трубка в рулоне 38,1/19,1 мм коричневый","Метр",null,479.03,null,574.8359999999999]
["2NF201R48GY","Термоусаживаемая самозатухающая трубка в рулоне 4,8/2,4 мм желто-зеленый","Метр",null,51.87,null,62.243999999999993]
["2NF201R64R","Термоусаживаемая самозатухающая трубка в рулоне 6,4/3,2 мм красный","Метр",null,51.24,null,61.488]
["2NS201R127W","Термоусаживаемая огнестойкая трубка в рулоне 12,7/6,4 мм белый","Метр",null,176.15,null,211.38]
["2NS201R191","Термоусаживаемая огнестойкая трубка в рулоне 19,1/9,5 мм черный","Метр",null,358.82,null,430.584]
["2NS201R381G","Термоусаживаемая огнестойкая трубка в рулоне 38,1/19,1 мм зеленый","Метр",null,920.71,null,1104.8520000000001]
["2NS201R95B","Термоусаживаемая огнестойкая трубка в рулоне 9,5/4,7 мм синий","Метр",null,129.19,null,155.02799999999999]
["2CRMA235","Термоусаживаемая cреднестенная трубка 235/65 мм c клеевым составом","Метр",null,3520.66,null,4224.7919999999995]
["2NZH201B508W","Термоусаживаемая трубка 50,8/25,4 мм белый","Метр",null,1100.48,null,1320.576]
["2CRT52","Термоусаживаемая толстостенная трубка 52/15 мм","Метр",null,1058.58,null,1270.2959999999998]
["2CRTA72","Термоусаживаемая толстостенная трубка 72/20 мм c клеевым составом","Метр",null,2213.9,null,2656.68]
["2NF301390Y","Термоусаживаемая самозатухающая трубка 39/13 мм желтый 3:1","Штука",null,995.14,null,1194.1679999999999]
["2NF30190B","Термоусаживаемая самозатухающая трубка 9/3 мм синий 3:1","Штука",null,145.86000000000001,null,175.03200000000001]
["2NF301R48G","Термоусаживаемая самозатухающая трубка в рулоне 4,8/1,5 мм зеленый 3:1","Метр",null,28.76,null,34.512]
["2FLZH201B32","Термоусаживаемая трубка для термотрансферной печати 3,2/1,6 мм белый","Метр",null,92.26,null,110.712]
["2FLNF301P48","Термоусаживаемая самозатухающая трубка для термотрансферной печати 4,8/1,6 мм белый 3:1","Метр",null,130.26,null,156.31199999999998]
["2NFD401R40CL","Термоусаживаемая самозатухающая трубка c клеевым составом в рулоне 4/1 мм прозрачный 4:1","Метр",null,361.32,null,433.584]
["2NFD401120","Термоусаживаемая самозатухающая трубка c клеевым составом 12/3 мм черный 4:1","Метр",null,495.81,null,594.97199999999998]
["2NFD401520","Термоусаживаемая самозатухающая трубка c клеевым составом 52/13 мм черный 4:1","Метр",null,3423.89,null,4108.6679999999997]
["GRCPO09B","Картридж полиэстер 09мм х 5,5м. Черный","Штука",null,688.86,null,826.63199999999995]
["GR4YOU","Принтер мобильный EGO4YOU","Штука",null,3680.78,null,4416.9359999999997]
["ZN8020H","CNU/8/51 символ \"X\", горизонтальная ориентация","Штука",null,1.98,null,2.3759999999999999]
["ZN8032","CNU/8/51 символ \"В\", вертикальная ориентация","Штука",null,3.37,null,4.0439999999999996]
["ZN8048H","CNU/8/51 символ \"Q\", горизонтальная ориентация","Штука",null,1.98,null,2.3759999999999999]
["ZN80W1","CNU/8/51 символ \"W1\", вертикальная ориентация","Штука",null,3.37,null,4.0439999999999996]
["ZN8101H","\"CNU/8/51 серия от \"\"101\"\" до \"\"150\"\", горизонтальная ориентация\"","Штука",null,3.37,null,4.0439999999999996]
["ZN8520H","\"CNU/8/51 серия от \"\"11\"\" до \"\"20\"\", горизонтальная ориентация\"","Штука",null,3.37,null,4.0439999999999996]
["ZN8801","\"CNU/8/51 серия от \"\"801\"\" до \"\"850\"\", вертикальная ориентация\"","Штука",null,1.93,null,2.3159999999999998]
["ZN8Y17H","CNU/8/51 символ \"17\", горизонтальная ориентация","Штука",null,3.37,null,4.0439999999999996]
["ZSH4G6","SHZ/1/G6, земля отпечатанная маркировка для клемм","Штука",null,5.34,null,6.4079999999999995]
["ZSH4OO","SHZ/1/OO, O отпечатанная маркировка для клемм","Штука",null,5.34,null,6.4079999999999995]
["SITFL03812W","Табличка самоламинирующаяся, полиэстер 38х12мм. белая","Штука",null,10.66,null,12.792]
["SITFP2727Y","Табличка маркировочная, полиэстер 27х27мм. желтая","Штука",null,23.79,null,28.547999999999998]
["MKCBS2","Маркер для кабеля сечением 1,5-2,5мм символ „B”","Штука",null,1.24,null,1.488]
["MKCFS1","Маркер для кабеля сечением 0,5-1,5мм символ „F”","Штука",null,1.1200000000000001,null,1.3440000000000001]
["MKCQS1","Маркер для кабеля сечением 0,5-1,5мм символ „Q”","Штука",null,1.1200000000000001,null,1.3440000000000001]
["MKCYS2","Маркер для кабеля сечением 1,5-2,5мм символ „Y”","Штука",null,1.24,null,1.488]
["MKF2S1","Маркер для кабеля сечением 0,5-1,5мм символ „2”","Штука",null,1.1200000000000001,null,1.3440000000000001]
["MKF999GRS1","Маркер для каб. 0,5-1,5мм пустой серый","Штука",null,1.1200000000000001,null,1.3440000000000001]
["MKMPS2","Маркер для кабеля сечением 1,5-2,5мм символ „Mp”","Штука",null,0.89,null,1.0680000000000001]
["AZO201BY","Колечко маркировочное 1,  1,3-3 мм. черное на желтом","Штука",null,2.16,null,2.5920000000000001]
["AZO205BY","Колечко маркировочное 5,  1,3-3 мм. черное на желтом","Штука",null,2.16,null,2.5920000000000001]
["AZO2TTBY","Колечко маркировочное T,  1,3-3 мм. черное на желтом","Штука",null,1.23,null,1.476]
["AZO3LLBY","Колечко маркировочное L,  2.5-5 мм. черное на желтом","Штука",null,2.16,null,2.5920000000000001]
["AZS410BY","Колечко маркировочное +,  4-10 мм. черное на желтом","Штука",null,4.3,null,5.1599999999999993]
["AZS4LLBY","Колечко маркировочное L,  4-10 мм. черное на желтом","Штука",null,4.3,null,5.1599999999999993]
[null,null,null,null,null,null,0]
["CMSA5023Y","Самоламинирующаяся маркировка для кабелей и труб. Желтая","Штука",null,20.52,null,24.623999999999999]
["SIM13109Y","Маркировка для ПЛК Siemens Simatic S7-1500. Желтый. Компектная версия","Штука",null,24.37,null,29.244]
["SIM23103Y","Маркировка для ПЛК Siemens Simatic  S7-300 Желтый","Штука",null,39.880000000000003,null,47.856000000000002]
["TAF209AY","Табличка эластичная. Клейкое основание. Винил. Желтый","Штука",null,1.5,null,1.7999999999999998]
["TAS207AW","Табличка полужесткая. Клейкое основание. ПВХ-0,5. Белая","Штука",null,2.94,null,3.528]
["TAS4915Y","Табличка полужесткая. Установка в держатель. ПВХ-0,5. Желтая","Штука",null,8.98,null,10.776]
["TASE2080AY","Табличка полужесткая для маркировки оболочек. Клейкое основание. ПВХ. Желтая","Штука",null,35.26,null,42.311999999999998]
["TASE60100AY","Табличка полужесткая для маркировки оболочек. Клейкое основание. ПВХ. Желтая","Штука",null,215.35,null,258.41999999999996]
["ASF0F12YY230","Индикатор сферический, штекерное подкл., уст.размер 16/24, круг., жёлт., 230В,","Штука",null,1708.02,null,2049.6239999999998]
["ASF0S23WR24","Индикатор сферический, винт. подкл., уст.размер 22/30, круг., бел./крас., 24В,","Штука",null,1256.3900000000001,null,1507.6680000000001]
["ASF0S24RR24","Индикатор сферический, винт. подкл., уст.размер 22/48, круг., крас., 24В,","Штука",null,3153.28,null,3783.9360000000001]
["ASL0F23WG230","Индикатор сферический, штекерное подкл., уст.размер 22/30, круг., LL, бел./зел., 230В,","Штука",null,1395.98,null,1675.1759999999999]
["AC0F23GY230","Индикатор положения, штекерное подкл., уст.размер 22/30, круг., зел./жёлт., 230В,","Штука",null,3202.55,null,3843.06]
["AC4F23GY24","Индикатор положения, штекерное подкл., уст.размер 22/30, квад., зел./жёлт., 24В,","Штука",null,2562.04,null,3074.4479999999999]
["AP0F12EG24","Индикатор заземления, штекерное подкл., уст.размер 16/24, круг., зел., 24В,","Штука",null,1182.48,null,{"$f":"E35079*1.2","v":1418.9759999999999}]
["AP0F23DRG230","Индикатор положения выключателя, штекерное подкл., уст.размер 22/30, круг., крас./зел., 230В,","Штука",null,1576.65,null,1891.98]
["AP4F12DG24","Индикатор положения выключателя, штекерное подкл., уст.размер 16/24, квад., зел., 24В,","Штука",null,1182.48,null,1418.9759999999999]
["AP4S23ER230","Индикатор заземления, винт. подкл., уст.размер 22/30, квад., крас., 230В,","Штука",null,1708.02,null,2049.6239999999998]
["AV1F01CG12","Мини индикатор, штекерное подкл., уст.размер 8/10, круг., внеш.рассеив., зел., 12В,","Штука",null,751.84,null,902.20799999999997]
["AV1F01CW28BL","Мини индикатор, штекерное подкл., уст.размер 8/10, круг., внеш.рассеив., бел., 28В, моргающий,","Штука",null,1228.1099999999999,null,1473.7319999999997]
["AM4S24L230","Мульти индикатор, винт. подкл., уст.размер 22/48, квад., четыре диода, 230В,","Штука",null,4818.79,null,5782.5479999999998]
["ABDTM2","Кнопка плоская с фиксацией, зеленая","Штука",null,433.64,null,520.36799999999994]
["ABFT","Кнопка двойная выпуклая","Штука",null,614.96,null,737.952]
["ALIL4","Сигнальный индикатор под лампу BA9s, синий","Штука",null,244.64,null,293.56799999999998]
["ALVL07","Контактный блок с клеммными зажимами под винт под лампу BA9s","Штука",null,76.290000000000006,null,91.548000000000002]
["AS2008R","Переключатель кулачковый однополюсный  на два положения на 20 А","Штука",null,548.26,null,657.91199999999992]
[null,null,null,null,null,null,0]
["AZ0121","Серебр.площадка и черн.ручка, 48х48, на винты","Штука",null,102.02,null,122.42399999999999]
["AZ4201","Желтая площадка и красная ручка под замок, 67х67, на винты","Штука",null,671.75,null,806.1]
[null,null,null,null,null,null,0]
["ZEFC420BL","Проходная клемма 4 точки подключения на 4 кв.мм синяя","Штука",null,140.32,null,168.38399999999999]
["ZEFT250GR","Клемма для подключения 3х контактного датчика","Штука",null,348.75,null,418.5]
["ZEFB0402R","Перемычка на 2 контакта 4 кв.мм","Штука",null,26.88,null,32.256]
["ZGA300-RET","GPA.240, силовой зажим кабель/кабель бежевый 240 кв.мм","Штука",null,3231.8,null,3878.16]
["ZAC400","ACB.120/BB Силовой зажим, проходной 120 кв.мм","Штука",null,1207.3699999999999,null,1448.8439999999998]
["ZCBC10GR","CBC.10GR(Ex), проходной зажим серый 10 кв.мм","Штука",null,83.07,null,99.683999999999983]
["ZCBX73","CB50/PT(Ex)i, торцевой изолятор синий для СВD50 Ех","Штука",null,58.93,null,70.715999999999994]
["ZGP510","GPM.150/BC/FIX(Ex), силовой зажим шина/кабель бежевый 150 кв.мм/ крепление на плату","Штука",null,2643.33,null,3171.9959999999996]
["ZDB100GR","DBC.2GR(Ex), проходной зажим серый 2 уровня 2,5 кв.мм","Штука",null,101.43,null,121.71600000000001]
["ZDS111GR","DAS.4/AGR, 2х уровневый проходной зажим серый с диодом","Штука",null,647.37,null,776.84399999999994]
["ZDSD060GR","DAS.4/D60GR, 2х уровневый проходной зажим серый 4 кв.мм с диодом между уровнями 60В","Штука",null,741.97,null,890.36400000000003]
[null,null,null,null,null,null,0]
["ZDS400","DSS.4, зажим с 2 уровнями, верхний разъединяемый 4 кв.мм бежевый","Штука",null,347.97,null,417.56400000000002]
["ZSF848","Держатель предохранителя. 4 кв. мм. Предустановлен диодный индикатор. 48В (AC-DC). Тип SFO.4/C48. Бежевый.","Штука",null,932.61,null,1119.1320000000001]
["ZSB205R","SCB/6/CPM/R, перемыкающий винт +рукав SCB.6","Штука",null,199.93,null,239.916]
["ZTO120-RET","TEC.6/O, зажим для заземления желт.зелен 6 кв.мм","Штука",null,168.69,null,202.428]
["ZRN500GR","RN.2/4GR(Ex), проходной зажим 2,5 кв.мм серый","Штука",null,98.69,null,118.428]
["ZCNT16","CNT.16, разъединитель нейтрали 16 кв.мм","Штука",null,104.1,null,124.91999999999999]
["ZFC102","Луженая вставка 6х32","Штука",null,72.03,null,86.435999999999993]
["ZHP101GR-RET","HP/PT/GR Торцевой изолятор","Штука",null,32,null,38.4]
["ZHI521","HMT.2/2+2/PT(Ex)i, торцевой изолятор синий для НММ.2/2+2","Штука",null,47.16,null,56.591999999999992]
["ZHM420GR","HMM.1/2+2GR(Ex), проходной зажим 1,5 кв.мм серый 2 ввод/2 вывода","Штука",null,82.03,null,98.435999999999993]
["ZHD450GR","HMD.2N/CIGR(Ex), 2-х уровневый проходной зажим, серый, 2,5 кв.мм с постоянной перемычкой","Штука",null,261.36,null,313.63200000000001]
["ZPTC5105","Втычная перемычка. 5 пол. 8,2 мм. шир","Штука",null,147.07,null,176.48399999999998]
["ZHVT910","Разъем типа гнездо, с пружинным зажимом на 2 контакта для клемм типа HVTE. Желто-зеленый. 2,5 кв. мм.","Штука",null,128.58000000000001,null,154.29600000000002]
["ZHT520-RET","HTE.2/2+2(Ex), зажим для заземления, 2 ввод/2 вывода, 2,5 кв.ммжелто-зеленый","Штука",null,570.86,null,685.03200000000004]
["ZCC35","Кабельный зажим для подключения экрана (д.35)","Штука",null,1147.24,null,1376.6879999999999]
["ZCPM11","CPM/11, винт+рукав","Штука",null,16.809999999999999,null,20.171999999999997]
["ZPM203","PM20/3, 3-х полюсная собранная перемычка","Штука",null,124.46,null,149.35199999999998]
["ZPM403","PM40/3, 3-х полюсная собранная перемычка","Штука",null,215.04,null,258.048]
["ZPMP06","PMP/06, многополюсная перемычка","Штука",null,505.62,null,606.74400000000003]
["ZPOS91","POS/91, размыкаемая перемычка","Штука",null,38.93,null,46.716000000000001]
["ZPTC0500","PTC/5/00, перемычка L = 250 MM.","Штука",null,1173.82,null,1408.5839999999998]
["ZPTC0802","PTC/8/02, 2 полюсная перемычка","Штука",null,29.59,null,35.507999999999996]
["ZPTP0230B","Перем.втыч. Изол. 30 пол. Син. Шаг 5мм","Штука",null,1926.28,null,2311.5360000000001]
["ZPTP0503R","Перем.втыч Изол. 3 пол. Крас. Шаг 6,2 мм","Штука",null,150.13,null,180.15599999999998]
["ZDU02R","DFU/2/ROSSO, цветной разделитель/изолятор","Штука",null,63.15,null,75.78]
[null,null,null,null,null,null,0]
["ZPD002-RET","PSD/B, тестовая розетка","Штука",null,133.61000000000001,null,160.33200000000002]
[null,null,null,null,null,null,0]
["ZFN009ST","F5/2,5А предохранитель 2,5А","Штука",null,305.74,null,366.88799999999998]
["ZFN015ST","F5/10А предохранитель 10А","Штука",null,340.01,null,408.012]
["R5BBMR275","Комплект реек для установки главной шинной системы, 275мм","Комплект",null,1846.96,null,2216.3519999999999]
["R5GMN20","Стойки вертикальные оцинкованные, В=2000мм, без дополнительных креплений, 4шт","Комплект",null,9810.8799999999992,null,11773.055999999999]
["R5GTB108","Комплект, крыша и основание, для оцинкованных шкафов CQE, 1000 x 800 мм","Комплект",null,33065.67,null,39678.803999999996]
["R5PKIB4H61416","Комплект внутренний гор-ой уст-ки 3п TS630 (P-MO) Ш600 В250","Комплект",null,4001.58,null,4801.8959999999997]
["R5PKIB2H61313","Комплект внутренний гор-ой уст-ки 3п ХТ3 (P) Ш=600 В=150","Комплект",null,3943.48,null,4732.1759999999995]
["R5PKIB1H62213","Комплект внутренний гор-ой уст-ки 3п 3VT2 (F,F-MO,P,P-MO) Ш=600 В=150","Комплект",null,2997.98,null,3597.576]
["R5PKIB2H612134P","Комплект внутренний гор-ой уст-ки 4п ХТ3 (F-MO) Ш=600 В=200","Комплект",null,6922.11,null,8306.5319999999992]
["R5PKIB3H621164P","Комплект внутренний гор-ой уст-ки 4п NSX630 (F,F-MO,P) Ш=600 В=250","Комплект",null,4779.87,null,5735.8440000000001]
["R5PKEB3H62116","Комплект внешний гор-ой уст-ки 3п NSX630 (F,F-MO,P) Ш=600 В=200","Комплект",null,5940.57,null,7128.6839999999993]
["R5PKEB3H615164P","Комплект внешний гор-ой уст-ки 4п NSX630 (W) Ш=600 В=300","Комплект",null,9449.19,null,11339.028]
["R5PKEB6V61516","Комплект внешний верт-ой уст-ки 3п OptiMat D630 (W) Ш=600 В=350","Комплект",null,8730.5,null,10476.6]
["R5PKIB6V81516","Комплект внутренний верт-ой уст-ки 3п OptiMat D630 (W) Ш=800 В=350","Комплект",null,5977.02,null,7172.424]
["R5PKIB2V61212A","Комплект внутренний верт-ой уст-ки 3п ХТ2 (F-MO) Ш=600 В=250","Комплект",null,3830.61,null,4596.732]
["R5PKIB5V61116","Комплект внутренний верт-ой уст-ки 3п HGP630 (F) Ш=600 В=350","Комплект",null,5468.84,null,6562.6080000000002]
["R5PKIB2V81313","Комплект внутренний верт-ой уст-ки 3п ХТ3 (P) Ш=800 В=300","Комплект",null,4963.57,null,5956.2839999999997]
["R5PKIB3V81913","Комплект внутренний верт-ой уст-ки 3п NSX250 (W,W-MO) Ш=800 В=250","Комплект",null,4326.62,null,5191.9439999999995]
["R5PKIB2V617144P","Комплект внутренний верт-ой уст-ки 4п T4 (F,F-MO) Ш=600 В=250","Комплект",null,4792.68,null,5751.2160000000003]
["R5PKIB2V81113B4P","Комплект внутренний верт-ой уст-ки 4п ХТ4 (F) Ш=800 В=300","Комплект",null,5821.82,null,6986.1839999999993]
["R5PKIB3V819134P","Комплект внутренний верт-ой уст-ки 4п NSX250 (W,W-MO) Ш=800 В=250","Комплект",null,5365.16,null,6438.192]
["R5PKEB3V62213","Комплект внешний верт-ой уст-ки 3п NSX250 (F,F-MO,P,P-MO) Ш=600 В=250","Комплект",null,6424.37,null,7709.2439999999997]
["R5PKEB2V81712A","Комплект внешний верт-ой уст-ки 3п XT2 (F, F-MO) Ш=800 В=250","Комплект",null,6735.88,null,8083.0559999999996]
["R5PKEB2V61812A4P","Комплект внешний верт-ой уст-ки 4п XT2 (P, P-MO) Ш=600 В=250","Комплект",null,8342.32,null,10010.784]
["R5PKEB3V615164P","Комплект внешний верт-ой уст-ки 4п NSX630 (W) Ш=600 В=350","Комплект",null,10819.41,null,12983.291999999999]
["R5PKEB2V81813B4P","Комплект внешний верт-ой уст-ки 4п XT4 (P, P-MO) Ш=800 В=300","Комплект",null,10571.15,null,12685.38]
["R5PKEB3V41521","Комплект установки 3п NT06-16 вык. В=500 Ш=400","Комплект",null,8702.16,null,10442.591999999999]
["R5PKEB7H62213","Комплект внешний гор-ой уст-ки 3п YON MD250 (F,F-MO,P,P-MO) Ш=600 В=150","Комплект",null,5123.2,null,6147.8399999999992]
["R5PKIB6H61216","Комплект внутренний гор-ой уст-ки 3п OptiMat D630 (F-MO) Ш=600 В=200","Комплект",null,3208.17,null,3849.8040000000001]
["R5PKIB7V81416","Комплект внутренний верт-ой уст-ки 3п YON MD630 (P-MO) Ш=800 В=350","Комплект",null,5787.37,null,6944.8440000000001]
["R5PKEB2V61523","Комплект установки 3п E2.2 вык. В=600 Ш=600","Комплект",null,11835.55,null,14202.659999999998]
["R5PKEB1V61122A","Комплект уст-ки 3WT1 стац. В=600 Ш=600","Комплект",null,11172.22,null,13406.663999999999]
["R5PKEB2V1215254P","Комплект установки 4п E6.2 вык. В=600 Ш=1200","Комплект",null,19365.75,null,23238.899999999998]
["R5PKEB5V111264P","Комплект установки 4п HGN50 стац. В=600 Ш=1000","Комплект",null,17865.29,null,21438.348000000002]
["R5PKEB0625","Комплект универсальный внешней установки В=250 Ш=600","Комплект",null,7004.9,null,8405.8799999999992]
["R5SBCS2260","Разделитель вертикальный бок. отсека шин В=2200 Г=600","Комплект",null,3625.94,null,4351.1279999999997]
["R5FRC4V111254P","Комплект зонир. 4п AS-40E стац. Ш1000 В600","Комплект",null,3138.8,null,3766.56]
["R5FRC7V61522","Комплект зонир. 3п YON AD-S2 вык. В600 Ш600","Комплект",null,6615.14,null,7938.1679999999997]
["R5FRC2V61521","Комплект зонир. 3п вводной E1.2 вык. В500 Ш600","Комплект",null,6631.86,null,7958.2319999999991]
["R5FRC3V1211274P","Комплект зонир. 4п NW50-63 стац. В600 Ш1200","Комплект",null,3363.11,null,4035.732]
["R5FRC1V81525A","Комплект зонир. 3п 3WT2 вык. В600 Ш800","Комплект",null,9138.67,null,10966.404]
["R5FRC1V81125","Комплект зонир. 3п 3WL12 стац. В600 Ш800","Комплект",null,3263.81,null,3916.5719999999997]
["R5VBC8","Закрытие торцевое задних вертикальных шин Г800","Комплект",null,1273.27,null,1527.924]
["R5SBPW45","Закрытие заднее глух. Ш=400 В=500","Комплект",null,2160.71,null,2592.8519999999999]
["R5SBPW124","Закрытие заднее глух. Ш=1200 В=400","Комплект",null,3098.45,null,3718.1399999999994]
["R5KTPR44","Панель верхняя для сброса давления Ш=400 Г=400","Комплект",null,3426.57,null,4111.884]
["R5KTPR104","Панель верхняя для сброса давления Ш=1000 Г=400","Комплект",null,4836.6899999999996,null,5804.0279999999993]
["R5CPB815","Панель глух. отсека Ш=800 В=150","Комплект",null,2030.3,null,2436.3599999999997]
["R5CPB1250","Панель глух. отсека Ш=1200 В=500","Комплект",null,4387.46,null,5264.9520000000002]
["R5CPFBM411","Комплект внешних глухих компенсационных панелей Ш=400 В=100+100","Комплект",null,2634.54,null,3161.4479999999999]
["R5CPFAP633","Комплект пласт. пан. внутр. Ш=600 В=300+300","Комплект",null,10504.29,null,12605.148000000001]
["R5CPFEM8100","Панель накладная сплошная В=100 Ш=800","Комплект",null,1813.73,null,2176.4760000000001]
["R5CPFEM12400","Панель накладная сплошная В=400 Ш=1200","Комплект",null,5887.72,null,7065.2640000000001]
["R5CPL855","Панель пласт. глух. отсека Ш=800 В=550","Комплект",null,4020.45,null,4824.54]
["R5CPL1045","Панель пласт. глух. отсека Ш=1000 В=450","Комплект",null,4295.83,null,5154.9960000000001]
["R5CPMEM6250","Дверь внешняя секционная В=250 Ш=600","Комплект",null,4331.59,null,5197.9080000000004]
["R5CPMEM8700","Дверь внешняя секционная В=700 Ш=800","Комплект",null,9565.59,null,11478.708000000001]
["R5CPMEM10800","Дверь внешняя секционная В=800 Ш=1000","Комплект",null,10837.51,null,13005.012000000001]
["R5CPMEM46501CA","Дверь внешняя секционная В=650 Ш=400 RAL3000","Комплект",null,7659.18,null,9191.0159999999996]
["R5CPMEM88001CA","Дверь внешняя секционная В=800 Ш=800 RAL3000","Комплект",null,12503.77,null,15004.523999999999]
["R5RCB125","Плата монтажная релейного отсека Ш=1200 В=500","Комплект",null,2808.9,null,3370.68]
["R5SBA44","Разделитель горизонтальный релейного отсека верх. Ш=400 Г=400+","Комплект",null,1433.33,null,1719.9959999999999]
["R5SBBFD88","Разделитель горизонтальный двустор. отх. лин. Ш=800 Г=800","Комплект",null,10793.6,null,12952.32]
["R5SBT48204P","Разделитель телескопический 2ст. 4п Г=400+800 В=200","Комплект",null,2301.3200000000002,null,{"$f":"E37895*1.2","v":2761.5840000000003}]
["R5SVS350","Разделитель вертикальный сплошной В=350","Комплект",null,2132.39,null,2558.8679999999999]
["R5SVP300164P","Разделитель вертикальный префорированный 4п до 630А В=300","Комплект",null,5035.66,null,6042.7919999999995]
["R5PH20","Стойка задняя В=2000мм, 1кмп=1шт.","Комплект",null,2061.6,null,2473.9199999999996]
["R5D280","Разделитель гор. релейного отсека Ш=800","Комплект",null,3422.46,null,4106.9520000000002]
["R5SR60S","Комплект поддержки горизонтальная устаноква Ш=600 мм","Комплект",null,1125.1300000000001,null,1350.1560000000002]
["R5FPM12","Панель фасадная для надстроечного модуля (1кмп=2шт) Ш=1200","Комплект",null,7462.99,null,8955.5879999999997]
["R5IKS228","Комплект для установки ППВР Jean Muller В=2200 Г=800","Комплект",null,25094.400000000001,null,30113.279999999999]
["R5KPBH126-3200A5P","Панель верхняя под TST 3200A 5P горизонтальные выводы Ш=1200 Г600","Комплект",null,8078.13,null,9693.7559999999994]
["R5KPBV126-1600A4P","Панель верхняя под TST 1600A 4P вертикальные выводы Ш=1200 Г600","Комплект",null,8463.09,null,10155.708000000001]
["R5KPBV128-6300A4P","Панель верхняя под TST 6300A 4P вертикальные выводы Ш=1200 Г800","Комплект",null,10051.56,null,12061.871999999999]
["R5SMN66","Модуль надстроечный для CQE Ш=600 Г=600","Комплект",null,12826.47,null,{"$f":"E38151*1.2","v":15391.763999999999}]
["R5SMN126V","Модуль надстроечный вертикальный для CQE Ш=1200 Г=600","Комплект",null,19227.54,null,23073.047999999999]
["R5M2ACRR33M10","Комплект дополнительных стоек, 2-стороннее, В=33M,Г=1000","Комплект",null,2760.26,null,3312.3120000000004]
["R5M2W9M1A203","Комплект адаптера и перегородок 9M1 250/35A 4P","Комплект",null,3265.07,null,3918.0839999999998]
["R5M2W3M32B","Комплект блок 3M32","Комплект",null,10139.14,null,12166.967999999999]
["R5M2W4M32BR70","Комплект задних панелей 4M32 70-100А 4P","Комплект",null,2531.87,null,3038.2439999999997]
["R5M2W9M1BR66","Комплект задней панели 9M1 630/630А 4P","Комплект",null,2335.15,null,2802.18]
["R5M2W9M1A66","Комплект адаптера и перегородок 9M1 630/630A 4P","Комплект",null,3492.76,null,4191.3119999999999]
["R5M2W3M1BF-L","Фронтальная дверь-панель блок 3M1, Front lock","Комплект",null,4150.9399999999996,null,4981.1279999999997]
["R5M2W9M1BP","Монтажная плата блок 9M1","Комплект",null,1379.85,null,1655.82]
[null,null,null,null,null,null,0]
["R5M2W3MRT3B","Комплект секционирования 3b 2-стороннее 3M,шин.вывод, 3P 250A","Комплект",null,6077.76,null,7293.3119999999999]
["R5M2W4MSB4","Комплект секционирования 4b 1-стороннее 4M","Комплект",null,1876.94,null,2252.328]
["R5M2WCPME9M","Дверь внешняя секционная В=9M Ш=600","Комплект",null,7408.8,null,8890.56]
["R5M2SPCC3M","Комплект опорной заглушки кабельного шкафа 1-стороннее, 3M","Комплект",null,430.3,null,516.36]
["LTC25LFLXJAA000","Гибкий поворот шинопровода, Cu, 6P, 25A","Штука",null,9730.64,null,11676.767999999998]
["LTC25MSP42AA000","Секция прямая шинопровод 1+1 точек отвода L=3000мм Cu 6P+6P 25A","Штука",null,10788.95,null,12946.74]
["LTC40LSP42AA000","Секция прямая шинопровод 1+0 точек отвода L=3000мм Cu 6P 40A","Штука",null,6800.31,null,8160.3720000000003]
["LTN70APP01AA000","Отводной блок с кабелем 800 мм (H05Z1Z1F), N/L1, 2P, 10A","Штука",null,708.84,null,850.60800000000006]
["LTN70ZFIU6AA000","Открытый крюк осв. шп","Штука",null,68.23,null,81.876000000000005]
["TDA02ADYN1AA000","Трансформатор с литой изоляцией 160 кВА 10/0,4 кВ D/Yn–11 IP00","Штука",null,1097243.6000000001,null,1316692.32]
["TDA16BDYN5BF000","Трансформатор с литой изоляцией 1600 кВА 6/0,4 кВ D/Yn-11 вентиляция виброопоры IP31","Штука",null,3922764,null,4707316.8]
["TDA04BDYN1AI000","Трансформатор с литой изоляцией 400 кВА 6/0,4 кВ D/Yn–11 IP00 виброопоры","Штука",null,1571607.5,null,1885929]
["TDA06BDYN1AI000","Трансформатор с литой изоляцией 630 кВА 6/0,4 кВ D/Yn–11 IP00 виброопоры","Штука",null,2017154.9,null,2420585.88]
["TDA10ADYN1AI000","Трансформатор с литой изоляцией 1000 кВА 10/0,4 кВ D/Yn–11 IP00 виброопоры","Штука",null,2462702.2999999998,null,2955242.76]
["TDA32BDYN1AI000","Трансформатор с литой изоляцией 3150 кВА 6/0,4 кВ D/Yn–11 IP00 виброопоры","Штука",null,5791544,null,6949852.7999999998]
["TDA16ADYN1AB000","Трансформатор с литой изоляцией 1600 кВА 10/0,4 кВ D/Yn–11 IP31","Штука",null,3711488,null,4453785.5999999996]
["062385D7B22202113","Воздушный автоматический выключатель YON AD-630-S2-3P-85-D-MR7.0-B-C2202-M2-P01-S1-03","Штука",null,311401,null,373681.2]
["062385D8B22200213","Воздушный автоматический выключатель YON AD-630-S2-3P-85-D-MR8.0-B-C2200-M2-P02-S1-03","Штука",null,306691,null,368029.2]
["062385D8B22202315","Воздушный автоматический выключатель YON AD-630-S2-3P-85-D-MR8.0-B-C2202-M2-P03-S1-05","Штука",null,326576,null,391891.20000000001]
["062385F8B22202213","Воздушный автоматический выключатель YON AD-630-S2-3P-85-F-MR8.0-B-C2202-M2-P02-S1-03","Штука",null,256611,null,307933.2]
["082385D7B22200315","Воздушный автоматический выключатель YON AD-800-S2-3P-85-D-MR7.0-B-C2200-M2-P03-S1-05","Штука",null,300958,null,361149.6]
["082385D7F22200113","Воздушный автоматический выключатель YON AD-800-S2-3P-85-D-MR7.0-F-C2200-M2-P01-S1-03","Штука",null,404533,null,485439.6]
["082385D8F22200115","Воздушный автоматический выключатель YON AD-800-S2-3P-85-D-MR8.0-F-C2200-M2-P01-S1-05","Штука",null,417316,null,500779.19999999995]
["082385F8B22200216","Воздушный автоматический выключатель YON AD-800-S2-3P-85-F-MR8.0-B-C2200-M2-P02-S1-06","Штука",null,246308,null,295569.59999999998]
["102385D7B23300117","Воздушный автоматический выключатель YON AD-1000-S2-3P-85-D-MR7.0-B-C3300-M2-P01-S1-07","Штука",null,304934,null,365920.8]
["102385D8B22200213","Воздушный автоматический выключатель YON AD-1000-S2-3P-85-D-MR8.0-B-C2200-M2-P02-S1-03","Штука",null,309405,null,371286]
["102385D8B22220315","Воздушный автоматический выключатель YON AD-1000-S2-3P-85-D-MR8.0-B-C2220-M2-P03-S1-05","Штука",null,321054,null,385264.8]
["102385F8B22202013","Воздушный автоматический выключатель YON AD-1000-S2-3P-85-F-MR8.0-B-C2202-M2-P00-S1-03","Штука",null,259198,null,311037.59999999998]
["122385D7B22200015","Воздушный автоматический выключатель YON AD-1250-S2-3P-85-D-MR7.0-B-C2200-M2-P00-S1-05","Штука",null,301144,null,361372.8]
["122385D7B22202015","Воздушный автоматический выключатель YON AD-1250-S2-3P-85-D-MR7.0-B-C2202-M2-P00-S1-05","Штука",null,317311,null,380773.2]
["122385D8B22200313","Воздушный автоматический выключатель YON AD-1250-S2-3P-85-D-MR8.0-B-C2200-M2-P03-S1-03","Штука",null,313349,null,376018.8]
["122385F8B11100016","Воздушный автоматический выключатель YON AD-1250-S2-3P-85-F-MR8.0-B-C1100-M1-P00-S1-06","Штука",null,249120,null,298944]
["162385D7B02200113","Воздушный автоматический выключатель YON AD-1600-S2-3P-85-D-MR7.0-B-C2200-M0-P01-S1-03","Штука",null,281072,null,337286.39999999997]
["162385D7F02200013","Воздушный автоматический выключатель YON AD-1600-S2-3P-85-D-MR7.0-F-C2200-M0-P00-S1-03","Штука",null,383302,null,459962.39999999997]
["162385D8B02200113","Воздушный автоматический выключатель YON AD-1600-S2-3P-85-D-MR8.0-B-C2200-M0-P01-S1-03","Штука",null,292192,null,350630.39999999997]
["162385D8B22202013","Воздушный автоматический выключатель YON AD-1600-S2-3P-85-D-MR8.0-B-C2202-M2-P00-S1-03","Штука",null,328835,null,394602]
["162385F8B11102010","Воздушный автоматический выключатель YON AD-1600-S2-3P-85-F-MR8.0-B-C1102-M1-P00-S1-00","Штука",null,249571,null,299485.2]
["162385F8F02200013","Воздушный автоматический выключатель YON AD-1600-S2-3P-85-F-MR8.0-F-C2200-M0-P00-S1-03","Штука",null,350609,null,420730.8]
["202385D7B22200215","Воздушный автоматический выключатель YON AD-2000-S2-3P-85-D-MR7.0-B-C2200-M2-P02-S1-05","Штука",null,328876,null,394651.2]
["202385D8F02200113","Воздушный автоматический выключатель YON AD-2000-S2-3P-85-D-MR8.0-F-C2200-M0-P01-S1-03","Штука",null,414821,null,497785.19999999995]
["202385F8B02200013","Воздушный автоматический выключатель YON AD-2000-S2-3P-85-F-MR8.0-B-C2200-M0-P00-S1-03","Штука",null,245460,null,294552]
["2543100D7B00000011","Воздушный автоматический выключатель YON AD-2500-S4-3P-100-D-MR7.0-B-C0000-M0-P00-S1-01","Штука",null,369384,null,443260.8]
["2543100D7B22200015","Воздушный автоматический выключатель YON AD-2500-S4-3P-100-D-MR7.0-B-C2200-M2-P00-S1-05","Штука",null,394675,null,473610]
["2543100D8B02200313","Воздушный автоматический выключатель YON AD-2500-S4-3P-100-D-MR8.0-B-C2200-M0-P03-S1-03","Штука",null,390535,null,468642]
["2543100D9B22200317","Воздушный автоматический выключатель YON AD-2500-S4-3P-100-D-MR8.1-B-C2200-M2-P03-S1-07","Штука",null,417958,null,501549.6]
["2543100F7B22200213","Воздушный автоматический выключатель YON AD-2500-S4-3P-100-F-MR7.0-B-C2200-M2-P02-S1-03","Штука",null,290700,null,348840]
["2544100D0B22202312","Воздушный автоматический выключатель YON AD-2500-S4-4P-100-D-MR0-B-C2202-M2-P03-S1-02","Штука",null,714478,null,857373.6]
["3243100D7B22200315","Воздушный автоматический выключатель YON AD-3200-S4-3P-100-D-MR7.0-B-C2200-M2-P03-S1-05","Штука",null,425048,null,510057.6]
["3243100F7B02200213","Воздушный автоматический выключатель YON AD-3200-S4-3P-100-F-MR7.0-B-C2200-M0-P02-S1-03","Штука",null,286862,null,344234.39999999997]
["4043100D7B02200116","Воздушный автоматический выключатель YON AD-4000-S4-3P-100-D-MR7.0-B-C2200-M0-P01-S1-06","Штука",null,474628,null,569553.6]
["4043100D7B22200313","Воздушный автоматический выключатель YON AD-4000-S4-3P-100-D-MR7.0-B-C2200-M2-P03-S1-03","Штука",null,502801,null,603361.19999999995]
["4043100D8B22200116","Воздушный автоматический выключатель YON AD-4000-S4-3P-100-D-MR8.0-B-C2200-M2-P01-S1-06","Штука",null,516077,null,619292.4]
["4043100F9B22200216","Воздушный автоматический выключатель YON AD-4000-S4-3P-100-F-MR8.1-B-C2200-M2-P02-S1-06","Штука",null,398066,null,477679.19999999995]
["AG-S4-D","Рамка передней панели выдвижного YON AD S4 2500-4000","Штука",null,3757,null,4508.3999999999996]
["MDE100L063","Авт. выкл. YON MDE100L063 3P 63А 10kA","Штука",null,3227,null,3872.3999999999996]
["MD160N-MR1","Авт. выкл. YON MD160N-MR1 3P 160А 40kA Ir 0.4…1xIn Isd 1.5…10xIn","Штука",null,22978,null,27573.599999999999]
["MD250N-TM080","Авт. выкл. YON MD250N-TM080 3P 80А 40kA Ir 0.7…1xIn","Штука",null,11414,null,13696.8]
["MO-MD1600","Привод двигательный YON MD1000...1600-230AC","Штука",null,32863,null,39435.599999999999]
["SHT-MD1600-230","Расцепитель независимый YON MD1000...1600-220DC/230AC","Штука",null,4444,null,5332.8]
["TDM-MD250","Комплект для втычного присоединения YON MD100...250 63-250А","Штука",null,10845,null,13014]
["MD125-4ND100","Авт. выкл. модульный YON MD125 3P+N 100А D 15kA","Штука",null,15941,null,19129.2]
["MD63-1B16-6","Авт. выкл. модульный YON MD63 1P 16А B 6kA","Штука",null,281,null,337.2]
["MD63-1C1-10","Авт. выкл. модульный YON MD63 1P 1А C 10kA","Штука",null,1148,null,1377.6]
["MD63-1D10-10","Авт. выкл. модульный YON MD63 1P 10А D 10kA","Штука",null,796,null,955.19999999999993]
["MD63-1NB13-10","Авт. выкл. модульный YON MD63-1NB13-10","Штука",null,3020,null,3624]
["MD63-1NB63-6","Авт. выкл. модульный YON MD63-1NB63-6","Штука",null,1114,null,1336.8]
["MD63-1NC16-10","Авт. выкл. модульный YON MD63-1NC16-10","Штука",null,1600,null,1920]
["MD63-1ND1-6","Авт. выкл. модульный YON MD63-1ND1-6","Штука",null,1118,null,1341.6]
["MD63-2B10-6","Авт. выкл. модульный YON MD63 2P 10А B 6kA","Штука",null,696,null,835.19999999999993]
["MD63-2B25-10","Авт. выкл. модульный YON MD63 2P 25А B 10kA","Штука",null,1991,null,2389.1999999999998]
["MD63-2C13-6","Авт. выкл. модульный YON MD63 2P 13А C 6kA","Штука",null,944,null,1132.8]
["MD63-2D25-10","Авт. выкл. модульный YON MD63 2P 25А D 10kA","Штука",null,2076,null,2491.1999999999998]
["MD63-3B1-6","Авт. выкл. модульный YON MD63 3P 1А B 6kA","Штука",null,1922,null,2306.4]
["MD63-3C10-10","Авт. выкл. модульный YON MD63 3P 10А C 10kA","Штука",null,2348,null,2817.6]
["MD63-3C20-6","Авт. выкл. модульный YON MD63 3P 20А C 6kA","Штука",null,997,null,1196.3999999999999]
["MD63-3D20-6","Авт. выкл. модульный YON MD63 3P 20А D 6kA","Штука",null,1226,null,1471.2]
["MD63-3NB16-6","Авт. выкл. модульный YON MD63-3NB16-6","Штука",null,1697,null,2036.3999999999999]
["MD63-3NB32-10","Авт. выкл. модульный YON MD63-3NB32-10","Штука",null,5159,null,6190.8]
["MD63-3NC2-6","Авт. выкл. модульный YON MD63-3NC2-6","Штука",null,1630,null,1956]
["MD63-3NC8-10","Авт. выкл. модульный YON MD63-3NC8-10","Штука",null,4421,null,5305.2]
["MD63-4B16-10","Авт. выкл. модульный YON MD63 4P 16А B 10kA","Штука",null,4411,null,5293.2]
["MD63-4C16-6","Авт. выкл. модульный YON MD63 4P 16А C 6kA","Штука",null,1379,null,1654.8]
["MD63-4C32-10","Авт. выкл. модульный YON MD63 4P 32А C 10kA","Штука",null,4374,null,5248.8]
["MD63-4D5-10","Авт. выкл. модульный YON MD63 4P 5А D 10kA","Штука",null,5441,null,6529.2]
["MD63-MCK1","Вспомогательный контакт YON MD63-МСК1 1-пер. конт.","Штука",null,987,null,1184.3999999999999]
["MDR63-24C16-A","АВДТ YON MDR63 1P+N 16A C 300mA 6kA тип A","Штука",null,2824,null,3388.7999999999997]
["MDV63-21C25-A","АВДТ YON MDV63 1P+N 25A C 10mA 6kA тип A","Штука",null,3191,null,3829.2]
["MDV63-42C10-A","АВДТ YON MDV63 3P+N 10A C 30mA 6kA тип A","Штука",null,5340,null,6408]
["EX-E2SPR05","Комплект монтажных профилей на стойку для крепления 2 оболочки(ек) с видом защиты Ex e горячеоцинкованный, длина 500 мм","Штука",null,4330.8999999999996,null,5197.079999999999]
["EX-D4TR1005U","Обжимной комплект монтажных профилей тип 1, обхват конструкции габаритами 950 на 400 мм, для крепления 4 оболочки(ек) одноготипоразмера с видом защиты Ex d, горячеоцинкованный","Штука",null,12086.44,null,14503.728000000001]
["EX-E2TRB040510","Обжимной комплект монтажных профилей тип 3 , крепление к двум стойкам, размерами 350 на 440 мм , длина  профиля 1000 мм , длякрепления 2 оболочки(ек) одного типоразмера с видом защиты Ex  e, горячеоцинкованный","Штука",null,10706.88,null,12848.255999999999]
["EX-FPR08","Комплект монтажных профилей на раму для крепления 1 оболочки с видом защиты Ex e, горячеоцинкованный, длина 800мм","Штука",null,6813.78,null,8176.5359999999991]
["EX-TRF040508U","Обжимной комплект монтажных профилей тип 2 , обхват конструкции габаритами 350 на 400 мм , высота подвесной рамы-профиля 800 мм ,для крепления 1 оболочки(ек) одного типоразмера с видом защиты Ex  d, горячеоцинкованный","Штука",null,8872.24,null,10646.688]
["EX6052-25","Взрывозащищенная защитная втулка Ex e, M25x1,5. Никелированная латунь. IP66/67","Штука",null,496.37,null,{"$f":"E40637*1.2","v":595.64400000000001}]
["EXD6050-G02SB","Взрывозащищенная заглушка Ex d e, GAS 2\". Никелированная латунь. IP66/67/68","Штука",null,3330.27,null,3996.3239999999996]
["EXD6050-M90SX","Взрывозащищенная заглушка Ex d e, М90x2. Нержавеющая сталь AISI316L. IP66/67/68","Штука",null,7929.7,null,9515.64]
["2201.121.19.03N","Ex пост управления из алюминия: 1Ex d e IIC T6 Gb X / Ex tb IIIB T80°C Db X / IP66: Кнопка Зеленая, 1NC/1NO -1 шт: Кнопкакрасная,1NC/1NO - 1 шт.: С: ввод D5,5-13мм под бронированный кабель Ni -2 шт.","Штука",null,24406.19,null,29287.427999999996]
["2361.1804.622.04","Взрывозащищенная насадка. Надпись на черном фоне:\"I-0-II\". Положение фиксирующего паза 0°.","Штука",null,3508.44,null,4210.1279999999997]
["2366.127.301","Взрывозащищенный контактный блок. кнопка с индикацией. 20-250V. 1NC","Штука",null,10177.4,null,12212.88]
["6018AASGKGM7SX","Взрывозащищенный кабельный ввод AAS под бронированный кабель, одно уплотнение M63х1,5 D36-45мм. Нержавеющая сталь AISI316L. IP66/68","Штука",null,20045.25,null,24054.3]
["6018ANSBKGM2SX","Взрывозащищенный кабельный ввод ANS под небронированный кабель M20х1,5 D5,5-13мм. Нержавеющая сталь AISI316L. IP66/68","Штука",null,4467.3999999999996,null,5360.8799999999992]
["6018ANP32DKM4SX","Взрывозащищенный кабельный ввод ANP под небронированный кабель в металлорукаве M32х1,5 D15-24мм, Dn26мм. Нержавеющая стальAISI316L. IP66/68","Штука",null,11999.09,null,14398.907999999999]
["6018ANP50GKM7SB","Взрывозащищенный кабельный ввод ANP под небронированный кабель в металлорукаве M63х1,5 D36-45мм, Dn50мм. Никелированная латунь.IP66/68","Штука",null,7168.13,null,8601.7559999999994]
["EX6014-50A","Взрывозащищенная Ex e муфта металлорукав-коробка. DN50 мм. M50х1,5.Никелированная латунь. IP66/67","Штука",null,6815.91,null,8179.0919999999996]
["EX6015-50","Взрывозащищенная Ex e муфта металлорукав-коробка. 50 мм. M50 х1,5Никелированная латунь. IP66/67","Штука",null,10915.93,null,{"$f":"E40893*1.2","v":13099.116}]
["EX6112-63XX","Взрывозащищенная Ex e муфта труба-коробка с внутренней резьбой. DT 63 мм. M63x1,5. Нержавеющая сталь AISI 316L. IP66/67","Штука",null,18517.48,null,22220.975999999999]
["EX6112-A16","Взрывозащищенная Ex e муфта труба-коробка с внутренней резьбой. DT 16 мм. M16x1,5. Никелированная латунь. IP66/67","Штука",null,867.92,null,1041.5039999999999]
["EX6117XX4035","Взрывозащищенная Ex e муфта жесткая труба-металлорукав. DT 40 мм. DN35. Нержавеющая сталь AISI316L. IP66/67","Штука",null,23485.14,null,28182.167999999998]
["EXDR-M25M50SB","Взрывозащищенный Ex d e переходник. Тип В. \"наруж.резьб\" М25х1,5 - \"внутр.резьб\" M50х1,5. Никелированная латунь. IP66/67/68","Штука",null,3547.75,null,4257.3]
[null,null,null,null,null,null,0]
[null,null,null,null,null,null,0]
[null,null,null,null,null,null,0]
[null,null,null,null,null,null,0]
[null,null,null,null,null,null,0]
[null,null,null,null,null,null,0]
[null,null,null,null,null,null,0]
[null,null,null,null,null,null,0]
[null,null,null,null,null,null,0]
[null,null,null,null,null,null,0]
[null,null,null,null,null,null,0]
[null,null,null,null,null,null,0]
[null,null,null,null,null,null,0]
[null,null,null,null,null,null,0]
[null,null,null,null,null,null,0]
[null,null,null,null,null,null,0]
[null,null,null,null,null,null,0]
[null,null,null,null,null,null,0]
[null,null,null,null,null,null,0]
[null,null,null,null,null,null,0]
[null,null,null,null,null,null,0]
[null,null,null,null,null,null,0]
[null,null,null,null,null,null,0]
[null,null,null,null,null,null,0]
[null,null,null,null,null,null,0]
[null,null,null,null,null,null,0]
[null,null,null,null,null,null,0]
[null,null,null,null,null,null,0]
[null,null,null,null,null,null,0]
[null,null,null,null,null,null,0]
[null,null,null,null,null,null,0]
[null,null,null,null,null,null,0]
[null,null,null,null,null,null,0]
[null,null,null,null,null,null,0]
[null,null,null,null,null,null,0]
[null,null,null,null,null,null,0]
[null,null,null,null,null,null,0]
[null,null,null,null,null,null,0]
[null,null,null,null,null,null,0]
[null,null,null,null,null,null,0]
[null,null,null,null,null,null,0]
[null,null,null,null,null,null,0]
[null,null,null,null,null,null,0]
[null,null,null,null,null,null,0]
[null,null,null,null,null,null,0]
[null,null,null,null,null,null,0]
[null,null,null,null,null,null,0]
[null,null,null,null,null,null,0]
[null,null,null,null,null,null,0]
[null,null,null,null,null,null,0]
[null,null,null,null,null,null,0]
[null,null,null,null,null,null,0]
[null,null,null,null,null,null,0]
[null,null,null,null,null,null,0]
[null,null,null,null,null,null,0]
[null,null,null,null,null,null,0]
[null,null,null,null,null,null,0]
[null,null,null,null,null,null,0]
[null,null,null,null,null,null,0]
[null,null,null,null,null,null,0]
[null,null,null,null,null,null,0]
[null,null,null,null,null,null,0]
[null,null,null,null,null,null,0]
[null,null,null,null,null,null,0]
[null,null,null,null,null,null,0]
[null,null,null,null,null,null,0]
[null,null,null,null,null,null,0]
[null,null,null,null,null,null,0]
[null,null,null,null,null,null,0]
[null,null,null,null,null,null,0]
[null,null,null,null,null,null,0]
[null,null,null,null,null,null,0]
[null,null,null,null,null,null,0]
[null,null,null,null,null,null,0]
[null,null,null,null,null,null,0]
[null,null,null,null,null,null,0]
[null,null,null,null,null,null,0]
[null,null,null,null,null,null,0]
[null,null,null,null,null,null,0]
[null,null,null,null,null,null,0]
[null,null,null,null,null,null,0]
[null,null,null,null,null,null,0]
[null,null,null,null,null,null,0]
[null,null,null,null,null,null,0]
[null,null,null,null,null,null,0]
[null,null,null,null,null,null,0]
[null,null,null,null,null,null,0]
[null,null,null,null,null,null,0]
[null,null,null,null,null,null,0]
[null,null,null,null,null,null,0]
[null,null,null,null,null,null,0]
[null,null,null,null,null,null,0]
[null,null,null,null,null,null,0]
[null,null,null,null,null,null,0]
[null,null,null,null,null,null,0]
[null,null,null,null,null,null,0]
[null,null,null,null,null,null,0]
[null,null,null,null,null,null,0]
[null,null,null,null,null,null,0]
[null,null,null,null,null,null,0]
[null,null,null,null,null,null,0]
[null,null,null,null,null,null,0]
[null,null,null,null,null,null,0]
[null,null,null,null,null,null,0]
[null,null,null,null,null,null,0]
[null,null,null,null,null,null,0]
[null,null,null,null,null,null,0]
[null,null,null,null,null,null,0]
[null,null,null,null,null,null,0]
[null,null,null,null,null,null,0]
[null,null,null,null,null,null,0]
[null,null,null,null,null,null,0]
[null,null,null,null,null,null,0]
[null,null,null,null,null,null,0]
[null,null,null,null,null,null,0]
[null,null,null,null,null,null,0]
[null,null,null,null,null,null,0]
[null,null,null,null,null,null,0]
[null,null,null,null,null,null,0]
[null,null,null,null,null,null,0]
[null,null,null,null,null,null,0]
[null,null,null,null,null,null,0]
[null,null,null,null,null,null,0]
[null,null,null,null,null,null,0]
[null,null,null,null,null,null,0]
[null,null,null,null,null,null,0]
[null,null,null,null,null,null,0]
[null,null,null,null,null,null,0]
[null,null,null,null,null,null,0]
[null,null,null,null,null,null,0]
[null,null,null,null,null,null,0]
[null,null,null,null,null,null,0]
[null,null,null,null,null,null,0]
[null,null,null,null,null,null,{"$f":"E44157*1.2","v":0}]
[null,null,null,null,null,null,0]
[null,null,null,null,null,null,0]
[null,null,null,null,null,null,0]
[null,null,null,null,null,null,0]
[null,null,null,null,null,null,0]
[null,null,null,null,null,null,0]
[null,null,null,null,null,null,0]
[null,null,null,null,null,null,0]
[null,null,null,null,null,null,0]
[null,null,null,null,null,null,0]
[null,null,null,null,null,null,0]
[null,null,null,null,null,null,0]
[null,null,null,null,null,null,0]
[null,null,null,null,null,null,0]
[null,null,null,null,null,null,0]
[null,null,null,null,null,null,0]
[null,null,null,null,null,null,0]
[null,null,null,null,null,null,0]
[null,null,null,null,null,null,0]
[null,null,null,null,null,null,0]
[null,null,null,null,null,null,0]
[null,null,null,null,null,null,0]
[null,null,null,null,null,null,0]
[null,null,null,null,null,null,0]
[null,null,null,null,null,null,0]
[null,null,null,null,null,null,0]
[null,null,null,null,null,null,0]
[null,null,null,null,null,null,0]
[null,null,null,null,null,null,0]
[null,null,null,null,null,null,0]
[null,null,null,null,null,null,0]
[null,null,null,null,null,null,0]
[null,null,null,null,null,null,0]
[null,null,null,null,null,null,0]
[null,null,null,null,null,null,0]
[null,null,null,null,null,null,0]
[null,null,null,null,null,null,0]
[null,null,null,null,null,null,{"$f":"E45065*1.2","v":0}]
[null,null,null,null,null,null,0]
[null,null,null,null,null,null,0]
[null,null,null,null,null,null,0]
[null,null,null,null,null,null,0]
[null,null,null,null,null,null,0]
[null,null,null,null,null,null,0]
[null,null,null,null,null,null,0]
[null,null,null,null,null,null,0]
[null,null,null,null,null,null,0]
[null,null,null,null,null,null,0]
[null,null,null,null,null,null,0]
[null,null,null,null,null,null,0]
[null,null,null,null,null,null,0]
[null,null,null,null,null,null,0]
[null,null,null,null,null,null,0]
[null,null,null,null,null,null,0]
[null,null,null,null,null,null,0]
[null,null,null,null,null,null,0]
[null,null,null,null,null,null,0]
[null,null,null,null,null,null,0]
[null,null,null,null,null,null,0]
[null,null,null,null,null,null,0]
[null,null,null,null,null,null,0]
[null,null,null,null,null,null,0]
[null,null,null,null,null,null,0]
[null,null,null,null,null,null,0]
[null,null,null,null,null,null,0]
[null,null,null,null,null,null,0]
[null,null,null,null,null,null,0]
[null,null,null,null,null,null,0]
[null,null,null,null,null,null,0]
[null,null,null,null,null,null,0]
[null,null,null,null,null,null,0]
[null,null,null,null,null,null,0]
[null,null,null,null,null,null,0]
[null,null,null,null,null,null,0]
[null,null,null,null,null,null,0]
[null,null,null,null,null,null,0]
[null,null,null,null,null,null,0]
[null,null,null,null,null,null,0]
[null,null,null,null,null,null,0]
[null,null,null,null,null,null,0]
[null,null,null,null,null,null,0]
[null,null,null,null,null,null,0]
[null,null,null,null,null,null,0]
[null,null,null,null,null,null,0]
[null,null,null,null,null,null,0]
[null,null,null,null,null,null,0]
[null,null,null,null,null,null,0]
[null,null,null,null,null,null,0]
[null,null,null,null,null,null,0]
[null,null,null,null,null,null,0]
[null,null,null,null,null,null,0]
[null,null,null,null,null,null,0]
[null,null,null,null,null,null,0]
[null,null,null,null,null,null,0]
[null,null,null,null,null,null,0]
[null,null,null,null,null,null,0]
[null,null,null,null,null,null,0]
[null,null,null,null,null,null,0]
[null,null,null,null,null,null,0]
[null,null,null,null,null,null,0]
[null,null,null,null,null,null,0]
[null,null,null,null,null,null,0]
[null,null,null,null,null,null,0]
[null,null,null,null,null,null,0]
[null,null,null,null,null,null,0]
[null,null,null,null,null,null,0]
[null,null,null,null,null,null,0]
[null,null,null,null,null,null,0]
[null,null,null,null,null,null,0]
[null,null,null,null,null,null,0]
[null,null,null,null,null,null,0]
[null,null,null,null,null,null,0]
[null,null,null,null,null,null,0]
[null,null,null,null,null,null,0]
[null,null,null,null,null,null,0]
[null,null,null,null,null,null,0]
[null,null,null,null,null,null,0]
[null,null,null,null,null,null,0]
[null,null,null,null,null,null,0]
[null,null,null,null,null,null,0]
[null,null,null,null,null,null,0]
[null,null,null,null,null,null,0]
[null,null,null,null,null,null,0]
[null,null,null,null,null,null,0]
[null,null,null,null,null,null,0]
[null,null,null,null,null,null,0]
[null,null,null,null,null,null,0]
[null,null,null,null,null,null,0]
[null,null,null,null,null,null,0]
[null,null,null,null,null,null,0]
[null,null,null,null,null,null,0]
[null,null,null,null,null,null,0]
[null,null,null,null,null,null,0]
[null,null,null,null,null,null,0]
[null,null,null,null,null,null,0]
[null,null,null,null,null,null,0]
[null,null,null,null,null,null,0]
[null,null,null,null,null,null,0]
[null,null,null,null,null,null,0]
[null,null,null,null,null,null,0]
[null,null,null,null,null,null,0]
[null,null,null,null,null,null,0]
[null,null,null,null,null,null,0]
[null,null,null,null,null,null,0]
[null,null,null,null,null,null,0]
[null,null,null,null,null,null,0]
[null,null,null,null,null,null,0]
[null,null,null,null,null,null,0]
[null,null,null,null,null,null,0]
[null,null,null,null,null,null,0]
[null,null,null,null,null,null,0]
[null,null,null,null,null,null,0]
[null,null,null,null,null,null,0]
[null,null,null,null,null,null,0]
[null,null,null,null,null,null,0]
[null,null,null,null,null,null,0]
[null,null,null,null,null,null,0]
[null,null,null,null,null,null,0]
[null,null,null,null,null,null,0]
[null,null,null,null,null,null,0]
[null,null,null,null,null,null,0]
[null,null,null,null,null,null,0]
[null,null,null,null,null,null,0]
[null,null,null,null,null,null,0]
[null,null,null,null,null,null,0]
[null,null,null,null,null,null,0]
[null,null,null,null,null,null,0]
[null,null,null,null,null,null,0]
[null,null,null,null,null,null,0]
[null,null,null,null,null,null,0]
[null,null,null,null,null,null,0]
[null,null,null,null,null,null,0]
[null,null,null,null,null,null,0]
[null,null,null,null,null,null,0]
[null,null,null,null,null,null,0]
[null,null,null,null,null,null,0]
[null,null,null,null,null,null,0]
[null,null,null,null,null,null,0]
[null,null,null,null,null,null,0]
[null,null,null,null,null,null,0]
[null,null,null,null,null,null,0]
[null,null,null,null,null,null,0]
[null,null,null,null,null,null,0]
[null,null,null,null,null,null,0]
[null,null,null,null,null,null,0]
[null,null,null,null,null,null,0]
[null,null,null,null,null,null,0]
[null,null,null,null,null,null,0]
[null,null,null,null,null,null,0]
[null,null,null,null,null,null,0]
[null,null,null,null,null,null,0]
[null,null,null,null,null,null,0]
[null,null,null,null,null,null,0]
[null,null,null,null,null,null,0]
[null,null,null,null,null,null,0]
[null,null,null,null,null,null,0]
[null,null,null,null,null,null,0]
[null,null,null,null,null,null,0]
[null,null,null,null,null,null,0]
[null,null,null,null,null,null,0]
[null,null,null,null,null,null,0]
[null,null,null,null,null,null,0]
[null,null,null,null,null,null,0]
[null,null,null,null,null,null,0]
[null,null,null,null,null,null,0]
[null,null,null,null,null,null,0]
[null,null,null,null,null,null,0]
[null,null,null,null,null,null,0]
[null,null,null,null,null,null,0]
[null,null,null,null,null,null,0]
[null,null,null,null,null,null,0]
[null,null,null,null,null,null,0]
[null,null,null,null,null,null,0]
[null,null,null,null,null,null,0]
[null,null,null,null,null,null,0]
[null,null,null,null,null,null,0]
[null,null,null,null,null,null,0]
[null,null,null,null,null,null,0]
[null,null,null,null,null,null,0]
[null,null,null,null,null,null,0]
[null,null,null,null,null,null,0]
[null,null,null,null,null,null,0]
[null,null,null,null,null,null,0]
[null,null,null,null,null,null,0]
[null,null,null,null,null,null,0]
[null,null,null,null,null,null,0]
[null,null,null,null,null,null,0]
[null,null,null,null,null,null,0]
[null,null,null,null,null,null,0]
[null,null,null,null,null,null,0]
[null,null,null,null,null,null,0]
[null,null,null,null,null,null,0]
[null,null,null,null,null,null,0]
[null,null,null,null,null,null,0]
[null,null,null,null,null,null,0]
[null,null,null,null,null,null,0]
[null,null,null,null,null,null,0]
[null,null,null,null,null,null,0]
[null,null,null,null,null,null,0]
[null,null,null,null,null,null,0]
[null,null,null,null,null,null,0]
[null,null,null,null,null,null,0]
[null,null,null,null,null,null,0]
[null,null,null,null,null,null,0]
[null,null,null,null,null,null,0]
[null,null,null,null,null,null,0]
[null,null,null,null,null,null,0]
[null,null,null,null,null,null,0]
[null,null,null,null,null,null,0]
[null,null,null,null,null,null,0]
[null,null,null,null,null,null,0]
[null,null,null,null,null,null,0]
[null,null,null,null,null,null,0]
[null,null,null,null,null,null,0]
[null,null,null,null,null,null,0]
[null,null,null,null,null,null,0]
[null,null,null,null,null,null,0]
[null,null,null,null,null,null,0]
[null,null,null,null,null,null,0]
[null,null,null,null,null,null,0]
[null,null,null,null,null,null,0]
[null,null,null,null,null,null,0]
[null,null,null,null,null,null,0]
[null,null,null,null,null,null,0]
[null,null,null,null,null,null,0]
[null,null,null,null,null,null,0]
[null,null,null,null,null,null,0]
[null,null,null,null,null,null,0]
[null,null,null,null,null,null,{"$f":"E49545*1.2","v":0}]
[null,null,null,null,null,null,0]
[null,null,null,null,null,null,0]
[null,null,null,null,null,null,0]
[null,null,null,null,null,null,0]
[null,null,null,null,null,null,0]
[null,null,null,null,null,null,0]
[null,null,null,null,null,null,0]
[null,null,null,null,null,null,0]
[null,null,null,null,null,null,0]
[null,null,null,null,null,null,0]
[null,null,null,null,null,null,0]
[null,null,null,null,null,null,0]
[null,null,null,null,null,null,0]
[null,null,null,null,null,null,0]
[null,null,null,null,null,null,0]
[null,null,null,null,null,null,0]
[null,null,null,null,null,null,0]
[null,null,null,null,null,null,0]
[null,null,null,null,null,null,0]
[null,null,null,null,null,null,0]
[null,null,null,null,null,null,0]
[null,null,null,null,null,null,0]
[null,null,null,null,null,null,0]
[null,null,null,null,null,null,0]
[null,null,null,null,null,null,0]
[null,null,null,null,null,null,0]
[null,null,null,null,null,null,0]
[null,null,null,null,null,null,0]
[null,null,null,null,null,null,0]
[null,null,null,null,null,null,0]
[null,null,null,null,null,null,0]
[null,null,null,null,null,null,0]
[null,null,null,null,null,null,0]
[null,null,null,null,null,null,0]
[null,null,null,null,null,null,0]
[null,null,null,null,null,null,0]
[null,null,null,null,null,null,0]
[null,null,null,null,null,null,0]
[null,null,null,null,null,null,0]
[null,null,null,null,null,null,0]
[null,null,null,null,null,null,0]
[null,null,null,null,null,null,0]
[null,null,null,null,null,null,0]
[null,null,null,null,null,null,0]
[null,null,null,null,null,null,0]
[null,null,null,null,null,null,0]
[null,null,null,null,null,null,0]
[null,null,null,null,null,null,0]
[null,null,null,null,null,null,0]
[null,null,null,null,null,null,0]
[null,null,null,null,null,null,0]
[null,null,null,null,null,null,0]
[null,null,null,null,null,null,0]
[null,null,null,null,null,null,0]
[null,null,null,null,null,null,0]
[null,null,null,null,null,null,0]
[null,null,null,null,null,null,0]
[null,null,null,null,null,null,0]
[null,null,null,null,null,null,0]
[null,null,null,null,null,null,0]
[null,null,null,null,null,null,0]
[null,null,null,null,null,null,0]
[null,null,null,null,null,null,0]
[null,null,null,null,null,null,{"$f":"E49609*1.2","v":0}]
[null,null,null,null,null,null,0]
[null,null,null,null,null,null,0]
[null,null,null,null,null,null,0]
[null,null,null,null,null,null,0]
[null,null,null,null,null,null,0]
[null,null,null,null,null,null,0]
[null,null,null,null,null,null,0]
[null,null,null,null,null,null,0]
[null,null,null,null,null,null,0]
[null,null,null,null,null,null,0]
[null,null,null,null,null,null,0]
[null,null,null,null,null,null,0]
[null,null,null,null,null,null,0]
[null,null,null,null,null,null,0]
[null,null,null,null,null,null,0]
[null,null,null,null,null,null,0]
[null,null,null,null,null,null,0]
[null,null,null,null,null,null,0]
[null,null,null,null,null,null,0]
[null,null,null,null,null,null,0]
[null,null,null,null,null,null,0]
[null,null,null,null,null,null,0]
[null,null,null,null,null,null,0]
[null,null,null,null,null,null,0]
[null,null,null,null,null,null,0]
[null,null,null,null,null,null,0]
[null,null,null,null,null,null,0]
[null,null,null,null,null,null,0]
[null,null,null,null,null,null,0]
[null,null,null,null,null,null,0]
[null,null,null,null,null,null,0]
[null,null,null,null,null,null,0]
[null,null,null,null,null,null,0]
[null,null,null,null,null,null,0]
[null,null,null,null,null,null,0]
[null,null,null,null,null,null,0]
[null,null,null,null,null,null,0]
[null,null,null,null,null,null,0]
[null,null,null,null,null,null,0]
[null,null,null,null,null,null,0]
[null,null,null,null,null,null,0]
[null,null,null,null,null,null,0]
[null,null,null,null,null,null,0]
[null,null,null,null,null,null,0]
[null,null,null,null,null,null,0]
[null,null,null,null,null,null,0]
[null,null,null,null,null,null,0]
[null,null,null,null,null,null,0]
[null,null,null,null,null,null,0]
[null,null,null,null,null,null,0]
[null,null,null,null,null,null,0]
[null,null,null,null,null,null,0]
[null,null,null,null,null,null,0]
[null,null,null,null,null,null,0]
[null,null,null,null,null,null,0]
[null,null,null,null,null,null,0]
[null,null,null,null,null,null,0]
[null,null,null,null,null,null,0]
[null,null,null,null,null,null,0]
[null,null,null,null,null,null,0]
[null,null,null,null,null,null,0]
[null,null,null,null,null,null,0]
[null,null,null,null,null,null,0]
[null,null,null,null,null,null,{"$f":"E49673*1.2","v":0}]
[null,null,null,null,null,null,0]
[null,null,null,null,null,null,0]
[null,null,null,null,null,null,0]
[null,null,null,null,null,null,0]
[null,null,null,null,null,null,0]
[null,null,null,null,null,null,0]
[null,null,null,null,null,null,0]
[null,null,null,null,null,null,0]
[null,null,null,null,null,null,0]
[null,null,null,null,null,null,0]
[null,null,null,null,null,null,0]
[null,null,null,null,null,null,0]
[null,null,null,null,null,null,0]
[null,null,null,null,null,null,0]
[null,null,null,null,null,null,0]
[null,null,null,null,null,null,0]
[null,null,null,null,null,null,0]
[null,null,null,null,null,null,0]
[null,null,null,null,null,null,0]
[null,null,null,null,null,null,0]
[null,null,null,null,null,null,0]
[null,null,null,null,null,null,0]
[null,null,null,null,null,null,0]
[null,null,null,null,null,null,0]
[null,null,null,null,null,null,0]
[null,null,null,null,null,null,0]
[null,null,null,null,null,null,0]
[null,null,null,null,null,null,0]
[null,null,null,null,null,null,0]
[null,null,null,null,null,null,0]
[null,null,null,null,null,null,0]
[null,null,null,null,null,null,0]
[null,null,null,null,null,null,0]
[null,null,null,null,null,null,0]
[null,null,null,null,null,null,0]
[null,null,null,null,null,null,0]
[null,null,null,null,null,null,0]
[null,null,null,null,null,null,0]
[null,null,null,null,null,null,0]
[null,null,null,null,null,null,0]
[null,null,null,null,null,null,0]
[null,null,null,null,null,null,0]
[null,null,null,null,null,null,0]
[null,null,null,null,null,null,0]
[null,null,null,null,null,null,0]
[null,null,null,null,null,null,0]
[null,null,null,null,null,null,0]
[null,null,null,null,null,null,0]
[null,null,null,null,null,null,0]
[null,null,null,null,null,null,0]
[null,null,null,null,null,null,0]
[null,null,null,null,null,null,0]
[null,null,null,null,null,null,0]
[null,null,null,null,null,null,0]
[null,null,null,null,null,null,0]
[null,null,null,null,null,null,0]
[null,null,null,null,null,null,0]
[null,null,null,null,null,null,0]
[null,null,null,null,null,null,0]
[null,null,null,null,null,null,0]
[null,null,null,null,null,null,0]
[null,null,null,null,null,null,0]
[null,null,null,null,null,null,0]
[null,null,null,null,null,null,{"$f":"E49737*1.2","v":0}]
[null,null,null,null,null,null,0]
[null,null,null,null,null,null,0]
[null,null,null,null,null,null,0]
[null,null,null,null,null,null,0]
[null,null,null,null,null,null,0]
[null,null,null,null,null,null,0]
[null,null,null,null,null,null,0]
[null,null,null,null,null,null,0]
[null,null,null,null,null,null,0]
[null,null,null,null,null,null,0]
[null,null,null,null,null,null,0]
[null,null,null,null,null,null,0]
[null,null,null,null,null,null,0]
[null,null,null,null,null,null,0]
[null,null,null,null,null,null,0]
[null,null,null,null,null,null,0]
[null,null,null,null,null,null,0]
[null,null,null,null,null,null,0]
[null,null,null,null,null,null,0]
[null,null,null,null,null,null,0]
[null,null,null,null,null,null,0]
[null,null,null,null,null,null,0]
[null,null,null,null,null,null,0]
[null,null,null,null,null,null,0]
[null,null,null,null,null,null,0]
[null,null,null,null,null,null,0]
[null,null,null,null,null,null,0]
[null,null,null,null,null,null,0]
[null,null,null,null,null,null,0]
[null,null,null,null,null,null,0]
[null,null,null,null,null,null,0]
[null,null,null,null,null,null,0]
[null,null,null,null,null,null,0]
[null,null,null,null,null,null,0]
[null,null,null,null,null,null,0]
[null,null,null,null,null,null,0]
[null,null,null,null,null,null,0]
[null,null,null,null,null,null,0]
[null,null,null,null,null,null,0]
[null,null,null,null,null,null,0]
[null,null,null,null,null,null,0]
[null,null,null,null,null,null,0]
[null,null,null,null,null,null,0]
[null,null,null,null,null,null,0]
[null,null,null,null,null,null,0]
[null,null,null,null,null,null,0]
[null,null,null,null,null,null,0]
[null,null,null,null,null,null,0]
[null,null,null,null,null,null,0]
[null,null,null,null,null,null,0]
[null,null,null,null,null,null,0]
[null,null,null,null,null,null,0]
[null,null,null,null,null,null,0]
[null,null,null,null,null,null,0]
[null,null,null,null,null,null,0]
[null,null,null,null,null,null,0]
[null,null,null,null,null,null,0]
[null,null,null,null,null,null,0]
[null,null,null,null,null,null,0]
[null,null,null,null,null,null,0]
[null,null,null,null,null,null,0]
[null,null,null,null,null,null,0]
[null,null,null,null,null,null,0]
[null,null,null,null,null,null,{"$f":"E49801*1.2","v":0}]
[null,null,null,null,null,null,0]
[null,null,null,null,null,null,0]
[null,null,null,null,null,null,0]
[null,null,null,null,null,null,0]
[null,null,null,null,null,null,0]
[null,null,null,null,null,null,0]
[null,null,null,null,null,null,0]
[null,null,null,null,null,null,0]
[null,null,null,null,null,null,0]
[null,null,null,null,null,null,0]
[null,null,null,null,null,null,0]
[null,null,null,null,null,null,0]
[null,null,null,null,null,null,0]
[null,null,null,null,null,null,0]
[null,null,null,null,null,null,0]
[null,null,null,null,null,null,0]
[null,null,null,null,null,null,0]
[null,null,null,null,null,null,0]
[null,null,null,null,null,null,0]
[null,null,null,null,null,null,0]
[null,null,null,null,null,null,0]
[null,null,null,null,null,null,0]
[null,null,null,null,null,null,0]
[null,null,null,null,null,null,0]
[null,null,null,null,null,null,0]
[null,null,null,null,null,null,0]
[null,null,null,null,null,null,0]
[null,null,null,null,null,null,0]
[null,null,null,null,null,null,0]
[null,null,null,null,null,null,0]
[null,null,null,null,null,null,0]
[null,null,null,null,null,null,0]
[null,null,null,null,null,null,0]
[null,null,null,null,null,null,0]
[null,null,null,null,null,null,0]
[null,null,null,null,null,null,0]
[null,null,null,null,null,null,0]
[null,null,null,null,null,null,0]
[null,null,null,null,null,null,0]
[null,null,null,null,null,null,0]
[null,null,null,null,null,null,0]
[null,null,null,null,null,null,0]
[null,null,null,null,null,null,0]
[null,null,null,null,null,null,0]
[null,null,null,null,null,null,0]
[null,null,null,null,null,null,0]
[null,null,null,null,null,null,0]
[null,null,null,null,null,null,0]
[null,null,null,null,null,null,0]
[null,null,null,null,null,null,0]
[null,null,null,null,null,null,0]
[null,null,null,null,null,null,0]
[null,null,null,null,null,null,0]
[null,null,null,null,null,null,0]
[null,null,null,null,null,null,0]
[null,null,null,null,null,null,0]
[null,null,null,null,null,null,0]
[null,null,null,null,null,null,0]
[null,null,null,null,null,null,0]
[null,null,null,null,null,null,0]
[null,null,null,null,null,null,0]
[null,null,null,null,null,null,0]
[null,null,null,null,null,null,0]
[null,null,null,null,null,null,{"$f":"E49865*1.2","v":0}]
[null,null,null,null,null,null,0]
[null,null,null,null,null,null,0]
[null,null,null,null,null,null,0]
[null,null,null,null,null,null,0]
[null,null,null,null,null,null,0]
[null,null,null,null,null,null,0]
[null,null,null,null,null,null,0]
[null,null,null,null,null,null,0]
[null,null,null,null,null,null,0]
[null,null,null,null,null,null,0]
[null,null,null,null,null,null,0]
[null,null,null,null,null,null,0]
[null,null,null,null,null,null,0]
[null,null,null,null,null,null,0]
[null,null,null,null,null,null,0]
[null,null,null,null,null,null,0]
[null,null,null,null,null,null,0]
[null,null,null,null,null,null,0]
[null,null,null,null,null,null,0]
[null,null,null,null,null,null,0]
[null,null,null,null,null,null,0]
[null,null,null,null,null,null,0]
[null,null,null,null,null,null,0]
[null,null,null,null,null,null,0]
[null,null,null,null,null,null,0]
[null,null,null,null,null,null,0]
[null,null,null,null,null,null,0]
[null,null,null,null,null,null,0]
[null,null,null,null,null,null,0]
[null,null,null,null,null,null,0]
[null,null,null,null,null,null,0]
[null,null,null,null,null,null,0]
[null,null,null,null,null,null,0]
[null,null,null,null,null,null,0]
[null,null,null,null,null,null,0]
[null,null,null,null,null,null,0]
[null,null,null,null,null,null,0]
[null,null,null,null,null,null,0]
[null,null,null,null,null,null,0]
[null,null,null,null,null,null,0]
[null,null,null,null,null,null,0]
[null,null,null,null,null,null,0]
[null,null,null,null,null,null,0]
[null,null,null,null,null,null,0]
[null,null,null,null,null,null,0]
[null,null,null,null,null,null,0]
[null,null,null,null,null,null,0]
[null,null,null,null,null,null,0]
[null,null,null,null,null,null,0]
[null,null,null,null,null,null,0]
[null,null,null,null,null,null,0]
[null,null,null,null,null,null,0]
[null,null,null,null,null,null,0]
[null,null,null,null,null,null,0]
[null,null,null,null,null,null,0]
[null,null,null,null,null,null,0]
[null,null,null,null,null,null,0]
[null,null,null,null,null,null,0]
[null,null,null,null,null,null,0]
[null,null,null,null,null,null,0]
[null,null,null,null,null,null,0]
[null,null,null,null,null,null,0]
[null,null,null,null,null,null,0]
[null,null,null,null,null,null,{"$f":"E49929*1.2","v":0}]
[null,null,null,null,null,null,0]
[null,null,null,null,null,null,0]
[null,null,null,null,null,null,0]
[null,null,null,null,null,null,0]
[null,null,null,null,null,null,0]
[null,null,null,null,null,null,0]
[null,null,null,null,null,null,0]
[null,null,null,null,null,null,0]
[null,null,null,null,null,null,0]
[null,null,null,null,null,null,0]
[null,null,null,null,null,null,0]
[null,null,null,null,null,null,0]
[null,null,null,null,null,null,0]
[null,null,null,null,null,null,0]
[null,null,null,null,null,null,0]
[null,null,null,null,null,null,0]
[null,null,null,null,null,null,0]
[null,null,null,null,null,null,0]
[null,null,null,null,null,null,0]
[null,null,null,null,null,null,0]
[null,null,null,null,null,null,0]
[null,null,null,null,null,null,0]
[null,null,null,null,null,null,0]
[null,null,null,null,null,null,0]
[null,null,null,null,null,null,0]
[null,null,null,null,null,null,0]
[null,null,null,null,null,null,0]
[null,null,null,null,null,null,0]
[null,null,null,null,null,null,0]
[null,null,null,null,null,null,0]
[null,null,null,null,null,null,0]
[null,null,null,null,null,null,0]
[null,null,null,null,null,null,0]
[null,null,null,null,null,null,0]
[null,null,null,null,null,null,0]
[null,null,null,null,null,null,0]
[null,null,null,null,null,null,0]
[null,null,null,null,null,null,0]
[null,null,null,null,null,null,0]
[null,null,null,null,null,null,0]
[null,null,null,null,null,null,0]
[null,null,null,null,null,null,0]
[null,null,null,null,null,null,0]
[null,null,null,null,null,null,0]
[null,null,null,null,null,null,0]
[null,null,null,null,null,null,0]
[null,null,null,null,null,null,0]
[null,null,null,null,null,null,0]
[null,null,null,null,null,null,0]
[null,null,null,null,null,null,0]
[null,null,null,null,null,null,0]
[null,null,null,null,null,null,0]
[null,null,null,null,null,null,0]
[null,null,null,null,null,null,0]
[null,null,null,null,null,null,0]
[null,null,null,null,null,null,0]
[null,null,null,null,null,null,0]
[null,null,null,null,null,null,0]
[null,null,null,null,null,null,0]
[null,null,null,null,null,null,0]
[null,null,null,null,null,null,0]
[null,null,null,null,null,null,0]
[null,null,null,null,null,null,0]
[null,null,null,null,null,null,{"$f":"E49993*1.2","v":0}]
[null,null,null,null,null,null,0]
[null,null,null,null,null,null,0]
[null,null,null,null,null,null,0]
[null,null,null,null,null,null,0]
[null,null,null,null,null,null,0]
[null,null,null,null,null,null,0]
[null,null,null,null,null,null,0]

{"sheet":"Data_base","index":2,"n_rows":195,"n_cols":84,"rows_kept":195,"cut":false,"hidden":true,"merged":[[1,19,1,24],[16,1,17,2],[16,4,17,5],[16,7,17,8],[16,10,17,11],[16,13,17,14],[16,16,17,17],[16,19,17,20],[16,22,17,23],[1,1,1,2],[1,4,1,5],[1,7,1,8],[1,10,1,11],[1,13,1,14],[1,16,1,17],[16,25,17,26],[16,28,17,40],[18,28,18,40],[42,1,43,2],[42,4,43,5],[42,7,43,8],[42,10,43,11],[42,13,43,14],[42,16,43,17],[42,19,43,20],[42,22,43,23],[42,25,43,26],[42,28,43,29],[42,31,43,43],[44,31,44,43],[67,34,68,35],[67,37,68,38],[67,40,68,61],[69,40,69,61],[67,1,68,2],[67,4,68,5],[67,7,68,8],[67,10,68,11],[67,13,68,14],[97,28,98,29],[97,31,98,32],[97,34,98,35],[67,28,68,29],[67,31,68,32],[97,37,98,38],[134,1,135,2],[134,4,135,5],[134,7,135,8],[134,10,135,11],[134,13,135,14],[97,16,98,17],[67,16,68,17],[67,19,68,20],[67,22,68,23],[67,25,68,26],[97,1,98,2],[97,4,98,5],[97,7,98,8],[97,10,98,11],[97,13,98,14],[97,19,98,20],[97,22,98,23],[97,25,98,26],[160,68,160,71],[160,72,160,75],[160,76,160,79],[160,80,160,83],[160,67,161,67],[159,1,160,2],[159,4,160,5],[159,10,160,11],[159,7,160,8],[159,13,160,14],[161,46,161,48],[181,46,182,62],[183,46,183,62],[159,22,160,23],[159,25,160,26],[159,16,160,17],[159,19,160,20],[181,37,182,38],[181,40,182,41],[181,43,182,44],[181,22,182,23],[181,25,182,26],[181,28,182,29],[181,31,182,32],[181,34,182,35],[134,16,135,17],[134,19,135,20],[134,22,135,23],[134,25,135,26],[134,28,135,29],[159,46,160,48],[134,46,135,47],[134,31,135,32],[134,34,135,35],[134,37,135,38],[134,40,135,41],[134,43,135,44],[97,61,98,77],[99,61,99,77],[97,43,98,59],[99,43,99,59],[134,67,135,83],[97,40,98,41],[136,67,136,83],[134,49,135,65],[136,49,136,65]]}
[]
[null,"Кол-во полюсов",null,null,"Высота шины",null,null,"Кол-во / толщина",null,null,"Межфазное расстояние",null,null,"Вариант крепления",null,null,"Количество",null,null,"Таблица выбранных шинодержателей RAM Bus"]
[]
[null,"1p","4p",null,"30мм","60мм",null,"1х5мм","2х10мм",null,"50мм","100мм",null,"Рейки","Рейки",null,1,2,null,"Кол-во полюсов","Высота шины","Кол-во / толщина","Межфазное расстояние","Вариант крепления","Количество"]
[null,"2p",null,null,"40мм",null,null,"2х5мм",null,null,"75мм",null,null,"Подвес/рейка",null,null,2,null,null,"4p","60мм","2х10мм","100мм","Рейки",2]
[null,"3p",null,null,"50мм",null,null,"3х5мм",null,null,"100мм",null,null,null,null,null,3]
[null,"4p",null,null,"60мм",null,null,"1х10мм",null,null,"125мм",null,null,null,null,null,4]
[null,null,null,null,"80мм",null,null,"2х10мм",null,null,"150мм",null,null,null,null,null,5]
[null,null,null,null,"100мм",null,null,"3х10мм",null,null,null,null,null,null,null,null,6]
[null,null,null,null,"120мм",null,null,null,null,null,null,null,null,null,null,null,7]
[null,null,null,null,null,null,null,null,null,null,null,null,null,null,null,null,8]
[null,null,null,null,null,null,null,null,null,null,null,null,null,null,null,null,9]
[null,null,null,null,null,null,null,null,null,null,null,null,null,null,null,null,10]
[]
[]
[]
[null,"Тип MCB",null,null,"Число полюсов",null,null,"Отключающая хар-ка",null,null,"Отключающая способность",null,null,"Номинальный ток",null,null,"Независимый расцепитель",null,null,"Дополнительный контакт",null,null,"Дополнительный контакт",null,null,"Количество",null,null,"Таблица выбранных аппратов"]
[]
[]
[null,"MD63P",null,null,"1p","3p",null,"B","C",null,"6kA","6kA",null,"1A","10A",null,"Нет","-",null,"Нет","-",null,"Нет","-",null,1,1,null,"Тип MCB"]
[null,"MD63",null,null,"2p",null,null,"C",null,null,"10kA",null,null,"2A",null,null,"НР230",null,null,"МСК1",null,null,"МССК2",null,null,2,null,null,"Число полюсов"]
[null,"MD125",null,null,"3p",null,null,"D",null,null,"15kA",null,null,"3A",null,null,"НР24",null,null,"МСК2",null,null,"МСК1",null,null,3,null,null,"Отключающая хар-ка"]
[null,null,null,null,"4p",null,null,null,null,null,"20kA",null,null,"4A",null,null,null,null,null,null,null,null,"МСК2",null,null,4,null,null,"Отключающая способность"]
[null,null,null,null,"1p",null,null,null,null,null,null,null,null,"5A",null,null,null,null,null,null,null,null,null,null,null,5,null,null,"Номинальный ток"]
[null,null,null,null,"1p+N",null,null,null,null,null,null,null,null,"6A",null,null,null,null,null,null,null,null,null,null,null,6,null,null,"Количество"]
[null,null,null,null,"2p",null,null,null,null,null,null,null,null,"8A",null,null,null,null,null,null,null,null,null,null,null,7,null,null,"Наименование"]
[null,null,null,null,"3p",null,null,null,null,null,null,null,null,"10A",null,null,null,null,null,null,null,null,null,null,null,8,null,null,"Количество"]
[null,null,null,null,"3p+N",null,null,null,null,null,null,null,null,"13A",null,null,null,null,null,null,null,null,null,null,null,9]
[null,null,null,null,null,null,null,null,null,null,null,null,null,"16A",null,null,null,null,null,null,null,null,null,null,null,10]
[null,null,null,null,null,null,null,null,null,null,null,null,null,"20A",null,null,null,null,null,null,null,null,null,null,null,11]
[null,null,null,null,null,null,null,null,null,null,null,null,null,"25A",null,null,null,null,null,null,null,null,null,null,null,12]
[null,null,null,null,null,null,null,null,null,null,null,null,null,"32A",null,null,null,null,null,null,null,null,null,null,null,13]
[null,null,null,null,null,null,null,null,null,null,null,null,null,"40A",null,null,null,null,null,null,null,null,null,null,null,14]
[null,null,null,null,null,null,null,null,null,null,null,null,null,"50A",null,null,null,null,null,null,null,null,null,null,null,15]
[null,null,null,null,null,null,null,null,null,null,null,null,null,"63A",null,null,null,null,null,null,null,null,null,null,null,16]
[null,null,null,null,null,null,null,null,null,null,null,null,null,"80A",null,null,null,null,null,null,null,null,null,null,null,17]
[null,null,null,null,null,null,null,null,null,null,null,null,null,"100A",null,null,null,null,null,null,null,null,null,null,null,18]
[null,null,null,null,null,null,null,null,null,null,null,null,null,"125A",null,null,null,null,null,null,null,null,null,null,null,19]
[null,null,null,null,null,null,null,null,null,null,null,null,null,"40A",null,null,null,null,null,null,null,null,null,null,null,20]
[null,null,null,null,null,null,null,null,null,null,null,null,null,"63A"]
[]
[]
[null,"Тип RCCB",null,null,"Число полюсов",null,null,"Отключающая хар-ка",null,null,"Отключающая способность",null,null,"Дифференциальный ток",null,null,"Номинальный ток",null,null,"Независимый расцепитель",null,null,"Дополнительный контакт",null,null,"Дополнительный контакт",null,null,"Количество",null,null,"Таблица выбранных аппратов"]
[]
[]
[null,"MDR63",null,null,"1p+N","3p+N",null,"B","C",null,"6kA","6kA",null,"10mA","30mA",null,"6A","32A",null,"Нет",null,null,"Нет",null,null,"Нет",null,null,1,1,null,"Тип RCCB"]
[null,"MDV63",null,null,"3p+N",null,null,"C",null,null,"10kA",null,null,"30mA",null,null,"10A",null,null,"НР230",null,null,"МСК1",null,null,"МССК2",null,null,2,null,null,"Число полюсов"]
[null,null,null,null,null,null,null,"D",null,null,null,null,null,"100mA",null,null,"16A",null,null,"НР24",null,null,"МСК2",null,null,"МСК1",null,null,3,null,null,"Отключающая хар-ка"]
[null,null,null,null,null,null,null,null,null,null,null,null,null,"300mA",null,null,"20A",null,null,null,null,null,null,null,null,"МСК2",null,null,4,null,null,"Отключающая способность"]
[null,null,null,null,null,null,null,null,null,null,null,null,null,null,null,null,"25A",null,null,null,null,null,null,null,null,null,null,null,5,null,null,"Дифференциальный ток"]
[null,null,null,null,null,null,null,null,null,null,null,null,null,null,null,null,"32A",null,null,null,null,null,null,null,null,null,null,null,6,null,null,"Номинальный ток"]
[null,null,null,null,null,null,null,null,null,null,null,null,null,null,null,null,"40A",null,null,null,null,null,null,null,null,null,null,null,7,null,null,"Количество"]
[null,null,null,null,null,null,null,null,null,null,null,null,null,null,null,null,"50A",null,null,null,null,null,null,null,null,null,null,null,8,null,null,"Наименование"]
[null,null,null,null,null,null,null,null,null,null,null,null,null,null,null,null,"63A",null,null,null,null,null,null,null,null,null,null,null,9,null,null,"Количество"]
[null,null,null,null,null,null,null,null,null,null,null,null,null,null,null,null,"10A",null,null,null,null,null,null,null,null,null,null,null,10]
[null,null,null,null,null,null,null,null,null,null,null,null,null,null,null,null,"25A",null,null,null,null,null,null,null,null,null,null,null,11]
[null,null,null,null,null,null,null,null,null,null,null,null,null,null,null,null,"32A",null,null,null,null,null,null,null,null,null,null,null,12]
[null,null,null,null,null,null,null,null,null,null,null,null,null,null,null,null,"40A",null,null,null,null,null,null,null,null,null,null,null,13]
[null,null,null,null,null,null,null,null,null,null,null,null,null,null,null,null,"50A",null,null,null,null,null,null,null,null,null,null,null,14]
[null,null,null,null,null,null,null,null,null,null,null,null,null,null,null,null,"63A",null,null,null,null,null,null,null,null,null,null,null,15]
[null,null,null,null,null,null,null,null,null,null,null,null,null,null,null,null,null,null,null,null,null,null,null,null,null,null,null,null,16]
[null,null,null,null,null,null,null,null,null,null,null,null,null,null,null,null,null,null,null,null,null,null,null,null,null,null,null,null,17]
[null,null,null,null,null,null,null,null,null,null,null,null,null,null,null,null,null,null,null,null,null,null,null,null,null,null,null,null,18]
[null,null,null,null,null,null,null,null,null,null,null,null,null,null,null,null,null,null,null,null,null,null,null,null,null,null,null,null,19]
[null,null,null,null,null,null,null,null,null,null,null,null,null,null,null,null,null,null,null,null,null,null,null,null,null,null,null,null,20]
[null,null,1,null,null,2,null,null,3,null,null,4,null,null,5,null,null,6,null,null,7,null,null,8,null,null,9,null,null,10,null,null,11,null,null,12,null,null,13]
[]
[null,"Тип MCCB",null,null,"Номинальный ток",null,null,"Отключающая способность",null,null,"Левый слот",null,null,"Правый слот",null,null,"Верхние выводы",null,null,"Нижние выводы",null,null,"Перегородки",null,null,"Клеммная крышка",null,null,"Выносная рукоятка",null,null,"Устр-во блокировки",null,null,"Адаптер DIN-рейки",null,null,"Количество",null,null,"Таблица выбранных аппратов"]
[]
[]
[null,"MDE100",null,null,"16A","200A",null,"10kA","40kA",null,"Нет","Нет",null,"Нет","НР 230АС",null,"Стандартные","Стандартные",null,"Стандартные","Стандартные",null,"Нет","Да",null,"Нет","-",null,"Нет","Нет",null,"Нет","Нет",null,"Нет","Да",null,1,1,null,"Тип MCCB"]
[null,"MDE250",null,null,"20A",null,null,"20kA",null,null,"Доп. к-т",null,null,"Доп. к-т",null,null,"Зажимы 16…50А",null,null,"Зажимы 16…50А",null,null,"Да",null,null,"Да",null,null,"Да",null,null,"Да",null,null,"Да",null,null,2,null,null,"Номинальный ток"]
[null,null,null,null,"25A",null,null,"18kA",null,null,"К-т сиг-ции",null,null,"НР 12АС/DC",null,null,"Зажимы 63…100А",null,null,"Зажимы 63…100А",null,null,null,null,null,null,null,null,null,null,null,null,null,null,null,null,null,3,null,null,"Отключающая способность"]
[null,null,null,null,"32A",null,null,"25kA",null,null,"К-т сиг-ции комб.",null,null,"НР 24АС/DC",null,null,"Расш-ли 16…50А",null,null,"Расш-ли 16…50А",null,null,null,null,null,null,null,null,null,null,null,null,null,null,null,null,null,4,null,null,"Количество"]
[null,null,null,null,"40A",null,null,"40kA",null,null,"НР 12АС/DC",null,null,"НР 48АС/DC",null,null,"Расш-ли 63…100А",null,null,"Расш-ли 63…100А",null,null,null,null,null,null,null,null,null,null,null,null,null,null,null,null,null,5,null,null,"Наименование"]
[null,null,null,null,"50A",null,null,"6kA",null,null,"НР 24АС/DC",null,null,"НР 110АС",null,null,"Стандартные",null,null,"Стандартные",null,null,null,null,null,null,null,null,null,null,null,null,null,null,null,null,null,6,null,null,"Количество"]
[null,null,null,null,"63A",null,null,"8kA",null,null,"НР 48АС/DC",null,null,"НР 230АС",null,null,"Зажимы 63…100А",null,null,"Зажимы 63…100А",null,null,null,null,null,null,null,null,null,null,null,null,null,null,null,null,null,7,null,null,"Наименование"]
[null,null,null,null,"80A",null,null,"10kA",null,null,"НР 110АС",null,null,"НР 400АС",null,null,"Расш-ли 63…100А",null,null,"Расш-ли 63…100А",null,null,null,null,null,null,null,null,null,null,null,null,null,null,null,null,null,8,null,null,"Количество"]
[null,null,null,null,"100A",null,null,"15kA",null,null,"НР 230АС",null,null,null,null,null,"Стандартные",null,null,"Стандартные",null,null,null,null,null,null,null,null,null,null,null,null,null,null,null,null,null,9]
[null,null,null,null,"125A",null,null,null,null,null,"НР 400АС",null,null,null,null,null,"Зажимы 250А",null,null,"Зажимы 250А",null,null,null,null,null,null,null,null,null,null,null,null,null,null,null,null,null,10]
[null,null,null,null,"160A",null,null,null,null,null,null,null,null,null,null,null,"Расш-ли 250А",null,null,"Расш-ли 250А",null,null,null,null,null,null,null,null,null,null,null,null,null,null,null,null,null,11]
[null,null,null,null,"200A",null,null,null,null,null,null,null,null,null,null,null,null,null,null,null,null,null,null,null,null,null,null,null,null,null,null,null,null,null,null,null,null,12]
[null,null,null,null,"250A",null,null,null,null,null,null,null,null,null,null,null,null,null,null,null,null,null,null,null,null,null,null,null,null,null,null,null,null,null,null,null,null,13]
[null,null,null,null,null,null,null,null,null,null,null,null,null,null,null,null,null,null,null,null,null,null,null,null,null,null,null,null,null,null,null,null,null,null,null,null,null,14]
[null,null,null,null,null,null,null,null,null,null,null,null,null,null,null,null,null,null,null,null,null,null,null,null,null,null,null,null,null,null,null,null,null,null,null,null,null,15]
[null,null,null,null,null,null,null,null,null,null,null,null,null,null,null,null,null,null,null,null,null,null,null,null,null,null,null,null,null,null,null,null,null,null,null,null,null,16]
[null,null,null,null,null,null,null,null,null,null,null,null,null,null,null,null,null,null,null,null,null,null,null,null,null,null,null,null,null,null,null,null,null,null,null,null,null,17]
[null,null,null,null,null,null,null,null,null,null,null,null,null,null,null,null,null,null,null,null,null,null,null,null,null,null,null,null,null,null,null,null,null,null,null,null,null,18]
[null,null,null,null,null,null,null,null,null,null,null,null,null,null,null,null,null,null,null,null,null,null,null,null,null,null,null,null,null,null,null,null,null,null,null,null,null,19]
[null,null,null,null,null,null,null,null,null,null,null,null,null,null,null,null,null,null,null,null,null,null,null,null,null,null,null,null,null,null,null,null,null,null,null,null,null,20]
[]
[]
[]
[]
[]
[null,null,1,null,null,2,null,null,3,null,null,4,null,null,5,null,null,6,null,null,7,null,null,8,null,null,9,null,null,10,null,null,11,null,null,12,null,null,13,null,null,14]
[]
[null,"Тип расцепителя",null,null,"Тип MCCB",null,null,"Номинальный ток",null,null,"Отключающая способность",null,null,"Исполнение АВ",null,null,"Тип привода",null,null,"Вспом. контакты",null,null,"Сигн. контакты",null,null,"Расцепитель",null,null,"Верхние выводы",null,null,"Нижние выводы",null,null,"Клеммная крышка",null,null,"Устр-во блокировки",null,null,"Количество",null,null,"Таблица выбранных аппратов",null,null,null,null,null,null,null,null,null,null,null,null,null,null,null,null,null,"Таблица выбранных аппратов (резервная копия)"]
[]
[]
[null,"TMD",null,null,"MD100","MD400",null,"16A","-",null,"25kA","40kA",null,"F","F",null,"Без","Без",null,"Нет","Нет",null,"Нет","Нет",null,"Нет","Нет",null,"Нет","КЗП кор.",null,"Нет","КЗП длин.",null,"Нет","Нет",null,"Нет","Нет",null,1,1,null,"Тип расцепителя",null,null,null,null,null,null,null,null,null,null,null,null,null,null,null,null,null,"Тип расцепителя"]
[null,"MR1",null,null,"MD160",null,null,"20A",null,null,"40kA",null,null,"P",null,null,"Ручной дист.",null,null,"1шт.",null,null,"1шт.",null,null,"НР 24DC/48AC",null,null,"Расш. пол.",null,null,"Расш. пол.",null,null,"Да",null,null,"Да",null,null,2,null,null,"Тип MCCB",null,null,null,null,null,null,null,null,null,null,null,null,null,null,null,null,null,"Тип MCCB"]
[null,"MR2",null,null,"MD250",null,null,"25A",null,null,"50kA",null,null,"W",null,null,"Двиг-ный 230AC",null,null,"2шт.",null,null,"2шт.",null,null,"НР 48DC/110AC",null,null,"КЗП кор.",null,null,"КЗП кор.",null,null,null,null,null,null,null,null,3,null,null,"Номинальный ток",null,null,null,null,null,null,null,null,null,null,null,null,null,null,null,null,null,"Номинальный ток"]
[null,null,null,null,"MD400",null,null,"32A",null,null,"65kA",null,null,"F",null,null,"Без",null,null,"3шт.",null,null,null,null,null,"НР 110DC/230AC",null,null,"КЗП длин.",null,null,"КЗП длин.",null,null,null,null,null,null,null,null,4,null,null,"Отключающая способность",null,null,null,null,null,null,null,null,null,null,null,null,null,null,null,null,null,"Отключающая способность"]
[null,null,null,null,"MD630",null,null,"40A",null,null,"40kA",null,null,"W",null,null,"Двиг-ный 230AC",null,null,"4шт.",null,null,null,null,null,"НР 220DC/400AC",null,null,"Нет",null,null,"Нет",null,null,null,null,null,null,null,null,5,null,null,"Количество",null,null,null,null,null,null,null,null,null,null,null,null,null,null,null,null,null,"Количество"]
[null,null,null,null,"MD1000",null,null,"50A",null,null,"65kA",null,null,null,null,null,null,null,null,null,null,null,null,null,null,"Расц. мин. напр. 230AC",null,null,"Расш. пол. кор.",null,null,"Расш. пол. кор.",null,null,null,null,null,null,null,null,6,null,null,"Наименование",null,null,null,null,null,null,null,null,null,null,null,null,null,null,null,null,null,"Наименование"]
[null,null,null,null,"MD1600",null,null,"63A",null,null,"50kA",null,null,null,null,null,null,null,null,null,null,null,null,null,null,"Нет",null,null,"Расш. пол. длин.",null,null,"Расш. пол. длин.",null,null,null,null,null,null,null,null,7,null,null,"Количество",null,null,null,null,null,null,null,null,null,null,null,null,null,null,null,null,null,"Количество"]
[null,null,null,null,"MD250",null,null,"80A",null,null,"85kA",null,null,null,null,null,null,null,null,null,null,null,null,null,null,"НР 220DC/230AC",null,null,"КЗП кор.",null,null,"КЗП кор.",null,null,null,null,null,null,null,null,8,null,null,"Наименование",null,null,null,null,null,null,null,null,null,null,null,null,null,null,null,null,null,"Наименование"]
[null,null,null,null,"MD630",null,null,"100A",null,null,null,null,null,null,null,null,null,null,null,null,null,null,null,null,null,null,null,null,"КЗП длин.",null,null,"КЗП длин.",null,null,null,null,null,null,null,null,9,null,null,"Количество",null,null,null,null,null,null,null,null,null,null,null,null,null,null,null,null,null,"Количество"]
[null,null,null,null,null,null,null,"125A",null,null,null,null,null,null,null,null,null,null,null,null,null,null,null,null,null,null,null,null,null,null,null,null,null,null,null,null,null,null,null,null,10,null,null,"Наименование",null,null,null,null,null,null,null,null,null,null,null,null,null,null,null,null,null,"Наименование"]
[null,null,null,null,null,null,null,"160A",null,null,null,null,null,null,null,null,null,null,null,null,null,null,null,null,null,null,null,null,null,null,null,null,null,null,null,null,null,null,null,null,11,null,null,"Количество",null,null,null,null,null,null,null,null,null,null,null,null,null,null,null,null,null,"Количество"]
[null,null,null,null,null,null,null,"200A",null,null,null,null,null,null,null,null,null,null,null,null,null,null,null,null,null,null,null,null,null,null,null,null,null,null,null,null,null,null,null,null,12]
[null,null,null,null,null,null,null,"250A",null,null,null,null,null,null,null,null,null,null,null,null,null,null,null,null,null,null,null,null,null,null,null,null,null,null,null,null,null,null,null,null,13]
[null,null,null,null,null,null,null,"320A",null,null,null,null,null,null,null,null,null,null,null,null,null,null,null,null,null,null,null,null,null,null,null,null,null,null,null,null,null,null,null,null,14]
[null,null,null,null,null,null,null,"400A",null,null,null,null,null,null,null,null,null,null,null,null,null,null,null,null,null,null,null,null,null,null,null,null,null,null,null,null,null,null,null,null,15]
[null,null,null,null,null,null,null,"500A",null,null,null,null,null,null,null,null,null,null,null,null,null,null,null,null,null,null,null,null,null,null,null,null,null,null,null,null,null,null,null,null,16]
[null,null,null,null,null,null,null,"630A",null,null,null,null,null,null,null,null,null,null,null,null,null,null,null,null,null,null,null,null,null,null,null,null,null,null,null,null,null,null,null,null,17]
[null,null,null,null,null,null,null,null,null,null,null,null,null,null,null,null,null,null,null,null,null,null,null,null,null,null,null,null,null,null,null,null,null,null,null,null,null,null,null,null,18]
[null,null,null,null,null,null,null,null,null,null,null,null,null,null,null,null,null,null,null,null,null,null,null,null,null,null,null,null,null,null,null,null,null,null,null,null,null,null,null,null,19]
[null,null,null,null,null,null,null,null,null,null,null,null,null,null,null,null,null,null,null,null,null,null,null,null,null,null,null,null,null,null,null,null,null,null,null,null,null,null,null,null,20]
[]
[]
[]
[]
[]
[]
[]
[]
[]
[]
[]
[]
[null,null,1,null,null,2,null,null,3,null,null,4,null,null,5,null,null,6,null,null,7,null,null,8,null,null,9,null,null,10,null,null,11,null,null,12,null,null,13,null,null,14,null,null,15,null,null,16]
[]
[null,"Номинальный ток",null,null,"Типоразмер",null,null,"Количество полюсов",null,null,"Отключающая способность",null,null,"Исполнение АВ",null,null,"Тип расцепителя",null,null,"Присоединение",null,null,"Катушка включения",null,null,"Независимый расцепитель ",null,null,"2-ой независимый расцепитель",null,null,"Расцепитель минимального напряжения",null,null,"Двигательный привод",null,null,"Вид систем защит",null,null,"Вид вспомогательных контактов сигнализации",null,null,"Вид систем дополнительной сигнализации",null,null,"Количество",null,null,"Таблица выбранных аппратов",null,null,null,null,null,null,null,null,null,null,null,null,null,null,null,null,null,"Таблица выбранных аппратов (резервная копия)"]
[]
[]
[null,"630A",null,null,"S1","S2",null,"3p","3p",null,"50kA","85kA",null,"F","F",null,"Без (MR0)","MR7.0",null,"Заднее","Переднее",null,"Нет","230В AC/ 220В DC",null,"Нет","24В DC",null,"Нет","230В AC/ 220В DC",null,"Нет","Нет",null,"Нет","230В AC/ 220В DC",null,"P00","P02",null,"S1 (6 н.о. + 6 н.з.)","S1 (6 н.о. + 6 н.з.)",null,"00","00",null,1,12,null,"Номинальный ток","","","","","","","","","","","","",null,null,null,null,null,"Номинальный ток"]
[null,"800A",null,null,"S2",null,null,"4p",null,null,"65kA",null,null,"D",null,null,"MR5.0",null,null,"Переднее",null,null,"110В AC/DC",null,null,"110В AC/DC",null,null,"110В AC/DC",null,null,"230В AC/ 220В DC",null,null,"110В AC/DC",null,null,"P02",null,null,"S2 (6 п.к.)",null,null,"03",null,null,2,null,null,"Типоразмер","","","","","","","","","","","","",null,null,null,null,null,"Типоразмер"]
[null,"1000A",null,null,"S4",null,null,null,null,null,"85kA",null,null,null,null,null,"Без (MR0)",null,null,"Комбинированное",null,null,"230В AC/ 220В DC",null,null,"230В AC/ 220В DC",null,null,"230В AC/ 220В DC",null,null,null,null,null,"230В AC/ 220В DC",null,null,"P00",null,null,null,null,null,"00",null,null,3,null,null,"Количество полюсов","","","","","","","","","","","","",null,null,null,null,null,"Количество полюсов"]
[null,"1250A",null,null,"S5",null,null,null,null,null,"100kA",null,null,null,null,null,"MR7.0",null,null,null,null,null,"24В DC",null,null,"24В DC",null,null,"24В DC",null,null,null,null,null,null,null,null,"P01",null,null,null,null,null,"01",null,null,4,null,null,"Отключающая способность","","","","","","","","","","","","",null,null,null,null,null,"Отключающая способность"]
[null,"1600A",null,null,"S6",null,null,null,null,null,"120kA",null,null,null,null,null,"MR8.0",null,null,null,null,null,null,null,null,null,null,null,null,null,null,null,null,null,null,null,null,"P02",null,null,null,null,null,"03",null,null,5,null,null,"Исполнение АВ","","","","","","","","","","","","",null,null,null,null,null,"Исполнение АВ"]
[null,"2000A",null,null,null,null,null,null,null,null,null,null,null,null,null,null,"MR8.1",null,null,null,null,null,null,null,null,null,null,null,null,null,null,null,null,null,null,null,null,"P03",null,null,null,null,null,"05",null,null,6,null,null,"Тип расцепителя","","","","","","","","","","","","",null,null,null,null,null,"Тип расцепителя"]
[null,"2500A",null,null,null,null,null,null,null,null,null,null,null,null,null,null,null,null,null,null,null,null,null,null,null,null,null,null,null,null,null,null,null,null,null,null,null,null,null,null,null,null,null,"00",null,null,7,null,null,"Присоединение","","","","","","","","","","","","",null,null,null,null,null,"Присоединение"]
[null,"3200A",null,null,null,null,null,null,null,null,null,null,null,null,null,null,null,null,null,null,null,null,null,null,null,null,null,null,null,null,null,null,null,null,null,null,null,null,null,null,null,null,null,"02",null,null,8,null,null,"Катушка включения","","","","","","","","","","","","",null,null,null,null,null,"Катушка включения"]
[null,"4000A",null,null,null,null,null,null,null,null,null,null,null,null,null,null,null,null,null,null,null,null,null,null,null,null,null,null,null,null,null,null,null,null,null,null,null,null,null,null,null,null,null,"03",null,null,9,null,null,"Независимый расцепитель ","","","","","","","","","","","","",null,null,null,null,null,"Независимый расцепитель "]
[null,"5000A",null,null,null,null,null,null,null,null,null,null,null,null,null,null,null,null,null,null,null,null,null,null,null,null,null,null,null,null,null,null,null,null,null,null,null,null,null,null,null,null,null,"06",null,null,10,null,null,"2-ой независимый расцепитель","","","","","","","","","","","","",null,null,null,null,null,"2-ой независимый расцепитель"]
[null,"6300A",null,null,null,null,null,null,null,null,null,null,null,null,null,null,null,null,null,null,null,null,null,null,null,null,null,null,null,null,null,null,null,null,null,null,null,null,null,null,null,null,null,"00",null,null,11,null,null,"Расцепитель минимального напряжения","","","","","","","","","","","","",null,null,null,null,null,"Расцепитель минимального напряжения"]
[null,null,null,null,null,null,null,null,null,null,null,null,null,null,null,null,null,null,null,null,null,null,null,null,null,null,null,null,null,null,null,null,null,null,null,null,null,null,null,null,null,null,null,"01",null,null,12,null,null,"Двигательный привод","","","","","","","","","","","","",null,null,null,null,null,"Двигательный привод"]
[null,null,null,null,null,null,null,null,null,null,null,null,null,null,null,null,null,null,null,null,null,null,null,null,null,null,null,null,null,null,null,null,null,null,null,null,null,null,null,null,null,null,null,"02",null,null,13,null,null,"Вид систем защит","","","","","","","","","","","","",null,null,null,null,null,"Вид систем защит"]
[null,null,null,null,null,null,null,null,null,null,null,null,null,null,null,null,null,null,null,null,null,null,null,null,null,null,null,null,null,null,null,null,null,null,null,null,null,null,null,null,null,null,null,"03",null,null,14,null,null,"Вид вспомогательных контактов сигнализации","","","","","","","","","","","","",null,null,null,null,null,"Вид вспомогательных контактов сигнализации"]
[null,null,null,null,null,null,null,null,null,null,null,null,null,null,null,null,null,null,null,null,null,null,null,null,null,null,null,null,null,null,null,null,null,null,null,null,null,null,null,null,null,null,null,"04",null,null,15,null,null,"Вид систем дополнительной сигнализации","","","","","","","","","","","","",null,null,null,null,null,"Вид систем дополнительной сигнализации"]
[null,null,null,null,null,null,null,null,null,null,null,null,null,null,null,null,null,null,null,null,null,null,null,null,null,null,null,null,null,null,null,null,null,null,null,null,null,null,null,null,null,null,null,"05",null,null,16,null,null,"Количество",null,null,null,null,null,null,null,null,null,null,null,null,null,null,null,null,null,"Количество"]
[null,null,null,null,null,null,null,null,null,null,null,null,null,null,null,null,null,null,null,null,null,null,null,null,null,null,null,null,null,null,null,null,null,null,null,null,null,null,null,null,null,null,null,"06",null,null,17]
[null,null,null,null,null,null,null,null,null,null,null,null,null,null,null,null,null,null,null,null,null,null,null,null,null,null,null,null,null,null,null,null,null,null,null,null,null,null,null,null,null,null,null,"07",null,null,18]
[null,null,null,null,null,null,null,null,null,null,null,null,null,null,null,null,null,null,null,null,null,null,null,null,null,null,null,null,null,null,null,null,null,null,null,null,null,null,null,null,null,null,null,null,null,null,19]
[null,null,null,null,null,null,null,null,null,null,null,null,null,null,null,null,null,null,null,null,null,null,null,null,null,null,null,null,null,null,null,null,null,null,null,null,null,null,null,null,null,null,null,null,null,null,20]
[null,null,1,null,null,2,null,null,3,null,null,4,null,null,5,null,null,6,null,null,7,null,null,8,null,null,9]
[]
[null,"Тип АВ",null,null,"Типоразмер Ввод №1/№2",null,null,"Типоразмер САВ",null,null,"Номинальный ток Ввод №1/№2",null,null,"Номинальный ток, САВ",null,null,"Исполнение АВ, Ввод №1/№2",null,null,"Исполнение АВ, САВ",null,null,"Присоединене, Ввод №1/№2",null,null,"Присоединене САВ",null,null,null,null,null,null,null,null,null,null,null,null,null,null,null,null,null,null,null,null,"Таблица выбранных аппратов ACB"]
[null,null,null,null,null,null,null,null,null,null,null,null,null,null,null,null,null,null,null,null,null,null,null,null,null,null,null,null,null,null,null,null,null,null,null,null,null,null,null,null,null,null,null,null,null,null,null,null,null,null,null,null,null,null,null,null,null,null,null,null,null,null,null,null,null,null,null,null,"MD100 - 630",null,null,null,"MD1000 - 1600",null,null,null,"AD S1",null,null,null,"AD S2 - S4"]
[null,null,null,null,null,null,null,null,null,null,null,null,null,null,null,null,null,null,null,null,null,null,null,null,null,null,null,null,null,null,null,null,null,null,null,null,null,null,null,null,null,null,null,null,null,null,null,null,null,null,null,null,null,null,null,null,null,null,null,null,null,null,null,null,null,null,null,null,"Артикул/ Наименование","Кол-во","Артикул/ Наименование","Кол-во","Артикул/ Наименование","Кол-во","Артикул/ Наименование","Кол-во","Артикул/ Наименование","Кол-во","Артикул/ Наименование","Кол-во","Артикул/ Наименование","Кол-во","Артикул/ Наименование","Кол-во"]
[null,"MCCB","ACB",null,"MD100","S4",null,"MD100","S2",null,"100A","3200A",null,"100A","2000A",null,"F","F",null,"F","D",null,"Заднее","Заднее",null,"Заднее","Заднее",null,null,null,null,null,null,null,null,null,null,null,null,null,null,null,null,null,null,null,"Номинальный ток",null,null,null,null,null,null,null,null,null,null,null,null,null,null,null,null,null,null,null,null,"Тип АВР","AFS-243",1,"AFS-233",1,"AFS-243",1,"AFS-233",1,"AFS-243",1,"AFS-233",1,"AFS-243",1,"AFS-233",1]
[null,"ACB",null,null,"MD160",null,null,"MD160",null,null,"160A",null,null,"160A",null,null,"D",null,null,"D",null,null,"Переднее",null,null,"Переднее",null,null,null,null,null,null,null,null,null,null,null,null,null,null,null,null,null,null,null,null,"Типоразмер",null,null,null,null,null,null,null,null,null,null,null,null,null,null,null,null,null,null,null,null,"FU","ZCBF423GR",8,"ZCBF423GR",8,"ZCBF423GR",8,"ZCBF423GR",8,"ZCBF423GR",8,"ZCBF423GR",8,"ZCBF423GR",8,"ZCBF423GR",8]
[null,null,null,null,"MD250",null,null,"MD250",null,null,"250A",null,null,"250A",null,null,"F",null,null,null,null,null,"Комбинированное",null,null,"Комбинированное",null,null,null,null,null,null,null,null,null,null,null,null,null,null,null,null,null,null,null,null,"Количество полюсов",null,null,null,null,null,null,null,null,null,null,null,null,null,null,null,null,null,null,null,null,null,"ZCB401GR",8,"ZCB401GR",8,"ZCB401GR",8,"ZCB401GR",8,"ZCB401GR",8,"ZCB401GR",8,"ZCB401GR",8,"ZCB401GR",8]
[null,null,null,null,"MD400",null,null,"MD400",null,null,"400A",null,null,"400A",null,null,"P",null,null,null,null,null,null,null,null,null,null,null,null,null,null,null,null,null,null,null,null,null,null,null,null,null,null,null,null,null,"Отключающая способность",null,null,null,null,null,null,null,null,null,null,null,null,null,null,null,null,null,null,null,null,null,"ZFN013ST",8,"ZFN013ST",8,"ZFN013ST",8,"ZFN013ST",8,"ZFN013ST",8,"ZFN013ST",8,"ZFN013ST",8,"ZFN013ST",8]
[null,null,null,null,"MD630",null,null,"MD630",null,null,"630A",null,null,"630A",null,null,"W",null,null,null,null,null,null,null,null,null,null,null,null,null,null,null,null,null,null,null,null,null,null,null,null,null,null,null,null,null,"Исполнение АВ",null,null,null,null,null,null,null,null,null,null,null,null,null,null,null,null,null,null,null,null,null,null,null,null,null,null,null,null,null,null,null,"ZBT003",10,null,null,"ZBT003",10]
[null,null,null,null,"MD1000",null,null,"MD1000",null,null,"1000A",null,null,"1000A",null,null,"F",null,null,null,null,null,null,null,null,null,null,null,null,null,null,null,null,null,null,null,null,null,null,null,null,null,null,null,null,null,"Тип расцепителя",null,null,null,null,null,null,null,null,null,null,null,null,null,null,null,null,null,null,null,null,"Рев.кон-ор","Мини-контактор реверсивный 9А 3NO + 1NC 230AC/DC ",1,"Мини-контактор реверсивный 9А 3NO + 1NC 230AC/DC ",1,"Мини-контактор реверсивный 9А 3NO + 1NC 230AC/DC ",1,"Мини-контактор реверсивный 9А 3NO + 1NC 230AC/DC ",1,"Мини-контактор реверсивный 9А 3NO + 1NC 230AC/DC ",1,"Мини-контактор реверсивный 9А 3NO + 1NC 230AC/DC ",1,"Мини-контактор реверсивный 9А 3NO + 1NC 230AC/DC ",1,"Мини-контактор реверсивный 9А 3NO + 1NC 230AC/DC ",1]
[null,null,null,null,"MD1600",null,null,"MD1600",null,null,"1600A",null,null,"1600A",null,null,"W",null,null,null,null,null,null,null,null,null,null,null,null,null,null,null,null,null,null,null,null,null,null,null,null,null,null,null,null,null,"Присоединение",null,null,null,null,null,null,null,null,null,null,null,null,null,null,null,null,null,null,null,null,"Реле №1","Реле промежуточное 1NO 230AC/DC ",3,"Реле промежуточное 1NO 230AC/DC ",2,"Реле промежуточное 1NO 230AC/DC ",3,"Реле промежуточное 1NO 230AC/DC ",2,"Реле промежуточное 1NO 230AC/DC ",3,"Реле промежуточное 1NO 230AC/DC ",2,"Реле промежуточное 1NO 230AC/DC ",3,"Реле промежуточное 1NO 230AC/DC ",2]
[null,null,null,null,"S1",null,null,"S1",null,null,"630A",null,null,"630A",null,null,null,null,null,null,null,null,null,null,null,null,null,null,null,null,null,null,null,null,null,null,null,null,null,null,null,null,null,null,null,null,"Катушка включения",null,null,null,null,null,null,null,null,null,null,null,null,null,null,null,null,null,null,null,null,"Реле №2","Реле промежуточное 2NO 230AC/DC",2,"Реле промежуточное 2NO 230AC/DC",2,"Реле промежуточное 3NO 230AC/DC",1,"Реле промежуточное 2NO 230AC/DC",1,"AFS-RC",6,"AFS-RC",4,"AFS-RC",6,"AFS-RC",4]
[null,null,null,null,"S2",null,null,"S2",null,null,"800A",null,null,"800A",null,null,null,null,null,null,null,null,null,null,null,null,null,null,null,null,null,null,null,null,null,null,null,null,null,null,null,null,null,null,null,null,"Независимый расцепитель ",null,null,null,null,null,null,null,null,null,null,null,null,null,null,null,null,null,null,null,null,"RC модуль","AFS-RC",6,"AFS-RC",4,"AFS-RC",6,"AFS-RC",4]
[null,null,null,null,"S4",null,null,"S4",null,null,"1000A",null,null,"1000A",null,null,null,null,null,null,null,null,null,null,null,null,null,null,null,null,null,null,null,null,null,null,null,null,null,null,null,null,null,null,null,null,"2-ой независимый расцепитель"]
[null,null,null,null,"S5",null,null,"S5",null,null,"1250A",null,null,"1250A",null,null,null,null,null,null,null,null,null,null,null,null,null,null,null,null,null,null,null,null,null,null,null,null,null,null,null,null,null,null,null,null,"Расцепитель минимального напряжения",null,null,null,null,null,null,null,null,null,null,null,null,null,null,null,null,null,null,null,null,"Кул-ый перек-ль","ASLB4T0",1,"ASLB4T0",1,"ASLB4T0",1,"ASLB4T0",1,"ASLB4T0",1,"ASLB4T0",1,"ASLB4T0",1,"ASLB4T0",1]
[null,null,null,null,"S6",null,null,"S6",null,null,"1600A",null,null,"1600A",null,null,null,null,null,null,null,null,null,null,null,null,null,null,null,null,null,null,null,null,null,null,null,null,null,null,null,null,null,null,null,null,"Двигательный привод",null,null,null,null,null,null,null,null,null,null,null,null,null,null,null,null,null,null,null,null,null,"ACVL02",4,"ACVL02",4,"ACVL02",5,"ACVL02",5,"ACVL02",4,"ACVL02",4,"ACVL02",4,"ACVL02",4]
[null,null,null,null,null,null,null,null,null,null,"2000A",null,null,"2000A",null,null,null,null,null,null,null,null,null,null,null,null,null,null,null,null,null,null,null,null,null,null,null,null,null,null,null,null,null,null,null,null,"Вид систем защит"]
[null,null,null,null,null,null,null,null,null,null,"2500A",null,null,"2500A",null,null,null,null,null,null,null,null,null,null,null,null,null,null,null,null,null,null,null,null,null,null,null,null,null,null,null,null,null,null,null,null,"Вид вспомогательных контактов сигнализации",null,null,null,null,null,null,null,null,null,null,null,null,null,null,null,null,null,null,null,null,"Кнопка зеленая","ABHTR2",3,"ABHTR2",2,"ABHTR2",3,"ABHTR2",2,"ABHTR2",3,"ABHTR2",2,"ABHTR2",3,"ABHTR2",2]
[null,null,null,null,null,null,null,null,null,null,"3200A",null,null,"3200A",null,null,null,null,null,null,null,null,null,null,null,null,null,null,null,null,null,null,null,null,null,null,null,null,null,null,null,null,null,null,null,null,"Вид систем дополнительной сигнализации",null,null,null,null,null,null,null,null,null,null,null,null,null,null,null,null,null,null,null,null,"Кнопка красная","ABHTR1",3,"ABHTR1",2,"ABHTR1",3,"ABHTR1",2,"ABHTR1",3,"ABHTR1",2,"ABHTR1",3,"ABHTR1",2]
[null,null,null,null,null,null,null,null,null,null,"4000A",null,null,"4000A",null,null,null,null,null,null,null,null,null,null,null,null,null,null,null,null,null,null,null,null,null,null,null,null,null,null,null,null,null,null,null,null,"Количество",null,null,null,null,null,null,null,null,null,null,null,null,null,null,null,null,null,null,null,null,"Конт-ый блок 1NO","ACVL02",6,"ACVL02",4,"ACVL02",6,"ACVL02",4,"ACVL02",6,"ACVL02",4,"ACVL02",6,"ACVL02",4]
[null,null,null,null,null,null,null,null,null,null,null,null,null,null,null,null,null,null,null,null,null,null,null,null,null,null,null,null,null,null,null,null,null,null,null,null,null,null,null,null,null,null,null,null,null,null,null,null,null,null,null,null,null,null,null,null,null,null,null,null,null,null,null,null,null,null,null,"Конт-ый блок 1NC","ACVL01",3,"ACVL01",2,"ACVL01",3,"ACVL01",2,"ACVL01",3,"ACVL01",2,"ACVL01",3,"ACVL01",2]
[null,null,null,null,null,null,null,null,null,null,null,null,null,null,null,null,null,null,null,null,null,null,null,8,null,null,9,null,null,10,null,null,11,null,null,12,null,null,13,null,null,14,null,null,15,null,null,16,null,null,null,null,null,null,null,null,null,null,null,null,null,null,null,null,null,null,null,"Лампочка зеленая","ALIL2L220",6,"ALIL2L220",4,"ALIL2L220",6,"ALIL2L220",4,"ALIL2L220",6,"ALIL2L220",4,"ALIL2L220",6,"ALIL2L220",4]
[null,null,null,null,null,null,null,null,null,null,null,null,null,null,null,null,null,null,null,null,null,null,null,null,null,null,null,null,null,null,null,null,null,null,null,null,null,null,null,null,null,null,null,null,null,null,null,null,null,null,null,null,null,null,null,null,null,null,null,null,null,null,null,null,null,null,null,"Лампочка желтая","ALIL3L220",5,"ALIL3L220",3,"ALIL3L220",5,"ALIL3L220",3,"ALIL3L220",5,"ALIL3L220",3,"ALIL3L220",5,"ALIL3L220",3]
[null,null,null,null,null,null,null,null,null,null,null,null,null,null,null,null,null,null,null,null,null,null,"Отключающая способность        Ввод №1/№2",null,null,"Отключающая способность       САВ",null,null,"Верхние выводы      Ввод №1/№2",null,null,"Верхние выводы        САВ",null,null,"Нижние выводы      Ввод №1/№2",null,null,"Нижние выводы        САВ",null,null,"Клеммная крышка      Ввод №1/№2",null,null,"Клеммная крышка        САВ",null,null,"Таблица выбранных аппратов MCCB",null,null,null,null,null,null,null,null,null,null,null,null,null,null,null,null,null,null,null,null,"Лампочка красная","ALIL1L220",6,"ALIL1L220",4,"ALIL1L220",6,"ALIL1L220",4,"ALIL1L220",6,"ALIL1L220",4,"ALIL1L220",6,"ALIL1L220",4]
[null,null,null,null,null,null,null,null,null,null,null,null,null,null,null,null,null,null,null,null,null,null,null,null,null,null,null,null,null,null,null,null,null,null,null,null,null,null,null,null,null,null,null,null,null,null,null,null,null,null,null,null,null,null,null,null,null,null,null,null,null,null,null,null,null,null,null,"Лампочка белая","ALIL5L220",8,"ALIL5L220",6,"ALIL5L220",8,"ALIL5L220",6,"ALIL5L220",2,"ALIL5L220",2,"ALIL5L220",8,"ALIL5L220",6]
[]
[null,null,null,null,null,null,null,null,null,null,null,null,null,null,null,null,null,null,null,null,null,null,"40kA",null,null,"40kA","65kA",null,"Нет",null,null,"Нет",null,null,"Нет",null,null,"Нет",null,null,"Да",null,null,"Да",null,null,"Тип расцепителя",null,null,null,null,null,null,null,null,null,null,null,null,null,null,null,null,null,null,null,null,null,"ZVP300GR",24,"ZVP300GR",16,"ZVP300GR",24,"ZVP300GR",16,"ZVP300GR",24,"ZVP300GR",16,"ZVP300GR",24,"ZVP300GR",16]
[null,null,null,null,null,null,null,null,null,null,null,null,null,null,null,null,null,null,null,null,null,null,"65kA",null,null,"65kA",null,null,"Расш. пол.",null,null,"Расш. пол.",null,null,"Расш. пол.",null,null,"Расш. пол.",null,null,"Нет",null,null,"Нет",null,null,"Тип MCCB",null,null,null,null,null,null,null,null,null,null,null,null,null,null,null,null,null,null,null,null,null,"ZVP101GR",8,"ZVP101GR",5,"ZVP101GR",8,"ZVP101GR",5,"ZVP101GR",8,"ZVP101GR",5,"ZVP101GR",8,"ZVP101GR",5]
[null,null,null,null,null,null,null,null,null,null,null,null,null,null,null,null,null,null,null,null,null,null,"50kA",null,null,"50kA",null,null,"КЗП кор.",null,null,"КЗП кор.",null,null,"КЗП кор.",null,null,"КЗП кор.",null,null,null,null,null,null,null,null,"Номинальный ток",null,null,null,null,null,null,null,null,null,null,null,null,null,null,null,null,null,null,null,null,null,"ZVP904",6,"ZVP904",4,"ZVP904",6,"ZVP904",4,"ZVP904",6,"ZVP904",4,"ZVP904",6,"ZVP904",4]
[null,null,null,null,null,null,null,null,null,null,null,null,null,null,null,null,null,null,null,null,null,null,"85kA",null,null,"85kA",null,null,"КЗП длин.",null,null,"КЗП длин.",null,null,"КЗП длин.",null,null,"КЗП длин.",null,null,null,null,null,null,null,null,"Отключающая способность",null,null,null,null,null,null,null,null,null,null,null,null,null,null,null,null,null,null,null,null,null,"ZVP500GR",62,"ZVP500GR",41,"ZVP500GR",72,"ZVP500GR",48,"ZVP500GR",63,"ZVP500GR",42,"ZVP500GR",66,"ZVP500GR",45]
[null,null,null,null,null,null,null,null,null,null,null,null,null,null,null,null,null,null,null,null,null,null,null,null,null,null,null,null,"Нет",null,null,"Нет",null,null,"Нет",null,null,"Нет",null,null,null,null,null,null,null,null,"Количество",null,null,null,null,null,null,null,null,null,null,null,null,null,null,null,null,null,null,null,null,null,"ZVP501GR",21,"ZVP501GR",14,"ZVP501GR",24,"ZVP501GR",16,"ZVP501GR",21,"ZVP501GR",14,"ZVP501GR",22,"ZVP501GR",15]
[null,null,null,null,null,null,null,null,null,null,null,null,null,null,null,null,null,null,null,null,null,null,null,null,null,null,null,null,"Расш. пол. кор.",null,null,"Расш. пол. кор.",null,null,"Расш. пол. кор.",null,null,"Расш. пол. кор.",null,null,null,null,null,null,null,null,"Наименование",null,null,null,null,null,null,null,null,null,null,null,null,null,null,null,null,null,null,null,null,null,"ZVP908",15,"ZVP908",10,"ZVP908",18,"ZVP908",12,"ZVP908",16,"ZVP908",10,"ZVP908",16,"ZVP908",10]
[null,null,null,null,null,null,null,null,null,null,null,null,null,null,null,null,null,null,null,null,null,null,null,null,null,null,null,null,"Расш. пол. длин.",null,null,"Расш. пол. длин.",null,null,"Расш. пол. длин.",null,null,"Расш. пол. длин.",null,null,null,null,null,null,null,null,"Количество",null,null,null,null,null,null,null,null,null,null,null,null,null,null,null,null,null,null,null,null,null,"ZVP902",2,"ZVP902",2,"ZBT003",32,"ZBT003",23,"ZBT003",26,"ZVP902",2,"ZVP902",2,"ZVP903",2]
[null,null,null,null,null,null,null,null,null,null,null,null,null,null,null,null,null,null,null,null,null,null,null,null,null,null,null,null,"КЗП кор.",null,null,"КЗП кор.",null,null,"КЗП кор.",null,null,"КЗП кор.",null,null,null,null,null,null,null,null,"Наименование",null,null,null,null,null,null,null,null,null,null,null,null,null,null,null,null,null,null,null,null,null,"ZBT003",32,"ZBT003",23,null,null,null,null,null,null,"ZBT003",23,"ZBT003",26,"ZBT003",23]
[null,null,null,null,null,null,null,null,null,null,null,null,null,null,null,null,null,null,null,null,null,null,null,null,null,null,null,null,"КЗП длин.",null,null,"КЗП длин.",null,null,"КЗП длин.",null,null,"КЗП длин.",null,null,null,null,null,null,null,null,"Количество"]
[null,null,null,null,null,null,null,null,null,null,null,null,null,null,null,null,null,null,null,null,null,null,null,null,null,null,null,null,null,null,null,null,null,null,null,null,null,null,null,null,null,null,null,null,null,null,"Наименование",null,null,null,null,null,null,null,null,null,null,null,null,null,null,null,null,null,null,null,null,null,"https://www.dkc.ru/ru/support/drawings/1228695/",null,"https://www.dkc.ru/ru/support/drawings/1228689/"]
[null,null,null,null,null,null,null,null,null,null,null,null,null,null,null,null,null,null,null,null,null,null,null,null,null,null,null,null,null,null,null,null,null,null,null,null,null,null,null,null,null,null,null,null,null,null,"Количество"]